{"text_format":"1","workbook":"xlsx","n_sheets":20,"sheets":["PowerRanking","Pairing","Accel_Pairing","Accel_Pairing_2","Team List","Round One","Round Two","Round Three","Round Four","Round Five","Round Six","Round Seven","Round Eight","Round Nine","Elim Bracket - 8","Elim Bracket - 16","Consolation 9-24","Consolation A","Consolation 17-32","Leaderboard"],"not_rendered":{"charts":0,"images":0,"macros":1,"external_links":0,"defined_names":9,"comments":0,"pivot_tables":0},"unopened":[],"bounds":{"document_bytes":16777216,"sheet_cells":100000,"rows_first":2000,"rows_last":500,"rows_between":2000,"halvings":0,"cell_chars":16384,"cell_head_chars":4096},"cells_cut":0,"cells_raw":0,"read":"whole","date_system":"1900"}

{"sheet":"PowerRanking","index":0,"n_rows":65,"n_cols":4,"rows_kept":65,"cut":false,"hidden":true,"merged":[]}
["Team Name","Powerband",null,"Top Half Check"]
[{"$f":"IF('Team List'!C4=\"\",\"\",'Team List'!C4)","v":""},null,{"$f":"IF(A2=\"\",\"\",B2+'Team List'!A4)","v":""},{"$f":"IF(A2=\"\",\"\",IF(RANK(C2,C:C,1)/COUNT(C:C)>0.5,1,0))","v":""}]
[{"$f":"IF('Team List'!C5=\"\",\"\",'Team List'!C5)","v":""},null,{"$f":"IF(A3=\"\",\"\",B3+'Team List'!A5)","v":""},{"$f":"IF(A3=\"\",\"\",IF(RANK(C3,C:C,1)/COUNT(C:C)>0.5,1,0))","v":""}]
[{"$f":"IF('Team List'!C6=\"\",\"\",'Team List'!C6)","v":""},null,{"$f":"IF(A4=\"\",\"\",B4+'Team List'!A6)","v":""},""]
[{"$f":"IF('Team List'!C7=\"\",\"\",'Team List'!C7)","v":""},null,{"$f":"IF(A5=\"\",\"\",B5+'Team List'!A7)","v":""},""]
[{"$f":"IF('Team List'!C8=\"\",\"\",'Team List'!C8)","v":""},null,{"$f":"IF(A6=\"\",\"\",B6+'Team List'!A8)","v":""},""]
[{"$f":"IF('Team List'!C9=\"\",\"\",'Team List'!C9)","v":""},null,{"$f":"IF(A7=\"\",\"\",B7+'Team List'!A9)","v":""},""]
[{"$f":"IF('Team List'!C10=\"\",\"\",'Team List'!C10)","v":""},null,{"$f":"IF(A8=\"\",\"\",B8+'Team List'!A10)","v":""},""]
[{"$f":"IF('Team List'!C11=\"\",\"\",'Team List'!C11)","v":""},null,{"$f":"IF(A9=\"\",\"\",B9+'Team List'!A11)","v":""},""]
[{"$f":"IF('Team List'!C12=\"\",\"\",'Team List'!C12)","v":""},null,{"$f":"IF(A10=\"\",\"\",B10+'Team List'!A12)","v":""},""]
[{"$f":"IF('Team List'!C13=\"\",\"\",'Team List'!C13)","v":""},null,{"$f":"IF(A11=\"\",\"\",B11+'Team List'!A13)","v":""},""]
[{"$f":"IF('Team List'!C14=\"\",\"\",'Team List'!C14)","v":""},null,{"$f":"IF(A12=\"\",\"\",B12+'Team List'!A14)","v":""},""]
[{"$f":"IF('Team List'!C15=\"\",\"\",'Team List'!C15)","v":""},null,{"$f":"IF(A13=\"\",\"\",B13+'Team List'!A15)","v":""},""]
[{"$f":"IF('Team List'!C16=\"\",\"\",'Team List'!C16)","v":""},null,{"$f":"IF(A14=\"\",\"\",B14+'Team List'!A16)","v":""},""]
[{"$f":"IF('Team List'!C17=\"\",\"\",'Team List'!C17)","v":""},null,{"$f":"IF(A15=\"\",\"\",B15+'Team List'!A17)","v":""},""]
[{"$f":"IF('Team List'!C18=\"\",\"\",'Team List'!C18)","v":""},null,{"$f":"IF(A16=\"\",\"\",B16+'Team List'!A18)","v":""},""]
[{"$f":"IF('Team List'!C19=\"\",\"\",'Team List'!C19)","v":""},null,{"$f":"IF(A17=\"\",\"\",B17+'Team List'!A19)","v":""},""]
[{"$f":"IF('Team List'!C20=\"\",\"\",'Team List'!C20)","v":""},null,{"$f":"IF(A18=\"\",\"\",B18+'Team List'!A20)","v":""},""]
[{"$f":"IF('Team List'!C21=\"\",\"\",'Team List'!C21)","v":""},null,{"$f":"IF(A19=\"\",\"\",B19+'Team List'!A21)","v":""},""]
[{"$f":"IF('Team List'!C22=\"\",\"\",'Team List'!C22)","v":""},null,{"$f":"IF(A20=\"\",\"\",B20+'Team List'!A22)","v":""},""]
[{"$f":"IF('Team List'!C23=\"\",\"\",'Team List'!C23)","v":""},null,{"$f":"IF(A21=\"\",\"\",B21+'Team List'!A23)","v":""},""]
[{"$f":"IF('Team List'!C24=\"\",\"\",'Team List'!C24)","v":""},null,{"$f":"IF(A22=\"\",\"\",B22+'Team List'!A24)","v":""},""]
[{"$f":"IF('Team List'!C25=\"\",\"\",'Team List'!C25)","v":""},null,{"$f":"IF(A23=\"\",\"\",B23+'Team List'!A25)","v":""},""]
[{"$f":"IF('Team List'!C26=\"\",\"\",'Team List'!C26)","v":""},null,{"$f":"IF(A24=\"\",\"\",B24+'Team List'!A26)","v":""},""]
[{"$f":"IF('Team List'!C27=\"\",\"\",'Team List'!C27)","v":""},null,{"$f":"IF(A25=\"\",\"\",B25+'Team List'!A27)","v":""},""]
[{"$f":"IF('Team List'!C28=\"\",\"\",'Team List'!C28)","v":""},null,{"$f":"IF(A26=\"\",\"\",B26+'Team List'!A28)","v":""},""]
[{"$f":"IF('Team List'!C29=\"\",\"\",'Team List'!C29)","v":""},null,{"$f":"IF(A27=\"\",\"\",B27+'Team List'!A29)","v":""},""]
[{"$f":"IF('Team List'!C30=\"\",\"\",'Team List'!C30)","v":""},null,{"$f":"IF(A28=\"\",\"\",B28+'Team List'!A30)","v":""},""]
[{"$f":"IF('Team List'!C31=\"\",\"\",'Team List'!C31)","v":""},null,{"$f":"IF(A29=\"\",\"\",B29+'Team List'!A31)","v":""},""]
[{"$f":"IF('Team List'!C32=\"\",\"\",'Team List'!C32)","v":""},null,{"$f":"IF(A30=\"\",\"\",B30+'Team List'!A32)","v":""},""]
[{"$f":"IF('Team List'!C33=\"\",\"\",'Team List'!C33)","v":""},null,{"$f":"IF(A31=\"\",\"\",B31+'Team List'!A33)","v":""},""]
[{"$f":"IF('Team List'!C34=\"\",\"\",'Team List'!C34)","v":""},null,{"$f":"IF(A32=\"\",\"\",B32+'Team List'!A34)","v":""},""]
[{"$f":"IF('Team List'!C35=\"\",\"\",'Team List'!C35)","v":""},null,{"$f":"IF(A33=\"\",\"\",B33+'Team List'!A35)","v":""},""]
[{"$f":"IF('Team List'!C36=\"\",\"\",'Team List'!C36)","v":""},null,{"$f":"IF(A34=\"\",\"\",B34+'Team List'!A36)","v":""},""]
[{"$f":"IF('Team List'!C37=\"\",\"\",'Team List'!C37)","v":""},null,{"$f":"IF(A35=\"\",\"\",B35+'Team List'!A37)","v":""},""]
[{"$f":"IF('Team List'!C38=\"\",\"\",'Team List'!C38)","v":""},null,{"$f":"IF(A36=\"\",\"\",B36+'Team List'!A38)","v":""},""]
[{"$f":"IF('Team List'!C39=\"\",\"\",'Team List'!C39)","v":""},null,{"$f":"IF(A37=\"\",\"\",B37+'Team List'!A39)","v":""},""]
[{"$f":"IF('Team List'!C40=\"\",\"\",'Team List'!C40)","v":""},null,{"$f":"IF(A38=\"\",\"\",B38+'Team List'!A40)","v":""},""]
[{"$f":"IF('Team List'!C41=\"\",\"\",'Team List'!C41)","v":""},null,{"$f":"IF(A39=\"\",\"\",B39+'Team List'!A41)","v":""},""]
[{"$f":"IF('Team List'!C42=\"\",\"\",'Team List'!C42)","v":""},null,{"$f":"IF(A40=\"\",\"\",B40+'Team List'!A42)","v":""},""]
[{"$f":"IF('Team List'!C43=\"\",\"\",'Team List'!C43)","v":""},null,{"$f":"IF(A41=\"\",\"\",B41+'Team List'!A43)","v":""},""]
[{"$f":"IF('Team List'!C44=\"\",\"\",'Team List'!C44)","v":""},null,{"$f":"IF(A42=\"\",\"\",B42+'Team List'!A44)","v":""},""]
[{"$f":"IF('Team List'!C45=\"\",\"\",'Team List'!C45)","v":""},null,{"$f":"IF(A43=\"\",\"\",B43+'Team List'!A45)","v":""},""]
[{"$f":"IF('Team List'!C46=\"\",\"\",'Team List'!C46)","v":""},null,{"$f":"IF(A44=\"\",\"\",B44+'Team List'!A46)","v":""},""]
[{"$f":"IF('Team List'!C47=\"\",\"\",'Team List'!C47)","v":""},null,{"$f":"IF(A45=\"\",\"\",B45+'Team List'!A47)","v":""},""]
[{"$f":"IF('Team List'!C48=\"\",\"\",'Team List'!C48)","v":""},null,{"$f":"IF(A46=\"\",\"\",B46+'Team List'!A48)","v":""},""]
[{"$f":"IF('Team List'!C49=\"\",\"\",'Team List'!C49)","v":""},null,{"$f":"IF(A47=\"\",\"\",B47+'Team List'!A49)","v":""},""]
[{"$f":"IF('Team List'!C50=\"\",\"\",'Team List'!C50)","v":""},null,{"$f":"IF(A48=\"\",\"\",B48+'Team List'!A50)","v":""},""]
[{"$f":"IF('Team List'!C51=\"\",\"\",'Team List'!C51)","v":""},null,{"$f":"IF(A49=\"\",\"\",B49+'Team List'!A51)","v":""},""]
[{"$f":"IF('Team List'!C52=\"\",\"\",'Team List'!C52)","v":""},null,{"$f":"IF(A50=\"\",\"\",B50+'Team List'!A52)","v":""},""]
[{"$f":"IF('Team List'!C53=\"\",\"\",'Team List'!C53)","v":""},null,{"$f":"IF(A51=\"\",\"\",B51+'Team List'!A53)","v":""},""]
[{"$f":"IF('Team List'!C54=\"\",\"\",'Team List'!C54)","v":""},null,{"$f":"IF(A52=\"\",\"\",B52+'Team List'!A54)","v":""},""]
[{"$f":"IF('Team List'!C55=\"\",\"\",'Team List'!C55)","v":""},null,{"$f":"IF(A53=\"\",\"\",B53+'Team List'!A55)","v":""},""]
[{"$f":"IF('Team List'!C56=\"\",\"\",'Team List'!C56)","v":""},null,{"$f":"IF(A54=\"\",\"\",B54+'Team List'!A56)","v":""},""]
[{"$f":"IF('Team List'!C57=\"\",\"\",'Team List'!C57)","v":""},null,{"$f":"IF(A55=\"\",\"\",B55+'Team List'!A57)","v":""},""]
[{"$f":"IF('Team List'!C58=\"\",\"\",'Team List'!C58)","v":""},null,{"$f":"IF(A56=\"\",\"\",B56+'Team List'!A58)","v":""},""]
[{"$f":"IF('Team List'!C59=\"\",\"\",'Team List'!C59)","v":""},null,{"$f":"IF(A57=\"\",\"\",B57+'Team List'!A59)","v":""},""]
[{"$f":"IF('Team List'!C60=\"\",\"\",'Team List'!C60)","v":""},null,{"$f":"IF(A58=\"\",\"\",B58+'Team List'!A60)","v":""},""]
[{"$f":"IF('Team List'!C61=\"\",\"\",'Team List'!C61)","v":""},null,{"$f":"IF(A59=\"\",\"\",B59+'Team List'!A61)","v":""},""]
[{"$f":"IF('Team List'!C62=\"\",\"\",'Team List'!C62)","v":""},null,{"$f":"IF(A60=\"\",\"\",B60+'Team List'!A62)","v":""},""]
[{"$f":"IF('Team List'!C63=\"\",\"\",'Team List'!C63)","v":""},null,{"$f":"IF(A61=\"\",\"\",B61+'Team List'!A63)","v":""},""]
[{"$f":"IF('Team List'!C64=\"\",\"\",'Team List'!C64)","v":""},null,{"$f":"IF(A62=\"\",\"\",B62+'Team List'!A64)","v":""},""]
[{"$f":"IF('Team List'!C65=\"\",\"\",'Team List'!C65)","v":""},null,{"$f":"IF(A63=\"\",\"\",B63+'Team List'!A65)","v":""},""]
[{"$f":"IF('Team List'!C66=\"\",\"\",'Team List'!C66)","v":""},null,{"$f":"IF(A64=\"\",\"\",B64+'Team List'!A66)","v":""},""]
[{"$f":"IF('Team List'!C67=\"\",\"\",'Team List'!C67)","v":""},null,{"$f":"IF(A65=\"\",\"\",B65+'Team List'!A67)","v":""},""]

{"sheet":"Pairing","index":1,"n_rows":72,"n_cols":27,"rows_kept":72,"cut":false,"hidden":true,"merged":[[4,0,4,2],[4,4,4,6],[62,8,63,8],[64,8,65,8],[46,8,47,8],[48,8,49,8],[50,8,51,8],[52,8,53,8],[38,8,39,8],[40,8,41,8],[28,8,29,8],[42,8,43,8],[44,8,45,8],[30,8,31,8],[32,8,33,8],[34,8,35,8],[66,8,67,8],[68,8,69,8],[54,8,55,8],[56,8,57,8],[58,8,59,8],[60,8,61,8],[20,8,21,8],[36,8,37,8],[24,8,25,8],[26,8,27,8],[12,8,13,8],[14,8,15,8],[16,8,17,8],[18,8,19,8],[22,8,23,8],[5,24,5,26],[0,17,5,18],[6,8,7,8],[8,8,9,8],[10,8,11,8]]}
["Count of active teams:",{"$f":"COUNTIF('Team List'!D1:D67,\"Yes\")","v":0},null,null,null,null,null,"Backup loc:","C:\\DMK\\","TEST:",false,null,null,null,null,null,null,"Suboptimal",null,"LP",{"$f":"VLOOKUP(B1,Z8:AA71,2,0)","v":{"$error":"#N/A"}}]
["Required Pairs:",{"$f":"ROUNDUP(B1/2,0)","v":0},null,null,null,null,null,"Secondary:","E:\\DMK\\",null,null,"X","Team #"]
["Bye Required:",{"$f":"IF(MOD(B1,2)=1,\"Yes\",\"No\")","v":"No"},null,null,null,null,null,null,"1st ranked available team 1:",{"$f":"VLOOKUP(1,B7:C71,2,0)","v":"T08"},"…with Xth ranked available team 2:",1,{"$f":"VLOOKUP(L3,F7:G71,2,0)","v":"T40"}]
[null,null,null,null,null,null,null,null,null,null,"Valid team remaining?",{"$f":"IF(COUNTIF(E7:E71,M4)>0,\"Yes\",\"No\")","v":"No"},">=0",9]
["FIRST TEAM OF PAIR",null,null,{"$f":"VLOOKUP(SMALL(D7:D70,1),D7:G70,4,0)","v":"T20"},"SECOND TEAM OF PAIR",null,null,null,null,null,"# of attempts:",0,{"$f":"IF((B2-MOD(L5,B2)+1)>B2,1,B2-MOD(L5,B2)+1)","v":{"$error":"#DIV/0!"}},{"$f":"ROUNDUP(L5/B2,0)+1","v":{"$error":"#DIV/0!"}}]
["Use Score:","Use Rank","Team",null,"Use Score:","Use Rank","Team",null,null,"Rank:","Team:",{"$f":"IF(OR(AND(LARGE(L7:L70,1)>B1,B3<>\"Yes\"),AND(LARGE(L7:L70,1)>B1+1,B3=\"Yes\")),\"Invalid Team Picked\",\"Teams OK\")","v":"Teams OK"},null,null,null,null,null,null,null,null,null,null,null,null,"Check for Bye"]
[{"$f":"IF(COUNTIF(K$7:K$71,C7)>0,'Team List'!$BB4*-1,'Team List'!$BB4)","v":4.3332196214204446},{"$f":"RANK(A7,A$7:A$71)","v":7},"T01",{"$f":"COUNTIF(K$7:K$70,G7)+IF(G7=J$3,1,0)","v":1},{"$f":"IF(OR(COUNTIF(K$7:K$71,G7)>0,G7=$J$3),ABS('Team List'!$BB4)*-1,IF(COUNTIF('Team List'!C4:AX4,Pairing!$J$3)>0,'Team List'!$BB4/10000,'Team List'!$BB4))","v":-4.3332196214204446},{"$f":"RANK(E7,E$7:E$71)","v":30},"T01",null,"Pitch 1",{"$f":"IF(K7=\"\",\"\",IF(K7=\"Bye\",\"Bye\",VLOOKUP(K7,'Team List'!B:BF,42,0)))","v":0},"T01",{"$f":"IF(K7=\"\",-1,VLOOKUP(IF(K7=\"Bye\",\"T00\",K7),'Team List'!B:AQ,39,0))","v":0},null,null,null,null,null,null,1,"T30",null,null,null,null,"Use Score:","Use Rank","Team"]
[{"$f":"IF(COUNTIF(K$7:K$71,C8)>0,'Team List'!$BB5*-1,'Team List'!$BB5)","v":7.6482307652060788},{"$f":"RANK(A8,A$7:A$71)","v":2},"T02",{"$f":"COUNTIF(K$7:K$70,G8)+IF(G8=J$3,1,0)","v":1},{"$f":"IF(OR(COUNTIF(K$7:K$71,G8)>0,G8=$J$3),ABS('Team List'!$BB5)*-1,IF(COUNTIF('Team List'!C5:AX5,Pairing!$J$3)>0,'Team List'!$BB5/10000,'Team List'!$BB5))","v":-7.6482307652060788},{"$f":"RANK(E8,E$7:E$71)","v":48},"T02",null,null,{"$f":"IF(K8=\"\",\"\",IF(K8=\"Bye\",\"Bye\",VLOOKUP(K8,'Team List'!B:BF,42,0)))","v":0},"T08",{"$f":"IF(K8=\"\",-1,VLOOKUP(IF(K8=\"Bye\",\"T00\",K8),'Team List'!B:AQ,39,0))","v":0},null,null,null,null,null,null,2,"T31",null,null,null,null,{"$f":"IF(COUNTIF('Team List'!C4:AX4,\"Bye\")>0,'Team List'!$BB4+1000000000,'Team List'!$BB4)","v":-4.3332196214204446},{"$f":"RANK(Y8,Y$7:Y$71)","v":30},"T01"]
[{"$f":"IF(COUNTIF(K$7:K$71,C9)>0,'Team List'!$BB6*-1,'Team List'!$BB6)","v":6.1312227536508912},4,"T03",1,{"$f":"IF(OR(COUNTIF(K$7:K$71,G9)>0,G9=$J$3),ABS('Team List'!$BB6)*-1,IF(COUNTIF('Team List'!C6:AX6,Pairing!$J$3)>0,'Team List'!$BB6/10000,'Team List'!$BB6))","v":-6.1312227536508912},38,"T03",null,"Pitch 2",{"$f":"IF(K9=\"\",\"\",IF(K9=\"Bye\",\"Bye\",VLOOKUP(K9,'Team List'!B:BF,42,0)))","v":0},"T02",{"$f":"IF(K9=\"\",-1,VLOOKUP(IF(K9=\"Bye\",\"T00\",K9),'Team List'!B:AQ,39,0))","v":0},null,null,null,null,null,null,3,"T23",null,null,null,null,{"$f":"IF(COUNTIF('Team List'!C5:AX5,\"Bye\")>0,'Team List'!$BB5+1000000000,'Team List'!$BB5)","v":-7.6482307652060788},{"$f":"RANK(Y9,Y$7:Y$71)","v":48},"T02"]
[{"$f":"IF(COUNTIF(K$7:K$71,C10)>0,'Team List'!$BB7*-1,'Team List'!$BB7)","v":4.0599135854373438},8,"T04",1,{"$f":"IF(OR(COUNTIF(K$7:K$71,G10)>0,G10=$J$3),ABS('Team List'!$BB7)*-1,IF(COUNTIF('Team List'!C7:AX7,Pairing!$J$3)>0,'Team List'!$BB7/10000,'Team List'!$BB7))","v":-4.0599135854373438},26,"T04",null,null,{"$f":"IF(K10=\"\",\"\",IF(K10=\"Bye\",\"Bye\",VLOOKUP(K10,'Team List'!B:BF,42,0)))","v":0},"T06",{"$f":"IF(K10=\"\",-1,VLOOKUP(IF(K10=\"Bye\",\"T00\",K10),'Team List'!B:AQ,39,0))","v":0},null,null,null,null,null,null,4,"T08",null,null,null,null,{"$f":"IF(COUNTIF('Team List'!C6:AX6,\"Bye\")>0,'Team List'!$BB6+1000000000,'Team List'!$BB6)","v":-6.1312227536508912},38,"T03"]
[{"$f":"IF(COUNTIF(K$7:K$71,C11)>0,'Team List'!$BB8*-1,'Team List'!$BB8)","v":7.4224403387231845},3,"T05",1,{"$f":"IF(OR(COUNTIF(K$7:K$71,G11)>0,G11=$J$3),ABS('Team List'!$BB8)*-1,IF(COUNTIF('Team List'!C8:AX8,Pairing!$J$3)>0,'Team List'!$BB8/10000,'Team List'!$BB8))","v":-7.4224403387231845},47,"T05",null,"Pitch 3",{"$f":"IF(K11=\"\",\"\",IF(K11=\"Bye\",\"Bye\",VLOOKUP(K11,'Team List'!B:BF,42,0)))","v":0},"T03",{"$f":"IF(K11=\"\",-1,VLOOKUP(IF(K11=\"Bye\",\"T00\",K11),'Team List'!B:AQ,39,0))","v":0},null,null,null,null,null,null,5,"T01",null,null,null,null,{"$f":"IF(COUNTIF('Team List'!C7:AX7,\"Bye\")>0,'Team List'!$BB7+1000000000,'Team List'!$BB7)","v":-4.0599135854373438},26,"T04"]
[{"$f":"IF(COUNTIF(K$7:K$71,C12)>0,'Team List'!$BB9*-1,'Team List'!$BB9)","v":3.1406213511236714},13,"T06",1,{"$f":"IF(OR(COUNTIF(K$7:K$71,G12)>0,G12=$J$3),ABS('Team List'!$BB9)*-1,IF(COUNTIF('Team List'!C9:AX9,Pairing!$J$3)>0,'Team List'!$BB9/10000,'Team List'!$BB9))","v":-3.1406213511236714},18,"T06",null,null,{"$f":"IF(K12=\"\",\"\",IF(K12=\"Bye\",\"Bye\",VLOOKUP(K12,'Team List'!B:BF,42,0)))","v":0},"T10",{"$f":"IF(K12=\"\",-1,VLOOKUP(IF(K12=\"Bye\",\"T00\",K12),'Team List'!B:AQ,39,0))","v":0},null,null,null,null,null,null,6,"T05",null,null,null,null,{"$f":"IF(COUNTIF('Team List'!C8:AX8,\"Bye\")>0,'Team List'!$BB8+1000000000,'Team List'!$BB8)","v":-7.4224403387231845},47,"T05"]
[{"$f":"IF(COUNTIF(K$7:K$71,C13)>0,'Team List'!$BB10*-1,'Team List'!$BB10)","v":5.2741399436900505},6,"T07",1,{"$f":"IF(OR(COUNTIF(K$7:K$71,G13)>0,G13=$J$3),ABS('Team List'!$BB10)*-1,IF(COUNTIF('Team List'!C10:AX10,Pairing!$J$3)>0,'Team List'!$BB10/10000,'Team List'!$BB10))","v":-5.2741399436900505},35,"T07",null,"Pitch 4",{"$f":"IF(K13=\"\",\"\",IF(K13=\"Bye\",\"Bye\",VLOOKUP(K13,'Team List'!B:BF,42,0)))","v":0},"T04",{"$f":"IF(K13=\"\",-1,VLOOKUP(IF(K13=\"Bye\",\"T00\",K13),'Team List'!B:AQ,39,0))","v":0},null,null,null,null,null,null,7,"T13",null,null,null,null,{"$f":"IF(COUNTIF('Team List'!C9:AX9,\"Bye\")>0,'Team List'!$BB9+1000000000,'Team List'!$BB9)","v":-3.1406213511236714},18,"T06"]
[{"$f":"IF(COUNTIF(K$7:K$71,C14)>0,'Team List'!$BB11*-1,'Team List'!$BB11)","v":9.4514876691350995},1,"T08",2,{"$f":"IF(OR(COUNTIF(K$7:K$71,G14)>0,G14=$J$3),ABS('Team List'!$BB11)*-1,IF(COUNTIF('Team List'!C11:AX11,Pairing!$J$3)>0,'Team List'!$BB11/10000,'Team List'!$BB11))","v":-9.4514876691350995},59,"T08",null,null,{"$f":"IF(K14=\"\",\"\",IF(K14=\"Bye\",\"Bye\",VLOOKUP(K14,'Team List'!B:BF,42,0)))","v":0},"T09",{"$f":"IF(K14=\"\",-1,VLOOKUP(IF(K14=\"Bye\",\"T00\",K14),'Team List'!B:AQ,39,0))","v":0},null,null,null,null,null,null,8,"T07",null,null,null,null,{"$f":"IF(COUNTIF('Team List'!C10:AX10,\"Bye\")>0,'Team List'!$BB10+1000000000,'Team List'!$BB10)","v":-5.2741399436900505},35,"T07"]
[{"$f":"IF(COUNTIF(K$7:K$71,C15)>0,'Team List'!$BB12*-1,'Team List'!$BB12)","v":1.2899515869365275},18,"T09",1,{"$f":"IF(OR(COUNTIF(K$7:K$71,G15)>0,G15=$J$3),ABS('Team List'!$BB12)*-1,IF(COUNTIF('Team List'!C12:AX12,Pairing!$J$3)>0,'Team List'!$BB12/10000,'Team List'!$BB12))","v":-1.2899515869365275},7,"T09",null,"Pitch 5",{"$f":"IF(K15=\"\",\"\",IF(K15=\"Bye\",\"Bye\",VLOOKUP(K15,'Team List'!B:BF,42,0)))","v":0},"T05",{"$f":"IF(K15=\"\",-1,VLOOKUP(IF(K15=\"Bye\",\"T00\",K15),'Team List'!B:AQ,39,0))","v":0},null,null,null,null,null,null,9,"T03",null,null,null,null,{"$f":"IF(COUNTIF('Team List'!C11:AX11,\"Bye\")>0,'Team List'!$BB11+1000000000,'Team List'!$BB11)","v":-9.4514876691350995},59,"T08"]
[{"$f":"IF(COUNTIF(K$7:K$71,C16)>0,'Team List'!$BB13*-1,'Team List'!$BB13)","v":2.3834024947676866},16,"T10",1,{"$f":"IF(OR(COUNTIF(K$7:K$71,G16)>0,G16=$J$3),ABS('Team List'!$BB13)*-1,IF(COUNTIF('Team List'!C13:AX13,Pairing!$J$3)>0,'Team List'!$BB13/10000,'Team List'!$BB13))","v":-2.3834024947676866},13,"T10",null,null,{"$f":"IF(K16=\"\",\"\",IF(K16=\"Bye\",\"Bye\",VLOOKUP(K16,'Team List'!B:BF,42,0)))","v":0},"T07",{"$f":"IF(K16=\"\",-1,VLOOKUP(IF(K16=\"Bye\",\"T00\",K16),'Team List'!B:AQ,39,0))","v":0},null,null,null,null,null,null,10,"T04",null,null,null,null,{"$f":"IF(COUNTIF('Team List'!C12:AX12,\"Bye\")>0,'Team List'!$BB12+1000000000,'Team List'!$BB12)","v":-1.2899515869365275},7,"T09"]
[{"$f":"IF(COUNTIF(K$7:K$71,C17)>0,'Team List'!$BB14*-1,'Team List'!$BB14)","v":0.63970500896068594},19,"T11",1,{"$f":"IF(OR(COUNTIF(K$7:K$71,G17)>0,G17=$J$3),ABS('Team List'!$BB14)*-1,IF(COUNTIF('Team List'!C14:AX14,Pairing!$J$3)>0,'Team List'!$BB14/10000,'Team List'!$BB14))","v":-0.63970500896068594},2,"T11",null,"Pitch 6",{"$f":"IF(K17=\"\",\"\",IF(K17=\"Bye\",\"Bye\",VLOOKUP(K17,'Team List'!B:BF,42,0)))","v":0},"T12",{"$f":"IF(K17=\"\",-1,VLOOKUP(IF(K17=\"Bye\",\"T00\",K17),'Team List'!B:AQ,39,0))","v":0},null,null,null,null,null,null,11,"T06",null,null,null,null,{"$f":"IF(COUNTIF('Team List'!C13:AX13,\"Bye\")>0,'Team List'!$BB13+1000000000,'Team List'!$BB13)","v":-2.3834024947676866},13,"T10"]
[{"$f":"IF(COUNTIF(K$7:K$71,C18)>0,'Team List'!$BB15*-1,'Team List'!$BB15)","v":3.9125592244703498},10,"T12",1,{"$f":"IF(OR(COUNTIF(K$7:K$71,G18)>0,G18=$J$3),ABS('Team List'!$BB15)*-1,IF(COUNTIF('Team List'!C15:AX15,Pairing!$J$3)>0,'Team List'!$BB15/10000,'Team List'!$BB15))","v":-3.9125592244703498},24,"T12",null,null,{"$f":"IF(K18=\"\",\"\",IF(K18=\"Bye\",\"Bye\",VLOOKUP(K18,'Team List'!B:BF,42,0)))","v":0},"T11",{"$f":"IF(K18=\"\",-1,VLOOKUP(IF(K18=\"Bye\",\"T00\",K18),'Team List'!B:AQ,39,0))","v":0},null,null,null,null,null,null,12,"T22",null,null,null,null,{"$f":"IF(COUNTIF('Team List'!C14:AX14,\"Bye\")>0,'Team List'!$BB14+1000000000,'Team List'!$BB14)","v":-0.63970500896068594},2,"T11"]
[{"$f":"IF(COUNTIF(K$7:K$71,C19)>0,'Team List'!$BB16*-1,'Team List'!$BB16)","v":2.5227102130130752},15,"T13",1,{"$f":"IF(OR(COUNTIF(K$7:K$71,G19)>0,G19=$J$3),ABS('Team List'!$BB16)*-1,IF(COUNTIF('Team List'!C16:AX16,Pairing!$J$3)>0,'Team List'!$BB16/10000,'Team List'!$BB16))","v":-2.5227102130130752},14,"T13",null,"Pitch 7",{"$f":"IF(K19=\"\",\"\",IF(K19=\"Bye\",\"Bye\",VLOOKUP(K19,'Team List'!B:BF,42,0)))","v":0},"T17",{"$f":"IF(K19=\"\",-1,VLOOKUP(IF(K19=\"Bye\",\"T00\",K19),'Team List'!B:AQ,39,0))","v":0},null,null,null,null,null,null,13,"T12",null,null,null,null,{"$f":"IF(COUNTIF('Team List'!C15:AX15,\"Bye\")>0,'Team List'!$BB15+1000000000,'Team List'!$BB15)","v":-3.9125592244703498},24,"T12"]
[{"$f":"IF(COUNTIF(K$7:K$71,C20)>0,'Team List'!$BB17*-1,'Team List'!$BB17)","v":2.2594504527619552},17,"T14",1,{"$f":"IF(OR(COUNTIF(K$7:K$71,G20)>0,G20=$J$3),ABS('Team List'!$BB17)*-1,IF(COUNTIF('Team List'!C17:AX17,Pairing!$J$3)>0,'Team List'!$BB17/10000,'Team List'!$BB17))","v":-2.2594504527619552},12,"T14",null,null,{"$f":"IF(K20=\"\",\"\",IF(K20=\"Bye\",\"Bye\",VLOOKUP(K20,'Team List'!B:BF,42,0)))","v":0},"T14",{"$f":"IF(K20=\"\",-1,VLOOKUP(IF(K20=\"Bye\",\"T00\",K20),'Team List'!B:AQ,39,0))","v":0},null,null,null,null,null,null,14,"T10",null,null,null,null,{"$f":"IF(COUNTIF('Team List'!C16:AX16,\"Bye\")>0,'Team List'!$BB16+1000000000,'Team List'!$BB16)","v":-2.5227102130130752},14,"T13"]
[{"$f":"IF(COUNTIF(K$7:K$71,C21)>0,'Team List'!$BB18*-1,'Team List'!$BB18)","v":3.4395640666175931},11,"T15",1,{"$f":"IF(OR(COUNTIF(K$7:K$71,G21)>0,G21=$J$3),ABS('Team List'!$BB18)*-1,IF(COUNTIF('Team List'!C18:AX18,Pairing!$J$3)>0,'Team List'!$BB18/10000,'Team List'!$BB18))","v":-3.4395640666175931},21,"T15",null,"Pitch 8",{"$f":"IF(K21=\"\",\"\",IF(K21=\"Bye\",\"Bye\",VLOOKUP(K21,'Team List'!B:BF,42,0)))","v":0},"T16",{"$f":"IF(K21=\"\",-1,VLOOKUP(IF(K21=\"Bye\",\"T00\",K21),'Team List'!B:AQ,39,0))","v":0},null,null,null,null,null,null,15,"T11",null,null,null,null,{"$f":"IF(COUNTIF('Team List'!C17:AX17,\"Bye\")>0,'Team List'!$BB17+1000000000,'Team List'!$BB17)","v":-2.2594504527619552},12,"T14"]
[{"$f":"IF(COUNTIF(K$7:K$71,C22)>0,'Team List'!$BB19*-1,'Team List'!$BB19)","v":2.9804049707446256},14,"T16",1,{"$f":"IF(OR(COUNTIF(K$7:K$71,G22)>0,G22=$J$3),ABS('Team List'!$BB19)*-1,IF(COUNTIF('Team List'!C19:AX19,Pairing!$J$3)>0,'Team List'!$BB19/10000,'Team List'!$BB19))","v":-2.9804049707446256},17,"T16",null,null,{"$f":"IF(K22=\"\",\"\",IF(K22=\"Bye\",\"Bye\",VLOOKUP(K22,'Team List'!B:BF,42,0)))","v":0},"T15",{"$f":"IF(K22=\"\",-1,VLOOKUP(IF(K22=\"Bye\",\"T00\",K22),'Team List'!B:AQ,39,0))","v":0},null,null,null,null,null,null,16,"T15",null,null,null,null,{"$f":"IF(COUNTIF('Team List'!C18:AX18,\"Bye\")>0,'Team List'!$BB18+1000000000,'Team List'!$BB18)","v":-3.4395640666175931},21,"T15"]
[{"$f":"IF(COUNTIF(K$7:K$71,C23)>0,'Team List'!$BB20*-1,'Team List'!$BB20)","v":3.3544521538645986},12,"T17",1,{"$f":"IF(OR(COUNTIF(K$7:K$71,G23)>0,G23=$J$3),ABS('Team List'!$BB20)*-1,IF(COUNTIF('Team List'!C20:AX20,Pairing!$J$3)>0,'Team List'!$BB20/10000,'Team List'!$BB20))","v":-3.3544521538645986},19,"T17",null,"Pitch 9",{"$f":"IF(K23=\"\",\"\",IF(K23=\"Bye\",\"Bye\",VLOOKUP(K23,'Team List'!B:BF,42,0)))","v":0},"T18",{"$f":"IF(K23=\"\",-1,VLOOKUP(IF(K23=\"Bye\",\"T00\",K23),'Team List'!B:AQ,39,0))","v":0},null,null,null,null,null,null,17,"T02",null,null,null,null,{"$f":"IF(COUNTIF('Team List'!C19:AX19,\"Bye\")>0,'Team List'!$BB19+1000000000,'Team List'!$BB19)","v":-2.9804049707446256},17,"T16"]
[{"$f":"IF(COUNTIF(K$7:K$71,C24)>0,'Team List'!$BB21*-1,'Team List'!$BB21)","v":3.9453660551720313},9,"T18",1,{"$f":"IF(OR(COUNTIF(K$7:K$71,G24)>0,G24=$J$3),ABS('Team List'!$BB21)*-1,IF(COUNTIF('Team List'!C21:AX21,Pairing!$J$3)>0,'Team List'!$BB21/10000,'Team List'!$BB21))","v":-3.9453660551720313},25,"T18",null,null,{"$f":"IF(K24=\"\",\"\",IF(K24=\"Bye\",\"Bye\",VLOOKUP(K24,'Team List'!B:BF,42,0)))","v":0},"T19",{"$f":"IF(K24=\"\",-1,VLOOKUP(IF(K24=\"Bye\",\"T00\",K24),'Team List'!B:AQ,39,0))","v":0},null,null,null,null,null,null,18,"",null,null,null,null,{"$f":"IF(COUNTIF('Team List'!C20:AX20,\"Bye\")>0,'Team List'!$BB20+1000000000,'Team List'!$BB20)","v":-3.3544521538645986},19,"T17"]
[{"$f":"IF(COUNTIF(K$7:K$71,C25)>0,'Team List'!$BB22*-1,'Team List'!$BB22)","v":5.3026926339620752},5,"T19",1,{"$f":"IF(OR(COUNTIF(K$7:K$71,G25)>0,G25=$J$3),ABS('Team List'!$BB22)*-1,IF(COUNTIF('Team List'!C22:AX22,Pairing!$J$3)>0,'Team List'!$BB22/10000,'Team List'!$BB22))","v":-5.3026926339620752},36,"T19",null,"Pitch 10",{"$f":"IF(K25=\"\",\"\",IF(K25=\"Bye\",\"Bye\",VLOOKUP(K25,'Team List'!B:BF,42,0)))","v":0},"T13",{"$f":"IF(K25=\"\",-1,VLOOKUP(IF(K25=\"Bye\",\"T00\",K25),'Team List'!B:AQ,39,0))","v":0},null,null,null,null,null,null,19,"",null,null,null,null,{"$f":"IF(COUNTIF('Team List'!C21:AX21,\"Bye\")>0,'Team List'!$BB21+1000000000,'Team List'!$BB21)","v":-3.9453660551720313},25,"T18"]
[{"$f":"IF(COUNTIF(K$7:K$71,C26)>0,'Team List'!$BB23*-1,'Team List'!$BB23)","v":-3.854929297215258},33,"T20",0,{"$f":"IF(OR(COUNTIF(K$7:K$71,G26)>0,G26=$J$3),ABS('Team List'!$BB23)*-1,IF(COUNTIF('Team List'!C23:AX23,Pairing!$J$3)>0,'Team List'!$BB23/10000,'Team List'!$BB23))","v":-3.854929297215258},23,"T20",null,null,{"$f":"IF(K26=\"\",\"\",IF(K26=\"Bye\",\"Bye\",VLOOKUP(K26,'Team List'!B:BF,42,0)))","v":"Bye"},"Bye",{"$f":"IF(K26=\"\",-1,VLOOKUP(IF(K26=\"Bye\",\"T00\",K26),'Team List'!B:AQ,39,0))","v":0},null,null,null,null,null,null,20,"",null,null,null,null,{"$f":"IF(COUNTIF('Team List'!C22:AX22,\"Bye\")>0,'Team List'!$BB22+1000000000,'Team List'!$BB22)","v":-5.3026926339620752},36,"T19"]
[{"$f":"IF(COUNTIF(K$7:K$71,C27)>0,'Team List'!$BB24*-1,'Team List'!$BB24)","v":-4.6902653755666215},40,"T21",0,{"$f":"IF(OR(COUNTIF(K$7:K$71,G27)>0,G27=$J$3),ABS('Team List'!$BB24)*-1,IF(COUNTIF('Team List'!C24:AX24,Pairing!$J$3)>0,'Team List'!$BB24/10000,'Team List'!$BB24))","v":-4.6902653755666215},34,"T21",null,"Pitch 11",{"$f":"IF(K27=\"\",\"\",IF(K27=\"Bye\",\"Bye\",VLOOKUP(K27,'Team List'!B:BF,42,0)))","v":""},null,{"$f":"IF(K27=\"\",-1,VLOOKUP(IF(K27=\"Bye\",\"T00\",K27),'Team List'!B:AQ,39,0))","v":-1},null,null,null,null,null,null,21,"T27",null,null,null,null,{"$f":"IF(COUNTIF('Team List'!C23:AX23,\"Bye\")>0,'Team List'!$BB23+1000000000,'Team List'!$BB23)","v":-3.854929297215258},23,"T20"]
[{"$f":"IF(COUNTIF(K$7:K$71,C28)>0,'Team List'!$BB25*-1,'Team List'!$BB25)","v":-7.6938616239016255},50,"T22",0,{"$f":"IF(OR(COUNTIF(K$7:K$71,G28)>0,G28=$J$3),ABS('Team List'!$BB25)*-1,IF(COUNTIF('Team List'!C25:AX25,Pairing!$J$3)>0,'Team List'!$BB25/10000,'Team List'!$BB25))","v":-7.6938616239016255},49,"T22",null,null,{"$f":"IF(K28=\"\",\"\",IF(K28=\"Bye\",\"Bye\",VLOOKUP(K28,'Team List'!B:BF,42,0)))","v":""},null,{"$f":"IF(K28=\"\",-1,VLOOKUP(IF(K28=\"Bye\",\"T00\",K28),'Team List'!B:AQ,39,0))","v":-1},null,null,null,null,null,null,22,"T14",null,null,null,null,{"$f":"IF(COUNTIF('Team List'!C24:AX24,\"Bye\")>0,'Team List'!$BB24+1000000000,'Team List'!$BB24)","v":-4.6902653755666215},34,"T21"]
[{"$f":"IF(COUNTIF(K$7:K$71,C29)>0,'Team List'!$BB26*-1,'Team List'!$BB26)","v":-4.3189484194216954},36,"T23",0,{"$f":"IF(OR(COUNTIF(K$7:K$71,G29)>0,G29=$J$3),ABS('Team List'!$BB26)*-1,IF(COUNTIF('Team List'!C26:AX26,Pairing!$J$3)>0,'Team List'!$BB26/10000,'Team List'!$BB26))","v":-4.3189484194216954},29,"T23",null,"Pitch 12",{"$f":"IF(K29=\"\",\"\",IF(K29=\"Bye\",\"Bye\",VLOOKUP(K29,'Team List'!B:BF,42,0)))","v":""},null,{"$f":"IF(K29=\"\",-1,VLOOKUP(IF(K29=\"Bye\",\"T00\",K29),'Team List'!B:AQ,39,0))","v":-1},null,null,null,null,null,null,23,"T32",null,null,null,null,{"$f":"IF(COUNTIF('Team List'!C25:AX25,\"Bye\")>0,'Team List'!$BB25+1000000000,'Team List'!$BB25)","v":-7.6938616239016255},49,"T22"]
[{"$f":"IF(COUNTIF(K$7:K$71,C30)>0,'Team List'!$BB27*-1,'Team List'!$BB27)","v":-9.8765980712504202},63,"T24",0,{"$f":"IF(OR(COUNTIF(K$7:K$71,G30)>0,G30=$J$3),ABS('Team List'!$BB27)*-1,IF(COUNTIF('Team List'!C27:AX27,Pairing!$J$3)>0,'Team List'!$BB27/10000,'Team List'!$BB27))","v":-9.8765980712504202},63,"T24",null,null,{"$f":"IF(K30=\"\",\"\",IF(K30=\"Bye\",\"Bye\",VLOOKUP(K30,'Team List'!B:BF,42,0)))","v":""},null,{"$f":"IF(K30=\"\",-1,VLOOKUP(IF(K30=\"Bye\",\"T00\",K30),'Team List'!B:AQ,39,0))","v":-1},null,null,null,null,null,null,24,"T09",null,null,null,null,{"$f":"IF(COUNTIF('Team List'!C26:AX26,\"Bye\")>0,'Team List'!$BB26+1000000000,'Team List'!$BB26)","v":-4.3189484194216954},29,"T23"]
[{"$f":"IF(COUNTIF(K$7:K$71,C31)>0,'Team List'!$BB28*-1,'Team List'!$BB28)","v":-9.0076289614764473},57,"T25",0,{"$f":"IF(OR(COUNTIF(K$7:K$71,G31)>0,G31=$J$3),ABS('Team List'!$BB28)*-1,IF(COUNTIF('Team List'!C28:AX28,Pairing!$J$3)>0,'Team List'!$BB28/10000,'Team List'!$BB28))","v":-9.0076289614764473},56,"T25",null,"Pitch 13",{"$f":"IF(K31=\"\",\"\",IF(K31=\"Bye\",\"Bye\",VLOOKUP(K31,'Team List'!B:BF,42,0)))","v":""},null,{"$f":"IF(K31=\"\",-1,VLOOKUP(IF(K31=\"Bye\",\"T00\",K31),'Team List'!B:AQ,39,0))","v":-1},null,null,null,null,null,null,25,"T16",null,null,null,null,{"$f":"IF(COUNTIF('Team List'!C27:AX27,\"Bye\")>0,'Team List'!$BB27+1000000000,'Team List'!$BB27)","v":-9.8765980712504202},63,"T24"]
[{"$f":"IF(COUNTIF(K$7:K$71,C32)>0,'Team List'!$BB29*-1,'Team List'!$BB29)","v":-4.0723960467084295},34,"T26",0,{"$f":"IF(OR(COUNTIF(K$7:K$71,G32)>0,G32=$J$3),ABS('Team List'!$BB29)*-1,IF(COUNTIF('Team List'!C29:AX29,Pairing!$J$3)>0,'Team List'!$BB29/10000,'Team List'!$BB29))","v":-4.0723960467084295},27,"T26",null,null,{"$f":"IF(K32=\"\",\"\",IF(K32=\"Bye\",\"Bye\",VLOOKUP(K32,'Team List'!B:BF,42,0)))","v":""},null,{"$f":"IF(K32=\"\",-1,VLOOKUP(IF(K32=\"Bye\",\"T00\",K32),'Team List'!B:AQ,39,0))","v":-1},null,null,null,null,null,null,26,"T21",null,null,null,null,{"$f":"IF(COUNTIF('Team List'!C28:AX28,\"Bye\")>0,'Team List'!$BB28+1000000000,'Team List'!$BB28)","v":-9.0076289614764473},56,"T25"]
[{"$f":"IF(COUNTIF(K$7:K$71,C33)>0,'Team List'!$BB30*-1,'Team List'!$BB30)","v":-2.0486769802512663},26,"T27",0,{"$f":"IF(OR(COUNTIF(K$7:K$71,G33)>0,G33=$J$3),ABS('Team List'!$BB30)*-1,IF(COUNTIF('Team List'!C30:AX30,Pairing!$J$3)>0,'Team List'!$BB30/10000,'Team List'!$BB30))","v":-2.0486769802512663},9,"T27",null,"Pitch 14",{"$f":"IF(K33=\"\",\"\",IF(K33=\"Bye\",\"Bye\",VLOOKUP(K33,'Team List'!B:BF,42,0)))","v":""},null,{"$f":"IF(K33=\"\",-1,VLOOKUP(IF(K33=\"Bye\",\"T00\",K33),'Team List'!B:AQ,39,0))","v":-1},null,null,null,null,null,null,27,"T18",null,null,null,null,{"$f":"IF(COUNTIF('Team List'!C29:AX29,\"Bye\")>0,'Team List'!$BB29+1000000000,'Team List'!$BB29)","v":-4.0723960467084295},27,"T26"]
[{"$f":"IF(COUNTIF(K$7:K$71,C34)>0,'Team List'!$BB31*-1,'Team List'!$BB31)","v":-2.1107260428102501},28,"T28",0,{"$f":"IF(OR(COUNTIF(K$7:K$71,G34)>0,G34=$J$3),ABS('Team List'!$BB31)*-1,IF(COUNTIF('Team List'!C31:AX31,Pairing!$J$3)>0,'Team List'!$BB31/10000,'Team List'!$BB31))","v":-2.1107260428102501},11,"T28",null,null,{"$f":"IF(K34=\"\",\"\",IF(K34=\"Bye\",\"Bye\",VLOOKUP(K34,'Team List'!B:BF,42,0)))","v":""},null,{"$f":"IF(K34=\"\",-1,VLOOKUP(IF(K34=\"Bye\",\"T00\",K34),'Team List'!B:AQ,39,0))","v":-1},null,null,null,null,null,null,28,"T29",null,null,null,null,{"$f":"IF(COUNTIF('Team List'!C30:AX30,\"Bye\")>0,'Team List'!$BB30+1000000000,'Team List'!$BB30)","v":-2.0486769802512663},9,"T27"]
[{"$f":"IF(COUNTIF(K$7:K$71,C35)>0,'Team List'!$BB32*-1,'Team List'!$BB32)","v":-3.7201078027060208},32,"T29",0,{"$f":"IF(OR(COUNTIF(K$7:K$71,G35)>0,G35=$J$3),ABS('Team List'!$BB32)*-1,IF(COUNTIF('Team List'!C32:AX32,Pairing!$J$3)>0,'Team List'!$BB32/10000,'Team List'!$BB32))","v":-3.7201078027060208},22,"T29",null,"Pitch 15",{"$f":"IF(K35=\"\",\"\",IF(K35=\"Bye\",\"Bye\",VLOOKUP(K35,'Team List'!B:BF,42,0)))","v":""},null,{"$f":"IF(K35=\"\",-1,VLOOKUP(IF(K35=\"Bye\",\"T00\",K35),'Team List'!B:AQ,39,0))","v":-1},null,null,null,null,null,null,29,"T26",null,null,null,null,{"$f":"IF(COUNTIF('Team List'!C31:AX31,\"Bye\")>0,'Team List'!$BB31+1000000000,'Team List'!$BB31)","v":-2.1107260428102501},11,"T28"]
[{"$f":"IF(COUNTIF(K$7:K$71,C36)>0,'Team List'!$BB33*-1,'Team List'!$BB33)","v":-4.2864933398975866},35,"T30",0,{"$f":"IF(OR(COUNTIF(K$7:K$71,G36)>0,G36=$J$3),ABS('Team List'!$BB33)*-1,IF(COUNTIF('Team List'!C33:AX33,Pairing!$J$3)>0,'Team List'!$BB33/10000,'Team List'!$BB33))","v":-4.2864933398975866},28,"T30",null,null,{"$f":"IF(K36=\"\",\"\",IF(K36=\"Bye\",\"Bye\",VLOOKUP(K36,'Team List'!B:BF,42,0)))","v":""},null,{"$f":"IF(K36=\"\",-1,VLOOKUP(IF(K36=\"Bye\",\"T00\",K36),'Team List'!B:AQ,39,0))","v":-1},null,null,null,null,null,null,30,"T25",null,null,null,null,{"$f":"IF(COUNTIF('Team List'!C32:AX32,\"Bye\")>0,'Team List'!$BB32+1000000000,'Team List'!$BB32)","v":-3.7201078027060208},22,"T29"]
[{"$f":"IF(COUNTIF(K$7:K$71,C37)>0,'Team List'!$BB34*-1,'Team List'!$BB34)","v":-3.4319645465194979},31,"T31",0,{"$f":"IF(OR(COUNTIF(K$7:K$71,G37)>0,G37=$J$3),ABS('Team List'!$BB34)*-1,IF(COUNTIF('Team List'!C34:AX34,Pairing!$J$3)>0,'Team List'!$BB34/10000,'Team List'!$BB34))","v":-3.4319645465194979},20,"T31",null,"Pitch 16",{"$f":"IF(K37=\"\",\"\",IF(K37=\"Bye\",\"Bye\",VLOOKUP(K37,'Team List'!B:BF,42,0)))","v":""},null,{"$f":"IF(K37=\"\",-1,VLOOKUP(IF(K37=\"Bye\",\"T00\",K37),'Team List'!B:AQ,39,0))","v":-1},null,null,null,null,null,null,31,"T17",null,null,null,null,{"$f":"IF(COUNTIF('Team List'!C33:AX33,\"Bye\")>0,'Team List'!$BB33+1000000000,'Team List'!$BB33)","v":-4.2864933398975866},28,"T30"]
[{"$f":"IF(COUNTIF(K$7:K$71,C38)>0,'Team List'!$BB35*-1,'Team List'!$BB35)","v":-4.444235347948716},39,"T32",0,{"$f":"IF(OR(COUNTIF(K$7:K$71,G38)>0,G38=$J$3),ABS('Team List'!$BB35)*-1,IF(COUNTIF('Team List'!C35:AX35,Pairing!$J$3)>0,'Team List'!$BB35/10000,'Team List'!$BB35))","v":-4.444235347948716},33,"T32",null,null,{"$f":"IF(K38=\"\",\"\",IF(K38=\"Bye\",\"Bye\",VLOOKUP(K38,'Team List'!B:BF,42,0)))","v":""},null,{"$f":"IF(K38=\"\",-1,VLOOKUP(IF(K38=\"Bye\",\"T00\",K38),'Team List'!B:AQ,39,0))","v":-1},null,null,null,null,null,null,32,"T24",null,null,null,null,{"$f":"IF(COUNTIF('Team List'!C34:AX34,\"Bye\")>0,'Team List'!$BB34+1000000000,'Team List'!$BB34)","v":-3.4319645465194979},20,"T31"]
[{"$f":"IF(COUNTIF(K$7:K$71,C39)>0,'Team List'!$BB36*-1,'Team List'!$BB36)","v":-7.7862523290872225},51,"T33",0,{"$f":"IF(OR(COUNTIF(K$7:K$71,G39)>0,G39=$J$3),ABS('Team List'!$BB36)*-1,IF(COUNTIF('Team List'!C36:AX36,Pairing!$J$3)>0,'Team List'!$BB36/10000,'Team List'!$BB36))","v":-7.7862523290872225},50,"T33",null,"Pitch 17",{"$f":"IF(K39=\"\",\"\",IF(K39=\"Bye\",\"Bye\",VLOOKUP(K39,'Team List'!B:BF,42,0)))","v":""},null,{"$f":"IF(K39=\"\",-1,VLOOKUP(IF(K39=\"Bye\",\"T00\",K39),'Team List'!B:AQ,39,0))","v":-1},null,null,null,null,null,null,33,"T28",null,null,null,null,{"$f":"IF(COUNTIF('Team List'!C35:AX35,\"Bye\")>0,'Team List'!$BB35+1000000000,'Team List'!$BB35)","v":-4.444235347948716},33,"T32"]
[{"$f":"IF(COUNTIF(K$7:K$71,C40)>0,'Team List'!$BB37*-1,'Team List'!$BB37)","v":-2.0611177097287312},27,"T34",0,{"$f":"IF(OR(COUNTIF(K$7:K$71,G40)>0,G40=$J$3),ABS('Team List'!$BB37)*-1,IF(COUNTIF('Team List'!C37:AX37,Pairing!$J$3)>0,'Team List'!$BB37/10000,'Team List'!$BB37))","v":-2.0611177097287312},10,"T34",null,null,{"$f":"IF(K40=\"\",\"\",IF(K40=\"Bye\",\"Bye\",VLOOKUP(K40,'Team List'!B:BF,42,0)))","v":""},null,{"$f":"IF(K40=\"\",-1,VLOOKUP(IF(K40=\"Bye\",\"T00\",K40),'Team List'!B:AQ,39,0))","v":-1},null,null,null,null,null,null,34,"T20",null,null,null,null,{"$f":"IF(COUNTIF('Team List'!C36:AX36,\"Bye\")>0,'Team List'!$BB36+1000000000,'Team List'!$BB36)","v":-7.7862523290872225},50,"T33"]
[{"$f":"IF(COUNTIF(K$7:K$71,C41)>0,'Team List'!$BB38*-1,'Team List'!$BB38)","v":-8.5021864836629515},55,"T35",0,{"$f":"IF(OR(COUNTIF(K$7:K$71,G41)>0,G41=$J$3),ABS('Team List'!$BB38)*-1,IF(COUNTIF('Team List'!C38:AX38,Pairing!$J$3)>0,'Team List'!$BB38/10000,'Team List'!$BB38))","v":-8.5021864836629515},54,"T35",null,"Pitch 18",{"$f":"IF(K41=\"\",\"\",IF(K41=\"Bye\",\"Bye\",VLOOKUP(K41,'Team List'!B:BF,42,0)))","v":""},null,{"$f":"IF(K41=\"\",-1,VLOOKUP(IF(K41=\"Bye\",\"T00\",K41),'Team List'!B:AQ,39,0))","v":-1},null,null,null,null,null,null,35,"T19",null,null,null,null,{"$f":"IF(COUNTIF('Team List'!C37:AX37,\"Bye\")>0,'Team List'!$BB37+1000000000,'Team List'!$BB37)","v":-2.0611177097287312},10,"T34"]
[{"$f":"IF(COUNTIF(K$7:K$71,C42)>0,'Team List'!$BB39*-1,'Team List'!$BB39)","v":-7.8045224431924254},52,"T36",0,{"$f":"IF(OR(COUNTIF(K$7:K$71,G42)>0,G42=$J$3),ABS('Team List'!$BB39)*-1,IF(COUNTIF('Team List'!C39:AX39,Pairing!$J$3)>0,'Team List'!$BB39/10000,'Team List'!$BB39))","v":-7.8045224431924254},51,"T36",null,null,{"$f":"IF(K42=\"\",\"\",IF(K42=\"Bye\",\"Bye\",VLOOKUP(K42,'Team List'!B:BF,42,0)))","v":""},null,{"$f":"IF(K42=\"\",-1,VLOOKUP(IF(K42=\"Bye\",\"T00\",K42),'Team List'!B:AQ,39,0))","v":-1},null,null,null,null,null,null,36,"",null,null,null,null,{"$f":"IF(COUNTIF('Team List'!C38:AX38,\"Bye\")>0,'Team List'!$BB38+1000000000,'Team List'!$BB38)","v":-8.5021864836629515},54,"T35"]
[{"$f":"IF(COUNTIF(K$7:K$71,C43)>0,'Team List'!$BB40*-1,'Team List'!$BB40)","v":-6.9208080960575007},47,"T37",0,{"$f":"IF(OR(COUNTIF(K$7:K$71,G43)>0,G43=$J$3),ABS('Team List'!$BB40)*-1,IF(COUNTIF('Team List'!C40:AX40,Pairing!$J$3)>0,'Team List'!$BB40/10000,'Team List'!$BB40))","v":-6.9208080960575007},44,"T37",null,"Pitch 19",{"$f":"IF(K43=\"\",\"\",IF(K43=\"Bye\",\"Bye\",VLOOKUP(K43,'Team List'!B:BF,42,0)))","v":""},null,{"$f":"IF(K43=\"\",-1,VLOOKUP(IF(K43=\"Bye\",\"T00\",K43),'Team List'!B:AQ,39,0))","v":-1},null,null,null,null,null,null,37,"",null,null,null,null,{"$f":"IF(COUNTIF('Team List'!C39:AX39,\"Bye\")>0,'Team List'!$BB39+1000000000,'Team List'!$BB39)","v":-7.8045224431924254},51,"T36"]
[{"$f":"IF(COUNTIF(K$7:K$71,C44)>0,'Team List'!$BB41*-1,'Team List'!$BB41)","v":-1.0403558377824873},23,"T38",0,{"$f":"IF(OR(COUNTIF(K$7:K$71,G44)>0,G44=$J$3),ABS('Team List'!$BB41)*-1,IF(COUNTIF('Team List'!C41:AX41,Pairing!$J$3)>0,'Team List'!$BB41/10000,'Team List'!$BB41))","v":-1.0403558377824873},5,"T38",null,null,{"$f":"IF(K44=\"\",\"\",IF(K44=\"Bye\",\"Bye\",VLOOKUP(K44,'Team List'!B:BF,42,0)))","v":""},null,{"$f":"IF(K44=\"\",-1,VLOOKUP(IF(K44=\"Bye\",\"T00\",K44),'Team List'!B:AQ,39,0))","v":-1},null,null,null,null,null,null,38,"",null,null,null,null,{"$f":"IF(COUNTIF('Team List'!C40:AX40,\"Bye\")>0,'Team List'!$BB40+1000000000,'Team List'!$BB40)","v":-6.9208080960575007},44,"T37"]
[{"$f":"IF(COUNTIF(K$7:K$71,C45)>0,'Team List'!$BB42*-1,'Team List'!$BB42)","v":-2.7082162478180907},30,"T39",0,{"$f":"IF(OR(COUNTIF(K$7:K$71,G45)>0,G45=$J$3),ABS('Team List'!$BB42)*-1,IF(COUNTIF('Team List'!C42:AX42,Pairing!$J$3)>0,'Team List'!$BB42/10000,'Team List'!$BB42))","v":-2.7082162478180907},16,"T39",null,"Pitch 20",{"$f":"IF(K45=\"\",\"\",IF(K45=\"Bye\",\"Bye\",VLOOKUP(K45,'Team List'!B:BF,42,0)))","v":""},null,{"$f":"IF(K45=\"\",-1,VLOOKUP(IF(K45=\"Bye\",\"T00\",K45),'Team List'!B:AQ,39,0))","v":-1},null,null,null,null,null,null,39,"",null,null,null,null,{"$f":"IF(COUNTIF('Team List'!C41:AX41,\"Bye\")>0,'Team List'!$BB41+1000000000,'Team List'!$BB41)","v":-1.0403558377824873},5,"T38"]
[{"$f":"IF(COUNTIF(K$7:K$71,C46)>0,'Team List'!$BB43*-1,'Team List'!$BB43)","v":-0.39840235271332736},20,"T40",0,{"$f":"IF(OR(COUNTIF(K$7:K$71,G46)>0,G46=$J$3),ABS('Team List'!$BB43)*-1,IF(COUNTIF('Team List'!C43:AX43,Pairing!$J$3)>0,'Team List'!$BB43/10000,'Team List'!$BB43))","v":-0.39840235271332736},1,"T40",null,null,{"$f":"IF(K46=\"\",\"\",IF(K46=\"Bye\",\"Bye\",VLOOKUP(K46,'Team List'!B:BF,42,0)))","v":""},null,{"$f":"IF(K46=\"\",-1,VLOOKUP(IF(K46=\"Bye\",\"T00\",K46),'Team List'!B:AQ,39,0))","v":-1},null,null,null,null,null,null,40,"",null,null,null,null,{"$f":"IF(COUNTIF('Team List'!C42:AX42,\"Bye\")>0,'Team List'!$BB42+1000000000,'Team List'!$BB42)","v":-2.7082162478180907},16,"T39"]
[{"$f":"IF(COUNTIF(K$7:K$71,C47)>0,'Team List'!$BB44*-1,'Team List'!$BB44)","v":-1.0432923843311215},24,"T41",0,{"$f":"IF(OR(COUNTIF(K$7:K$71,G47)>0,G47=$J$3),ABS('Team List'!$BB44)*-1,IF(COUNTIF('Team List'!C44:AX44,Pairing!$J$3)>0,'Team List'!$BB44/10000,'Team List'!$BB44))","v":-1.0432923843311215},6,"T41",null,"Pitch 21",{"$f":"IF(K47=\"\",\"\",IF(K47=\"Bye\",\"Bye\",VLOOKUP(K47,'Team List'!B:BF,42,0)))","v":""},null,{"$f":"IF(K47=\"\",-1,VLOOKUP(IF(K47=\"Bye\",\"T00\",K47),'Team List'!B:AQ,39,0))","v":-1},null,null,null,null,null,null,41,"",null,null,null,null,{"$f":"IF(COUNTIF('Team List'!C43:AX43,\"Bye\")>0,'Team List'!$BB43+1000000000,'Team List'!$BB43)","v":-0.39840235271332736},1,"T40"]
[{"$f":"IF(COUNTIF(K$7:K$71,C48)>0,'Team List'!$BB45*-1,'Team List'!$BB45)","v":-8.7617173553528502},56,"T42",0,{"$f":"IF(OR(COUNTIF(K$7:K$71,G48)>0,G48=$J$3),ABS('Team List'!$BB45)*-1,IF(COUNTIF('Team List'!C45:AX45,Pairing!$J$3)>0,'Team List'!$BB45/10000,'Team List'!$BB45))","v":-8.7617173553528502},55,"T42",null,null,{"$f":"IF(K48=\"\",\"\",IF(K48=\"Bye\",\"Bye\",VLOOKUP(K48,'Team List'!B:BF,42,0)))","v":""},null,{"$f":"IF(K48=\"\",-1,VLOOKUP(IF(K48=\"Bye\",\"T00\",K48),'Team List'!B:AQ,39,0))","v":-1},null,null,null,null,null,null,42,"",null,null,null,null,{"$f":"IF(COUNTIF('Team List'!C44:AX44,\"Bye\")>0,'Team List'!$BB44+1000000000,'Team List'!$BB44)","v":-1.0432923843311215},6,"T41"]
[{"$f":"IF(COUNTIF(K$7:K$71,C49)>0,'Team List'!$BB46*-1,'Team List'!$BB46)","v":-0.81681920064603841},22,"T43",0,{"$f":"IF(OR(COUNTIF(K$7:K$71,G49)>0,G49=$J$3),ABS('Team List'!$BB46)*-1,IF(COUNTIF('Team List'!C46:AX46,Pairing!$J$3)>0,'Team List'!$BB46/10000,'Team List'!$BB46))","v":-0.81681920064603841},4,"T43",null,"Pitch 22",{"$f":"IF(K49=\"\",\"\",IF(K49=\"Bye\",\"Bye\",VLOOKUP(K49,'Team List'!B:BF,42,0)))","v":""},null,{"$f":"IF(K49=\"\",-1,VLOOKUP(IF(K49=\"Bye\",\"T00\",K49),'Team List'!B:AQ,39,0))","v":-1},null,null,null,null,null,null,43,"",null,null,null,null,{"$f":"IF(COUNTIF('Team List'!C45:AX45,\"Bye\")>0,'Team List'!$BB45+1000000000,'Team List'!$BB45)","v":-8.7617173553528502},55,"T42"]
[{"$f":"IF(COUNTIF(K$7:K$71,C50)>0,'Team List'!$BB47*-1,'Team List'!$BB47)","v":-9.8600470851827051},62,"T44",0,{"$f":"IF(OR(COUNTIF(K$7:K$71,G50)>0,G50=$J$3),ABS('Team List'!$BB47)*-1,IF(COUNTIF('Team List'!C47:AX47,Pairing!$J$3)>0,'Team List'!$BB47/10000,'Team List'!$BB47))","v":-9.8600470851827051},62,"T44",null,null,{"$f":"IF(K50=\"\",\"\",IF(K50=\"Bye\",\"Bye\",VLOOKUP(K50,'Team List'!B:BF,42,0)))","v":""},null,{"$f":"IF(K50=\"\",-1,VLOOKUP(IF(K50=\"Bye\",\"T00\",K50),'Team List'!B:AQ,39,0))","v":-1},null,null,null,null,null,null,44,"",null,null,null,null,{"$f":"IF(COUNTIF('Team List'!C46:AX46,\"Bye\")>0,'Team List'!$BB46+1000000000,'Team List'!$BB46)","v":-0.81681920064603841},4,"T43"]
[{"$f":"IF(COUNTIF(K$7:K$71,C51)>0,'Team List'!$BB48*-1,'Team List'!$BB48)","v":-9.781814789193783},61,"T45",0,{"$f":"IF(OR(COUNTIF(K$7:K$71,G51)>0,G51=$J$3),ABS('Team List'!$BB48)*-1,IF(COUNTIF('Team List'!C48:AX48,Pairing!$J$3)>0,'Team List'!$BB48/10000,'Team List'!$BB48))","v":-9.781814789193783},61,"T45",null,"Pitch 23",{"$f":"IF(K51=\"\",\"\",IF(K51=\"Bye\",\"Bye\",VLOOKUP(K51,'Team List'!B:BF,42,0)))","v":""},null,{"$f":"IF(K51=\"\",-1,VLOOKUP(IF(K51=\"Bye\",\"T00\",K51),'Team List'!B:AQ,39,0))","v":-1},null,null,null,null,null,null,45,"",null,null,null,null,{"$f":"IF(COUNTIF('Team List'!C47:AX47,\"Bye\")>0,'Team List'!$BB47+1000000000,'Team List'!$BB47)","v":-9.8600470851827051},62,"T44"]
[{"$f":"IF(COUNTIF(K$7:K$71,C52)>0,'Team List'!$BB49*-1,'Team List'!$BB49)","v":-7.8585281206504636},53,"T46",0,{"$f":"IF(OR(COUNTIF(K$7:K$71,G52)>0,G52=$J$3),ABS('Team List'!$BB49)*-1,IF(COUNTIF('Team List'!C49:AX49,Pairing!$J$3)>0,'Team List'!$BB49/10000,'Team List'!$BB49))","v":-7.8585281206504636},52,"T46",null,null,{"$f":"IF(K52=\"\",\"\",IF(K52=\"Bye\",\"Bye\",VLOOKUP(K52,'Team List'!B:BF,42,0)))","v":""},null,{"$f":"IF(K52=\"\",-1,VLOOKUP(IF(K52=\"Bye\",\"T00\",K52),'Team List'!B:AQ,39,0))","v":-1},null,null,null,null,null,null,46,"",null,null,null,null,{"$f":"IF(COUNTIF('Team List'!C48:AX48,\"Bye\")>0,'Team List'!$BB48+1000000000,'Team List'!$BB48)","v":-9.781814789193783},61,"T45"]
[{"$f":"IF(COUNTIF(K$7:K$71,C53)>0,'Team List'!$BB50*-1,'Team List'!$BB50)","v":-0.65151126675429549},21,"T47",0,{"$f":"IF(OR(COUNTIF(K$7:K$71,G53)>0,G53=$J$3),ABS('Team List'!$BB50)*-1,IF(COUNTIF('Team List'!C50:AX50,Pairing!$J$3)>0,'Team List'!$BB50/10000,'Team List'!$BB50))","v":-0.65151126675429549},3,"T47",null,"Pitch 24",{"$f":"IF(K53=\"\",\"\",IF(K53=\"Bye\",\"Bye\",VLOOKUP(K53,'Team List'!B:BF,42,0)))","v":""},null,{"$f":"IF(K53=\"\",-1,VLOOKUP(IF(K53=\"Bye\",\"T00\",K53),'Team List'!B:AQ,39,0))","v":-1},null,null,null,null,null,null,47,"",null,null,null,null,{"$f":"IF(COUNTIF('Team List'!C49:AX49,\"Bye\")>0,'Team List'!$BB49+1000000000,'Team List'!$BB49)","v":-7.8585281206504636},52,"T46"]
[{"$f":"IF(COUNTIF(K$7:K$71,C54)>0,'Team List'!$BB51*-1,'Team List'!$BB51)","v":-6.2760731997446246},43,"T48",0,{"$f":"IF(OR(COUNTIF(K$7:K$71,G54)>0,G54=$J$3),ABS('Team List'!$BB51)*-1,IF(COUNTIF('Team List'!C51:AX51,Pairing!$J$3)>0,'Team List'!$BB51/10000,'Team List'!$BB51))","v":-6.2760731997446246},40,"T48",null,null,{"$f":"IF(K54=\"\",\"\",IF(K54=\"Bye\",\"Bye\",VLOOKUP(K54,'Team List'!B:BF,42,0)))","v":""},null,{"$f":"IF(K54=\"\",-1,VLOOKUP(IF(K54=\"Bye\",\"T00\",K54),'Team List'!B:AQ,39,0))","v":-1},null,null,null,null,null,null,48,"",null,null,null,null,{"$f":"IF(COUNTIF('Team List'!C50:AX50,\"Bye\")>0,'Team List'!$BB50+1000000000,'Team List'!$BB50)","v":-0.65151126675429549},3,"T47"]
[{"$f":"IF(COUNTIF(K$7:K$71,C55)>0,'Team List'!$BB52*-1,'Team List'!$BB52)","v":-4.4130617536768586},37,"T49",0,{"$f":"IF(OR(COUNTIF(K$7:K$71,G55)>0,G55=$J$3),ABS('Team List'!$BB52)*-1,IF(COUNTIF('Team List'!C52:AX52,Pairing!$J$3)>0,'Team List'!$BB52/10000,'Team List'!$BB52))","v":-4.4130617536768586},31,"T49",null,"Pitch 25",{"$f":"IF(K55=\"\",\"\",IF(K55=\"Bye\",\"Bye\",VLOOKUP(K55,'Team List'!B:BF,42,0)))","v":""},null,{"$f":"IF(K55=\"\",-1,VLOOKUP(IF(K55=\"Bye\",\"T00\",K55),'Team List'!B:AQ,39,0))","v":-1},null,null,null,null,null,null,49,"",null,null,null,null,{"$f":"IF(COUNTIF('Team List'!C51:AX51,\"Bye\")>0,'Team List'!$BB51+1000000000,'Team List'!$BB51)","v":-6.2760731997446246},40,"T48"]
[{"$f":"IF(COUNTIF(K$7:K$71,C56)>0,'Team List'!$BB53*-1,'Team List'!$BB53)","v":-6.957777878181278},48,"T50",0,{"$f":"IF(OR(COUNTIF(K$7:K$71,G56)>0,G56=$J$3),ABS('Team List'!$BB53)*-1,IF(COUNTIF('Team List'!C53:AX53,Pairing!$J$3)>0,'Team List'!$BB53/10000,'Team List'!$BB53))","v":-6.957777878181278},45,"T50",null,null,{"$f":"IF(K56=\"\",\"\",IF(K56=\"Bye\",\"Bye\",VLOOKUP(K56,'Team List'!B:BF,42,0)))","v":""},null,{"$f":"IF(K56=\"\",-1,VLOOKUP(IF(K56=\"Bye\",\"T00\",K56),'Team List'!B:AQ,39,0))","v":-1},null,null,null,null,null,null,50,"",null,null,null,null,{"$f":"IF(COUNTIF('Team List'!C52:AX52,\"Bye\")>0,'Team List'!$BB52+1000000000,'Team List'!$BB52)","v":-4.4130617536768586},31,"T49"]
[{"$f":"IF(COUNTIF(K$7:K$71,C57)>0,'Team List'!$BB54*-1,'Team List'!$BB54)","v":-8.0364082475459178},54,"T51",0,{"$f":"IF(OR(COUNTIF(K$7:K$71,G57)>0,G57=$J$3),ABS('Team List'!$BB54)*-1,IF(COUNTIF('Team List'!C54:AX54,Pairing!$J$3)>0,'Team List'!$BB54/10000,'Team List'!$BB54))","v":-8.0364082475459178},53,"T51",null,"Pitch 26",{"$f":"IF(K57=\"\",\"\",IF(K57=\"Bye\",\"Bye\",VLOOKUP(K57,'Team List'!B:BF,42,0)))","v":""},null,{"$f":"IF(K57=\"\",-1,VLOOKUP(IF(K57=\"Bye\",\"T00\",K57),'Team List'!B:AQ,39,0))","v":-1},null,null,null,null,null,null,51,"",null,null,null,null,{"$f":"IF(COUNTIF('Team List'!C53:AX53,\"Bye\")>0,'Team List'!$BB53+1000000000,'Team List'!$BB53)","v":-6.957777878181278},45,"T50"]
[{"$f":"IF(COUNTIF(K$7:K$71,C58)>0,'Team List'!$BB55*-1,'Team List'!$BB55)","v":-7.334855535390715},49,"T52",0,{"$f":"IF(OR(COUNTIF(K$7:K$71,G58)>0,G58=$J$3),ABS('Team List'!$BB55)*-1,IF(COUNTIF('Team List'!C55:AX55,Pairing!$J$3)>0,'Team List'!$BB55/10000,'Team List'!$BB55))","v":-7.334855535390715},46,"T52",null,null,{"$f":"IF(K58=\"\",\"\",IF(K58=\"Bye\",\"Bye\",VLOOKUP(K58,'Team List'!B:BF,42,0)))","v":""},null,{"$f":"IF(K58=\"\",-1,VLOOKUP(IF(K58=\"Bye\",\"T00\",K58),'Team List'!B:AQ,39,0))","v":-1},null,null,null,null,null,null,52,"",null,null,null,null,{"$f":"IF(COUNTIF('Team List'!C54:AX54,\"Bye\")>0,'Team List'!$BB54+1000000000,'Team List'!$BB54)","v":-8.0364082475459178},53,"T51"]
[{"$f":"IF(COUNTIF(K$7:K$71,C59)>0,'Team List'!$BB56*-1,'Team List'!$BB56)","v":-2.7029642896201533},29,"T53",0,{"$f":"IF(OR(COUNTIF(K$7:K$71,G59)>0,G59=$J$3),ABS('Team List'!$BB56)*-1,IF(COUNTIF('Team List'!C56:AX56,Pairing!$J$3)>0,'Team List'!$BB56/10000,'Team List'!$BB56))","v":-2.7029642896201533},15,"T53",null,"Pitch 27",{"$f":"IF(K59=\"\",\"\",IF(K59=\"Bye\",\"Bye\",VLOOKUP(K59,'Team List'!B:BF,42,0)))","v":""},null,{"$f":"IF(K59=\"\",-1,VLOOKUP(IF(K59=\"Bye\",\"T00\",K59),'Team List'!B:AQ,39,0))","v":-1},null,null,null,null,null,null,53,"",null,null,null,null,{"$f":"IF(COUNTIF('Team List'!C55:AX55,\"Bye\")>0,'Team List'!$BB55+1000000000,'Team List'!$BB55)","v":-7.334855535390715},46,"T52"]
[{"$f":"IF(COUNTIF(K$7:K$71,C60)>0,'Team List'!$BB57*-1,'Team List'!$BB57)","v":-6.8689816830439963},46,"T54",0,{"$f":"IF(OR(COUNTIF(K$7:K$71,G60)>0,G60=$J$3),ABS('Team List'!$BB57)*-1,IF(COUNTIF('Team List'!C57:AX57,Pairing!$J$3)>0,'Team List'!$BB57/10000,'Team List'!$BB57))","v":-6.8689816830439963},43,"T54",null,null,{"$f":"IF(K60=\"\",\"\",IF(K60=\"Bye\",\"Bye\",VLOOKUP(K60,'Team List'!B:BF,42,0)))","v":""},null,{"$f":"IF(K60=\"\",-1,VLOOKUP(IF(K60=\"Bye\",\"T00\",K60),'Team List'!B:AQ,39,0))","v":-1},null,null,null,null,null,null,54,"",null,null,null,null,{"$f":"IF(COUNTIF('Team List'!C56:AX56,\"Bye\")>0,'Team List'!$BB56+1000000000,'Team List'!$BB56)","v":-2.7029642896201533},15,"T53"]
[{"$f":"IF(COUNTIF(K$7:K$71,C61)>0,'Team List'!$BB58*-1,'Team List'!$BB58)","v":-9.0724456813311818},59,"T55",0,{"$f":"IF(OR(COUNTIF(K$7:K$71,G61)>0,G61=$J$3),ABS('Team List'!$BB58)*-1,IF(COUNTIF('Team List'!C58:AX58,Pairing!$J$3)>0,'Team List'!$BB58/10000,'Team List'!$BB58))","v":-9.0724456813311818},58,"T55",null,"Pitch 28",{"$f":"IF(K61=\"\",\"\",IF(K61=\"Bye\",\"Bye\",VLOOKUP(K61,'Team List'!B:BF,42,0)))","v":""},null,{"$f":"IF(K61=\"\",-1,VLOOKUP(IF(K61=\"Bye\",\"T00\",K61),'Team List'!B:AQ,39,0))","v":-1},null,null,null,null,null,null,55,"",null,null,null,null,{"$f":"IF(COUNTIF('Team List'!C57:AX57,\"Bye\")>0,'Team List'!$BB57+1000000000,'Team List'!$BB57)","v":-6.8689816830439963},43,"T54"]
[{"$f":"IF(COUNTIF(K$7:K$71,C62)>0,'Team List'!$BB59*-1,'Team List'!$BB59)","v":-6.4106346761399822},44,"T56",0,{"$f":"IF(OR(COUNTIF(K$7:K$71,G62)>0,G62=$J$3),ABS('Team List'!$BB59)*-1,IF(COUNTIF('Team List'!C59:AX59,Pairing!$J$3)>0,'Team List'!$BB59/10000,'Team List'!$BB59))","v":-6.4106346761399822},41,"T56",null,null,{"$f":"IF(K62=\"\",\"\",IF(K62=\"Bye\",\"Bye\",VLOOKUP(K62,'Team List'!B:BF,42,0)))","v":""},null,{"$f":"IF(K62=\"\",-1,VLOOKUP(IF(K62=\"Bye\",\"T00\",K62),'Team List'!B:AQ,39,0))","v":-1},null,null,null,null,null,null,56,"",null,null,null,null,{"$f":"IF(COUNTIF('Team List'!C58:AX58,\"Bye\")>0,'Team List'!$BB58+1000000000,'Team List'!$BB58)","v":-9.0724456813311818},58,"T55"]
[{"$f":"IF(COUNTIF(K$7:K$71,C63)>0,'Team List'!$BB60*-1,'Team List'!$BB60)","v":-9.8973788232179558},64,"T57",0,{"$f":"IF(OR(COUNTIF(K$7:K$71,G63)>0,G63=$J$3),ABS('Team List'!$BB60)*-1,IF(COUNTIF('Team List'!C60:AX60,Pairing!$J$3)>0,'Team List'!$BB60/10000,'Team List'!$BB60))","v":-9.8973788232179558},64,"T57",null,"Pitch 29",{"$f":"IF(K63=\"\",\"\",IF(K63=\"Bye\",\"Bye\",VLOOKUP(K63,'Team List'!B:BF,42,0)))","v":""},null,{"$f":"IF(K63=\"\",-1,VLOOKUP(IF(K63=\"Bye\",\"T00\",K63),'Team List'!B:AQ,39,0))","v":-1},null,null,null,null,null,null,57,"",null,null,null,null,{"$f":"IF(COUNTIF('Team List'!C59:AX59,\"Bye\")>0,'Team List'!$BB59+1000000000,'Team List'!$BB59)","v":-6.4106346761399822},41,"T56"]
[{"$f":"IF(COUNTIF(K$7:K$71,C64)>0,'Team List'!$BB61*-1,'Team List'!$BB61)","v":-9.5550917137700999},60,"T58",0,{"$f":"IF(OR(COUNTIF(K$7:K$71,G64)>0,G64=$J$3),ABS('Team List'!$BB61)*-1,IF(COUNTIF('Team List'!C61:AX61,Pairing!$J$3)>0,'Team List'!$BB61/10000,'Team List'!$BB61))","v":-9.5550917137700999},60,"T58",null,null,{"$f":"IF(K64=\"\",\"\",IF(K64=\"Bye\",\"Bye\",VLOOKUP(K64,'Team List'!B:BF,42,0)))","v":""},null,{"$f":"IF(K64=\"\",-1,VLOOKUP(IF(K64=\"Bye\",\"T00\",K64),'Team List'!B:AQ,39,0))","v":-1},null,null,null,null,null,null,58,"",null,null,null,null,{"$f":"IF(COUNTIF('Team List'!C60:AX60,\"Bye\")>0,'Team List'!$BB60+1000000000,'Team List'!$BB60)","v":-9.8973788232179558},64,"T57"]
[{"$f":"IF(COUNTIF(K$7:K$71,C65)>0,'Team List'!$BB62*-1,'Team List'!$BB62)","v":-5.3421088644971224},41,"T59",0,{"$f":"IF(OR(COUNTIF(K$7:K$71,G65)>0,G65=$J$3),ABS('Team List'!$BB62)*-1,IF(COUNTIF('Team List'!C62:AX62,Pairing!$J$3)>0,'Team List'!$BB62/10000,'Team List'!$BB62))","v":-5.3421088644971224},37,"T59",null,"Pitch 30",{"$f":"IF(K65=\"\",\"\",IF(K65=\"Bye\",\"Bye\",VLOOKUP(K65,'Team List'!B:BF,42,0)))","v":""},null,{"$f":"IF(K65=\"\",-1,VLOOKUP(IF(K65=\"Bye\",\"T00\",K65),'Team List'!B:AQ,39,0))","v":-1},null,null,null,null,null,null,59,"",null,null,null,null,{"$f":"IF(COUNTIF('Team List'!C61:AX61,\"Bye\")>0,'Team List'!$BB61+1000000000,'Team List'!$BB61)","v":-9.5550917137700999},60,"T58"]
[{"$f":"IF(COUNTIF(K$7:K$71,C66)>0,'Team List'!$BB63*-1,'Team List'!$BB63)","v":-6.1314087547270892},42,"T60",0,{"$f":"IF(OR(COUNTIF(K$7:K$71,G66)>0,G66=$J$3),ABS('Team List'!$BB63)*-1,IF(COUNTIF('Team List'!C63:AX63,Pairing!$J$3)>0,'Team List'!$BB63/10000,'Team List'!$BB63))","v":-6.1314087547270892},39,"T60",null,null,{"$f":"IF(K66=\"\",\"\",IF(K66=\"Bye\",\"Bye\",VLOOKUP(K66,'Team List'!B:BF,42,0)))","v":""},null,{"$f":"IF(K66=\"\",-1,VLOOKUP(IF(K66=\"Bye\",\"T00\",K66),'Team List'!B:AQ,39,0))","v":-1},null,null,null,null,null,null,60,"",null,null,null,null,{"$f":"IF(COUNTIF('Team List'!C62:AX62,\"Bye\")>0,'Team List'!$BB62+1000000000,'Team List'!$BB62)","v":-5.3421088644971224},37,"T59"]
[{"$f":"IF(COUNTIF(K$7:K$71,C67)>0,'Team List'!$BB64*-1,'Team List'!$BB64)","v":-9.0350298210666544},58,"T61",0,{"$f":"IF(OR(COUNTIF(K$7:K$71,G67)>0,G67=$J$3),ABS('Team List'!$BB64)*-1,IF(COUNTIF('Team List'!C64:AX64,Pairing!$J$3)>0,'Team List'!$BB64/10000,'Team List'!$BB64))","v":-9.0350298210666544},57,"T61",null,"Pitch 31",{"$f":"IF(K67=\"\",\"\",IF(K67=\"Bye\",\"Bye\",VLOOKUP(K67,'Team List'!B:BF,42,0)))","v":""},null,{"$f":"IF(K67=\"\",-1,VLOOKUP(IF(K67=\"Bye\",\"T00\",K67),'Team List'!B:AQ,39,0))","v":-1},null,null,null,null,null,null,61,"",null,null,null,null,{"$f":"IF(COUNTIF('Team List'!C63:AX63,\"Bye\")>0,'Team List'!$BB63+1000000000,'Team List'!$BB63)","v":-6.1314087547270892},39,"T60"]
[{"$f":"IF(COUNTIF(K$7:K$71,C68)>0,'Team List'!$BB65*-1,'Team List'!$BB65)","v":-1.8122358725703436},25,"T62",0,{"$f":"IF(OR(COUNTIF(K$7:K$71,G68)>0,G68=$J$3),ABS('Team List'!$BB65)*-1,IF(COUNTIF('Team List'!C65:AX65,Pairing!$J$3)>0,'Team List'!$BB65/10000,'Team List'!$BB65))","v":-1.8122358725703436},8,"T62",null,null,{"$f":"IF(K68=\"\",\"\",IF(K68=\"Bye\",\"Bye\",VLOOKUP(K68,'Team List'!B:BF,42,0)))","v":""},null,{"$f":"IF(K68=\"\",-1,VLOOKUP(IF(K68=\"Bye\",\"T00\",K68),'Team List'!B:AQ,39,0))","v":-1},null,null,null,null,null,null,62,"",null,null,null,null,{"$f":"IF(COUNTIF('Team List'!C64:AX64,\"Bye\")>0,'Team List'!$BB64+1000000000,'Team List'!$BB64)","v":-9.0350298210666544},57,"T61"]
[{"$f":"IF(COUNTIF(K$7:K$71,C69)>0,'Team List'!$BB66*-1,'Team List'!$BB66)","v":-6.4833869602721927},45,"T63",0,{"$f":"IF(OR(COUNTIF(K$7:K$71,G69)>0,G69=$J$3),ABS('Team List'!$BB66)*-1,IF(COUNTIF('Team List'!C66:AX66,Pairing!$J$3)>0,'Team List'!$BB66/10000,'Team List'!$BB66))","v":-6.4833869602721927},42,"T63",null,"Pitch 32",{"$f":"IF(K69=\"\",\"\",IF(K69=\"Bye\",\"Bye\",VLOOKUP(K69,'Team List'!B:BF,42,0)))","v":""},null,{"$f":"IF(K69=\"\",-1,VLOOKUP(IF(K69=\"Bye\",\"T00\",K69),'Team List'!B:AQ,39,0))","v":-1},null,null,null,null,null,null,63,"",null,null,null,null,{"$f":"IF(COUNTIF('Team List'!C65:AX65,\"Bye\")>0,'Team List'!$BB65+1000000000,'Team List'!$BB65)","v":-1.8122358725703436},8,"T62"]
[{"$f":"IF(COUNTIF(K$7:K$71,C70)>0,'Team List'!$BB67*-1,'Team List'!$BB67)","v":-4.4216171595895215},38,"T64",0,{"$f":"IF(OR(COUNTIF(K$7:K$71,G70)>0,G70=$J$3),ABS('Team List'!$BB67)*-1,IF(COUNTIF('Team List'!C67:AX67,Pairing!$J$3)>0,'Team List'!$BB67/10000,'Team List'!$BB67))","v":-4.4216171595895215},32,"T64",null,null,{"$f":"IF(K70=\"\",\"\",IF(K70=\"Bye\",\"Bye\",VLOOKUP(K70,'Team List'!B:BF,42,0)))","v":""},null,{"$f":"IF(K70=\"\",-1,VLOOKUP(IF(K70=\"Bye\",\"T00\",K70),'Team List'!B:AQ,39,0))","v":-1},null,null,null,null,null,null,64,"",null,null,null,null,{"$f":"IF(COUNTIF('Team List'!C66:AX66,\"Bye\")>0,'Team List'!$BB66+1000000000,'Team List'!$BB66)","v":-6.4833869602721927},42,"T63"]
[{"$f":"IF(OR(COUNTIF(K$7:K$71,C71)>0,$B3<>\"Yes\"),-100,0)","v":-100},65,"Bye",null,null,null,null,null,null,null,null,null,null,null,null,null,null,null,null,null,null,null,null,null,{"$f":"IF(COUNTIF('Team List'!C67:AX67,\"Bye\")>0,'Team List'!$BB67+1000000000,'Team List'!$BB67)","v":-4.4216171595895215},32,"T64"]
[null,null,null,null,null,null,null,null,null,null,null,null,null,null,null,null,null,null,null,null,null,null,null,null,{"$f":"IF(COUNTIF('Team List'!C68:AX68,\"Bye\")>0,'Team List'!$BB68+1000000000,'Team List'!$BB68)","v":1000000000},{"$error":"#N/A"},"Bye"]

{"sheet":"Accel_Pairing","index":2,"n_rows":71,"n_cols":23,"rows_kept":71,"cut":false,"hidden":true,"merged":[[10,8,11,8],[0,17,5,18],[4,0,4,2],[4,4,4,6],[6,8,7,8],[8,8,9,8],[34,8,35,8],[12,8,13,8],[14,8,15,8],[16,8,17,8],[18,8,19,8],[20,8,21,8],[22,8,23,8],[24,8,25,8],[26,8,27,8],[28,8,29,8],[30,8,31,8],[32,8,33,8],[58,8,59,8],[36,8,37,8],[38,8,39,8],[40,8,41,8],[42,8,43,8],[44,8,45,8],[46,8,47,8],[48,8,49,8],[50,8,51,8],[52,8,53,8],[54,8,55,8],[56,8,57,8],[60,8,61,8],[62,8,63,8],[64,8,65,8],[66,8,67,8],[68,8,69,8]]}
["Count of active teams:",{"$f":"COUNTIF('Team List'!D1:D67,\"Yes\")","v":0},null,null,null,null,null,null,null,null,null,null,null,null,null,null,null,"Rankings"]
["Required Pairs:",{"$f":"ROUNDUP(B1/2,0)","v":0},null,null,null,null,null,null,null,null,null,"X","Team #"]
["Bye Required:",{"$f":"IF(MOD(B1,2)=1,\"Yes\",\"No\")","v":"No"},null,null,null,null,null,null,"1st ranked available team 1:",{"$f":"VLOOKUP(1,B7:C71,2,0)","v":"T40"},"…with Xth ranked available team 2:",1,{"$f":"VLOOKUP(L3,F7:G71,2,0)","v":"T40"}]
["Accelerated Pairing ON","No","Type:",0,null,null,null,null,null,null,"Valid team remaining?",{"$f":"IF(COUNTIF(E7:E71,M4)>0,\"Yes\",\"No\")","v":"No"},">=0",8]
["FIRST TEAM OF PAIR",null,null,{"$f":"VLOOKUP(SMALL(D7:D70,1),D7:G70,4,0)","v":"T01"},"SECOND TEAM OF PAIR",null,null,null,null,null,"# of attempts:",0,{"$f":"IF((B2-MOD(L5,B2)+1)>B2,1,B2-MOD(L5,B2)+1)","v":{"$error":"#DIV/0!"}},{"$f":"ROUNDUP(L5/B2,0)+1","v":{"$error":"#DIV/0!"}}]
["Use Score:","Use Rank","Team",null,"Use Score:","Use Rank","Team",null,null,"Rank:","Team:",{"$f":"IF(OR(AND(LARGE(L7:L70,1)>B1,B3<>\"Yes\"),AND(LARGE(L7:L70,1)>B1+1,B3=\"Yes\")),\"Invalid Team Picked\",\"Teams OK\")","v":"Teams OK"},null,null,null,"Pair#",null,null,null,null,"Opp",null,"RandVal"]
[{"$f":"'Team List'!$BB4","v":-4.3332196214204446},{"$f":"RANK(A7,A$7:A$71)","v":30},"T01",{"$f":"COUNTIF(K$7:K$70,G7)+IF(G7=J$3,1,0)","v":0},{"$f":"IF(OR(COUNTIF(K$7:K$71,G7)>0,COUNTIF('Team List'!4:4,$J$3)>0),ABS('Team List'!$BB4)*-1,'Team List'!$BB4)","v":-4.3332196214204446},{"$f":"RANK(E7,E$7:E$71)","v":30},"T01",null,"Pitch 1",{"$f":"IF(K7=\"\",\"\",IF(K7=\"Bye\",\"Bye\",VLOOKUP(K7,'Team List'!B:BF,42,0)))","v":""},{"$f":"IF(S7=\"\",\"\",IF(VLOOKUP(ROUNDDOWN(((ROW(H7)-1)/2)-2,0),P:U,4,0)=\"T00\",\"Bye\",VLOOKUP(ROUNDDOWN(((ROW(H7)-1)/2)-2,0),P:U,4,0)))","v":""},{"$f":"IF(K7=\"\",-1,VLOOKUP(K7,'Team List'!B:BF,39,0))","v":-1},null,null,null,{"$f":"IF(W7=\"\",\"\",RANK(W7,$W$7:$W$70))","v":""},null,1,{"$f":"IF(VLOOKUP(VLOOKUP(R7,'Team List'!BC:BD,2,0),'Team List'!B:D,3,0)<>\"Yes\",\"\",VLOOKUP(R7,'Team List'!BC:BD,2,0))","v":""},null,{"$f":"IF(ISERROR(VLOOKUP(R7+$B$2,R:S,2,0)),\"\",VLOOKUP(R7+$B$2,R:S,2,0))","v":""},null,{"$f":"IF(U7=\"\",\"\",IF(U7=\"T00\",0,'Team List'!A4))","v":""}]
[{"$f":"'Team List'!$BB5","v":-7.6482307652060788},{"$f":"RANK(A8,A$7:A$71)","v":48},"T02",{"$f":"COUNTIF(K$7:K$70,G8)+IF(G8=J$3,1,0)","v":0},{"$f":"IF(OR(COUNTIF(K$7:K$71,G8)>0,COUNTIF('Team List'!5:5,$J$3)>0),ABS('Team List'!$BB5)*-1,'Team List'!$BB5)","v":-7.6482307652060788},{"$f":"RANK(E8,E$7:E$71)","v":48},"T02",null,null,{"$f":"IF(K8=\"\",\"\",IF(K8=\"Bye\",\"Bye\",VLOOKUP(K8,'Team List'!B:BF,42,0)))","v":""},{"$f":"IF(S8=\"\",\"\",IF(VLOOKUP(ROUNDDOWN(((ROW(H8)-1)/2)-2,0),P:U,6,0)=\"T00\",\"Bye\",VLOOKUP(ROUNDDOWN(((ROW(H8)-1)/2)-2,0),P:U,6,0)))","v":""},{"$f":"IF(K8=\"\",-1,VLOOKUP(K8,'Team List'!B:BF,39,0))","v":-1},null,null,null,{"$f":"IF(W8=\"\",\"\",RANK(W8,$W$7:$W$70))","v":""},null,2,{"$f":"IF(VLOOKUP(VLOOKUP(R8,'Team List'!BC:BD,2,0),'Team List'!B:D,3,0)<>\"Yes\",\"\",VLOOKUP(R8,'Team List'!BC:BD,2,0))","v":""},null,{"$f":"IF(ISERROR(VLOOKUP(R8+$B$2,R:S,2,0)),\"\",VLOOKUP(R8+$B$2,R:S,2,0))","v":""},null,{"$f":"IF(U8=\"\",\"\",IF(U8=\"T00\",0,'Team List'!A5))","v":""}]
[{"$f":"'Team List'!$BB6","v":-6.1312227536508912},38,"T03",0,{"$f":"IF(OR(COUNTIF(K$7:K$71,G9)>0,COUNTIF('Team List'!6:6,$J$3)>0),ABS('Team List'!$BB6)*-1,'Team List'!$BB6)","v":-6.1312227536508912},38,"T03",null,"Pitch 2",{"$f":"IF(K9=\"\",\"\",IF(K9=\"Bye\",\"Bye\",VLOOKUP(K9,'Team List'!B:BF,42,0)))","v":""},{"$f":"IF(S9=\"\",\"\",IF(VLOOKUP(ROUNDDOWN(((ROW(H9)-1)/2)-2,0),P:U,4,0)=\"T00\",\"Bye\",VLOOKUP(ROUNDDOWN(((ROW(H9)-1)/2)-2,0),P:U,4,0)))","v":""},{"$f":"IF(K9=\"\",-1,VLOOKUP(K9,'Team List'!B:BF,39,0))","v":-1},null,null,null,"",null,3,{"$f":"IF(VLOOKUP(VLOOKUP(R9,'Team List'!BC:BD,2,0),'Team List'!B:D,3,0)<>\"Yes\",\"\",VLOOKUP(R9,'Team List'!BC:BD,2,0))","v":""},null,"",null,{"$f":"IF(U9=\"\",\"\",IF(U9=\"T00\",0,'Team List'!A6))","v":""}]
[{"$f":"'Team List'!$BB7","v":-4.0599135854373438},26,"T04",0,{"$f":"IF(OR(COUNTIF(K$7:K$71,G10)>0,COUNTIF('Team List'!7:7,$J$3)>0),ABS('Team List'!$BB7)*-1,'Team List'!$BB7)","v":-4.0599135854373438},26,"T04",null,null,{"$f":"IF(K10=\"\",\"\",IF(K10=\"Bye\",\"Bye\",VLOOKUP(K10,'Team List'!B:BF,42,0)))","v":""},{"$f":"IF(S10=\"\",\"\",IF(VLOOKUP(ROUNDDOWN(((ROW(H10)-1)/2)-2,0),P:U,6,0)=\"T00\",\"Bye\",VLOOKUP(ROUNDDOWN(((ROW(H10)-1)/2)-2,0),P:U,6,0)))","v":""},{"$f":"IF(K10=\"\",-1,VLOOKUP(K10,'Team List'!B:BF,39,0))","v":-1},null,null,null,"",null,4,{"$f":"IF(VLOOKUP(VLOOKUP(R10,'Team List'!BC:BD,2,0),'Team List'!B:D,3,0)<>\"Yes\",\"\",VLOOKUP(R10,'Team List'!BC:BD,2,0))","v":""},null,"",null,{"$f":"IF(U10=\"\",\"\",IF(U10=\"T00\",0,'Team List'!A7))","v":""}]
[{"$f":"'Team List'!$BB8","v":-7.4224403387231845},47,"T05",0,{"$f":"IF(OR(COUNTIF(K$7:K$71,G11)>0,COUNTIF('Team List'!8:8,$J$3)>0),ABS('Team List'!$BB8)*-1,'Team List'!$BB8)","v":-7.4224403387231845},47,"T05",null,"Pitch 3",{"$f":"IF(K11=\"\",\"\",IF(K11=\"Bye\",\"Bye\",VLOOKUP(K11,'Team List'!B:BF,42,0)))","v":""},{"$f":"IF(S11=\"\",\"\",IF(VLOOKUP(ROUNDDOWN(((ROW(H11)-1)/2)-2,0),P:U,4,0)=\"T00\",\"Bye\",VLOOKUP(ROUNDDOWN(((ROW(H11)-1)/2)-2,0),P:U,4,0)))","v":""},{"$f":"IF(K11=\"\",-1,VLOOKUP(K11,'Team List'!B:BF,39,0))","v":-1},null,null,null,"",null,5,{"$f":"IF(VLOOKUP(VLOOKUP(R11,'Team List'!BC:BD,2,0),'Team List'!B:D,3,0)<>\"Yes\",\"\",VLOOKUP(R11,'Team List'!BC:BD,2,0))","v":""},null,"",null,{"$f":"IF(U11=\"\",\"\",IF(U11=\"T00\",0,'Team List'!A8))","v":""}]
[{"$f":"'Team List'!$BB9","v":-3.1406213511236714},18,"T06",0,{"$f":"IF(OR(COUNTIF(K$7:K$71,G12)>0,COUNTIF('Team List'!9:9,$J$3)>0),ABS('Team List'!$BB9)*-1,'Team List'!$BB9)","v":-3.1406213511236714},18,"T06",null,null,{"$f":"IF(K12=\"\",\"\",IF(K12=\"Bye\",\"Bye\",VLOOKUP(K12,'Team List'!B:BF,42,0)))","v":""},{"$f":"IF(S12=\"\",\"\",IF(VLOOKUP(ROUNDDOWN(((ROW(H12)-1)/2)-2,0),P:U,6,0)=\"T00\",\"Bye\",VLOOKUP(ROUNDDOWN(((ROW(H12)-1)/2)-2,0),P:U,6,0)))","v":""},{"$f":"IF(K12=\"\",-1,VLOOKUP(K12,'Team List'!B:BF,39,0))","v":-1},null,null,null,"",null,6,{"$f":"IF(VLOOKUP(VLOOKUP(R12,'Team List'!BC:BD,2,0),'Team List'!B:D,3,0)<>\"Yes\",\"\",VLOOKUP(R12,'Team List'!BC:BD,2,0))","v":""},null,"",null,{"$f":"IF(U12=\"\",\"\",IF(U12=\"T00\",0,'Team List'!A9))","v":""}]
[{"$f":"'Team List'!$BB10","v":-5.2741399436900505},35,"T07",0,{"$f":"IF(OR(COUNTIF(K$7:K$71,G13)>0,COUNTIF('Team List'!10:10,$J$3)>0),ABS('Team List'!$BB10)*-1,'Team List'!$BB10)","v":-5.2741399436900505},35,"T07",null,"Pitch 4",{"$f":"IF(K13=\"\",\"\",IF(K13=\"Bye\",\"Bye\",VLOOKUP(K13,'Team List'!B:BF,42,0)))","v":""},{"$f":"IF(S13=\"\",\"\",IF(VLOOKUP(ROUNDDOWN(((ROW(H13)-1)/2)-2,0),P:U,4,0)=\"T00\",\"Bye\",VLOOKUP(ROUNDDOWN(((ROW(H13)-1)/2)-2,0),P:U,4,0)))","v":""},{"$f":"IF(K13=\"\",-1,VLOOKUP(K13,'Team List'!B:BF,39,0))","v":-1},null,null,null,"",null,7,{"$f":"IF(VLOOKUP(VLOOKUP(R13,'Team List'!BC:BD,2,0),'Team List'!B:D,3,0)<>\"Yes\",\"\",VLOOKUP(R13,'Team List'!BC:BD,2,0))","v":""},null,"",null,{"$f":"IF(U13=\"\",\"\",IF(U13=\"T00\",0,'Team List'!A10))","v":""}]
[{"$f":"'Team List'!$BB11","v":-9.4514876691350995},59,"T08",0,{"$f":"IF(OR(COUNTIF(K$7:K$71,G14)>0,COUNTIF('Team List'!11:11,$J$3)>0),ABS('Team List'!$BB11)*-1,'Team List'!$BB11)","v":-9.4514876691350995},59,"T08",null,null,{"$f":"IF(K14=\"\",\"\",IF(K14=\"Bye\",\"Bye\",VLOOKUP(K14,'Team List'!B:BF,42,0)))","v":""},{"$f":"IF(S14=\"\",\"\",IF(VLOOKUP(ROUNDDOWN(((ROW(H14)-1)/2)-2,0),P:U,6,0)=\"T00\",\"Bye\",VLOOKUP(ROUNDDOWN(((ROW(H14)-1)/2)-2,0),P:U,6,0)))","v":""},{"$f":"IF(K14=\"\",-1,VLOOKUP(K14,'Team List'!B:BF,39,0))","v":-1},null,null,null,"",null,8,{"$f":"IF(VLOOKUP(VLOOKUP(R14,'Team List'!BC:BD,2,0),'Team List'!B:D,3,0)<>\"Yes\",\"\",VLOOKUP(R14,'Team List'!BC:BD,2,0))","v":""},null,"",null,{"$f":"IF(U14=\"\",\"\",IF(U14=\"T00\",0,'Team List'!A11))","v":""}]
[{"$f":"'Team List'!$BB12","v":-1.2899515869365275},7,"T09",0,{"$f":"IF(OR(COUNTIF(K$7:K$71,G15)>0,COUNTIF('Team List'!12:12,$J$3)>0),ABS('Team List'!$BB12)*-1,'Team List'!$BB12)","v":-1.2899515869365275},7,"T09",null,"Pitch 5",{"$f":"IF(K15=\"\",\"\",IF(K15=\"Bye\",\"Bye\",VLOOKUP(K15,'Team List'!B:BF,42,0)))","v":""},{"$f":"IF(S15=\"\",\"\",IF(VLOOKUP(ROUNDDOWN(((ROW(H15)-1)/2)-2,0),P:U,4,0)=\"T00\",\"Bye\",VLOOKUP(ROUNDDOWN(((ROW(H15)-1)/2)-2,0),P:U,4,0)))","v":""},{"$f":"IF(K15=\"\",-1,VLOOKUP(K15,'Team List'!B:BF,39,0))","v":-1},null,null,null,"",null,9,{"$f":"IF(VLOOKUP(VLOOKUP(R15,'Team List'!BC:BD,2,0),'Team List'!B:D,3,0)<>\"Yes\",\"\",VLOOKUP(R15,'Team List'!BC:BD,2,0))","v":""},null,"",null,{"$f":"IF(U15=\"\",\"\",IF(U15=\"T00\",0,'Team List'!A12))","v":""}]
[{"$f":"'Team List'!$BB13","v":-2.3834024947676866},13,"T10",0,{"$f":"IF(OR(COUNTIF(K$7:K$71,G16)>0,COUNTIF('Team List'!13:13,$J$3)>0),ABS('Team List'!$BB13)*-1,'Team List'!$BB13)","v":-2.3834024947676866},13,"T10",null,null,{"$f":"IF(K16=\"\",\"\",IF(K16=\"Bye\",\"Bye\",VLOOKUP(K16,'Team List'!B:BF,42,0)))","v":""},{"$f":"IF(S16=\"\",\"\",IF(VLOOKUP(ROUNDDOWN(((ROW(H16)-1)/2)-2,0),P:U,6,0)=\"T00\",\"Bye\",VLOOKUP(ROUNDDOWN(((ROW(H16)-1)/2)-2,0),P:U,6,0)))","v":""},{"$f":"IF(K16=\"\",-1,VLOOKUP(K16,'Team List'!B:BF,39,0))","v":-1},null,null,null,"",null,10,{"$f":"IF(VLOOKUP(VLOOKUP(R16,'Team List'!BC:BD,2,0),'Team List'!B:D,3,0)<>\"Yes\",\"\",VLOOKUP(R16,'Team List'!BC:BD,2,0))","v":""},null,"",null,{"$f":"IF(U16=\"\",\"\",IF(U16=\"T00\",0,'Team List'!A13))","v":""}]
[{"$f":"'Team List'!$BB14","v":-0.63970500896068594},2,"T11",0,{"$f":"IF(OR(COUNTIF(K$7:K$71,G17)>0,COUNTIF('Team List'!14:14,$J$3)>0),ABS('Team List'!$BB14)*-1,'Team List'!$BB14)","v":-0.63970500896068594},2,"T11",null,"Pitch 6",{"$f":"IF(K17=\"\",\"\",IF(K17=\"Bye\",\"Bye\",VLOOKUP(K17,'Team List'!B:BF,42,0)))","v":""},{"$f":"IF(S17=\"\",\"\",IF(VLOOKUP(ROUNDDOWN(((ROW(H17)-1)/2)-2,0),P:U,4,0)=\"T00\",\"Bye\",VLOOKUP(ROUNDDOWN(((ROW(H17)-1)/2)-2,0),P:U,4,0)))","v":""},{"$f":"IF(K17=\"\",-1,VLOOKUP(K17,'Team List'!B:BF,39,0))","v":-1},null,null,null,"",null,11,{"$f":"IF(VLOOKUP(VLOOKUP(R17,'Team List'!BC:BD,2,0),'Team List'!B:D,3,0)<>\"Yes\",\"\",VLOOKUP(R17,'Team List'!BC:BD,2,0))","v":""},null,"",null,{"$f":"IF(U17=\"\",\"\",IF(U17=\"T00\",0,'Team List'!A14))","v":""}]
[{"$f":"'Team List'!$BB15","v":-3.9125592244703498},24,"T12",0,{"$f":"IF(OR(COUNTIF(K$7:K$71,G18)>0,COUNTIF('Team List'!15:15,$J$3)>0),ABS('Team List'!$BB15)*-1,'Team List'!$BB15)","v":-3.9125592244703498},24,"T12",null,null,{"$f":"IF(K18=\"\",\"\",IF(K18=\"Bye\",\"Bye\",VLOOKUP(K18,'Team List'!B:BF,42,0)))","v":""},{"$f":"IF(S18=\"\",\"\",IF(VLOOKUP(ROUNDDOWN(((ROW(H18)-1)/2)-2,0),P:U,6,0)=\"T00\",\"Bye\",VLOOKUP(ROUNDDOWN(((ROW(H18)-1)/2)-2,0),P:U,6,0)))","v":""},{"$f":"IF(K18=\"\",-1,VLOOKUP(K18,'Team List'!B:BF,39,0))","v":-1},null,null,null,"",null,12,{"$f":"IF(VLOOKUP(VLOOKUP(R18,'Team List'!BC:BD,2,0),'Team List'!B:D,3,0)<>\"Yes\",\"\",VLOOKUP(R18,'Team List'!BC:BD,2,0))","v":""},null,"",null,{"$f":"IF(U18=\"\",\"\",IF(U18=\"T00\",0,'Team List'!A15))","v":""}]
[{"$f":"'Team List'!$BB16","v":-2.5227102130130752},14,"T13",0,{"$f":"IF(OR(COUNTIF(K$7:K$71,G19)>0,COUNTIF('Team List'!16:16,$J$3)>0),ABS('Team List'!$BB16)*-1,'Team List'!$BB16)","v":-2.5227102130130752},14,"T13",null,"Pitch 7",{"$f":"IF(K19=\"\",\"\",IF(K19=\"Bye\",\"Bye\",VLOOKUP(K19,'Team List'!B:BF,42,0)))","v":""},{"$f":"IF(S19=\"\",\"\",IF(VLOOKUP(ROUNDDOWN(((ROW(H19)-1)/2)-2,0),P:U,4,0)=\"T00\",\"Bye\",VLOOKUP(ROUNDDOWN(((ROW(H19)-1)/2)-2,0),P:U,4,0)))","v":""},{"$f":"IF(K19=\"\",-1,VLOOKUP(K19,'Team List'!B:BF,39,0))","v":-1},null,null,null,"",null,13,{"$f":"IF(VLOOKUP(VLOOKUP(R19,'Team List'!BC:BD,2,0),'Team List'!B:D,3,0)<>\"Yes\",\"\",VLOOKUP(R19,'Team List'!BC:BD,2,0))","v":""},null,"",null,{"$f":"IF(U19=\"\",\"\",IF(U19=\"T00\",0,'Team List'!A16))","v":""}]
[{"$f":"'Team List'!$BB17","v":-2.2594504527619552},12,"T14",0,{"$f":"IF(OR(COUNTIF(K$7:K$71,G20)>0,COUNTIF('Team List'!17:17,$J$3)>0),ABS('Team List'!$BB17)*-1,'Team List'!$BB17)","v":-2.2594504527619552},12,"T14",null,null,{"$f":"IF(K20=\"\",\"\",IF(K20=\"Bye\",\"Bye\",VLOOKUP(K20,'Team List'!B:BF,42,0)))","v":""},{"$f":"IF(S20=\"\",\"\",IF(VLOOKUP(ROUNDDOWN(((ROW(H20)-1)/2)-2,0),P:U,6,0)=\"T00\",\"Bye\",VLOOKUP(ROUNDDOWN(((ROW(H20)-1)/2)-2,0),P:U,6,0)))","v":""},{"$f":"IF(K20=\"\",-1,VLOOKUP(K20,'Team List'!B:BF,39,0))","v":-1},null,null,null,"",null,14,{"$f":"IF(VLOOKUP(VLOOKUP(R20,'Team List'!BC:BD,2,0),'Team List'!B:D,3,0)<>\"Yes\",\"\",VLOOKUP(R20,'Team List'!BC:BD,2,0))","v":""},null,"",null,{"$f":"IF(U20=\"\",\"\",IF(U20=\"T00\",0,'Team List'!A17))","v":""}]
[{"$f":"'Team List'!$BB18","v":-3.4395640666175931},21,"T15",0,{"$f":"IF(OR(COUNTIF(K$7:K$71,G21)>0,COUNTIF('Team List'!18:18,$J$3)>0),ABS('Team List'!$BB18)*-1,'Team List'!$BB18)","v":-3.4395640666175931},21,"T15",null,"Pitch 8",{"$f":"IF(K21=\"\",\"\",IF(K21=\"Bye\",\"Bye\",VLOOKUP(K21,'Team List'!B:BF,42,0)))","v":""},{"$f":"IF(S21=\"\",\"\",IF(VLOOKUP(ROUNDDOWN(((ROW(H21)-1)/2)-2,0),P:U,4,0)=\"T00\",\"Bye\",VLOOKUP(ROUNDDOWN(((ROW(H21)-1)/2)-2,0),P:U,4,0)))","v":""},{"$f":"IF(K21=\"\",-1,VLOOKUP(K21,'Team List'!B:BF,39,0))","v":-1},null,null,null,"",null,15,{"$f":"IF(VLOOKUP(VLOOKUP(R21,'Team List'!BC:BD,2,0),'Team List'!B:D,3,0)<>\"Yes\",\"\",VLOOKUP(R21,'Team List'!BC:BD,2,0))","v":""},null,"",null,{"$f":"IF(U21=\"\",\"\",IF(U21=\"T00\",0,'Team List'!A18))","v":""}]
[{"$f":"'Team List'!$BB19","v":-2.9804049707446256},17,"T16",0,{"$f":"IF(OR(COUNTIF(K$7:K$71,G22)>0,COUNTIF('Team List'!19:19,$J$3)>0),ABS('Team List'!$BB19)*-1,'Team List'!$BB19)","v":-2.9804049707446256},17,"T16",null,null,{"$f":"IF(K22=\"\",\"\",IF(K22=\"Bye\",\"Bye\",VLOOKUP(K22,'Team List'!B:BF,42,0)))","v":""},{"$f":"IF(S22=\"\",\"\",IF(VLOOKUP(ROUNDDOWN(((ROW(H22)-1)/2)-2,0),P:U,6,0)=\"T00\",\"Bye\",VLOOKUP(ROUNDDOWN(((ROW(H22)-1)/2)-2,0),P:U,6,0)))","v":""},{"$f":"IF(K22=\"\",-1,VLOOKUP(K22,'Team List'!B:BF,39,0))","v":-1},null,null,null,"",null,16,{"$f":"IF(VLOOKUP(VLOOKUP(R22,'Team List'!BC:BD,2,0),'Team List'!B:D,3,0)<>\"Yes\",\"\",VLOOKUP(R22,'Team List'!BC:BD,2,0))","v":""},null,"",null,{"$f":"IF(U22=\"\",\"\",IF(U22=\"T00\",0,'Team List'!A19))","v":""}]
[{"$f":"'Team List'!$BB20","v":-3.3544521538645986},19,"T17",0,{"$f":"IF(OR(COUNTIF(K$7:K$71,G23)>0,COUNTIF('Team List'!20:20,$J$3)>0),ABS('Team List'!$BB20)*-1,'Team List'!$BB20)","v":-3.3544521538645986},19,"T17",null,"Pitch 9",{"$f":"IF(K23=\"\",\"\",IF(K23=\"Bye\",\"Bye\",VLOOKUP(K23,'Team List'!B:BF,42,0)))","v":""},{"$f":"IF(S23=\"\",\"\",IF(VLOOKUP(ROUNDDOWN(((ROW(H23)-1)/2)-2,0),P:U,4,0)=\"T00\",\"Bye\",VLOOKUP(ROUNDDOWN(((ROW(H23)-1)/2)-2,0),P:U,4,0)))","v":""},{"$f":"IF(K23=\"\",-1,VLOOKUP(K23,'Team List'!B:BF,39,0))","v":-1},null,null,null,"",null,17,{"$f":"IF(VLOOKUP(VLOOKUP(R23,'Team List'!BC:BD,2,0),'Team List'!B:D,3,0)<>\"Yes\",\"\",VLOOKUP(R23,'Team List'!BC:BD,2,0))","v":""},null,"",null,{"$f":"IF(U23=\"\",\"\",IF(U23=\"T00\",0,'Team List'!A20))","v":""}]
[{"$f":"'Team List'!$BB21","v":-3.9453660551720313},25,"T18",0,{"$f":"IF(OR(COUNTIF(K$7:K$71,G24)>0,COUNTIF('Team List'!21:21,$J$3)>0),ABS('Team List'!$BB21)*-1,'Team List'!$BB21)","v":-3.9453660551720313},25,"T18",null,null,{"$f":"IF(K24=\"\",\"\",IF(K24=\"Bye\",\"Bye\",VLOOKUP(K24,'Team List'!B:BF,42,0)))","v":""},{"$f":"IF(S24=\"\",\"\",IF(VLOOKUP(ROUNDDOWN(((ROW(H24)-1)/2)-2,0),P:U,6,0)=\"T00\",\"Bye\",VLOOKUP(ROUNDDOWN(((ROW(H24)-1)/2)-2,0),P:U,6,0)))","v":""},{"$f":"IF(K24=\"\",-1,VLOOKUP(K24,'Team List'!B:BF,39,0))","v":-1},null,null,null,"",null,18,{"$f":"IF(VLOOKUP(VLOOKUP(R24,'Team List'!BC:BD,2,0),'Team List'!B:D,3,0)<>\"Yes\",\"\",VLOOKUP(R24,'Team List'!BC:BD,2,0))","v":""},null,"",null,{"$f":"IF(U24=\"\",\"\",IF(U24=\"T00\",0,'Team List'!A21))","v":""}]
[{"$f":"'Team List'!$BB22","v":-5.3026926339620752},36,"T19",0,{"$f":"IF(OR(COUNTIF(K$7:K$71,G25)>0,COUNTIF('Team List'!22:22,$J$3)>0),ABS('Team List'!$BB22)*-1,'Team List'!$BB22)","v":-5.3026926339620752},36,"T19",null,"Pitch 10",{"$f":"IF(K25=\"\",\"\",IF(K25=\"Bye\",\"Bye\",VLOOKUP(K25,'Team List'!B:BF,42,0)))","v":""},{"$f":"IF(S25=\"\",\"\",IF(VLOOKUP(ROUNDDOWN(((ROW(H25)-1)/2)-2,0),P:U,4,0)=\"T00\",\"Bye\",VLOOKUP(ROUNDDOWN(((ROW(H25)-1)/2)-2,0),P:U,4,0)))","v":""},{"$f":"IF(K25=\"\",-1,VLOOKUP(K25,'Team List'!B:BF,39,0))","v":-1},null,null,null,"",null,19,{"$f":"IF(VLOOKUP(VLOOKUP(R25,'Team List'!BC:BD,2,0),'Team List'!B:D,3,0)<>\"Yes\",\"\",VLOOKUP(R25,'Team List'!BC:BD,2,0))","v":""},null,"",null,{"$f":"IF(U25=\"\",\"\",IF(U25=\"T00\",0,'Team List'!A22))","v":""}]
[{"$f":"'Team List'!$BB23","v":-3.854929297215258},23,"T20",0,{"$f":"IF(OR(COUNTIF(K$7:K$71,G26)>0,COUNTIF('Team List'!23:23,$J$3)>0),ABS('Team List'!$BB23)*-1,'Team List'!$BB23)","v":-3.854929297215258},23,"T20",null,null,{"$f":"IF(K26=\"\",\"\",IF(K26=\"Bye\",\"Bye\",VLOOKUP(K26,'Team List'!B:BF,42,0)))","v":""},{"$f":"IF(S26=\"\",\"\",IF(VLOOKUP(ROUNDDOWN(((ROW(H26)-1)/2)-2,0),P:U,6,0)=\"T00\",\"Bye\",VLOOKUP(ROUNDDOWN(((ROW(H26)-1)/2)-2,0),P:U,6,0)))","v":""},{"$f":"IF(K26=\"\",-1,VLOOKUP(K26,'Team List'!B:BF,39,0))","v":-1},null,null,null,"",null,20,{"$f":"IF(VLOOKUP(VLOOKUP(R26,'Team List'!BC:BD,2,0),'Team List'!B:D,3,0)<>\"Yes\",\"\",VLOOKUP(R26,'Team List'!BC:BD,2,0))","v":""},null,"",null,{"$f":"IF(U26=\"\",\"\",IF(U26=\"T00\",0,'Team List'!A23))","v":""}]
[{"$f":"'Team List'!$BB24","v":-4.6902653755666215},34,"T21",0,{"$f":"IF(OR(COUNTIF(K$7:K$71,G27)>0,COUNTIF('Team List'!24:24,$J$3)>0),ABS('Team List'!$BB24)*-1,'Team List'!$BB24)","v":-4.6902653755666215},34,"T21",null,"Pitch 11",{"$f":"IF(K27=\"\",\"\",IF(K27=\"Bye\",\"Bye\",VLOOKUP(K27,'Team List'!B:BF,42,0)))","v":""},{"$f":"IF(S27=\"\",\"\",IF(VLOOKUP(ROUNDDOWN(((ROW(H27)-1)/2)-2,0),P:U,4,0)=\"T00\",\"Bye\",VLOOKUP(ROUNDDOWN(((ROW(H27)-1)/2)-2,0),P:U,4,0)))","v":""},{"$f":"IF(K27=\"\",-1,VLOOKUP(K27,'Team List'!B:BF,39,0))","v":-1},null,null,null,"",null,21,{"$f":"IF(VLOOKUP(VLOOKUP(R27,'Team List'!BC:BD,2,0),'Team List'!B:D,3,0)<>\"Yes\",\"\",VLOOKUP(R27,'Team List'!BC:BD,2,0))","v":""},null,"",null,{"$f":"IF(U27=\"\",\"\",IF(U27=\"T00\",0,'Team List'!A24))","v":""}]
[{"$f":"'Team List'!$BB25","v":-7.6938616239016255},49,"T22",0,{"$f":"IF(OR(COUNTIF(K$7:K$71,G28)>0,COUNTIF('Team List'!25:25,$J$3)>0),ABS('Team List'!$BB25)*-1,'Team List'!$BB25)","v":-7.6938616239016255},49,"T22",null,null,{"$f":"IF(K28=\"\",\"\",IF(K28=\"Bye\",\"Bye\",VLOOKUP(K28,'Team List'!B:BF,42,0)))","v":""},{"$f":"IF(S28=\"\",\"\",IF(VLOOKUP(ROUNDDOWN(((ROW(H28)-1)/2)-2,0),P:U,6,0)=\"T00\",\"Bye\",VLOOKUP(ROUNDDOWN(((ROW(H28)-1)/2)-2,0),P:U,6,0)))","v":""},{"$f":"IF(K28=\"\",-1,VLOOKUP(K28,'Team List'!B:BF,39,0))","v":-1},null,null,null,"",null,22,{"$f":"IF(VLOOKUP(VLOOKUP(R28,'Team List'!BC:BD,2,0),'Team List'!B:D,3,0)<>\"Yes\",\"\",VLOOKUP(R28,'Team List'!BC:BD,2,0))","v":""},null,"",null,{"$f":"IF(U28=\"\",\"\",IF(U28=\"T00\",0,'Team List'!A25))","v":""}]
[{"$f":"'Team List'!$BB26","v":-4.3189484194216954},29,"T23",0,{"$f":"IF(OR(COUNTIF(K$7:K$71,G29)>0,COUNTIF('Team List'!26:26,$J$3)>0),ABS('Team List'!$BB26)*-1,'Team List'!$BB26)","v":-4.3189484194216954},29,"T23",null,"Pitch 12",{"$f":"IF(K29=\"\",\"\",IF(K29=\"Bye\",\"Bye\",VLOOKUP(K29,'Team List'!B:BF,42,0)))","v":""},{"$f":"IF(S29=\"\",\"\",IF(VLOOKUP(ROUNDDOWN(((ROW(H29)-1)/2)-2,0),P:U,4,0)=\"T00\",\"Bye\",VLOOKUP(ROUNDDOWN(((ROW(H29)-1)/2)-2,0),P:U,4,0)))","v":""},{"$f":"IF(K29=\"\",-1,VLOOKUP(K29,'Team List'!B:BF,39,0))","v":-1},null,null,null,"",null,23,{"$f":"IF(VLOOKUP(VLOOKUP(R29,'Team List'!BC:BD,2,0),'Team List'!B:D,3,0)<>\"Yes\",\"\",VLOOKUP(R29,'Team List'!BC:BD,2,0))","v":""},null,"",null,{"$f":"IF(U29=\"\",\"\",IF(U29=\"T00\",0,'Team List'!A26))","v":""}]
[{"$f":"'Team List'!$BB27","v":-9.8765980712504202},63,"T24",0,{"$f":"IF(OR(COUNTIF(K$7:K$71,G30)>0,COUNTIF('Team List'!27:27,$J$3)>0),ABS('Team List'!$BB27)*-1,'Team List'!$BB27)","v":-9.8765980712504202},63,"T24",null,null,{"$f":"IF(K30=\"\",\"\",IF(K30=\"Bye\",\"Bye\",VLOOKUP(K30,'Team List'!B:BF,42,0)))","v":""},{"$f":"IF(S30=\"\",\"\",IF(VLOOKUP(ROUNDDOWN(((ROW(H30)-1)/2)-2,0),P:U,6,0)=\"T00\",\"Bye\",VLOOKUP(ROUNDDOWN(((ROW(H30)-1)/2)-2,0),P:U,6,0)))","v":""},{"$f":"IF(K30=\"\",-1,VLOOKUP(K30,'Team List'!B:BF,39,0))","v":-1},null,null,null,"",null,24,{"$f":"IF(VLOOKUP(VLOOKUP(R30,'Team List'!BC:BD,2,0),'Team List'!B:D,3,0)<>\"Yes\",\"\",VLOOKUP(R30,'Team List'!BC:BD,2,0))","v":""},null,"",null,{"$f":"IF(U30=\"\",\"\",IF(U30=\"T00\",0,'Team List'!A27))","v":""}]
[{"$f":"'Team List'!$BB28","v":-9.0076289614764473},56,"T25",0,{"$f":"IF(OR(COUNTIF(K$7:K$71,G31)>0,COUNTIF('Team List'!28:28,$J$3)>0),ABS('Team List'!$BB28)*-1,'Team List'!$BB28)","v":-9.0076289614764473},56,"T25",null,"Pitch 13",{"$f":"IF(K31=\"\",\"\",IF(K31=\"Bye\",\"Bye\",VLOOKUP(K31,'Team List'!B:BF,42,0)))","v":""},{"$f":"IF(S31=\"\",\"\",IF(VLOOKUP(ROUNDDOWN(((ROW(H31)-1)/2)-2,0),P:U,4,0)=\"T00\",\"Bye\",VLOOKUP(ROUNDDOWN(((ROW(H31)-1)/2)-2,0),P:U,4,0)))","v":""},{"$f":"IF(K31=\"\",-1,VLOOKUP(K31,'Team List'!B:BF,39,0))","v":-1},null,null,null,"",null,25,{"$f":"IF(VLOOKUP(VLOOKUP(R31,'Team List'!BC:BD,2,0),'Team List'!B:D,3,0)<>\"Yes\",\"\",VLOOKUP(R31,'Team List'!BC:BD,2,0))","v":""},null,"",null,{"$f":"IF(U31=\"\",\"\",IF(U31=\"T00\",0,'Team List'!A28))","v":""}]
[{"$f":"'Team List'!$BB29","v":-4.0723960467084295},27,"T26",0,{"$f":"IF(OR(COUNTIF(K$7:K$71,G32)>0,COUNTIF('Team List'!29:29,$J$3)>0),ABS('Team List'!$BB29)*-1,'Team List'!$BB29)","v":-4.0723960467084295},27,"T26",null,null,{"$f":"IF(K32=\"\",\"\",IF(K32=\"Bye\",\"Bye\",VLOOKUP(K32,'Team List'!B:BF,42,0)))","v":""},{"$f":"IF(S32=\"\",\"\",IF(VLOOKUP(ROUNDDOWN(((ROW(H32)-1)/2)-2,0),P:U,6,0)=\"T00\",\"Bye\",VLOOKUP(ROUNDDOWN(((ROW(H32)-1)/2)-2,0),P:U,6,0)))","v":""},{"$f":"IF(K32=\"\",-1,VLOOKUP(K32,'Team List'!B:BF,39,0))","v":-1},null,null,null,"",null,26,{"$f":"IF(VLOOKUP(VLOOKUP(R32,'Team List'!BC:BD,2,0),'Team List'!B:D,3,0)<>\"Yes\",\"\",VLOOKUP(R32,'Team List'!BC:BD,2,0))","v":""},null,"",null,{"$f":"IF(U32=\"\",\"\",IF(U32=\"T00\",0,'Team List'!A29))","v":""}]
[{"$f":"'Team List'!$BB30","v":-2.0486769802512663},9,"T27",0,{"$f":"IF(OR(COUNTIF(K$7:K$71,G33)>0,COUNTIF('Team List'!30:30,$J$3)>0),ABS('Team List'!$BB30)*-1,'Team List'!$BB30)","v":-2.0486769802512663},9,"T27",null,"Pitch 14",{"$f":"IF(K33=\"\",\"\",IF(K33=\"Bye\",\"Bye\",VLOOKUP(K33,'Team List'!B:BF,42,0)))","v":""},{"$f":"IF(S33=\"\",\"\",IF(VLOOKUP(ROUNDDOWN(((ROW(H33)-1)/2)-2,0),P:U,4,0)=\"T00\",\"Bye\",VLOOKUP(ROUNDDOWN(((ROW(H33)-1)/2)-2,0),P:U,4,0)))","v":""},{"$f":"IF(K33=\"\",-1,VLOOKUP(K33,'Team List'!B:BF,39,0))","v":-1},null,null,null,"",null,27,{"$f":"IF(VLOOKUP(VLOOKUP(R33,'Team List'!BC:BD,2,0),'Team List'!B:D,3,0)<>\"Yes\",\"\",VLOOKUP(R33,'Team List'!BC:BD,2,0))","v":""},null,"",null,{"$f":"IF(U33=\"\",\"\",IF(U33=\"T00\",0,'Team List'!A30))","v":""}]
[{"$f":"'Team List'!$BB31","v":-2.1107260428102501},11,"T28",0,{"$f":"IF(OR(COUNTIF(K$7:K$71,G34)>0,COUNTIF('Team List'!31:31,$J$3)>0),ABS('Team List'!$BB31)*-1,'Team List'!$BB31)","v":-2.1107260428102501},11,"T28",null,null,{"$f":"IF(K34=\"\",\"\",IF(K34=\"Bye\",\"Bye\",VLOOKUP(K34,'Team List'!B:BF,42,0)))","v":""},{"$f":"IF(S34=\"\",\"\",IF(VLOOKUP(ROUNDDOWN(((ROW(H34)-1)/2)-2,0),P:U,6,0)=\"T00\",\"Bye\",VLOOKUP(ROUNDDOWN(((ROW(H34)-1)/2)-2,0),P:U,6,0)))","v":""},{"$f":"IF(K34=\"\",-1,VLOOKUP(K34,'Team List'!B:BF,39,0))","v":-1},null,null,null,"",null,28,{"$f":"IF(VLOOKUP(VLOOKUP(R34,'Team List'!BC:BD,2,0),'Team List'!B:D,3,0)<>\"Yes\",\"\",VLOOKUP(R34,'Team List'!BC:BD,2,0))","v":""},null,"",null,{"$f":"IF(U34=\"\",\"\",IF(U34=\"T00\",0,'Team List'!A31))","v":""}]
[{"$f":"'Team List'!$BB32","v":-3.7201078027060208},22,"T29",0,{"$f":"IF(OR(COUNTIF(K$7:K$71,G35)>0,COUNTIF('Team List'!32:32,$J$3)>0),ABS('Team List'!$BB32)*-1,'Team List'!$BB32)","v":-3.7201078027060208},22,"T29",null,"Pitch 15",{"$f":"IF(K35=\"\",\"\",IF(K35=\"Bye\",\"Bye\",VLOOKUP(K35,'Team List'!B:BF,42,0)))","v":""},{"$f":"IF(S35=\"\",\"\",IF(VLOOKUP(ROUNDDOWN(((ROW(H35)-1)/2)-2,0),P:U,4,0)=\"T00\",\"Bye\",VLOOKUP(ROUNDDOWN(((ROW(H35)-1)/2)-2,0),P:U,4,0)))","v":""},{"$f":"IF(K35=\"\",-1,VLOOKUP(K35,'Team List'!B:BF,39,0))","v":-1},null,null,null,"",null,29,{"$f":"IF(VLOOKUP(VLOOKUP(R35,'Team List'!BC:BD,2,0),'Team List'!B:D,3,0)<>\"Yes\",\"\",VLOOKUP(R35,'Team List'!BC:BD,2,0))","v":""},null,"",null,{"$f":"IF(U35=\"\",\"\",IF(U35=\"T00\",0,'Team List'!A32))","v":""}]
[{"$f":"'Team List'!$BB33","v":-4.2864933398975866},28,"T30",0,{"$f":"IF(OR(COUNTIF(K$7:K$71,G36)>0,COUNTIF('Team List'!33:33,$J$3)>0),ABS('Team List'!$BB33)*-1,'Team List'!$BB33)","v":-4.2864933398975866},28,"T30",null,null,{"$f":"IF(K36=\"\",\"\",IF(K36=\"Bye\",\"Bye\",VLOOKUP(K36,'Team List'!B:BF,42,0)))","v":""},{"$f":"IF(S36=\"\",\"\",IF(VLOOKUP(ROUNDDOWN(((ROW(H36)-1)/2)-2,0),P:U,6,0)=\"T00\",\"Bye\",VLOOKUP(ROUNDDOWN(((ROW(H36)-1)/2)-2,0),P:U,6,0)))","v":""},{"$f":"IF(K36=\"\",-1,VLOOKUP(K36,'Team List'!B:BF,39,0))","v":-1},null,null,null,"",null,30,{"$f":"IF(VLOOKUP(VLOOKUP(R36,'Team List'!BC:BD,2,0),'Team List'!B:D,3,0)<>\"Yes\",\"\",VLOOKUP(R36,'Team List'!BC:BD,2,0))","v":""},null,"",null,{"$f":"IF(U36=\"\",\"\",IF(U36=\"T00\",0,'Team List'!A33))","v":""}]
[{"$f":"'Team List'!$BB34","v":-3.4319645465194979},20,"T31",0,{"$f":"IF(OR(COUNTIF(K$7:K$71,G37)>0,COUNTIF('Team List'!34:34,$J$3)>0),ABS('Team List'!$BB34)*-1,'Team List'!$BB34)","v":-3.4319645465194979},20,"T31",null,"Pitch 16",{"$f":"IF(K37=\"\",\"\",IF(K37=\"Bye\",\"Bye\",VLOOKUP(K37,'Team List'!B:BF,42,0)))","v":""},{"$f":"IF(S37=\"\",\"\",IF(VLOOKUP(ROUNDDOWN(((ROW(H37)-1)/2)-2,0),P:U,4,0)=\"T00\",\"Bye\",VLOOKUP(ROUNDDOWN(((ROW(H37)-1)/2)-2,0),P:U,4,0)))","v":""},{"$f":"IF(K37=\"\",-1,VLOOKUP(K37,'Team List'!B:BF,39,0))","v":-1},null,null,null,"",null,31,{"$f":"IF(VLOOKUP(VLOOKUP(R37,'Team List'!BC:BD,2,0),'Team List'!B:D,3,0)<>\"Yes\",\"\",VLOOKUP(R37,'Team List'!BC:BD,2,0))","v":""},null,"",null,{"$f":"IF(U37=\"\",\"\",IF(U37=\"T00\",0,'Team List'!A34))","v":""}]
[{"$f":"'Team List'!$BB35","v":-4.444235347948716},33,"T32",0,{"$f":"IF(OR(COUNTIF(K$7:K$71,G38)>0,COUNTIF('Team List'!35:35,$J$3)>0),ABS('Team List'!$BB35)*-1,'Team List'!$BB35)","v":-4.444235347948716},33,"T32",null,null,{"$f":"IF(K38=\"\",\"\",IF(K38=\"Bye\",\"Bye\",VLOOKUP(K38,'Team List'!B:BF,42,0)))","v":""},{"$f":"IF(S38=\"\",\"\",IF(VLOOKUP(ROUNDDOWN(((ROW(H38)-1)/2)-2,0),P:U,6,0)=\"T00\",\"Bye\",VLOOKUP(ROUNDDOWN(((ROW(H38)-1)/2)-2,0),P:U,6,0)))","v":""},{"$f":"IF(K38=\"\",-1,VLOOKUP(K38,'Team List'!B:BF,39,0))","v":-1},null,null,null,"",null,32,{"$f":"IF(VLOOKUP(VLOOKUP(R38,'Team List'!BC:BD,2,0),'Team List'!B:D,3,0)<>\"Yes\",\"\",VLOOKUP(R38,'Team List'!BC:BD,2,0))","v":""},null,"",null,{"$f":"IF(U38=\"\",\"\",IF(U38=\"T00\",0,'Team List'!A35))","v":""}]
[{"$f":"'Team List'!$BB36","v":-7.7862523290872225},50,"T33",0,{"$f":"IF(OR(COUNTIF(K$7:K$71,G39)>0,COUNTIF('Team List'!36:36,$J$3)>0),ABS('Team List'!$BB36)*-1,'Team List'!$BB36)","v":-7.7862523290872225},50,"T33",null,"Pitch 17",{"$f":"IF(K39=\"\",\"\",IF(K39=\"Bye\",\"Bye\",VLOOKUP(K39,'Team List'!B:BF,42,0)))","v":""},{"$f":"IF(S39=\"\",\"\",IF(VLOOKUP(ROUNDDOWN(((ROW(H39)-1)/2)-2,0),P:U,4,0)=\"T00\",\"Bye\",VLOOKUP(ROUNDDOWN(((ROW(H39)-1)/2)-2,0),P:U,4,0)))","v":""},{"$f":"IF(K39=\"\",-1,VLOOKUP(K39,'Team List'!B:BF,39,0))","v":-1},null,null,null,"",null,33,{"$f":"IF(VLOOKUP(VLOOKUP(R39,'Team List'!BC:BD,2,0),'Team List'!B:D,3,0)<>\"Yes\",\"\",VLOOKUP(R39,'Team List'!BC:BD,2,0))","v":""},null,"",null,{"$f":"IF(U39=\"\",\"\",IF(U39=\"T00\",0,'Team List'!A36))","v":""}]
[{"$f":"'Team List'!$BB37","v":-2.0611177097287312},10,"T34",0,{"$f":"IF(OR(COUNTIF(K$7:K$71,G40)>0,COUNTIF('Team List'!37:37,$J$3)>0),ABS('Team List'!$BB37)*-1,'Team List'!$BB37)","v":-2.0611177097287312},10,"T34",null,null,{"$f":"IF(K40=\"\",\"\",IF(K40=\"Bye\",\"Bye\",VLOOKUP(K40,'Team List'!B:BF,42,0)))","v":""},{"$f":"IF(S40=\"\",\"\",IF(VLOOKUP(ROUNDDOWN(((ROW(H40)-1)/2)-2,0),P:U,6,0)=\"T00\",\"Bye\",VLOOKUP(ROUNDDOWN(((ROW(H40)-1)/2)-2,0),P:U,6,0)))","v":""},{"$f":"IF(K40=\"\",-1,VLOOKUP(K40,'Team List'!B:BF,39,0))","v":-1},null,null,null,"",null,34,{"$f":"IF(VLOOKUP(VLOOKUP(R40,'Team List'!BC:BD,2,0),'Team List'!B:D,3,0)<>\"Yes\",\"\",VLOOKUP(R40,'Team List'!BC:BD,2,0))","v":""},null,"",null,{"$f":"IF(U40=\"\",\"\",IF(U40=\"T00\",0,'Team List'!A37))","v":""}]
[{"$f":"'Team List'!$BB38","v":-8.5021864836629515},54,"T35",0,{"$f":"IF(OR(COUNTIF(K$7:K$71,G41)>0,COUNTIF('Team List'!38:38,$J$3)>0),ABS('Team List'!$BB38)*-1,'Team List'!$BB38)","v":-8.5021864836629515},54,"T35",null,"Pitch 18",{"$f":"IF(K41=\"\",\"\",IF(K41=\"Bye\",\"Bye\",VLOOKUP(K41,'Team List'!B:BF,42,0)))","v":""},{"$f":"IF(S41=\"\",\"\",IF(VLOOKUP(ROUNDDOWN(((ROW(H41)-1)/2)-2,0),P:U,4,0)=\"T00\",\"Bye\",VLOOKUP(ROUNDDOWN(((ROW(H41)-1)/2)-2,0),P:U,4,0)))","v":""},{"$f":"IF(K41=\"\",-1,VLOOKUP(K41,'Team List'!B:BF,39,0))","v":-1},null,null,null,"",null,35,{"$f":"IF(VLOOKUP(VLOOKUP(R41,'Team List'!BC:BD,2,0),'Team List'!B:D,3,0)<>\"Yes\",\"\",VLOOKUP(R41,'Team List'!BC:BD,2,0))","v":""},null,"",null,{"$f":"IF(U41=\"\",\"\",IF(U41=\"T00\",0,'Team List'!A38))","v":""}]
[{"$f":"'Team List'!$BB39","v":-7.8045224431924254},51,"T36",0,{"$f":"IF(OR(COUNTIF(K$7:K$71,G42)>0,COUNTIF('Team List'!39:39,$J$3)>0),ABS('Team List'!$BB39)*-1,'Team List'!$BB39)","v":-7.8045224431924254},51,"T36",null,null,{"$f":"IF(K42=\"\",\"\",IF(K42=\"Bye\",\"Bye\",VLOOKUP(K42,'Team List'!B:BF,42,0)))","v":""},{"$f":"IF(S42=\"\",\"\",IF(VLOOKUP(ROUNDDOWN(((ROW(H42)-1)/2)-2,0),P:U,6,0)=\"T00\",\"Bye\",VLOOKUP(ROUNDDOWN(((ROW(H42)-1)/2)-2,0),P:U,6,0)))","v":""},{"$f":"IF(K42=\"\",-1,VLOOKUP(K42,'Team List'!B:BF,39,0))","v":-1},null,null,null,"",null,36,{"$f":"IF(VLOOKUP(VLOOKUP(R42,'Team List'!BC:BD,2,0),'Team List'!B:D,3,0)<>\"Yes\",\"\",VLOOKUP(R42,'Team List'!BC:BD,2,0))","v":""},null,"",null,{"$f":"IF(U42=\"\",\"\",IF(U42=\"T00\",0,'Team List'!A39))","v":""}]
[{"$f":"'Team List'!$BB40","v":-6.9208080960575007},44,"T37",0,{"$f":"IF(OR(COUNTIF(K$7:K$71,G43)>0,COUNTIF('Team List'!40:40,$J$3)>0),ABS('Team List'!$BB40)*-1,'Team List'!$BB40)","v":-6.9208080960575007},44,"T37",null,"Pitch 19",{"$f":"IF(K43=\"\",\"\",IF(K43=\"Bye\",\"Bye\",VLOOKUP(K43,'Team List'!B:BF,42,0)))","v":""},{"$f":"IF(S43=\"\",\"\",IF(VLOOKUP(ROUNDDOWN(((ROW(H43)-1)/2)-2,0),P:U,4,0)=\"T00\",\"Bye\",VLOOKUP(ROUNDDOWN(((ROW(H43)-1)/2)-2,0),P:U,4,0)))","v":""},{"$f":"IF(K43=\"\",-1,VLOOKUP(K43,'Team List'!B:BF,39,0))","v":-1},null,null,null,"",null,37,{"$f":"IF(VLOOKUP(VLOOKUP(R43,'Team List'!BC:BD,2,0),'Team List'!B:D,3,0)<>\"Yes\",\"\",VLOOKUP(R43,'Team List'!BC:BD,2,0))","v":""},null,"",null,{"$f":"IF(U43=\"\",\"\",IF(U43=\"T00\",0,'Team List'!A40))","v":""}]
[{"$f":"'Team List'!$BB41","v":-1.0403558377824873},5,"T38",0,{"$f":"IF(OR(COUNTIF(K$7:K$71,G44)>0,COUNTIF('Team List'!41:41,$J$3)>0),ABS('Team List'!$BB41)*-1,'Team List'!$BB41)","v":-1.0403558377824873},5,"T38",null,null,{"$f":"IF(K44=\"\",\"\",IF(K44=\"Bye\",\"Bye\",VLOOKUP(K44,'Team List'!B:BF,42,0)))","v":""},{"$f":"IF(S44=\"\",\"\",IF(VLOOKUP(ROUNDDOWN(((ROW(H44)-1)/2)-2,0),P:U,6,0)=\"T00\",\"Bye\",VLOOKUP(ROUNDDOWN(((ROW(H44)-1)/2)-2,0),P:U,6,0)))","v":""},{"$f":"IF(K44=\"\",-1,VLOOKUP(K44,'Team List'!B:BF,39,0))","v":-1},null,null,null,"",null,38,{"$f":"IF(VLOOKUP(VLOOKUP(R44,'Team List'!BC:BD,2,0),'Team List'!B:D,3,0)<>\"Yes\",\"\",VLOOKUP(R44,'Team List'!BC:BD,2,0))","v":""},null,"",null,{"$f":"IF(U44=\"\",\"\",IF(U44=\"T00\",0,'Team List'!A41))","v":""}]
[{"$f":"'Team List'!$BB42","v":-2.7082162478180907},16,"T39",0,{"$f":"IF(OR(COUNTIF(K$7:K$71,G45)>0,COUNTIF('Team List'!42:42,$J$3)>0),ABS('Team List'!$BB42)*-1,'Team List'!$BB42)","v":-2.7082162478180907},16,"T39",null,"Pitch 20",{"$f":"IF(K45=\"\",\"\",IF(K45=\"Bye\",\"Bye\",VLOOKUP(K45,'Team List'!B:BF,42,0)))","v":""},{"$f":"IF(S45=\"\",\"\",IF(VLOOKUP(ROUNDDOWN(((ROW(H45)-1)/2)-2,0),P:U,4,0)=\"T00\",\"Bye\",VLOOKUP(ROUNDDOWN(((ROW(H45)-1)/2)-2,0),P:U,4,0)))","v":""},{"$f":"IF(K45=\"\",-1,VLOOKUP(K45,'Team List'!B:BF,39,0))","v":-1},null,null,null,"",null,39,{"$f":"IF(VLOOKUP(VLOOKUP(R45,'Team List'!BC:BD,2,0),'Team List'!B:D,3,0)<>\"Yes\",\"\",VLOOKUP(R45,'Team List'!BC:BD,2,0))","v":""},null,"",null,{"$f":"IF(U45=\"\",\"\",IF(U45=\"T00\",0,'Team List'!A42))","v":""}]
[{"$f":"'Team List'!$BB43","v":-0.39840235271332736},1,"T40",1,{"$f":"IF(OR(COUNTIF(K$7:K$71,G46)>0,COUNTIF('Team List'!43:43,$J$3)>0),ABS('Team List'!$BB43)*-1,'Team List'!$BB43)","v":-0.39840235271332736},1,"T40",null,null,{"$f":"IF(K46=\"\",\"\",IF(K46=\"Bye\",\"Bye\",VLOOKUP(K46,'Team List'!B:BF,42,0)))","v":""},{"$f":"IF(S46=\"\",\"\",IF(VLOOKUP(ROUNDDOWN(((ROW(H46)-1)/2)-2,0),P:U,6,0)=\"T00\",\"Bye\",VLOOKUP(ROUNDDOWN(((ROW(H46)-1)/2)-2,0),P:U,6,0)))","v":""},{"$f":"IF(K46=\"\",-1,VLOOKUP(K46,'Team List'!B:BF,39,0))","v":-1},null,null,null,"",null,40,{"$f":"IF(VLOOKUP(VLOOKUP(R46,'Team List'!BC:BD,2,0),'Team List'!B:D,3,0)<>\"Yes\",\"\",VLOOKUP(R46,'Team List'!BC:BD,2,0))","v":""},null,"",null,{"$f":"IF(U46=\"\",\"\",IF(U46=\"T00\",0,'Team List'!A43))","v":""}]
[{"$f":"'Team List'!$BB44","v":-1.0432923843311215},6,"T41",0,{"$f":"IF(OR(COUNTIF(K$7:K$71,G47)>0,COUNTIF('Team List'!44:44,$J$3)>0),ABS('Team List'!$BB44)*-1,'Team List'!$BB44)","v":-1.0432923843311215},6,"T41",null,"Pitch 21",{"$f":"IF(K47=\"\",\"\",IF(K47=\"Bye\",\"Bye\",VLOOKUP(K47,'Team List'!B:BF,42,0)))","v":""},{"$f":"IF(S47=\"\",\"\",IF(VLOOKUP(ROUNDDOWN(((ROW(H47)-1)/2)-2,0),P:U,4,0)=\"T00\",\"Bye\",VLOOKUP(ROUNDDOWN(((ROW(H47)-1)/2)-2,0),P:U,4,0)))","v":""},{"$f":"IF(K47=\"\",-1,VLOOKUP(K47,'Team List'!B:BF,39,0))","v":-1},null,null,null,"",null,41,{"$f":"IF(VLOOKUP(VLOOKUP(R47,'Team List'!BC:BD,2,0),'Team List'!B:D,3,0)<>\"Yes\",\"\",VLOOKUP(R47,'Team List'!BC:BD,2,0))","v":""},null,"",null,{"$f":"IF(U47=\"\",\"\",IF(U47=\"T00\",0,'Team List'!A44))","v":""}]
[{"$f":"'Team List'!$BB45","v":-8.7617173553528502},55,"T42",0,{"$f":"IF(OR(COUNTIF(K$7:K$71,G48)>0,COUNTIF('Team List'!45:45,$J$3)>0),ABS('Team List'!$BB45)*-1,'Team List'!$BB45)","v":-8.7617173553528502},55,"T42",null,null,{"$f":"IF(K48=\"\",\"\",IF(K48=\"Bye\",\"Bye\",VLOOKUP(K48,'Team List'!B:BF,42,0)))","v":""},{"$f":"IF(S48=\"\",\"\",IF(VLOOKUP(ROUNDDOWN(((ROW(H48)-1)/2)-2,0),P:U,6,0)=\"T00\",\"Bye\",VLOOKUP(ROUNDDOWN(((ROW(H48)-1)/2)-2,0),P:U,6,0)))","v":""},{"$f":"IF(K48=\"\",-1,VLOOKUP(K48,'Team List'!B:BF,39,0))","v":-1},null,null,null,"",null,42,{"$f":"IF(VLOOKUP(VLOOKUP(R48,'Team List'!BC:BD,2,0),'Team List'!B:D,3,0)<>\"Yes\",\"\",VLOOKUP(R48,'Team List'!BC:BD,2,0))","v":""},null,"",null,{"$f":"IF(U48=\"\",\"\",IF(U48=\"T00\",0,'Team List'!A45))","v":""}]
[{"$f":"'Team List'!$BB46","v":-0.81681920064603841},4,"T43",0,{"$f":"IF(OR(COUNTIF(K$7:K$71,G49)>0,COUNTIF('Team List'!46:46,$J$3)>0),ABS('Team List'!$BB46)*-1,'Team List'!$BB46)","v":-0.81681920064603841},4,"T43",null,"Pitch 22",{"$f":"IF(K49=\"\",\"\",IF(K49=\"Bye\",\"Bye\",VLOOKUP(K49,'Team List'!B:BF,42,0)))","v":""},{"$f":"IF(S49=\"\",\"\",IF(VLOOKUP(ROUNDDOWN(((ROW(H49)-1)/2)-2,0),P:U,4,0)=\"T00\",\"Bye\",VLOOKUP(ROUNDDOWN(((ROW(H49)-1)/2)-2,0),P:U,4,0)))","v":""},{"$f":"IF(K49=\"\",-1,VLOOKUP(K49,'Team List'!B:BF,39,0))","v":-1},null,null,null,"",null,43,{"$f":"IF(VLOOKUP(VLOOKUP(R49,'Team List'!BC:BD,2,0),'Team List'!B:D,3,0)<>\"Yes\",\"\",VLOOKUP(R49,'Team List'!BC:BD,2,0))","v":""},null,"",null,{"$f":"IF(U49=\"\",\"\",IF(U49=\"T00\",0,'Team List'!A46))","v":""}]
[{"$f":"'Team List'!$BB47","v":-9.8600470851827051},62,"T44",0,{"$f":"IF(OR(COUNTIF(K$7:K$71,G50)>0,COUNTIF('Team List'!47:47,$J$3)>0),ABS('Team List'!$BB47)*-1,'Team List'!$BB47)","v":-9.8600470851827051},62,"T44",null,null,{"$f":"IF(K50=\"\",\"\",IF(K50=\"Bye\",\"Bye\",VLOOKUP(K50,'Team List'!B:BF,42,0)))","v":""},{"$f":"IF(S50=\"\",\"\",IF(VLOOKUP(ROUNDDOWN(((ROW(H50)-1)/2)-2,0),P:U,6,0)=\"T00\",\"Bye\",VLOOKUP(ROUNDDOWN(((ROW(H50)-1)/2)-2,0),P:U,6,0)))","v":""},{"$f":"IF(K50=\"\",-1,VLOOKUP(K50,'Team List'!B:BF,39,0))","v":-1},null,null,null,"",null,44,{"$f":"IF(VLOOKUP(VLOOKUP(R50,'Team List'!BC:BD,2,0),'Team List'!B:D,3,0)<>\"Yes\",\"\",VLOOKUP(R50,'Team List'!BC:BD,2,0))","v":""},null,"",null,{"$f":"IF(U50=\"\",\"\",IF(U50=\"T00\",0,'Team List'!A47))","v":""}]
[{"$f":"'Team List'!$BB48","v":-9.781814789193783},61,"T45",0,{"$f":"IF(OR(COUNTIF(K$7:K$71,G51)>0,COUNTIF('Team List'!48:48,$J$3)>0),ABS('Team List'!$BB48)*-1,'Team List'!$BB48)","v":-9.781814789193783},61,"T45",null,"Pitch 23",{"$f":"IF(K51=\"\",\"\",IF(K51=\"Bye\",\"Bye\",VLOOKUP(K51,'Team List'!B:BF,42,0)))","v":""},{"$f":"IF(S51=\"\",\"\",IF(VLOOKUP(ROUNDDOWN(((ROW(H51)-1)/2)-2,0),P:U,4,0)=\"T00\",\"Bye\",VLOOKUP(ROUNDDOWN(((ROW(H51)-1)/2)-2,0),P:U,4,0)))","v":""},{"$f":"IF(K51=\"\",-1,VLOOKUP(K51,'Team List'!B:BF,39,0))","v":-1},null,null,null,"",null,45,{"$f":"IF(VLOOKUP(VLOOKUP(R51,'Team List'!BC:BD,2,0),'Team List'!B:D,3,0)<>\"Yes\",\"\",VLOOKUP(R51,'Team List'!BC:BD,2,0))","v":""},null,"",null,{"$f":"IF(U51=\"\",\"\",IF(U51=\"T00\",0,'Team List'!A48))","v":""}]
[{"$f":"'Team List'!$BB49","v":-7.8585281206504636},52,"T46",0,{"$f":"IF(OR(COUNTIF(K$7:K$71,G52)>0,COUNTIF('Team List'!49:49,$J$3)>0),ABS('Team List'!$BB49)*-1,'Team List'!$BB49)","v":-7.8585281206504636},52,"T46",null,null,{"$f":"IF(K52=\"\",\"\",IF(K52=\"Bye\",\"Bye\",VLOOKUP(K52,'Team List'!B:BF,42,0)))","v":""},{"$f":"IF(S52=\"\",\"\",IF(VLOOKUP(ROUNDDOWN(((ROW(H52)-1)/2)-2,0),P:U,6,0)=\"T00\",\"Bye\",VLOOKUP(ROUNDDOWN(((ROW(H52)-1)/2)-2,0),P:U,6,0)))","v":""},{"$f":"IF(K52=\"\",-1,VLOOKUP(K52,'Team List'!B:BF,39,0))","v":-1},null,null,null,"",null,46,{"$f":"IF(VLOOKUP(VLOOKUP(R52,'Team List'!BC:BD,2,0),'Team List'!B:D,3,0)<>\"Yes\",\"\",VLOOKUP(R52,'Team List'!BC:BD,2,0))","v":""},null,"",null,{"$f":"IF(U52=\"\",\"\",IF(U52=\"T00\",0,'Team List'!A49))","v":""}]
[{"$f":"'Team List'!$BB50","v":-0.65151126675429549},3,"T47",0,{"$f":"IF(OR(COUNTIF(K$7:K$71,G53)>0,COUNTIF('Team List'!50:50,$J$3)>0),ABS('Team List'!$BB50)*-1,'Team List'!$BB50)","v":-0.65151126675429549},3,"T47",null,"Pitch 24",{"$f":"IF(K53=\"\",\"\",IF(K53=\"Bye\",\"Bye\",VLOOKUP(K53,'Team List'!B:BF,42,0)))","v":""},{"$f":"IF(S53=\"\",\"\",IF(VLOOKUP(ROUNDDOWN(((ROW(H53)-1)/2)-2,0),P:U,4,0)=\"T00\",\"Bye\",VLOOKUP(ROUNDDOWN(((ROW(H53)-1)/2)-2,0),P:U,4,0)))","v":""},{"$f":"IF(K53=\"\",-1,VLOOKUP(K53,'Team List'!B:BF,39,0))","v":-1},null,null,null,"",null,47,{"$f":"IF(VLOOKUP(VLOOKUP(R53,'Team List'!BC:BD,2,0),'Team List'!B:D,3,0)<>\"Yes\",\"\",VLOOKUP(R53,'Team List'!BC:BD,2,0))","v":""},null,"",null,{"$f":"IF(U53=\"\",\"\",IF(U53=\"T00\",0,'Team List'!A50))","v":""}]
[{"$f":"'Team List'!$BB51","v":-6.2760731997446246},40,"T48",0,{"$f":"IF(OR(COUNTIF(K$7:K$71,G54)>0,COUNTIF('Team List'!51:51,$J$3)>0),ABS('Team List'!$BB51)*-1,'Team List'!$BB51)","v":-6.2760731997446246},40,"T48",null,null,{"$f":"IF(K54=\"\",\"\",IF(K54=\"Bye\",\"Bye\",VLOOKUP(K54,'Team List'!B:BF,42,0)))","v":""},{"$f":"IF(S54=\"\",\"\",IF(VLOOKUP(ROUNDDOWN(((ROW(H54)-1)/2)-2,0),P:U,6,0)=\"T00\",\"Bye\",VLOOKUP(ROUNDDOWN(((ROW(H54)-1)/2)-2,0),P:U,6,0)))","v":""},{"$f":"IF(K54=\"\",-1,VLOOKUP(K54,'Team List'!B:BF,39,0))","v":-1},null,null,null,"",null,48,{"$f":"IF(VLOOKUP(VLOOKUP(R54,'Team List'!BC:BD,2,0),'Team List'!B:D,3,0)<>\"Yes\",\"\",VLOOKUP(R54,'Team List'!BC:BD,2,0))","v":""},null,"",null,{"$f":"IF(U54=\"\",\"\",IF(U54=\"T00\",0,'Team List'!A51))","v":""}]
[{"$f":"'Team List'!$BB52","v":-4.4130617536768586},31,"T49",0,{"$f":"IF(OR(COUNTIF(K$7:K$71,G55)>0,COUNTIF('Team List'!52:52,$J$3)>0),ABS('Team List'!$BB52)*-1,'Team List'!$BB52)","v":-4.4130617536768586},31,"T49",null,"Pitch 25",{"$f":"IF(K55=\"\",\"\",IF(K55=\"Bye\",\"Bye\",VLOOKUP(K55,'Team List'!B:BF,42,0)))","v":""},{"$f":"IF(S55=\"\",\"\",IF(VLOOKUP(ROUNDDOWN(((ROW(H55)-1)/2)-2,0),P:U,4,0)=\"T00\",\"Bye\",VLOOKUP(ROUNDDOWN(((ROW(H55)-1)/2)-2,0),P:U,4,0)))","v":""},{"$f":"IF(K55=\"\",-1,VLOOKUP(K55,'Team List'!B:BF,39,0))","v":-1},null,null,null,"",null,49,{"$f":"IF(VLOOKUP(VLOOKUP(R55,'Team List'!BC:BD,2,0),'Team List'!B:D,3,0)<>\"Yes\",\"\",VLOOKUP(R55,'Team List'!BC:BD,2,0))","v":""},null,"",null,{"$f":"IF(U55=\"\",\"\",IF(U55=\"T00\",0,'Team List'!A52))","v":""}]
[{"$f":"'Team List'!$BB53","v":-6.957777878181278},45,"T50",0,{"$f":"IF(OR(COUNTIF(K$7:K$71,G56)>0,COUNTIF('Team List'!53:53,$J$3)>0),ABS('Team List'!$BB53)*-1,'Team List'!$BB53)","v":-6.957777878181278},45,"T50",null,null,{"$f":"IF(K56=\"\",\"\",IF(K56=\"Bye\",\"Bye\",VLOOKUP(K56,'Team List'!B:BF,42,0)))","v":""},{"$f":"IF(S56=\"\",\"\",IF(VLOOKUP(ROUNDDOWN(((ROW(H56)-1)/2)-2,0),P:U,6,0)=\"T00\",\"Bye\",VLOOKUP(ROUNDDOWN(((ROW(H56)-1)/2)-2,0),P:U,6,0)))","v":""},{"$f":"IF(K56=\"\",-1,VLOOKUP(K56,'Team List'!B:BF,39,0))","v":-1},null,null,null,"",null,50,{"$f":"IF(VLOOKUP(VLOOKUP(R56,'Team List'!BC:BD,2,0),'Team List'!B:D,3,0)<>\"Yes\",\"\",VLOOKUP(R56,'Team List'!BC:BD,2,0))","v":""},null,"",null,{"$f":"IF(U56=\"\",\"\",IF(U56=\"T00\",0,'Team List'!A53))","v":""}]
[{"$f":"'Team List'!$BB54","v":-8.0364082475459178},53,"T51",0,{"$f":"IF(OR(COUNTIF(K$7:K$71,G57)>0,COUNTIF('Team List'!54:54,$J$3)>0),ABS('Team List'!$BB54)*-1,'Team List'!$BB54)","v":-8.0364082475459178},53,"T51",null,"Pitch 26",{"$f":"IF(K57=\"\",\"\",IF(K57=\"Bye\",\"Bye\",VLOOKUP(K57,'Team List'!B:BF,42,0)))","v":""},{"$f":"IF(S57=\"\",\"\",IF(VLOOKUP(ROUNDDOWN(((ROW(H57)-1)/2)-2,0),P:U,4,0)=\"T00\",\"Bye\",VLOOKUP(ROUNDDOWN(((ROW(H57)-1)/2)-2,0),P:U,4,0)))","v":""},{"$f":"IF(K57=\"\",-1,VLOOKUP(K57,'Team List'!B:BF,39,0))","v":-1},null,null,null,"",null,51,{"$f":"IF(VLOOKUP(VLOOKUP(R57,'Team List'!BC:BD,2,0),'Team List'!B:D,3,0)<>\"Yes\",\"\",VLOOKUP(R57,'Team List'!BC:BD,2,0))","v":""},null,"",null,{"$f":"IF(U57=\"\",\"\",IF(U57=\"T00\",0,'Team List'!A54))","v":""}]
[{"$f":"'Team List'!$BB55","v":-7.334855535390715},46,"T52",0,{"$f":"IF(OR(COUNTIF(K$7:K$71,G58)>0,COUNTIF('Team List'!55:55,$J$3)>0),ABS('Team List'!$BB55)*-1,'Team List'!$BB55)","v":-7.334855535390715},46,"T52",null,null,{"$f":"IF(K58=\"\",\"\",IF(K58=\"Bye\",\"Bye\",VLOOKUP(K58,'Team List'!B:BF,42,0)))","v":""},{"$f":"IF(S58=\"\",\"\",IF(VLOOKUP(ROUNDDOWN(((ROW(H58)-1)/2)-2,0),P:U,6,0)=\"T00\",\"Bye\",VLOOKUP(ROUNDDOWN(((ROW(H58)-1)/2)-2,0),P:U,6,0)))","v":""},{"$f":"IF(K58=\"\",-1,VLOOKUP(K58,'Team List'!B:BF,39,0))","v":-1},null,null,null,"",null,52,{"$f":"IF(VLOOKUP(VLOOKUP(R58,'Team List'!BC:BD,2,0),'Team List'!B:D,3,0)<>\"Yes\",\"\",VLOOKUP(R58,'Team List'!BC:BD,2,0))","v":""},null,"",null,{"$f":"IF(U58=\"\",\"\",IF(U58=\"T00\",0,'Team List'!A55))","v":""}]
[{"$f":"'Team List'!$BB56","v":-2.7029642896201533},15,"T53",0,{"$f":"IF(OR(COUNTIF(K$7:K$71,G59)>0,COUNTIF('Team List'!56:56,$J$3)>0),ABS('Team List'!$BB56)*-1,'Team List'!$BB56)","v":-2.7029642896201533},15,"T53",null,"Pitch 27",{"$f":"IF(K59=\"\",\"\",IF(K59=\"Bye\",\"Bye\",VLOOKUP(K59,'Team List'!B:BF,42,0)))","v":""},{"$f":"IF(S59=\"\",\"\",IF(VLOOKUP(ROUNDDOWN(((ROW(H59)-1)/2)-2,0),P:U,4,0)=\"T00\",\"Bye\",VLOOKUP(ROUNDDOWN(((ROW(H59)-1)/2)-2,0),P:U,4,0)))","v":""},{"$f":"IF(K59=\"\",-1,VLOOKUP(K59,'Team List'!B:BF,39,0))","v":-1},null,null,null,"",null,53,{"$f":"IF(VLOOKUP(VLOOKUP(R59,'Team List'!BC:BD,2,0),'Team List'!B:D,3,0)<>\"Yes\",\"\",VLOOKUP(R59,'Team List'!BC:BD,2,0))","v":""},null,"",null,{"$f":"IF(U59=\"\",\"\",IF(U59=\"T00\",0,'Team List'!A56))","v":""}]
[{"$f":"'Team List'!$BB57","v":-6.8689816830439963},43,"T54",0,{"$f":"IF(OR(COUNTIF(K$7:K$71,G60)>0,COUNTIF('Team List'!57:57,$J$3)>0),ABS('Team List'!$BB57)*-1,'Team List'!$BB57)","v":-6.8689816830439963},43,"T54",null,null,{"$f":"IF(K60=\"\",\"\",IF(K60=\"Bye\",\"Bye\",VLOOKUP(K60,'Team List'!B:BF,42,0)))","v":""},{"$f":"IF(S60=\"\",\"\",IF(VLOOKUP(ROUNDDOWN(((ROW(H60)-1)/2)-2,0),P:U,6,0)=\"T00\",\"Bye\",VLOOKUP(ROUNDDOWN(((ROW(H60)-1)/2)-2,0),P:U,6,0)))","v":""},{"$f":"IF(K60=\"\",-1,VLOOKUP(K60,'Team List'!B:BF,39,0))","v":-1},null,null,null,"",null,54,{"$f":"IF(VLOOKUP(VLOOKUP(R60,'Team List'!BC:BD,2,0),'Team List'!B:D,3,0)<>\"Yes\",\"\",VLOOKUP(R60,'Team List'!BC:BD,2,0))","v":""},null,"",null,{"$f":"IF(U60=\"\",\"\",IF(U60=\"T00\",0,'Team List'!A57))","v":""}]
[{"$f":"'Team List'!$BB58","v":-9.0724456813311818},58,"T55",0,{"$f":"IF(OR(COUNTIF(K$7:K$71,G61)>0,COUNTIF('Team List'!58:58,$J$3)>0),ABS('Team List'!$BB58)*-1,'Team List'!$BB58)","v":-9.0724456813311818},58,"T55",null,"Pitch 28",{"$f":"IF(K61=\"\",\"\",IF(K61=\"Bye\",\"Bye\",VLOOKUP(K61,'Team List'!B:BF,42,0)))","v":""},{"$f":"IF(S61=\"\",\"\",IF(VLOOKUP(ROUNDDOWN(((ROW(H61)-1)/2)-2,0),P:U,4,0)=\"T00\",\"Bye\",VLOOKUP(ROUNDDOWN(((ROW(H61)-1)/2)-2,0),P:U,4,0)))","v":""},{"$f":"IF(K61=\"\",-1,VLOOKUP(K61,'Team List'!B:BF,39,0))","v":-1},null,null,null,"",null,55,{"$f":"IF(VLOOKUP(VLOOKUP(R61,'Team List'!BC:BD,2,0),'Team List'!B:D,3,0)<>\"Yes\",\"\",VLOOKUP(R61,'Team List'!BC:BD,2,0))","v":""},null,"",null,{"$f":"IF(U61=\"\",\"\",IF(U61=\"T00\",0,'Team List'!A58))","v":""}]
[{"$f":"'Team List'!$BB59","v":-6.4106346761399822},41,"T56",0,{"$f":"IF(OR(COUNTIF(K$7:K$71,G62)>0,COUNTIF('Team List'!59:59,$J$3)>0),ABS('Team List'!$BB59)*-1,'Team List'!$BB59)","v":-6.4106346761399822},41,"T56",null,null,{"$f":"IF(K62=\"\",\"\",IF(K62=\"Bye\",\"Bye\",VLOOKUP(K62,'Team List'!B:BF,42,0)))","v":""},{"$f":"IF(S62=\"\",\"\",IF(VLOOKUP(ROUNDDOWN(((ROW(H62)-1)/2)-2,0),P:U,6,0)=\"T00\",\"Bye\",VLOOKUP(ROUNDDOWN(((ROW(H62)-1)/2)-2,0),P:U,6,0)))","v":""},{"$f":"IF(K62=\"\",-1,VLOOKUP(K62,'Team List'!B:BF,39,0))","v":-1},null,null,null,"",null,56,{"$f":"IF(VLOOKUP(VLOOKUP(R62,'Team List'!BC:BD,2,0),'Team List'!B:D,3,0)<>\"Yes\",\"\",VLOOKUP(R62,'Team List'!BC:BD,2,0))","v":""},null,"",null,{"$f":"IF(U62=\"\",\"\",IF(U62=\"T00\",0,'Team List'!A59))","v":""}]
[{"$f":"'Team List'!$BB60","v":-9.8973788232179558},64,"T57",0,{"$f":"IF(OR(COUNTIF(K$7:K$71,G63)>0,COUNTIF('Team List'!60:60,$J$3)>0),ABS('Team List'!$BB60)*-1,'Team List'!$BB60)","v":-9.8973788232179558},64,"T57",null,"Pitch 29",{"$f":"IF(K63=\"\",\"\",IF(K63=\"Bye\",\"Bye\",VLOOKUP(K63,'Team List'!B:BF,42,0)))","v":""},{"$f":"IF(S63=\"\",\"\",IF(VLOOKUP(ROUNDDOWN(((ROW(H63)-1)/2)-2,0),P:U,4,0)=\"T00\",\"Bye\",VLOOKUP(ROUNDDOWN(((ROW(H63)-1)/2)-2,0),P:U,4,0)))","v":""},{"$f":"IF(K63=\"\",-1,VLOOKUP(K63,'Team List'!B:BF,39,0))","v":-1},null,null,null,"",null,57,{"$f":"IF(VLOOKUP(VLOOKUP(R63,'Team List'!BC:BD,2,0),'Team List'!B:D,3,0)<>\"Yes\",\"\",VLOOKUP(R63,'Team List'!BC:BD,2,0))","v":""},null,"",null,{"$f":"IF(U63=\"\",\"\",IF(U63=\"T00\",0,'Team List'!A60))","v":""}]
[{"$f":"'Team List'!$BB61","v":-9.5550917137700999},60,"T58",0,{"$f":"IF(OR(COUNTIF(K$7:K$71,G64)>0,COUNTIF('Team List'!61:61,$J$3)>0),ABS('Team List'!$BB61)*-1,'Team List'!$BB61)","v":-9.5550917137700999},60,"T58",null,null,{"$f":"IF(K64=\"\",\"\",IF(K64=\"Bye\",\"Bye\",VLOOKUP(K64,'Team List'!B:BF,42,0)))","v":""},{"$f":"IF(S64=\"\",\"\",IF(VLOOKUP(ROUNDDOWN(((ROW(H64)-1)/2)-2,0),P:U,6,0)=\"T00\",\"Bye\",VLOOKUP(ROUNDDOWN(((ROW(H64)-1)/2)-2,0),P:U,6,0)))","v":""},{"$f":"IF(K64=\"\",-1,VLOOKUP(K64,'Team List'!B:BF,39,0))","v":-1},null,null,null,"",null,58,{"$f":"IF(VLOOKUP(VLOOKUP(R64,'Team List'!BC:BD,2,0),'Team List'!B:D,3,0)<>\"Yes\",\"\",VLOOKUP(R64,'Team List'!BC:BD,2,0))","v":""},null,"",null,{"$f":"IF(U64=\"\",\"\",IF(U64=\"T00\",0,'Team List'!A61))","v":""}]
[{"$f":"'Team List'!$BB62","v":-5.3421088644971224},37,"T59",0,{"$f":"IF(OR(COUNTIF(K$7:K$71,G65)>0,COUNTIF('Team List'!62:62,$J$3)>0),ABS('Team List'!$BB62)*-1,'Team List'!$BB62)","v":-5.3421088644971224},37,"T59",null,"Pitch 30",{"$f":"IF(K65=\"\",\"\",IF(K65=\"Bye\",\"Bye\",VLOOKUP(K65,'Team List'!B:BF,42,0)))","v":""},{"$f":"IF(S65=\"\",\"\",IF(VLOOKUP(ROUNDDOWN(((ROW(H65)-1)/2)-2,0),P:U,4,0)=\"T00\",\"Bye\",VLOOKUP(ROUNDDOWN(((ROW(H65)-1)/2)-2,0),P:U,4,0)))","v":""},{"$f":"IF(K65=\"\",-1,VLOOKUP(K65,'Team List'!B:BF,39,0))","v":-1},null,null,null,"",null,59,{"$f":"IF(VLOOKUP(VLOOKUP(R65,'Team List'!BC:BD,2,0),'Team List'!B:D,3,0)<>\"Yes\",\"\",VLOOKUP(R65,'Team List'!BC:BD,2,0))","v":""},null,"",null,{"$f":"IF(U65=\"\",\"\",IF(U65=\"T00\",0,'Team List'!A62))","v":""}]
[{"$f":"'Team List'!$BB63","v":-6.1314087547270892},39,"T60",0,{"$f":"IF(OR(COUNTIF(K$7:K$71,G66)>0,COUNTIF('Team List'!63:63,$J$3)>0),ABS('Team List'!$BB63)*-1,'Team List'!$BB63)","v":-6.1314087547270892},39,"T60",null,null,{"$f":"IF(K66=\"\",\"\",IF(K66=\"Bye\",\"Bye\",VLOOKUP(K66,'Team List'!B:BF,42,0)))","v":""},{"$f":"IF(S66=\"\",\"\",IF(VLOOKUP(ROUNDDOWN(((ROW(H66)-1)/2)-2,0),P:U,6,0)=\"T00\",\"Bye\",VLOOKUP(ROUNDDOWN(((ROW(H66)-1)/2)-2,0),P:U,6,0)))","v":""},{"$f":"IF(K66=\"\",-1,VLOOKUP(K66,'Team List'!B:BF,39,0))","v":-1},null,null,null,"",null,60,{"$f":"IF(VLOOKUP(VLOOKUP(R66,'Team List'!BC:BD,2,0),'Team List'!B:D,3,0)<>\"Yes\",\"\",VLOOKUP(R66,'Team List'!BC:BD,2,0))","v":""},null,"",null,{"$f":"IF(U66=\"\",\"\",IF(U66=\"T00\",0,'Team List'!A63))","v":""}]
[{"$f":"'Team List'!$BB64","v":-9.0350298210666544},57,"T61",0,{"$f":"IF(OR(COUNTIF(K$7:K$71,G67)>0,COUNTIF('Team List'!64:64,$J$3)>0),ABS('Team List'!$BB64)*-1,'Team List'!$BB64)","v":-9.0350298210666544},57,"T61",null,"Pitch 31",{"$f":"IF(K67=\"\",\"\",IF(K67=\"Bye\",\"Bye\",VLOOKUP(K67,'Team List'!B:BF,42,0)))","v":""},{"$f":"IF(S67=\"\",\"\",IF(VLOOKUP(ROUNDDOWN(((ROW(H67)-1)/2)-2,0),P:U,4,0)=\"T00\",\"Bye\",VLOOKUP(ROUNDDOWN(((ROW(H67)-1)/2)-2,0),P:U,4,0)))","v":""},{"$f":"IF(K67=\"\",-1,VLOOKUP(K67,'Team List'!B:BF,39,0))","v":-1},null,null,null,"",null,61,{"$f":"IF(VLOOKUP(VLOOKUP(R67,'Team List'!BC:BD,2,0),'Team List'!B:D,3,0)<>\"Yes\",\"\",VLOOKUP(R67,'Team List'!BC:BD,2,0))","v":""},null,"",null,{"$f":"IF(U67=\"\",\"\",IF(U67=\"T00\",0,'Team List'!A64))","v":""}]
[{"$f":"'Team List'!$BB65","v":-1.8122358725703436},8,"T62",0,{"$f":"IF(OR(COUNTIF(K$7:K$71,G68)>0,COUNTIF('Team List'!65:65,$J$3)>0),ABS('Team List'!$BB65)*-1,'Team List'!$BB65)","v":-1.8122358725703436},8,"T62",null,null,{"$f":"IF(K68=\"\",\"\",IF(K68=\"Bye\",\"Bye\",VLOOKUP(K68,'Team List'!B:BF,42,0)))","v":""},{"$f":"IF(S68=\"\",\"\",IF(VLOOKUP(ROUNDDOWN(((ROW(H68)-1)/2)-2,0),P:U,6,0)=\"T00\",\"Bye\",VLOOKUP(ROUNDDOWN(((ROW(H68)-1)/2)-2,0),P:U,6,0)))","v":""},{"$f":"IF(K68=\"\",-1,VLOOKUP(K68,'Team List'!B:BF,39,0))","v":-1},null,null,null,"",null,62,{"$f":"IF(VLOOKUP(VLOOKUP(R68,'Team List'!BC:BD,2,0),'Team List'!B:D,3,0)<>\"Yes\",\"\",VLOOKUP(R68,'Team List'!BC:BD,2,0))","v":""},null,"",null,{"$f":"IF(U68=\"\",\"\",IF(U68=\"T00\",0,'Team List'!A65))","v":""}]
[{"$f":"'Team List'!$BB66","v":-6.4833869602721927},42,"T63",0,{"$f":"IF(OR(COUNTIF(K$7:K$71,G69)>0,COUNTIF('Team List'!66:66,$J$3)>0),ABS('Team List'!$BB66)*-1,'Team List'!$BB66)","v":-6.4833869602721927},42,"T63",null,"Pitch 32",{"$f":"IF(K69=\"\",\"\",IF(K69=\"Bye\",\"Bye\",VLOOKUP(K69,'Team List'!B:BF,42,0)))","v":""},{"$f":"IF(S69=\"\",\"\",IF(VLOOKUP(ROUNDDOWN(((ROW(H69)-1)/2)-2,0),P:U,4,0)=\"T00\",\"Bye\",VLOOKUP(ROUNDDOWN(((ROW(H69)-1)/2)-2,0),P:U,4,0)))","v":""},{"$f":"IF(K69=\"\",-1,VLOOKUP(K69,'Team List'!B:BF,39,0))","v":-1},null,null,null,"",null,63,{"$f":"IF(VLOOKUP(VLOOKUP(R69,'Team List'!BC:BD,2,0),'Team List'!B:D,3,0)<>\"Yes\",\"\",VLOOKUP(R69,'Team List'!BC:BD,2,0))","v":""},null,"",null,{"$f":"IF(U69=\"\",\"\",IF(U69=\"T00\",0,'Team List'!A66))","v":""}]
[{"$f":"'Team List'!$BB67","v":-4.4216171595895215},32,"T64",0,{"$f":"IF(OR(COUNTIF(K$7:K$71,G70)>0,COUNTIF('Team List'!67:67,$J$3)>0),ABS('Team List'!$BB67)*-1,'Team List'!$BB67)","v":-4.4216171595895215},32,"T64",null,null,{"$f":"IF(K70=\"\",\"\",IF(K70=\"Bye\",\"Bye\",VLOOKUP(K70,'Team List'!B:BF,42,0)))","v":""},{"$f":"IF(S70=\"\",\"\",IF(VLOOKUP(ROUNDDOWN(((ROW(H70)-1)/2)-2,0),P:U,6,0)=\"T00\",\"Bye\",VLOOKUP(ROUNDDOWN(((ROW(H70)-1)/2)-2,0),P:U,6,0)))","v":""},{"$f":"IF(K70=\"\",-1,VLOOKUP(K70,'Team List'!B:BF,39,0))","v":-1},null,null,null,"",null,64,{"$f":"IF(VLOOKUP(VLOOKUP(R70,'Team List'!BC:BD,2,0),'Team List'!B:D,3,0)<>\"Yes\",\"\",VLOOKUP(R70,'Team List'!BC:BD,2,0))","v":""},null,"",null,{"$f":"IF(U70=\"\",\"\",IF(U70=\"T00\",0,'Team List'!A67))","v":""}]
[{"$f":"IF(OR(COUNTIF(K$7:K$71,C71)>0,$B3<>\"Yes\"),-100,0)","v":-100},65,"Bye",null,{"$f":"IF(OR(COUNTIF(O$7:O$71,G71)>0,$B3<>\"Yes\"),-100,0)","v":-100},65,"Bye"]

{"sheet":"Accel_Pairing_2","index":3,"n_rows":70,"n_cols":118,"rows_kept":70,"cut":false,"hidden":true,"merged":[[68,0,69,0],[46,0,47,0],[48,0,49,0],[50,0,51,0],[52,0,53,0],[54,0,55,0],[56,0,57,0],[58,0,59,0],[60,0,61,0],[62,0,63,0],[64,0,65,0],[66,0,67,0],[44,0,45,0],[22,0,23,0],[24,0,25,0],[26,0,27,0],[28,0,29,0],[30,0,31,0],[32,0,33,0],[34,0,35,0],[36,0,37,0],[38,0,39,0],[40,0,41,0],[42,0,43,0],[20,0,21,0],[6,0,7,0],[8,0,9,0],[10,0,11,0],[12,0,13,0],[14,0,15,0],[16,0,17,0],[18,0,19,0]]}
["Count of active teams:",{"$f":"COUNTIF('Team List'!D1:D67,\"Yes\")","v":0},null,null,8,null,9,null,10,null,11,null,12,null,13,null,14,null,15,null,16,null,17,null,18,null,19,null,20,null,21,null,22,null,23,null,24,null,25,null,26,null,27,null,28,null,29,null,30,null,31,null,32,null,33,null,34,null,35,null,36,null,37,null,38,null,39,null,40,null,41,null,42,null,43,null,44,null,45,null,46,null,47,null,48,null,49,null,50,null,51,null,52,null,53,null,54,null,55,null,56,null,57,null,58,null,59,null,60,null,61,null,62,null,63,null,64]
["Required Pairs:",{"$f":"ROUNDUP(B1/2,0)","v":0},null,null,1,3,1,3,1,3,1,3,1,4,1,4,1,4,1,4,1,5,1,5,1,5,1,5,1,6,1,6,1,6,1,6,1,7,1,7,1,7,1,7,1,8,1,8,1,8,1,8,1,9,1,9,1,9,1,9,1,10,1,10,1,10,1,10,1,11,1,11,1,11,1,11,1,12,1,12,1,12,1,12,1,13,1,13,1,13,1,13,1,14,1,14,1,14,1,14,1,15,1,15,1,15,1,15,1,16,1,16,1,16,1,16,1,17]
["Bye Required:",{"$f":"IF(MOD(B1,2)=1,\"Yes\",\"No\")","v":"No"},null,null,2,4,2,4,2,4,2,4,2,5,2,5,2,5,2,5,2,6,2,6,2,6,2,6,2,7,2,7,2,7,2,7,2,8,2,8,2,8,2,8,2,9,2,9,2,9,2,9,2,10,2,10,2,10,2,10,2,11,2,11,2,11,2,11,2,12,2,12,2,12,2,12,2,13,2,13,2,13,2,13,2,14,2,14,2,14,2,14,2,15,2,15,2,15,2,15,2,16,2,16,2,16,2,16,2,17,2,17,2,17,2,17,2,18]
["Accelerated Pairing ON","No","Type:",0,5,7,5,7,5,7,5,7,3,6,3,6,3,6,3,6,3,7,3,7,3,7,3,7,3,8,3,8,3,8,3,8,3,9,3,9,3,9,3,9,3,10,3,10,3,10,3,10,3,11,3,11,3,11,3,11,3,12,3,12,3,12,3,12,3,13,3,13,3,13,3,13,3,14,3,14,3,14,3,14,3,15,3,15,3,15,3,15,3,16,3,16,3,16,3,16,3,17,3,17,3,17,3,17,3,18,3,18,3,18,3,18,3,19]
[null,null,null,null,6,8,6,8,6,8,6,8,7,10,7,10,7,10,7,10,4,8,4,8,4,8,4,8,4,9,4,9,4,9,4,9,4,10,4,10,4,10,4,10,4,11,4,11,4,11,4,11,4,12,4,12,4,12,4,12,4,13,4,13,4,13,4,13,4,14,4,14,4,14,4,14,4,15,4,15,4,15,4,15,4,16,4,16,4,16,4,16,4,17,4,17,4,17,4,17,4,18,4,18,4,18,4,18,4,19,4,19,4,19,4,19,4,20]
[null,"Rank:","Team:",null,null,null,9,"BYE",9,10,9,10,8,11,8,11,8,11,8,11,9,13,9,13,9,13,9,13,5,10,5,10,5,10,5,10,5,11,5,11,5,11,5,11,5,12,5,12,5,12,5,12,5,13,5,13,5,13,5,13,5,14,5,14,5,14,5,14,5,15,5,15,5,15,5,15,5,16,5,16,5,16,5,16,5,17,5,17,5,17,5,17,5,18,5,18,5,18,5,18,5,19,5,19,5,19,5,19,5,20,5,20,5,20,5,20,5,21]
[1,{"$f":"IF(A7<$B$2,1,IF(A7=$B$2,1,\"\"))","v":""},{"$f":"IF(B7=\"\",\"\",VLOOKUP(INDEX($E$2:$DN$33,A7,(($B$1-7)*2)-1),'Team List'!BC:BD,2,0))","v":""},null,null,null,null,null,null,null,11,"BYE",9,12,9,12,9,12,9,12,10,14,10,14,10,14,10,14,11,16,11,16,11,16,11,16,6,12,6,12,6,12,6,12,6,13,6,13,6,13,6,13,6,14,6,14,6,14,6,14,6,15,6,15,6,15,6,15,6,16,6,16,6,16,6,16,6,17,6,17,6,17,6,17,6,18,6,18,6,18,6,18,6,19,6,19,6,19,6,19,6,20,6,20,6,20,6,20,6,21,6,21,6,21,6,21,6,22]
[null,{"$f":"IF(B7=\"\",\"\",IF(SUM($B$7:B7)=$B$1,\"Bye\",IF(SUM($B$7:B7)<$B$1,1,\"\")))","v":""},{"$f":"IF(B8=\"\",\"\",IF(B8=\"Bye\",\"Bye\",VLOOKUP(INDEX($E$2:$DN$33,A7,(($B$1-7)*2)),'Team List'!BC:BD,2,0)))","v":""},null,null,null,null,null,null,null,null,null,null,null,13,"BYE",13,14,13,14,11,15,11,15,11,15,11,15,12,17,12,17,12,17,12,17,13,19,13,19,13,19,13,19,7,14,7,14,7,14,7,14,7,15,7,15,7,15,7,15,7,16,7,16,7,16,7,16,7,17,7,17,7,17,7,17,7,18,7,18,7,18,7,18,7,19,7,19,7,19,7,19,7,20,7,20,7,20,7,20,7,21,7,21,7,21,7,21,7,22,7,22,7,22,7,22,7,23]
[2,"",{"$f":"IF(B9=\"\",\"\",VLOOKUP(INDEX($E$2:$DN$33,A9,(($B$1-7)*2)-1),'Team List'!BC:BD,2,0))","v":""},null,null,null,null,null,null,null,null,null,null,null,null,null,null,null,15,"BYE",12,16,12,16,12,16,12,16,13,18,13,18,13,18,13,18,14,20,14,20,14,20,14,20,15,22,15,22,15,22,15,22,8,16,8,16,8,16,8,16,8,17,8,17,8,17,8,17,8,18,8,18,8,18,8,18,8,19,8,19,8,19,8,19,8,20,8,20,8,20,8,20,8,21,8,21,8,21,8,21,8,22,8,22,8,22,8,22,8,23,8,23,8,23,8,23,8,24]
[null,{"$f":"IF(B9=\"\",\"\",IF(SUM($B$7:B9)=$B$1,\"Bye\",IF(SUM($B$7:B9)<$B$1,1,\"\")))","v":""},{"$f":"IF(B10=\"\",\"\",IF(B10=\"Bye\",\"Bye\",VLOOKUP(INDEX($E$2:$DN$33,A9,(($B$1-7)*2)),'Team List'!BC:BD,2,0)))","v":""},null,null,null,null,null,null,null,null,null,null,null,null,null,null,null,null,null,null,null,17,"BYE",17,18,17,18,14,19,14,19,14,19,14,19,15,21,15,21,15,21,15,21,16,23,16,23,16,23,16,23,17,25,17,25,17,25,17,25,9,18,9,18,9,18,9,18,9,19,9,19,9,19,9,19,9,20,9,20,9,20,9,20,9,21,9,21,9,21,9,21,9,22,9,22,9,22,9,22,9,23,9,23,9,23,9,23,9,24,9,24,9,24,9,24,9,25]
[3,"",{"$f":"IF(B11=\"\",\"\",VLOOKUP(INDEX($E$2:$DN$33,A11,(($B$1-7)*2)-1),'Team List'!BC:BD,2,0))","v":""},null,null,null,null,null,null,null,null,null,null,null,null,null,null,null,null,null,null,null,null,null,null,null,19,"BYE",15,20,15,20,15,20,15,20,16,22,16,22,16,22,16,22,17,24,17,24,17,24,17,24,18,26,18,26,18,26,18,26,19,28,19,28,19,28,19,28,10,20,10,20,10,20,10,20,10,21,10,21,10,21,10,21,10,22,10,22,10,22,10,22,10,23,10,23,10,23,10,23,10,24,10,24,10,24,10,24,10,25,10,25,10,25,10,25,10,26]
[null,{"$f":"IF(B11=\"\",\"\",IF(SUM($B$7:B11)=$B$1,\"Bye\",IF(SUM($B$7:B11)<$B$1,1,\"\")))","v":""},{"$f":"IF(B12=\"\",\"\",IF(B12=\"Bye\",\"Bye\",VLOOKUP(INDEX($E$2:$DN$33,A11,(($B$1-7)*2)),'Team List'!BC:BD,2,0)))","v":""},null,null,null,null,null,null,null,null,null,null,null,null,null,null,null,null,null,null,null,null,null,null,null,null,null,null,null,21,"BYE",21,22,21,22,17,23,17,23,17,23,17,23,18,25,18,25,18,25,18,25,19,27,19,27,19,27,19,27,20,29,20,29,20,29,20,29,21,31,21,31,21,31,21,31,11,22,11,22,11,22,11,22,11,23,11,23,11,23,11,23,11,24,11,24,11,24,11,24,11,25,11,25,11,25,11,25,11,26,11,26,11,26,11,26,11,27]
[4,"",{"$f":"IF(B13=\"\",\"\",VLOOKUP(INDEX($E$2:$DN$33,A13,(($B$1-7)*2)-1),'Team List'!BC:BD,2,0))","v":""},null,null,null,null,null,null,null,null,null,null,null,null,null,null,null,null,null,null,null,null,null,null,null,null,null,null,null,null,null,null,null,23," BYE",18,24,18,24,18,24,18,24,19,26,19,26,19,26,19,26,20,28,20,28,20,28,20,28,21,30,21,30,21,30,21,30,22,32,22,32,22,32,22,32,23,34,23,34,23,34,23,34,12,24,12,24,12,24,12,24,12,25,12,25,12,25,12,25,12,26,12,26,12,26,12,26,12,27,12,27,12,27,12,27,12,28]
[null,{"$f":"IF(B13=\"\",\"\",IF(SUM($B$7:B13)=$B$1,\"Bye\",IF(SUM($B$7:B13)<$B$1,1,\"\")))","v":""},{"$f":"IF(B14=\"\",\"\",IF(B14=\"Bye\",\"Bye\",VLOOKUP(INDEX($E$2:$DN$33,A13,(($B$1-7)*2)),'Team List'!BC:BD,2,0)))","v":""},null,null,null,null,null,null,null,null,null,null,null,null,null,null,null,null,null,null,null,null,null,null,null,null,null,null,null,null,null,null,null,null,null,null,null,25,"BYE",25,26,25,26,20,27,20,27,20,27,20,27,21,29,21,29,21,29,21,29,22,31,22,31,22,31,22,31,23,33,23,33,23,33,23,33,24,35,24,35,24,35,24,35,25,37,25,37,25,37,25,37,13,26,13,26,13,26,13,26,13,27,13,27,13,27,13,27,13,28,13,28,13,28,13,28,13,29]
[5,"",{"$f":"IF(B15=\"\",\"\",VLOOKUP(INDEX($E$2:$DN$33,A15,(($B$1-7)*2)-1),'Team List'!BC:BD,2,0))","v":""},null,null,null,null,null,null,null,null,null,null,null,null,null,null,null,null,null,null,null,null,null,null,null,null,null,null,null,null,null,null,null,null,null,null,null,null,null,null,null,27,"BYE",21,28,21,28,21,28,21,28,22,30,22,30,22,30,22,30,23,32,23,32,23,32,23,32,24,34,24,34,24,34,24,34,25,36,25,36,25,36,25,36,26,38,26,38,26,38,26,38,27,40,27,40,27,40,27,40,14,28,14,28,14,28,14,28,14,29,14,29,14,29,14,29,14,30]
[null,{"$f":"IF(B15=\"\",\"\",IF(SUM($B$7:B15)=$B$1,\"Bye\",IF(SUM($B$7:B15)<$B$1,1,\"\")))","v":""},{"$f":"IF(B16=\"\",\"\",IF(B16=\"Bye\",\"Bye\",VLOOKUP(INDEX($E$2:$DN$33,A15,(($B$1-7)*2)),'Team List'!BC:BD,2,0)))","v":""},null,null,null,null,null,null,null,null,null,null,null,null,null,null,null,null,null,null,null,null,null,null,null,null,null,null,null,null,null,null,null,null,null,null,null,null,null,null,null,null,null,null,null,29,"BYE",29,30,29,30,23,31,23,31,23,31,23,31,24,33,24,33,24,33,24,33,25,35,25,35,25,35,25,35,26,37,26,37,26,37,26,37,27,39,27,39,27,39,27,39,28,41,28,41,28,41,28,41,29,43,29,43,29,43,29,43,15,30,15,30,15,30,15,30,15,31]
[6,"",{"$f":"IF(B17=\"\",\"\",VLOOKUP(INDEX($E$2:$DN$33,A17,(($B$1-7)*2)-1),'Team List'!BC:BD,2,0))","v":""},null,null,null,null,null,null,null,null,null,null,null,null,null,null,null,null,null,null,null,null,null,null,null,null,null,null,null,null,null,null,null,null,null,null,null,null,null,null,null,null,null,null,null,null,null,null,null,31,"BYE",24,32,24,32,24,32,24,32,25,34,25,34,25,34,25,34,26,36,26,36,26,36,26,36,27,38,27,38,27,38,27,38,28,40,28,40,28,40,28,40,29,42,29,42,29,42,29,42,30,44,30,44,30,44,30,44,31,46,31,46,31,46,31,46,16,32]
[null,{"$f":"IF(B17=\"\",\"\",IF(SUM($B$7:B17)=$B$1,\"Bye\",IF(SUM($B$7:B17)<$B$1,1,\"\")))","v":""},{"$f":"IF(B18=\"\",\"\",IF(B18=\"Bye\",\"Bye\",VLOOKUP(INDEX($E$2:$DN$33,A17,(($B$1-7)*2)),'Team List'!BC:BD,2,0)))","v":""},null,null,null,null,null,null,null,null,null,null,null,null,null,null,null,null,null,null,null,null,null,null,null,null,null,null,null,null,null,null,null,null,null,null,null,null,null,null,null,null,null,null,null,null,null,null,null,null,null,null,null,33,"BYE",33,34,33,34,26,35,26,35,26,35,26,35,27,37,27,37,27,37,27,37,28,39,28,39,28,39,28,39,29,41,29,41,29,41,29,41,30,43,30,43,30,43,30,43,31,45,31,45,31,45,31,45,32,47,32,47,32,47,32,47,33,49]
[7,"",{"$f":"IF(B19=\"\",\"\",VLOOKUP(INDEX($E$2:$DN$33,A19,(($B$1-7)*2)-1),'Team List'!BC:BD,2,0))","v":""},null,null,null,null,null,null,null,null,null,null,null,null,null,null,null,null,null,null,null,null,null,null,null,null,null,null,null,null,null,null,null,null,null,null,null,null,null,null,null,null,null,null,null,null,null,null,null,null,null,null,null,null,null,null,null,35,"BYE",27,36,27,36,27,36,27,36,28,38,28,38,28,38,28,38,29,40,29,40,29,40,29,40,30,42,30,42,30,42,30,42,31,44,31,44,31,44,31,44,32,46,32,46,32,46,32,46,33,48,33,48,33,48,33,48,34,50]
[null,{"$f":"IF(B19=\"\",\"\",IF(SUM($B$7:B19)=$B$1,\"Bye\",IF(SUM($B$7:B19)<$B$1,1,\"\")))","v":""},{"$f":"IF(B20=\"\",\"\",IF(B20=\"Bye\",\"Bye\",VLOOKUP(INDEX($E$2:$DN$33,A19,(($B$1-7)*2)),'Team List'!BC:BD,2,0)))","v":""},null,null,null,null,null,null,null,null,null,null,null,null,null,null,null,null,null,null,null,null,null,null,null,null,null,null,null,null,null,null,null,null,null,null,null,null,null,null,null,null,null,null,null,null,null,null,null,null,null,null,null,null,null,null,null,null,null,null,null,37,"BYE",37,38,37,38,29,39,29,39,29,39,29,39,30,41,30,41,30,41,30,41,31,43,31,43,31,43,31,43,32,45,32,45,32,45,32,45,33,47,33,47,33,47,33,47,34,49,34,49,34,49,34,49,35,51]
[8,"",{"$f":"IF(B21=\"\",\"\",VLOOKUP(INDEX($E$2:$DN$33,A21,(($B$1-7)*2)-1),'Team List'!BC:BD,2,0))","v":""},null,null,null,null,null,null,null,null,null,null,null,null,null,null,null,null,null,null,null,null,null,null,null,null,null,null,null,null,null,null,null,null,null,null,null,null,null,null,null,null,null,null,null,null,null,null,null,null,null,null,null,null,null,null,null,null,null,null,null,null,null,null,null,39,"BYE",30,40,30,40,30,40,30,40,31,42,31,42,31,42,31,42,32,44,32,44,32,44,32,44,33,46,33,46,33,46,33,46,34,48,34,48,34,48,34,48,35,50,35,50,35,50,35,50,36,52]
[null,{"$f":"IF(B21=\"\",\"\",IF(SUM($B$7:B21)=$B$1,\"Bye\",IF(SUM($B$7:B21)<$B$1,1,\"\")))","v":""},{"$f":"IF(B22=\"\",\"\",IF(B22=\"Bye\",\"Bye\",VLOOKUP(INDEX($E$2:$DN$33,A21,(($B$1-7)*2)),'Team List'!BC:BD,2,0)))","v":""},null,null,null,null,null,null,null,null,null,null,null,null,null,null,null,null,null,null,null,null,null,null,null,null,null,null,null,null,null,null,null,null,null,null,null,null,null,null,null,null,null,null,null,null,null,null,null,null,null,null,null,null,null,null,null,null,null,null,null,null,null,null,null,null,null,null,null,41,"BYE",41,42,41,42,32,43,32,43,32,43,32,43,33,45,33,45,33,45,33,45,34,47,34,47,34,47,34,47,35,49,35,49,35,49,35,49,36,51,36,51,36,51,36,51,37,53]
[9,"",{"$f":"IF(B23=\"\",\"\",VLOOKUP(INDEX($E$2:$DN$33,A23,(($B$1-7)*2)-1),'Team List'!BC:BD,2,0))","v":""},null,null,null,null,null,null,null,null,null,null,null,null,null,null,null,null,null,null,null,null,null,null,null,null,null,null,null,null,null,null,null,null,null,null,null,null,null,null,null,null,null,null,null,null,null,null,null,null,null,null,null,null,null,null,null,null,null,null,null,null,null,null,null,null,null,null,null,null,null,null,null,43,"BYE",33,44,33,44,33,44,33,44,34,46,34,46,34,46,34,46,35,48,35,48,35,48,35,48,36,50,36,50,36,50,36,50,37,52,37,52,37,52,37,52,38,54]
[null,{"$f":"IF(B23=\"\",\"\",IF(SUM($B$7:B23)=$B$1,\"Bye\",IF(SUM($B$7:B23)<$B$1,1,\"\")))","v":""},{"$f":"IF(B24=\"\",\"\",IF(B24=\"Bye\",\"Bye\",VLOOKUP(INDEX($E$2:$DN$33,A23,(($B$1-7)*2)),'Team List'!BC:BD,2,0)))","v":""},null,null,null,null,null,null,null,null,null,null,null,null,null,null,null,null,null,null,null,null,null,null,null,null,null,null,null,null,null,null,null,null,null,null,null,null,null,null,null,null,null,null,null,null,null,null,null,null,null,null,null,null,null,null,null,null,null,null,null,null,null,null,null,null,null,null,null,null,null,null,null,null,null,null,null,45,"BYE",45,46,45,46,35,47,35,47,35,47,35,47,36,49,36,49,36,49,36,49,37,51,37,51,37,51,37,51,38,53,38,53,38,53,38,53,39,55]
[10,"",{"$f":"IF(B25=\"\",\"\",VLOOKUP(INDEX($E$2:$DN$33,A25,(($B$1-7)*2)-1),'Team List'!BC:BD,2,0))","v":""},null,null,null,null,null,null,null,null,null,null,null,null,null,null,null,null,null,null,null,null,null,null,null,null,null,null,null,null,null,null,null,null,null,null,null,null,null,null,null,null,null,null,null,null,null,null,null,null,null,null,null,null,null,null,null,null,null,null,null,null,null,null,null,null,null,null,null,null,null,null,null,null,null,null,null,null,null,null,null,47,"BYE",36,48,36,48,36,48,36,48,37,50,37,50,37,50,37,50,38,52,38,52,38,52,38,52,39,54,39,54,39,54,39,54,40,56]
[null,{"$f":"IF(B25=\"\",\"\",IF(SUM($B$7:B25)=$B$1,\"Bye\",IF(SUM($B$7:B25)<$B$1,1,\"\")))","v":""},{"$f":"IF(B26=\"\",\"\",IF(B26=\"Bye\",\"Bye\",VLOOKUP(INDEX($E$2:$DN$33,A25,(($B$1-7)*2)),'Team List'!BC:BD,2,0)))","v":""},null,null,null,null,null,null,null,null,null,null,null,null,null,null,null,null,null,null,null,null,null,null,null,null,null,null,null,null,null,null,null,null,null,null,null,null,null,null,null,null,null,null,null,null,null,null,null,null,null,null,null,null,null,null,null,null,null,null,null,null,null,null,null,null,null,null,null,null,null,null,null,null,null,null,null,null,null,null,null,null,null,null,null,49,"BYE",49,50,49,50,38,51,38,51,38,51,38,51,39,53,39,53,39,53,39,53,40,55,40,55,40,55,40,55,41,57]
[11,"",{"$f":"IF(B27=\"\",\"\",VLOOKUP(INDEX($E$2:$DN$33,A27,(($B$1-7)*2)-1),'Team List'!BC:BD,2,0))","v":""},null,null,null,null,null,null,null,null,null,null,null,null,null,null,null,null,null,null,null,null,null,null,null,null,null,null,null,null,null,null,null,null,null,null,null,null,null,null,null,null,null,null,null,null,null,null,null,null,null,null,null,null,null,null,null,null,null,null,null,null,null,null,null,null,null,null,null,null,null,null,null,null,null,null,null,null,null,null,null,null,null,null,null,null,null,null,null,51,"BYE",39,52,39,52,39,52,39,52,40,54,40,54,40,54,40,54,41,56,41,56,41,56,41,56,42,58]
[null,{"$f":"IF(B27=\"\",\"\",IF(SUM($B$7:B27)=$B$1,\"Bye\",IF(SUM($B$7:B27)<$B$1,1,\"\")))","v":""},{"$f":"IF(B28=\"\",\"\",IF(B28=\"Bye\",\"Bye\",VLOOKUP(INDEX($E$2:$DN$33,A27,(($B$1-7)*2)),'Team List'!BC:BD,2,0)))","v":""},null,null,null,null,null,null,null,null,null,null,null,null,null,null,null,null,null,null,null,null,null,null,null,null,null,null,null,null,null,null,null,null,null,null,null,null,null,null,null,null,null,null,null,null,null,null,null,null,null,null,null,null,null,null,null,null,null,null,null,null,null,null,null,null,null,null,null,null,null,null,null,null,null,null,null,null,null,null,null,null,null,null,null,null,null,null,null,null,null,null,null,53,"BYE",53,54,53,54,41,55,41,55,41,55,41,55,42,57,42,57,42,57,42,57,43,59]
[12,"",{"$f":"IF(B29=\"\",\"\",VLOOKUP(INDEX($E$2:$DN$33,A29,(($B$1-7)*2)-1),'Team List'!BC:BD,2,0))","v":""},null,null,null,null,null,null,null,null,null,null,null,null,null,null,null,null,null,null,null,null,null,null,null,null,null,null,null,null,null,null,null,null,null,null,null,null,null,null,null,null,null,null,null,null,null,null,null,null,null,null,null,null,null,null,null,null,null,null,null,null,null,null,null,null,null,null,null,null,null,null,null,null,null,null,null,null,null,null,null,null,null,null,null,null,null,null,null,null,null,null,null,null,null,null,null,55,"BYE",42,56,42,56,42,56,42,56,43,58,43,58,43,58,43,58,44,60]
[null,{"$f":"IF(B29=\"\",\"\",IF(SUM($B$7:B29)=$B$1,\"Bye\",IF(SUM($B$7:B29)<$B$1,1,\"\")))","v":""},{"$f":"IF(B30=\"\",\"\",IF(B30=\"Bye\",\"Bye\",VLOOKUP(INDEX($E$2:$DN$33,A29,(($B$1-7)*2)),'Team List'!BC:BD,2,0)))","v":""},null,null,null,null,null,null,null,null,null,null,null,null,null,null,null,null,null,null,null,null,null,null,null,null,null,null,null,null,null,null,null,null,null,null,null,null,null,null,null,null,null,null,null,null,null,null,null,null,null,null,null,null,null,null,null,null,null,null,null,null,null,null,null,null,null,null,null,null,null,null,null,null,null,null,null,null,null,null,null,null,null,null,null,null,null,null,null,null,null,null,null,null,null,null,null,null,null,null,null,57,"BYE",57,58,57,58,44,59,44,59,44,59,44,59,45,61]
[13,"",{"$f":"IF(B31=\"\",\"\",VLOOKUP(INDEX($E$2:$DN$33,A31,(($B$1-7)*2)-1),'Team List'!BC:BD,2,0))","v":""},null,null,null,null,null,null,null,null,null,null,null,null,null,null,null,null,null,null,null,null,null,null,null,null,null,null,null,null,null,null,null,null,null,null,null,null,null,null,null,null,null,null,null,null,null,null,null,null,null,null,null,null,null,null,null,null,null,null,null,null,null,null,null,null,null,null,null,null,null,null,null,null,null,null,null,null,null,null,null,null,null,null,null,null,null,null,null,null,null,null,null,null,null,null,null,null,null,null,null,null,null,null,null,59,"BYE",45,60,45,60,45,60,45,60,46,62]
[null,{"$f":"IF(B31=\"\",\"\",IF(SUM($B$7:B31)=$B$1,\"Bye\",IF(SUM($B$7:B31)<$B$1,1,\"\")))","v":""},{"$f":"IF(B32=\"\",\"\",IF(B32=\"Bye\",\"Bye\",VLOOKUP(INDEX($E$2:$DN$33,A31,(($B$1-7)*2)),'Team List'!BC:BD,2,0)))","v":""},null,null,null,null,null,null,null,null,null,null,null,null,null,null,null,null,null,null,null,null,null,null,null,null,null,null,null,null,null,null,null,null,null,null,null,null,null,null,null,null,null,null,null,null,null,null,null,null,null,null,null,null,null,null,null,null,null,null,null,null,null,null,null,null,null,null,null,null,null,null,null,null,null,null,null,null,null,null,null,null,null,null,null,null,null,null,null,null,null,null,null,null,null,null,null,null,null,null,null,null,null,null,null,null,null,null,null,61,"BYE",61,62,61,62,47,63]
[14,"",{"$f":"IF(B33=\"\",\"\",VLOOKUP(INDEX($E$2:$DN$33,A33,(($B$1-7)*2)-1),'Team List'!BC:BD,2,0))","v":""},null,null,null,null,null,null,null,null,null,null,null,null,null,null,null,null,null,null,null,null,null,null,null,null,null,null,null,null,null,null,null,null,null,null,null,null,null,null,null,null,null,null,null,null,null,null,null,null,null,null,null,null,null,null,null,null,null,null,null,null,null,null,null,null,null,null,null,null,null,null,null,null,null,null,null,null,null,null,null,null,null,null,null,null,null,null,null,null,null,null,null,null,null,null,null,null,null,null,null,null,null,null,null,null,null,null,null,null,null,null,null,63,"BYE",48,64]
[null,{"$f":"IF(B33=\"\",\"\",IF(SUM($B$7:B33)=$B$1,\"Bye\",IF(SUM($B$7:B33)<$B$1,1,\"\")))","v":""},{"$f":"IF(B34=\"\",\"\",IF(B34=\"Bye\",\"Bye\",VLOOKUP(INDEX($E$2:$DN$33,A33,(($B$1-7)*2)),'Team List'!BC:BD,2,0)))","v":""}]
[15,"",{"$f":"IF(B35=\"\",\"\",VLOOKUP(INDEX($E$2:$DN$33,A35,(($B$1-7)*2)-1),'Team List'!BC:BD,2,0))","v":""}]
[null,{"$f":"IF(B35=\"\",\"\",IF(SUM($B$7:B35)=$B$1,\"Bye\",IF(SUM($B$7:B35)<$B$1,1,\"\")))","v":""},{"$f":"IF(B36=\"\",\"\",IF(B36=\"Bye\",\"Bye\",VLOOKUP(INDEX($E$2:$DN$33,A35,(($B$1-7)*2)),'Team List'!BC:BD,2,0)))","v":""}]
[16,"",{"$f":"IF(B37=\"\",\"\",VLOOKUP(INDEX($E$2:$DN$33,A37,(($B$1-7)*2)-1),'Team List'!BC:BD,2,0))","v":""}]
[null,{"$f":"IF(B37=\"\",\"\",IF(SUM($B$7:B37)=$B$1,\"Bye\",IF(SUM($B$7:B37)<$B$1,1,\"\")))","v":""},{"$f":"IF(B38=\"\",\"\",IF(B38=\"Bye\",\"Bye\",VLOOKUP(INDEX($E$2:$DN$33,A37,(($B$1-7)*2)),'Team List'!BC:BD,2,0)))","v":""}]
[17,"",{"$f":"IF(B39=\"\",\"\",VLOOKUP(INDEX($E$2:$DN$33,A39,(($B$1-7)*2)-1),'Team List'!BC:BD,2,0))","v":""}]
[null,{"$f":"IF(B39=\"\",\"\",IF(SUM($B$7:B39)=$B$1,\"Bye\",IF(SUM($B$7:B39)<$B$1,1,\"\")))","v":""},{"$f":"IF(B40=\"\",\"\",IF(B40=\"Bye\",\"Bye\",VLOOKUP(INDEX($E$2:$DN$33,A39,(($B$1-7)*2)),'Team List'!BC:BD,2,0)))","v":""}]
[18,"",{"$f":"IF(B41=\"\",\"\",VLOOKUP(INDEX($E$2:$DN$33,A41,(($B$1-7)*2)-1),'Team List'!BC:BD,2,0))","v":""}]
[null,{"$f":"IF(B41=\"\",\"\",IF(SUM($B$7:B41)=$B$1,\"Bye\",IF(SUM($B$7:B41)<$B$1,1,\"\")))","v":""},{"$f":"IF(B42=\"\",\"\",IF(B42=\"Bye\",\"Bye\",VLOOKUP(INDEX($E$2:$DN$33,A41,(($B$1-7)*2)),'Team List'!BC:BD,2,0)))","v":""}]
[19,"",{"$f":"IF(B43=\"\",\"\",VLOOKUP(INDEX($E$2:$DN$33,A43,(($B$1-7)*2)-1),'Team List'!BC:BD,2,0))","v":""}]
[null,{"$f":"IF(B43=\"\",\"\",IF(SUM($B$7:B43)=$B$1,\"Bye\",IF(SUM($B$7:B43)<$B$1,1,\"\")))","v":""},{"$f":"IF(B44=\"\",\"\",IF(B44=\"Bye\",\"Bye\",VLOOKUP(INDEX($E$2:$DN$33,A43,(($B$1-7)*2)),'Team List'!BC:BD,2,0)))","v":""}]
[20,"",{"$f":"IF(B45=\"\",\"\",VLOOKUP(INDEX($E$2:$DN$33,A45,(($B$1-7)*2)-1),'Team List'!BC:BD,2,0))","v":""}]
[null,{"$f":"IF(B45=\"\",\"\",IF(SUM($B$7:B45)=$B$1,\"Bye\",IF(SUM($B$7:B45)<$B$1,1,\"\")))","v":""},{"$f":"IF(B46=\"\",\"\",IF(B46=\"Bye\",\"Bye\",VLOOKUP(INDEX($E$2:$DN$33,A45,(($B$1-7)*2)),'Team List'!BC:BD,2,0)))","v":""}]
[21,"",{"$f":"IF(B47=\"\",\"\",VLOOKUP(INDEX($E$2:$DN$33,A47,(($B$1-7)*2)-1),'Team List'!BC:BD,2,0))","v":""}]
[null,{"$f":"IF(B47=\"\",\"\",IF(SUM($B$7:B47)=$B$1,\"Bye\",IF(SUM($B$7:B47)<$B$1,1,\"\")))","v":""},{"$f":"IF(B48=\"\",\"\",IF(B48=\"Bye\",\"Bye\",VLOOKUP(INDEX($E$2:$DN$33,A47,(($B$1-7)*2)),'Team List'!BC:BD,2,0)))","v":""}]
[22,"",{"$f":"IF(B49=\"\",\"\",VLOOKUP(INDEX($E$2:$DN$33,A49,(($B$1-7)*2)-1),'Team List'!BC:BD,2,0))","v":""}]
[null,{"$f":"IF(B49=\"\",\"\",IF(SUM($B$7:B49)=$B$1,\"Bye\",IF(SUM($B$7:B49)<$B$1,1,\"\")))","v":""},{"$f":"IF(B50=\"\",\"\",IF(B50=\"Bye\",\"Bye\",VLOOKUP(INDEX($E$2:$DN$33,A49,(($B$1-7)*2)),'Team List'!BC:BD,2,0)))","v":""}]
[23,"",{"$f":"IF(B51=\"\",\"\",VLOOKUP(INDEX($E$2:$DN$33,A51,(($B$1-7)*2)-1),'Team List'!BC:BD,2,0))","v":""}]
[null,{"$f":"IF(B51=\"\",\"\",IF(SUM($B$7:B51)=$B$1,\"Bye\",IF(SUM($B$7:B51)<$B$1,1,\"\")))","v":""},{"$f":"IF(B52=\"\",\"\",IF(B52=\"Bye\",\"Bye\",VLOOKUP(INDEX($E$2:$DN$33,A51,(($B$1-7)*2)),'Team List'!BC:BD,2,0)))","v":""}]
[24,"",{"$f":"IF(B53=\"\",\"\",VLOOKUP(INDEX($E$2:$DN$33,A53,(($B$1-7)*2)-1),'Team List'!BC:BD,2,0))","v":""}]
[null,{"$f":"IF(B53=\"\",\"\",IF(SUM($B$7:B53)=$B$1,\"Bye\",IF(SUM($B$7:B53)<$B$1,1,\"\")))","v":""},{"$f":"IF(B54=\"\",\"\",IF(B54=\"Bye\",\"Bye\",VLOOKUP(INDEX($E$2:$DN$33,A53,(($B$1-7)*2)),'Team List'!BC:BD,2,0)))","v":""}]
[25,"",{"$f":"IF(B55=\"\",\"\",VLOOKUP(INDEX($E$2:$DN$33,A55,(($B$1-7)*2)-1),'Team List'!BC:BD,2,0))","v":""}]
[null,{"$f":"IF(B55=\"\",\"\",IF(SUM($B$7:B55)=$B$1,\"Bye\",IF(SUM($B$7:B55)<$B$1,1,\"\")))","v":""},{"$f":"IF(B56=\"\",\"\",IF(B56=\"Bye\",\"Bye\",VLOOKUP(INDEX($E$2:$DN$33,A55,(($B$1-7)*2)),'Team List'!BC:BD,2,0)))","v":""}]
[26,"",{"$f":"IF(B57=\"\",\"\",VLOOKUP(INDEX($E$2:$DN$33,A57,(($B$1-7)*2)-1),'Team List'!BC:BD,2,0))","v":""}]
[null,{"$f":"IF(B57=\"\",\"\",IF(SUM($B$7:B57)=$B$1,\"Bye\",IF(SUM($B$7:B57)<$B$1,1,\"\")))","v":""},{"$f":"IF(B58=\"\",\"\",IF(B58=\"Bye\",\"Bye\",VLOOKUP(INDEX($E$2:$DN$33,A57,(($B$1-7)*2)),'Team List'!BC:BD,2,0)))","v":""}]
[27,"",{"$f":"IF(B59=\"\",\"\",VLOOKUP(INDEX($E$2:$DN$33,A59,(($B$1-7)*2)-1),'Team List'!BC:BD,2,0))","v":""}]
[null,{"$f":"IF(B59=\"\",\"\",IF(SUM($B$7:B59)=$B$1,\"Bye\",IF(SUM($B$7:B59)<$B$1,1,\"\")))","v":""},{"$f":"IF(B60=\"\",\"\",IF(B60=\"Bye\",\"Bye\",VLOOKUP(INDEX($E$2:$DN$33,A59,(($B$1-7)*2)),'Team List'!BC:BD,2,0)))","v":""}]
[28,"",{"$f":"IF(B61=\"\",\"\",VLOOKUP(INDEX($E$2:$DN$33,A61,(($B$1-7)*2)-1),'Team List'!BC:BD,2,0))","v":""}]
[null,{"$f":"IF(B61=\"\",\"\",IF(SUM($B$7:B61)=$B$1,\"Bye\",IF(SUM($B$7:B61)<$B$1,1,\"\")))","v":""},{"$f":"IF(B62=\"\",\"\",IF(B62=\"Bye\",\"Bye\",VLOOKUP(INDEX($E$2:$DN$33,A61,(($B$1-7)*2)),'Team List'!BC:BD,2,0)))","v":""}]
[29,"",{"$f":"IF(B63=\"\",\"\",VLOOKUP(INDEX($E$2:$DN$33,A63,(($B$1-7)*2)-1),'Team List'!BC:BD,2,0))","v":""}]
[null,{"$f":"IF(B63=\"\",\"\",IF(SUM($B$7:B63)=$B$1,\"Bye\",IF(SUM($B$7:B63)<$B$1,1,\"\")))","v":""},{"$f":"IF(B64=\"\",\"\",IF(B64=\"Bye\",\"Bye\",VLOOKUP(INDEX($E$2:$DN$33,A63,(($B$1-7)*2)),'Team List'!BC:BD,2,0)))","v":""}]
[30,"",{"$f":"IF(B65=\"\",\"\",VLOOKUP(INDEX($E$2:$DN$33,A65,(($B$1-7)*2)-1),'Team List'!BC:BD,2,0))","v":""}]
[null,{"$f":"IF(B65=\"\",\"\",IF(SUM($B$7:B65)=$B$1,\"Bye\",IF(SUM($B$7:B65)<$B$1,1,\"\")))","v":""},{"$f":"IF(B66=\"\",\"\",IF(B66=\"Bye\",\"Bye\",VLOOKUP(INDEX($E$2:$DN$33,A65,(($B$1-7)*2)),'Team List'!BC:BD,2,0)))","v":""}]
[31,"",{"$f":"IF(B67=\"\",\"\",VLOOKUP(INDEX($E$2:$DN$33,A67,(($B$1-7)*2)-1),'Team List'!BC:BD,2,0))","v":""}]
[null,{"$f":"IF(B67=\"\",\"\",IF(SUM($B$7:B67)=$B$1,\"Bye\",IF(SUM($B$7:B67)<$B$1,1,\"\")))","v":""},{"$f":"IF(B68=\"\",\"\",IF(B68=\"Bye\",\"Bye\",VLOOKUP(INDEX($E$2:$DN$33,A67,(($B$1-7)*2)),'Team List'!BC:BD,2,0)))","v":""}]
[32,"",{"$f":"IF(B69=\"\",\"\",VLOOKUP(INDEX($E$2:$DN$33,A69,(($B$1-7)*2)-1),'Team List'!BC:BD,2,0))","v":""}]
[null,{"$f":"IF(B69=\"\",\"\",IF(SUM($B$7:B69)=$B$1,\"Bye\",IF(SUM($B$7:B69)<$B$1,1,\"\")))","v":""},{"$f":"IF(B70=\"\",\"\",IF(B70=\"Bye\",\"Bye\",VLOOKUP(INDEX($E$2:$DN$33,A69,(($B$1-7)*2)),'Team List'!BC:BD,2,0)))","v":""}]

{"sheet":"Team List","index":4,"n_rows":68,"n_cols":58,"rows_kept":68,"cut":false,"hidden":false,"merged":[[1,29,1,33],[1,56,2,56],[1,55,2,55],[1,57,2,57],[1,53,2,53],[1,51,2,51],[1,52,2,52],[1,54,2,54],[1,50,2,50],[1,34,1,38],[1,39,1,43],[1,44,1,48],[1,1,2,1],[1,2,2,2],[1,3,2,3],[1,24,1,28],[1,4,1,8],[1,9,1,13],[1,14,1,18],[1,19,1,23]]}
[null,null,"DMK Klassic \nSystem 6.0"]
[null,"T#","Team Name","Active?","Round 1",null,null,null,null,"Round 2",null,null,null,null,"Round 3",null,null,null,null,"Round 4",null,null,null,null,"Round 5",null,null,null,null,"Round 6",null,null,null,null,"Round 7",null,null,null,null,"Round 8",null,null,null,null,"Round 9",null,null,null,null,null,"Matches","Score","Opp. Scr.","UseScore","Use\nRank","Team#","Score","Rank"]
["Rand()",null,null,null,"Opp","Opp. Rnd. Scr.","Opp. Crnt. Scr.","Result","Score","Opp","Opp. Rnd. Scr.","Opp. Crnt. Scr.","Result","Score","Opp","Opp. Rnd. Scr.","Opp. Crnt. Scr.","Result","Score","Opp","Opp. Rnd. Scr.","Opp. Crnt. Scr.","Result","Score","Opp","Opp. Rnd. Scr.","Opp. Crnt. Scr.","Result","Score","Opp","Opp. Rnd. Scr.","Opp. Crnt. Scr.","Result","Score","Opp","Opp. Rnd. Scr.","Opp. Crnt. Scr.","Result","Score","Opp","Opp. Rnd. Scr.","Opp. Crnt. Scr.","Result","Score","Opp","Opp. Rnd. Scr.","Opp. Crnt. Scr.","Result","Score"]
[0.43332196214204444,"T01",null,null,{"$f":"IF(ISERROR(VLOOKUP($B4,'Round One'!$C:$J,8,0)),0,IF(AND(LEN($C4)<>0,$D4=\"Yes\"),VLOOKUP($B4,'Round One'!$C:$J,8,0),0))","v":0},{"$f":"IF(ISERROR(VLOOKUP(E4,'Round One'!$C:$J,7,0)),0,IF(AND(LEN($C4)<>0,$D4=\"Yes\"),VALUE(VLOOKUP(E4,'Round One'!$C:$J,7,0)+1E-24),0))","v":0},{"$f":"IF(ISERROR(VLOOKUP(E4,$B:$AZ,51,0)),0,VLOOKUP(E4,$B:$AZ,51,0)+1E-24)","v":0},{"$f":"IF(ISERROR(VLOOKUP($B4,'Round One'!$C:$J,6,0)),0,IF(AND(LEN($C4)<>0,$D4=\"Yes\"),VLOOKUP($B4,'Round One'!$C:$J,6,0),\"\"))","v":0},{"$f":"IF(ISERROR(VLOOKUP($B4,'Round One'!$C:$J,7,0)),0,IF(LEN($C4)<>0,VLOOKUP($B4,'Round One'!$C:$J,7,0)+1E-24,0))","v":0},{"$f":"IF(ISERROR(VLOOKUP($B4,'Round Two'!$C:$J,8,0)),0,IF(AND(LEN($C4)<>0,$D4=\"Yes\"),VLOOKUP($B4,'Round Two'!$C:$J,8,0),\"\"))","v":0},{"$f":"IF(ISERROR(VLOOKUP(J4,'Round Two'!$C:$J,7,0)),0,IF(AND(LEN($C4)<>0,$D4=\"Yes\"),VALUE(VLOOKUP(J4,'Round Two'!$C:$J,7,0))+1E-24,0))","v":0},{"$f":"IF(ISERROR(VLOOKUP(J4,$B:$AZ,51,0)),0,VLOOKUP(J4,$B:$AZ,51,0)+1E-24)","v":0},{"$f":"IF(ISERROR(VLOOKUP($B4,'Round Two'!$C:$J,6,0)),0,IF(AND(LEN($C4)<>0,$D4=\"Yes\"),VLOOKUP($B4,'Round Two'!$C:$J,6,0),\"\"))","v":0},{"$f":"IF(ISERROR(VLOOKUP($B4,'Round Two'!$C:$J,7,0)),0,IF(LEN($C4)<>0,VLOOKUP($B4,'Round Two'!$C:$J,7,0)+1E-24,0))","v":0},{"$f":"IF(ISERROR(VLOOKUP($B4,'Round Three'!$C:$J,8,0)),0,IF(AND(LEN($C4)<>0,$D4=\"Yes\"),VLOOKUP($B4,'Round Three'!$C:$J,8,0),\"\"))","v":0},{"$f":"IF(ISERROR(VLOOKUP(O4,'Round Three'!$C:$J,7,0)),0,IF(AND(LEN($C4)<>0,$D4=\"Yes\"),VLOOKUP(O4,'Round Three'!$C:$J,7,0)+1E-24,0))","v":0},{"$f":"IF(ISERROR(VLOOKUP(O4,$B:$AZ,51,0)),0,VLOOKUP(O4,$B:$AZ,51,0)+1E-24)","v":0},{"$f":"IF(ISERROR(VLOOKUP($B4,'Round Three'!$C:$J,6,0)),0,IF(AND(LEN($C4)<>0,$D4=\"Yes\"),VLOOKUP($B4,'Round Three'!$C:$J,6,0),\"\"))","v":0},{"$f":"IF(ISERROR(VLOOKUP($B4,'Round Three'!$C:$J,7,0)),0,IF(LEN($C4)<>0,VLOOKUP($B4,'Round Three'!$C:$J,7,0)+1E-24,0))","v":0},{"$f":"IF(ISERROR(VLOOKUP($B4,'Round Four'!$C:$J,8,0)),0,IF(AND(LEN($C4)<>0,$D4=\"Yes\"),VLOOKUP($B4,'Round Four'!$C:$J,8,0),\"\"))","v":0},{"$f":"IF(ISERROR(VLOOKUP(T4,'Round Four'!$C:$J,7,0)),0,IF(AND(LEN($C4)<>0,$D4=\"Yes\"),VLOOKUP(T4,'Round Four'!$C:$J,7,0)+1E-24,0))","v":0},{"$f":"IF(ISERROR(VLOOKUP(T4,$B:$AZ,51,0)),0,VLOOKUP(T4,$B:$AZ,51,0)+1E-24)","v":0},{"$f":"IF(ISERROR(VLOOKUP($B4,'Round Four'!$C:$J,6,0)),0,IF(AND(LEN($C4)<>0,$D4=\"Yes\"),VLOOKUP($B4,'Round Four'!$C:$J,6,0),\"\"))","v":0},{"$f":"IF(ISERROR(VLOOKUP($B4,'Round Four'!$C:$J,7,0)),0,IF(LEN($C4)<>0,VLOOKUP($B4,'Round Four'!$C:$J,7,0)+1E-24,0))","v":0},{"$f":"IF(ISERROR(VLOOKUP($B4,'Round Five'!$C:$J,8,0)),0,IF(AND(LEN($C4)<>0,$D4=\"Yes\"),VLOOKUP($B4,'Round Five'!$C:$J,8,0),\"\"))","v":0},{"$f":"IF(ISERROR(VLOOKUP(Y4,'Round Five'!$C:$J,7,0)),0,IF(AND(LEN($C4)<>0,$D4=\"Yes\"),VLOOKUP(Y4,'Round Five'!$C:$J,7,0)+1E-24,0))","v":0},{"$f":"IF(ISERROR(VLOOKUP(Y4,$B:$AZ,51,0)),0,VLOOKUP(Y4,$B:$AZ,51,0)+1E-24)","v":0},{"$f":"IF(ISERROR(VLOOKUP($B4,'Round Five'!$C:$J,6,0)),0,IF(AND(LEN($C4)<>0,$D4=\"Yes\"),VLOOKUP($B4,'Round Five'!$C:$J,6,0),\"\"))","v":0},{"$f":"IF(ISERROR(VLOOKUP($B4,'Round Five'!$C:$J,7,0)),0,IF(LEN($C4)<>0,VLOOKUP($B4,'Round Five'!$C:$J,7,0)+1E-24,0))","v":0},{"$f":"IF(ISERROR(VLOOKUP($B4,'Round Six'!$C:$J,8,0)),0,IF(AND(LEN($C4)<>0,$D4=\"Yes\"),VLOOKUP($B4,'Round Six'!$C:$J,8,0),\"\"))","v":0},{"$f":"IF(ISERROR(VLOOKUP(AD4,'Round Six'!$C:$J,7,0)),0,IF(AND(LEN($C4)<>0,$D4=\"Yes\"),VLOOKUP(AD4,'Round Six'!$C:$J,7,0)+1E-24,0))","v":0},{"$f":"IF(ISERROR(VLOOKUP(AD4,$B:$AZ,51,0)),0,VLOOKUP(AD4,$B:$AZ,51,0)+1E-24)","v":0},{"$f":"IF(ISERROR(VLOOKUP($B4,'Round Six'!$C:$J,6,0)),0,IF(AND(LEN($C4)<>0,$D4=\"Yes\"),VLOOKUP($B4,'Round Six'!$C:$J,6,0),\"\"))","v":0},{"$f":"IF(ISERROR(VLOOKUP($B4,'Round Six'!$C:$J,7,0)),0,IF(LEN($C4)<>0,VLOOKUP($B4,'Round Six'!$C:$J,7,0)+1E-24,0))","v":0},{"$f":"IF(ISERROR(VLOOKUP($B4,'Round Seven'!$C:$J,8,0)),0,IF(AND(LEN($C4)<>0,$D4=\"Yes\"),VLOOKUP($B4,'Round Seven'!$C:$J,8,0),\"\"))","v":0},{"$f":"IF(ISERROR(VLOOKUP(AI4,'Round Seven'!$C:$J,7,0)),0,IF(AND(LEN($C4)<>0,$D4=\"Yes\"),VLOOKUP(AI4,'Round Seven'!$C:$J,7,0)+1E-24,0))","v":0},{"$f":"IF(ISERROR(VLOOKUP(AI4,$B:$AZ,51,0)),0,VLOOKUP(AI4,$B:$AZ,51,0)+1E-24)","v":0},{"$f":"IF(ISERROR(VLOOKUP($B4,'Round Seven'!$C:$J,6,0)),0,IF(AND(LEN($C4)<>0,$D4=\"Yes\"),VLOOKUP($B4,'Round Seven'!$C:$J,6,0),\"\"))","v":0},{"$f":"IF(ISERROR(VLOOKUP($B4,'Round Seven'!$C:$J,7,0)),0,IF(LEN($C4)<>0,VLOOKUP($B4,'Round Seven'!$C:$J,7,0)+1E-24,0))","v":0},{"$f":"IF(ISERROR(VLOOKUP($B4,'Round Eight'!$C:$J,8,0)),0,IF(AND(LEN($C4)<>0,$D4=\"Yes\"),VLOOKUP($B4,'Round Eight'!$C:$J,8,0),\"\"))","v":0},{"$f":"IF(ISERROR(VLOOKUP(AN4,'Round Eight'!$C:$J,7,0)),0,IF(AND(LEN($C4)<>0,$D4=\"Yes\"),VLOOKUP(AN4,'Round Eight'!$C:$J,7,0)+1E-24,0))","v":0},{"$f":"IF(ISERROR(VLOOKUP(AN4,$B:$AZ,51,0)),0,VLOOKUP(AN4,$B:$AZ,51,0)+1E-24)","v":0},{"$f":"IF(ISERROR(VLOOKUP($B4,'Round Eight'!$C:$J,6,0)),0,IF(AND(LEN($C4)<>0,$D4=\"Yes\"),VLOOKUP($B4,'Round Eight'!$C:$J,6,0),\"\"))","v":0},{"$f":"IF(ISERROR(VLOOKUP($B4,'Round Eight'!$C:$J,7,0)),0,IF(LEN($C4)<>0,VLOOKUP($B4,'Round Eight'!$C:$J,7,0)+1E-24,0))","v":0},{"$f":"IF(ISERROR(VLOOKUP($B4,'Round Nine'!$C:$J,8,0)),0,IF(AND(LEN($C4)<>0,$D4=\"Yes\"),VLOOKUP($B4,'Round Nine'!$C:$J,8,0),\"\"))","v":0},{"$f":"IF(ISERROR(VLOOKUP(AS4,'Round Nine'!$C:$J,7,0)),0,IF(AND(LEN($C4)<>0,$D4=\"Yes\"),VLOOKUP(AS4,'Round Nine'!$C:$J,7,0)+1E-24,0))","v":0},{"$f":"IF(ISERROR(VLOOKUP(AS4,$B:$AZ,51,0)),0,VLOOKUP(AS4,$B:$AZ,51,0)+1E-24)","v":0},{"$f":"IF(ISERROR(VLOOKUP($B4,'Round Nine'!$C:$J,6,0)),0,IF(AND(LEN($C4)<>0,$D4=\"Yes\"),VLOOKUP($B4,'Round Nine'!$C:$J,6,0),\"\"))","v":0},{"$f":"IF(ISERROR(VLOOKUP($B4,'Round Nine'!$C:$J,7,0)),0,IF(LEN($C4)<>0,VLOOKUP($B4,'Round Nine'!$C:$J,7,0)+1E-24,0))","v":0},null,0,{"$f":"IF(E4=\"\",\"\",I4+N4+S4+X4+AC4+AH4+AM4+AR4+AW4)","v":0},{"$f":"SUM(G4,L4,Q4,V4,AA4,AF4,AK4,AP4,AU4)-SUM(F4,K4,P4,U4,Z4,AE4,AJ4,AO4,AT4)","v":0},{"$f":"IF(D4<>\"Yes\",A4*-10,AY4*1000000+AZ4*10000+BA4+(A4/100000))+IF(OR(Accel_Pairing_2!$B$4=\"no\",D4<>\"Yes\",ISERROR(VLOOKUP(C4,PowerRanking!A:B,2,0))),0,(VLOOKUP(C4,PowerRanking!A:D,4,0)*1000000)+VLOOKUP(C4,PowerRanking!A:D,2,0)/10)","v":-4.3332196214204446},{"$f":"IF(E4=\"\",\"\",RANK(BB4,$BB$4:$BB$68,0))","v":31},"T01",{"$f":"IF(D4<>\"Yes\",0,AY4*1000000+AZ4*10000+BA4+0.0000001)","v":0},{"$f":"IF(D4<>\"Yes\",\"\",RANK(BE4,$BE$4:$BE$67,0))","v":""}]
[0.76482307652060788,"T02",null,null,{"$f":"IF(ISERROR(VLOOKUP($B5,'Round One'!$C:$J,8,0)),0,IF(AND(LEN($C5)<>0,$D5=\"Yes\"),VLOOKUP($B5,'Round One'!$C:$J,8,0),0))","v":0},{"$f":"IF(ISERROR(VLOOKUP(E5,'Round One'!$C:$J,7,0)),0,IF(AND(LEN($C5)<>0,$D5=\"Yes\"),VALUE(VLOOKUP(E5,'Round One'!$C:$J,7,0)+1E-24),0))","v":0},{"$f":"IF(ISERROR(VLOOKUP(E5,$B:$AZ,51,0)),0,VLOOKUP(E5,$B:$AZ,51,0)+1E-24)","v":0},{"$f":"IF(ISERROR(VLOOKUP($B5,'Round One'!$C:$J,6,0)),0,IF(AND(LEN($C5)<>0,$D5=\"Yes\"),VLOOKUP($B5,'Round One'!$C:$J,6,0),\"\"))","v":0},{"$f":"IF(ISERROR(VLOOKUP($B5,'Round One'!$C:$J,7,0)),0,IF(LEN($C5)<>0,VLOOKUP($B5,'Round One'!$C:$J,7,0)+1E-24,0))","v":0},{"$f":"IF(ISERROR(VLOOKUP($B5,'Round Two'!$C:$J,8,0)),0,IF(AND(LEN($C5)<>0,$D5=\"Yes\"),VLOOKUP($B5,'Round Two'!$C:$J,8,0),\"\"))","v":0},{"$f":"IF(ISERROR(VLOOKUP(J5,'Round Two'!$C:$J,7,0)),0,IF(AND(LEN($C5)<>0,$D5=\"Yes\"),VLOOKUP(J5,'Round Two'!$C:$J,7,0)+1E-24,0))","v":0},0,{"$f":"IF(ISERROR(VLOOKUP($B5,'Round Two'!$C:$J,6,0)),0,IF(AND(LEN($C5)<>0,$D5=\"Yes\"),VLOOKUP($B5,'Round Two'!$C:$J,6,0),\"\"))","v":0},{"$f":"IF(ISERROR(VLOOKUP($B5,'Round Two'!$C:$J,7,0)),0,IF(LEN($C5)<>0,VLOOKUP($B5,'Round Two'!$C:$J,7,0)+1E-24,0))","v":0},{"$f":"IF(ISERROR(VLOOKUP($B5,'Round Three'!$C:$J,8,0)),0,IF(AND(LEN($C5)<>0,$D5=\"Yes\"),VLOOKUP($B5,'Round Three'!$C:$J,8,0),\"\"))","v":0},{"$f":"IF(ISERROR(VLOOKUP(O5,'Round Three'!$C:$J,7,0)),0,IF(AND(LEN($C5)<>0,$D5=\"Yes\"),VLOOKUP(O5,'Round Three'!$C:$J,7,0)+1E-24,0))","v":0},0,{"$f":"IF(ISERROR(VLOOKUP($B5,'Round Three'!$C:$J,6,0)),0,IF(AND(LEN($C5)<>0,$D5=\"Yes\"),VLOOKUP($B5,'Round Three'!$C:$J,6,0),\"\"))","v":0},{"$f":"IF(ISERROR(VLOOKUP($B5,'Round Three'!$C:$J,7,0)),0,IF(LEN($C5)<>0,VLOOKUP($B5,'Round Three'!$C:$J,7,0)+1E-24,0))","v":0},{"$f":"IF(ISERROR(VLOOKUP($B5,'Round Four'!$C:$J,8,0)),0,IF(AND(LEN($C5)<>0,$D5=\"Yes\"),VLOOKUP($B5,'Round Four'!$C:$J,8,0),\"\"))","v":0},{"$f":"IF(ISERROR(VLOOKUP(T5,'Round Four'!$C:$J,7,0)),0,IF(AND(LEN($C5)<>0,$D5=\"Yes\"),VLOOKUP(T5,'Round Four'!$C:$J,7,0)+1E-24,0))","v":0},0,{"$f":"IF(ISERROR(VLOOKUP($B5,'Round Four'!$C:$J,6,0)),0,IF(AND(LEN($C5)<>0,$D5=\"Yes\"),VLOOKUP($B5,'Round Four'!$C:$J,6,0),\"\"))","v":0},{"$f":"IF(ISERROR(VLOOKUP($B5,'Round Four'!$C:$J,7,0)),0,IF(LEN($C5)<>0,VLOOKUP($B5,'Round Four'!$C:$J,7,0)+1E-24,0))","v":0},{"$f":"IF(ISERROR(VLOOKUP($B5,'Round Five'!$C:$J,8,0)),0,IF(AND(LEN($C5)<>0,$D5=\"Yes\"),VLOOKUP($B5,'Round Five'!$C:$J,8,0),\"\"))","v":0},{"$f":"IF(ISERROR(VLOOKUP(Y5,'Round Five'!$C:$J,7,0)),0,IF(AND(LEN($C5)<>0,$D5=\"Yes\"),VLOOKUP(Y5,'Round Five'!$C:$J,7,0)+1E-24,0))","v":0},0,{"$f":"IF(ISERROR(VLOOKUP($B5,'Round Five'!$C:$J,6,0)),0,IF(AND(LEN($C5)<>0,$D5=\"Yes\"),VLOOKUP($B5,'Round Five'!$C:$J,6,0),\"\"))","v":0},{"$f":"IF(ISERROR(VLOOKUP($B5,'Round Five'!$C:$J,7,0)),0,IF(LEN($C5)<>0,VLOOKUP($B5,'Round Five'!$C:$J,7,0)+1E-24,0))","v":0},{"$f":"IF(ISERROR(VLOOKUP($B5,'Round Six'!$C:$J,8,0)),0,IF(AND(LEN($C5)<>0,$D5=\"Yes\"),VLOOKUP($B5,'Round Six'!$C:$J,8,0),\"\"))","v":0},{"$f":"IF(ISERROR(VLOOKUP(AD5,'Round Six'!$C:$J,7,0)),0,IF(AND(LEN($C5)<>0,$D5=\"Yes\"),VLOOKUP(AD5,'Round Six'!$C:$J,7,0)+1E-24,0))","v":0},0,{"$f":"IF(ISERROR(VLOOKUP($B5,'Round Six'!$C:$J,6,0)),0,IF(AND(LEN($C5)<>0,$D5=\"Yes\"),VLOOKUP($B5,'Round Six'!$C:$J,6,0),\"\"))","v":0},{"$f":"IF(ISERROR(VLOOKUP($B5,'Round Six'!$C:$J,7,0)),0,IF(LEN($C5)<>0,VLOOKUP($B5,'Round Six'!$C:$J,7,0)+1E-24,0))","v":0},{"$f":"IF(ISERROR(VLOOKUP($B5,'Round Seven'!$C:$J,8,0)),0,IF(AND(LEN($C5)<>0,$D5=\"Yes\"),VLOOKUP($B5,'Round Seven'!$C:$J,8,0),\"\"))","v":0},{"$f":"IF(ISERROR(VLOOKUP(AI5,'Round Seven'!$C:$J,7,0)),0,IF(AND(LEN($C5)<>0,$D5=\"Yes\"),VLOOKUP(AI5,'Round Seven'!$C:$J,7,0)+1E-24,0))","v":0},0,{"$f":"IF(ISERROR(VLOOKUP($B5,'Round Seven'!$C:$J,6,0)),0,IF(AND(LEN($C5)<>0,$D5=\"Yes\"),VLOOKUP($B5,'Round Seven'!$C:$J,6,0),\"\"))","v":0},{"$f":"IF(ISERROR(VLOOKUP($B5,'Round Seven'!$C:$J,7,0)),0,IF(LEN($C5)<>0,VLOOKUP($B5,'Round Seven'!$C:$J,7,0)+1E-24,0))","v":0},{"$f":"IF(ISERROR(VLOOKUP($B5,'Round Eight'!$C:$J,8,0)),0,IF(AND(LEN($C5)<>0,$D5=\"Yes\"),VLOOKUP($B5,'Round Eight'!$C:$J,8,0),\"\"))","v":0},{"$f":"IF(ISERROR(VLOOKUP(AN5,'Round Eight'!$C:$J,7,0)),0,IF(AND(LEN($C5)<>0,$D5=\"Yes\"),VLOOKUP(AN5,'Round Eight'!$C:$J,7,0)+1E-24,0))","v":0},0,{"$f":"IF(ISERROR(VLOOKUP($B5,'Round Eight'!$C:$J,6,0)),0,IF(AND(LEN($C5)<>0,$D5=\"Yes\"),VLOOKUP($B5,'Round Eight'!$C:$J,6,0),\"\"))","v":0},{"$f":"IF(ISERROR(VLOOKUP($B5,'Round Eight'!$C:$J,7,0)),0,IF(LEN($C5)<>0,VLOOKUP($B5,'Round Eight'!$C:$J,7,0)+1E-24,0))","v":0},{"$f":"IF(ISERROR(VLOOKUP($B5,'Round Nine'!$C:$J,8,0)),0,IF(AND(LEN($C5)<>0,$D5=\"Yes\"),VLOOKUP($B5,'Round Nine'!$C:$J,8,0),\"\"))","v":0},{"$f":"IF(ISERROR(VLOOKUP(AS5,'Round Nine'!$C:$J,7,0)),0,IF(AND(LEN($C5)<>0,$D5=\"Yes\"),VLOOKUP(AS5,'Round Nine'!$C:$J,7,0)+1E-24,0))","v":0},0,{"$f":"IF(ISERROR(VLOOKUP($B5,'Round Nine'!$C:$J,6,0)),0,IF(AND(LEN($C5)<>0,$D5=\"Yes\"),VLOOKUP($B5,'Round Nine'!$C:$J,6,0),\"\"))","v":0},{"$f":"IF(ISERROR(VLOOKUP($B5,'Round Nine'!$C:$J,7,0)),0,IF(LEN($C5)<>0,VLOOKUP($B5,'Round Nine'!$C:$J,7,0)+1E-24,0))","v":0},null,0,{"$f":"IF(E5=\"\",\"\",I5+N5+S5+X5+AC5+AH5+AM5+AR5+AW5)","v":0},{"$f":"SUM(G5,L5,Q5,V5,AA5,AF5,AK5,AP5,AU5)-SUM(F5,K5,P5,U5,Z5,AE5,AJ5,AO5,AT5)","v":0},{"$f":"IF(D5<>\"Yes\",A5*-10,AY5*1000000+AZ5*10000+BA5+(A5/100000))+IF(OR(Accel_Pairing_2!$B$4=\"no\",D5<>\"Yes\",ISERROR(VLOOKUP(C5,PowerRanking!A:B,2,0))),0,(VLOOKUP(C5,PowerRanking!A:D,4,0)*1000000)+VLOOKUP(C5,PowerRanking!A:D,2,0)/10)","v":-7.6482307652060788},{"$f":"IF(E5=\"\",\"\",RANK(BB5,$BB$4:$BB$68,0))","v":49},"T02",{"$f":"IF(D5<>\"Yes\",0,AY5*1000000+AZ5*10000+BA5+0.0000001)","v":0},{"$f":"IF(D5<>\"Yes\",\"\",RANK(BE5,$BE$4:$BE$67,0))","v":""}]
[0.61312227536508912,"T03",null,null,{"$f":"IF(ISERROR(VLOOKUP($B6,'Round One'!$C:$J,8,0)),0,IF(AND(LEN($C6)<>0,$D6=\"Yes\"),VLOOKUP($B6,'Round One'!$C:$J,8,0),0))","v":0},{"$f":"IF(ISERROR(VLOOKUP(E6,'Round One'!$C:$J,7,0)),0,IF(AND(LEN($C6)<>0,$D6=\"Yes\"),VALUE(VLOOKUP(E6,'Round One'!$C:$J,7,0)+1E-24),0))","v":0},0,{"$f":"IF(ISERROR(VLOOKUP($B6,'Round One'!$C:$J,6,0)),0,IF(AND(LEN($C6)<>0,$D6=\"Yes\"),VLOOKUP($B6,'Round One'!$C:$J,6,0),\"\"))","v":0},{"$f":"IF(ISERROR(VLOOKUP($B6,'Round One'!$C:$J,7,0)),0,IF(LEN($C6)<>0,VLOOKUP($B6,'Round One'!$C:$J,7,0)+1E-24,0))","v":0},{"$f":"IF(ISERROR(VLOOKUP($B6,'Round Two'!$C:$J,8,0)),0,IF(AND(LEN($C6)<>0,$D6=\"Yes\"),VLOOKUP($B6,'Round Two'!$C:$J,8,0),\"\"))","v":0},{"$f":"IF(ISERROR(VLOOKUP(J6,'Round Two'!$C:$J,7,0)),0,IF(AND(LEN($C6)<>0,$D6=\"Yes\"),VLOOKUP(J6,'Round Two'!$C:$J,7,0)+1E-24,0))","v":0},0,{"$f":"IF(ISERROR(VLOOKUP($B6,'Round Two'!$C:$J,6,0)),0,IF(AND(LEN($C6)<>0,$D6=\"Yes\"),VLOOKUP($B6,'Round Two'!$C:$J,6,0),\"\"))","v":0},{"$f":"IF(ISERROR(VLOOKUP($B6,'Round Two'!$C:$J,7,0)),0,IF(LEN($C6)<>0,VLOOKUP($B6,'Round Two'!$C:$J,7,0)+1E-24,0))","v":0},{"$f":"IF(ISERROR(VLOOKUP($B6,'Round Three'!$C:$J,8,0)),0,IF(AND(LEN($C6)<>0,$D6=\"Yes\"),VLOOKUP($B6,'Round Three'!$C:$J,8,0),\"\"))","v":0},{"$f":"IF(ISERROR(VLOOKUP(O6,'Round Three'!$C:$J,7,0)),0,IF(AND(LEN($C6)<>0,$D6=\"Yes\"),VLOOKUP(O6,'Round Three'!$C:$J,7,0)+1E-24,0))","v":0},0,{"$f":"IF(ISERROR(VLOOKUP($B6,'Round Three'!$C:$J,6,0)),0,IF(AND(LEN($C6)<>0,$D6=\"Yes\"),VLOOKUP($B6,'Round Three'!$C:$J,6,0),\"\"))","v":0},{"$f":"IF(ISERROR(VLOOKUP($B6,'Round Three'!$C:$J,7,0)),0,IF(LEN($C6)<>0,VLOOKUP($B6,'Round Three'!$C:$J,7,0)+1E-24,0))","v":0},{"$f":"IF(ISERROR(VLOOKUP($B6,'Round Four'!$C:$J,8,0)),0,IF(AND(LEN($C6)<>0,$D6=\"Yes\"),VLOOKUP($B6,'Round Four'!$C:$J,8,0),\"\"))","v":0},{"$f":"IF(ISERROR(VLOOKUP(T6,'Round Four'!$C:$J,7,0)),0,IF(AND(LEN($C6)<>0,$D6=\"Yes\"),VLOOKUP(T6,'Round Four'!$C:$J,7,0)+1E-24,0))","v":0},0,{"$f":"IF(ISERROR(VLOOKUP($B6,'Round Four'!$C:$J,6,0)),0,IF(AND(LEN($C6)<>0,$D6=\"Yes\"),VLOOKUP($B6,'Round Four'!$C:$J,6,0),\"\"))","v":0},{"$f":"IF(ISERROR(VLOOKUP($B6,'Round Four'!$C:$J,7,0)),0,IF(LEN($C6)<>0,VLOOKUP($B6,'Round Four'!$C:$J,7,0)+1E-24,0))","v":0},{"$f":"IF(ISERROR(VLOOKUP($B6,'Round Five'!$C:$J,8,0)),0,IF(AND(LEN($C6)<>0,$D6=\"Yes\"),VLOOKUP($B6,'Round Five'!$C:$J,8,0),\"\"))","v":0},{"$f":"IF(ISERROR(VLOOKUP(Y6,'Round Five'!$C:$J,7,0)),0,IF(AND(LEN($C6)<>0,$D6=\"Yes\"),VLOOKUP(Y6,'Round Five'!$C:$J,7,0)+1E-24,0))","v":0},0,{"$f":"IF(ISERROR(VLOOKUP($B6,'Round Five'!$C:$J,6,0)),0,IF(AND(LEN($C6)<>0,$D6=\"Yes\"),VLOOKUP($B6,'Round Five'!$C:$J,6,0),\"\"))","v":0},{"$f":"IF(ISERROR(VLOOKUP($B6,'Round Five'!$C:$J,7,0)),0,IF(LEN($C6)<>0,VLOOKUP($B6,'Round Five'!$C:$J,7,0)+1E-24,0))","v":0},{"$f":"IF(ISERROR(VLOOKUP($B6,'Round Six'!$C:$J,8,0)),0,IF(AND(LEN($C6)<>0,$D6=\"Yes\"),VLOOKUP($B6,'Round Six'!$C:$J,8,0),\"\"))","v":0},{"$f":"IF(ISERROR(VLOOKUP(AD6,'Round Six'!$C:$J,7,0)),0,IF(AND(LEN($C6)<>0,$D6=\"Yes\"),VLOOKUP(AD6,'Round Six'!$C:$J,7,0)+1E-24,0))","v":0},0,{"$f":"IF(ISERROR(VLOOKUP($B6,'Round Six'!$C:$J,6,0)),0,IF(AND(LEN($C6)<>0,$D6=\"Yes\"),VLOOKUP($B6,'Round Six'!$C:$J,6,0),\"\"))","v":0},{"$f":"IF(ISERROR(VLOOKUP($B6,'Round Six'!$C:$J,7,0)),0,IF(LEN($C6)<>0,VLOOKUP($B6,'Round Six'!$C:$J,7,0)+1E-24,0))","v":0},{"$f":"IF(ISERROR(VLOOKUP($B6,'Round Seven'!$C:$J,8,0)),0,IF(AND(LEN($C6)<>0,$D6=\"Yes\"),VLOOKUP($B6,'Round Seven'!$C:$J,8,0),\"\"))","v":0},{"$f":"IF(ISERROR(VLOOKUP(AI6,'Round Seven'!$C:$J,7,0)),0,IF(AND(LEN($C6)<>0,$D6=\"Yes\"),VLOOKUP(AI6,'Round Seven'!$C:$J,7,0)+1E-24,0))","v":0},0,{"$f":"IF(ISERROR(VLOOKUP($B6,'Round Seven'!$C:$J,6,0)),0,IF(AND(LEN($C6)<>0,$D6=\"Yes\"),VLOOKUP($B6,'Round Seven'!$C:$J,6,0),\"\"))","v":0},{"$f":"IF(ISERROR(VLOOKUP($B6,'Round Seven'!$C:$J,7,0)),0,IF(LEN($C6)<>0,VLOOKUP($B6,'Round Seven'!$C:$J,7,0)+1E-24,0))","v":0},{"$f":"IF(ISERROR(VLOOKUP($B6,'Round Eight'!$C:$J,8,0)),0,IF(AND(LEN($C6)<>0,$D6=\"Yes\"),VLOOKUP($B6,'Round Eight'!$C:$J,8,0),\"\"))","v":0},{"$f":"IF(ISERROR(VLOOKUP(AN6,'Round Eight'!$C:$J,7,0)),0,IF(AND(LEN($C6)<>0,$D6=\"Yes\"),VLOOKUP(AN6,'Round Eight'!$C:$J,7,0)+1E-24,0))","v":0},0,{"$f":"IF(ISERROR(VLOOKUP($B6,'Round Eight'!$C:$J,6,0)),0,IF(AND(LEN($C6)<>0,$D6=\"Yes\"),VLOOKUP($B6,'Round Eight'!$C:$J,6,0),\"\"))","v":0},{"$f":"IF(ISERROR(VLOOKUP($B6,'Round Eight'!$C:$J,7,0)),0,IF(LEN($C6)<>0,VLOOKUP($B6,'Round Eight'!$C:$J,7,0)+1E-24,0))","v":0},{"$f":"IF(ISERROR(VLOOKUP($B6,'Round Nine'!$C:$J,8,0)),0,IF(AND(LEN($C6)<>0,$D6=\"Yes\"),VLOOKUP($B6,'Round Nine'!$C:$J,8,0),\"\"))","v":0},{"$f":"IF(ISERROR(VLOOKUP(AS6,'Round Nine'!$C:$J,7,0)),0,IF(AND(LEN($C6)<>0,$D6=\"Yes\"),VLOOKUP(AS6,'Round Nine'!$C:$J,7,0)+1E-24,0))","v":0},0,{"$f":"IF(ISERROR(VLOOKUP($B6,'Round Nine'!$C:$J,6,0)),0,IF(AND(LEN($C6)<>0,$D6=\"Yes\"),VLOOKUP($B6,'Round Nine'!$C:$J,6,0),\"\"))","v":0},{"$f":"IF(ISERROR(VLOOKUP($B6,'Round Nine'!$C:$J,7,0)),0,IF(LEN($C6)<>0,VLOOKUP($B6,'Round Nine'!$C:$J,7,0)+1E-24,0))","v":0},null,0,0,0,{"$f":"IF(D6<>\"Yes\",A6*-10,AY6*1000000+AZ6*10000+BA6+(A6/100000))+IF(OR(Accel_Pairing_2!$B$4=\"no\",D6<>\"Yes\",ISERROR(VLOOKUP(C6,PowerRanking!A:B,2,0))),0,(VLOOKUP(C6,PowerRanking!A:D,4,0)*1000000)+VLOOKUP(C6,PowerRanking!A:D,2,0)/10)","v":-6.1312227536508912},39,"T03",0,""]
[0.40599135854373436,"T04",null,null,{"$f":"IF(ISERROR(VLOOKUP($B7,'Round One'!$C:$J,8,0)),0,IF(AND(LEN($C7)<>0,$D7=\"Yes\"),VLOOKUP($B7,'Round One'!$C:$J,8,0),0))","v":0},{"$f":"IF(ISERROR(VLOOKUP(E7,'Round One'!$C:$J,7,0)),0,IF(AND(LEN($C7)<>0,$D7=\"Yes\"),VALUE(VLOOKUP(E7,'Round One'!$C:$J,7,0)+1E-24),0))","v":0},0,{"$f":"IF(ISERROR(VLOOKUP($B7,'Round One'!$C:$J,6,0)),0,IF(AND(LEN($C7)<>0,$D7=\"Yes\"),VLOOKUP($B7,'Round One'!$C:$J,6,0),\"\"))","v":0},{"$f":"IF(ISERROR(VLOOKUP($B7,'Round One'!$C:$J,7,0)),0,IF(LEN($C7)<>0,VLOOKUP($B7,'Round One'!$C:$J,7,0)+1E-24,0))","v":0},{"$f":"IF(ISERROR(VLOOKUP($B7,'Round Two'!$C:$J,8,0)),0,IF(AND(LEN($C7)<>0,$D7=\"Yes\"),VLOOKUP($B7,'Round Two'!$C:$J,8,0),\"\"))","v":0},{"$f":"IF(ISERROR(VLOOKUP(J7,'Round Two'!$C:$J,7,0)),0,IF(AND(LEN($C7)<>0,$D7=\"Yes\"),VLOOKUP(J7,'Round Two'!$C:$J,7,0)+1E-24,0))","v":0},0,{"$f":"IF(ISERROR(VLOOKUP($B7,'Round Two'!$C:$J,6,0)),0,IF(AND(LEN($C7)<>0,$D7=\"Yes\"),VLOOKUP($B7,'Round Two'!$C:$J,6,0),\"\"))","v":0},{"$f":"IF(ISERROR(VLOOKUP($B7,'Round Two'!$C:$J,7,0)),0,IF(LEN($C7)<>0,VLOOKUP($B7,'Round Two'!$C:$J,7,0)+1E-24,0))","v":0},{"$f":"IF(ISERROR(VLOOKUP($B7,'Round Three'!$C:$J,8,0)),0,IF(AND(LEN($C7)<>0,$D7=\"Yes\"),VLOOKUP($B7,'Round Three'!$C:$J,8,0),\"\"))","v":0},{"$f":"IF(ISERROR(VLOOKUP(O7,'Round Three'!$C:$J,7,0)),0,IF(AND(LEN($C7)<>0,$D7=\"Yes\"),VLOOKUP(O7,'Round Three'!$C:$J,7,0)+1E-24,0))","v":0},0,{"$f":"IF(ISERROR(VLOOKUP($B7,'Round Three'!$C:$J,6,0)),0,IF(AND(LEN($C7)<>0,$D7=\"Yes\"),VLOOKUP($B7,'Round Three'!$C:$J,6,0),\"\"))","v":0},{"$f":"IF(ISERROR(VLOOKUP($B7,'Round Three'!$C:$J,7,0)),0,IF(LEN($C7)<>0,VLOOKUP($B7,'Round Three'!$C:$J,7,0)+1E-24,0))","v":0},{"$f":"IF(ISERROR(VLOOKUP($B7,'Round Four'!$C:$J,8,0)),0,IF(AND(LEN($C7)<>0,$D7=\"Yes\"),VLOOKUP($B7,'Round Four'!$C:$J,8,0),\"\"))","v":0},{"$f":"IF(ISERROR(VLOOKUP(T7,'Round Four'!$C:$J,7,0)),0,IF(AND(LEN($C7)<>0,$D7=\"Yes\"),VLOOKUP(T7,'Round Four'!$C:$J,7,0)+1E-24,0))","v":0},0,{"$f":"IF(ISERROR(VLOOKUP($B7,'Round Four'!$C:$J,6,0)),0,IF(AND(LEN($C7)<>0,$D7=\"Yes\"),VLOOKUP($B7,'Round Four'!$C:$J,6,0),\"\"))","v":0},{"$f":"IF(ISERROR(VLOOKUP($B7,'Round Four'!$C:$J,7,0)),0,IF(LEN($C7)<>0,VLOOKUP($B7,'Round Four'!$C:$J,7,0)+1E-24,0))","v":0},{"$f":"IF(ISERROR(VLOOKUP($B7,'Round Five'!$C:$J,8,0)),0,IF(AND(LEN($C7)<>0,$D7=\"Yes\"),VLOOKUP($B7,'Round Five'!$C:$J,8,0),\"\"))","v":0},{"$f":"IF(ISERROR(VLOOKUP(Y7,'Round Five'!$C:$J,7,0)),0,IF(AND(LEN($C7)<>0,$D7=\"Yes\"),VLOOKUP(Y7,'Round Five'!$C:$J,7,0)+1E-24,0))","v":0},0,{"$f":"IF(ISERROR(VLOOKUP($B7,'Round Five'!$C:$J,6,0)),0,IF(AND(LEN($C7)<>0,$D7=\"Yes\"),VLOOKUP($B7,'Round Five'!$C:$J,6,0),\"\"))","v":0},{"$f":"IF(ISERROR(VLOOKUP($B7,'Round Five'!$C:$J,7,0)),0,IF(LEN($C7)<>0,VLOOKUP($B7,'Round Five'!$C:$J,7,0)+1E-24,0))","v":0},{"$f":"IF(ISERROR(VLOOKUP($B7,'Round Six'!$C:$J,8,0)),0,IF(AND(LEN($C7)<>0,$D7=\"Yes\"),VLOOKUP($B7,'Round Six'!$C:$J,8,0),\"\"))","v":0},{"$f":"IF(ISERROR(VLOOKUP(AD7,'Round Six'!$C:$J,7,0)),0,IF(AND(LEN($C7)<>0,$D7=\"Yes\"),VLOOKUP(AD7,'Round Six'!$C:$J,7,0)+1E-24,0))","v":0},0,{"$f":"IF(ISERROR(VLOOKUP($B7,'Round Six'!$C:$J,6,0)),0,IF(AND(LEN($C7)<>0,$D7=\"Yes\"),VLOOKUP($B7,'Round Six'!$C:$J,6,0),\"\"))","v":0},{"$f":"IF(ISERROR(VLOOKUP($B7,'Round Six'!$C:$J,7,0)),0,IF(LEN($C7)<>0,VLOOKUP($B7,'Round Six'!$C:$J,7,0)+1E-24,0))","v":0},{"$f":"IF(ISERROR(VLOOKUP($B7,'Round Seven'!$C:$J,8,0)),0,IF(AND(LEN($C7)<>0,$D7=\"Yes\"),VLOOKUP($B7,'Round Seven'!$C:$J,8,0),\"\"))","v":0},{"$f":"IF(ISERROR(VLOOKUP(AI7,'Round Seven'!$C:$J,7,0)),0,IF(AND(LEN($C7)<>0,$D7=\"Yes\"),VLOOKUP(AI7,'Round Seven'!$C:$J,7,0)+1E-24,0))","v":0},0,{"$f":"IF(ISERROR(VLOOKUP($B7,'Round Seven'!$C:$J,6,0)),0,IF(AND(LEN($C7)<>0,$D7=\"Yes\"),VLOOKUP($B7,'Round Seven'!$C:$J,6,0),\"\"))","v":0},{"$f":"IF(ISERROR(VLOOKUP($B7,'Round Seven'!$C:$J,7,0)),0,IF(LEN($C7)<>0,VLOOKUP($B7,'Round Seven'!$C:$J,7,0)+1E-24,0))","v":0},{"$f":"IF(ISERROR(VLOOKUP($B7,'Round Eight'!$C:$J,8,0)),0,IF(AND(LEN($C7)<>0,$D7=\"Yes\"),VLOOKUP($B7,'Round Eight'!$C:$J,8,0),\"\"))","v":0},{"$f":"IF(ISERROR(VLOOKUP(AN7,'Round Eight'!$C:$J,7,0)),0,IF(AND(LEN($C7)<>0,$D7=\"Yes\"),VLOOKUP(AN7,'Round Eight'!$C:$J,7,0)+1E-24,0))","v":0},0,{"$f":"IF(ISERROR(VLOOKUP($B7,'Round Eight'!$C:$J,6,0)),0,IF(AND(LEN($C7)<>0,$D7=\"Yes\"),VLOOKUP($B7,'Round Eight'!$C:$J,6,0),\"\"))","v":0},{"$f":"IF(ISERROR(VLOOKUP($B7,'Round Eight'!$C:$J,7,0)),0,IF(LEN($C7)<>0,VLOOKUP($B7,'Round Eight'!$C:$J,7,0)+1E-24,0))","v":0},{"$f":"IF(ISERROR(VLOOKUP($B7,'Round Nine'!$C:$J,8,0)),0,IF(AND(LEN($C7)<>0,$D7=\"Yes\"),VLOOKUP($B7,'Round Nine'!$C:$J,8,0),\"\"))","v":0},{"$f":"IF(ISERROR(VLOOKUP(AS7,'Round Nine'!$C:$J,7,0)),0,IF(AND(LEN($C7)<>0,$D7=\"Yes\"),VLOOKUP(AS7,'Round Nine'!$C:$J,7,0)+1E-24,0))","v":0},0,{"$f":"IF(ISERROR(VLOOKUP($B7,'Round Nine'!$C:$J,6,0)),0,IF(AND(LEN($C7)<>0,$D7=\"Yes\"),VLOOKUP($B7,'Round Nine'!$C:$J,6,0),\"\"))","v":0},{"$f":"IF(ISERROR(VLOOKUP($B7,'Round Nine'!$C:$J,7,0)),0,IF(LEN($C7)<>0,VLOOKUP($B7,'Round Nine'!$C:$J,7,0)+1E-24,0))","v":0},null,0,0,0,{"$f":"IF(D7<>\"Yes\",A7*-10,AY7*1000000+AZ7*10000+BA7+(A7/100000))+IF(OR(Accel_Pairing_2!$B$4=\"no\",D7<>\"Yes\",ISERROR(VLOOKUP(C7,PowerRanking!A:B,2,0))),0,(VLOOKUP(C7,PowerRanking!A:D,4,0)*1000000)+VLOOKUP(C7,PowerRanking!A:D,2,0)/10)","v":-4.0599135854373438},27,"T04",0,""]
[0.74224403387231841,"T05",null,null,{"$f":"IF(ISERROR(VLOOKUP($B8,'Round One'!$C:$J,8,0)),0,IF(AND(LEN($C8)<>0,$D8=\"Yes\"),VLOOKUP($B8,'Round One'!$C:$J,8,0),0))","v":0},{"$f":"IF(ISERROR(VLOOKUP(E8,'Round One'!$C:$J,7,0)),0,IF(AND(LEN($C8)<>0,$D8=\"Yes\"),VALUE(VLOOKUP(E8,'Round One'!$C:$J,7,0)+1E-24),0))","v":0},0,{"$f":"IF(ISERROR(VLOOKUP($B8,'Round One'!$C:$J,6,0)),0,IF(AND(LEN($C8)<>0,$D8=\"Yes\"),VLOOKUP($B8,'Round One'!$C:$J,6,0),\"\"))","v":0},{"$f":"IF(ISERROR(VLOOKUP($B8,'Round One'!$C:$J,7,0)),0,IF(LEN($C8)<>0,VLOOKUP($B8,'Round One'!$C:$J,7,0)+1E-24,0))","v":0},{"$f":"IF(ISERROR(VLOOKUP($B8,'Round Two'!$C:$J,8,0)),0,IF(AND(LEN($C8)<>0,$D8=\"Yes\"),VLOOKUP($B8,'Round Two'!$C:$J,8,0),\"\"))","v":0},{"$f":"IF(ISERROR(VLOOKUP(J8,'Round Two'!$C:$J,7,0)),0,IF(AND(LEN($C8)<>0,$D8=\"Yes\"),VLOOKUP(J8,'Round Two'!$C:$J,7,0)+1E-24,0))","v":0},0,{"$f":"IF(ISERROR(VLOOKUP($B8,'Round Two'!$C:$J,6,0)),0,IF(AND(LEN($C8)<>0,$D8=\"Yes\"),VLOOKUP($B8,'Round Two'!$C:$J,6,0),\"\"))","v":0},{"$f":"IF(ISERROR(VLOOKUP($B8,'Round Two'!$C:$J,7,0)),0,IF(LEN($C8)<>0,VLOOKUP($B8,'Round Two'!$C:$J,7,0)+1E-24,0))","v":0},{"$f":"IF(ISERROR(VLOOKUP($B8,'Round Three'!$C:$J,8,0)),0,IF(AND(LEN($C8)<>0,$D8=\"Yes\"),VLOOKUP($B8,'Round Three'!$C:$J,8,0),\"\"))","v":0},{"$f":"IF(ISERROR(VLOOKUP(O8,'Round Three'!$C:$J,7,0)),0,IF(AND(LEN($C8)<>0,$D8=\"Yes\"),VLOOKUP(O8,'Round Three'!$C:$J,7,0)+1E-24,0))","v":0},0,{"$f":"IF(ISERROR(VLOOKUP($B8,'Round Three'!$C:$J,6,0)),0,IF(AND(LEN($C8)<>0,$D8=\"Yes\"),VLOOKUP($B8,'Round Three'!$C:$J,6,0),\"\"))","v":0},{"$f":"IF(ISERROR(VLOOKUP($B8,'Round Three'!$C:$J,7,0)),0,IF(LEN($C8)<>0,VLOOKUP($B8,'Round Three'!$C:$J,7,0)+1E-24,0))","v":0},{"$f":"IF(ISERROR(VLOOKUP($B8,'Round Four'!$C:$J,8,0)),0,IF(AND(LEN($C8)<>0,$D8=\"Yes\"),VLOOKUP($B8,'Round Four'!$C:$J,8,0),\"\"))","v":0},{"$f":"IF(ISERROR(VLOOKUP(T8,'Round Four'!$C:$J,7,0)),0,IF(AND(LEN($C8)<>0,$D8=\"Yes\"),VLOOKUP(T8,'Round Four'!$C:$J,7,0)+1E-24,0))","v":0},0,{"$f":"IF(ISERROR(VLOOKUP($B8,'Round Four'!$C:$J,6,0)),0,IF(AND(LEN($C8)<>0,$D8=\"Yes\"),VLOOKUP($B8,'Round Four'!$C:$J,6,0),\"\"))","v":0},{"$f":"IF(ISERROR(VLOOKUP($B8,'Round Four'!$C:$J,7,0)),0,IF(LEN($C8)<>0,VLOOKUP($B8,'Round Four'!$C:$J,7,0)+1E-24,0))","v":0},{"$f":"IF(ISERROR(VLOOKUP($B8,'Round Five'!$C:$J,8,0)),0,IF(AND(LEN($C8)<>0,$D8=\"Yes\"),VLOOKUP($B8,'Round Five'!$C:$J,8,0),\"\"))","v":0},{"$f":"IF(ISERROR(VLOOKUP(Y8,'Round Five'!$C:$J,7,0)),0,IF(AND(LEN($C8)<>0,$D8=\"Yes\"),VLOOKUP(Y8,'Round Five'!$C:$J,7,0)+1E-24,0))","v":0},0,{"$f":"IF(ISERROR(VLOOKUP($B8,'Round Five'!$C:$J,6,0)),0,IF(AND(LEN($C8)<>0,$D8=\"Yes\"),VLOOKUP($B8,'Round Five'!$C:$J,6,0),\"\"))","v":0},{"$f":"IF(ISERROR(VLOOKUP($B8,'Round Five'!$C:$J,7,0)),0,IF(LEN($C8)<>0,VLOOKUP($B8,'Round Five'!$C:$J,7,0)+1E-24,0))","v":0},{"$f":"IF(ISERROR(VLOOKUP($B8,'Round Six'!$C:$J,8,0)),0,IF(AND(LEN($C8)<>0,$D8=\"Yes\"),VLOOKUP($B8,'Round Six'!$C:$J,8,0),\"\"))","v":0},{"$f":"IF(ISERROR(VLOOKUP(AD8,'Round Six'!$C:$J,7,0)),0,IF(AND(LEN($C8)<>0,$D8=\"Yes\"),VLOOKUP(AD8,'Round Six'!$C:$J,7,0)+1E-24,0))","v":0},0,{"$f":"IF(ISERROR(VLOOKUP($B8,'Round Six'!$C:$J,6,0)),0,IF(AND(LEN($C8)<>0,$D8=\"Yes\"),VLOOKUP($B8,'Round Six'!$C:$J,6,0),\"\"))","v":0},{"$f":"IF(ISERROR(VLOOKUP($B8,'Round Six'!$C:$J,7,0)),0,IF(LEN($C8)<>0,VLOOKUP($B8,'Round Six'!$C:$J,7,0)+1E-24,0))","v":0},{"$f":"IF(ISERROR(VLOOKUP($B8,'Round Seven'!$C:$J,8,0)),0,IF(AND(LEN($C8)<>0,$D8=\"Yes\"),VLOOKUP($B8,'Round Seven'!$C:$J,8,0),\"\"))","v":0},{"$f":"IF(ISERROR(VLOOKUP(AI8,'Round Seven'!$C:$J,7,0)),0,IF(AND(LEN($C8)<>0,$D8=\"Yes\"),VLOOKUP(AI8,'Round Seven'!$C:$J,7,0)+1E-24,0))","v":0},0,{"$f":"IF(ISERROR(VLOOKUP($B8,'Round Seven'!$C:$J,6,0)),0,IF(AND(LEN($C8)<>0,$D8=\"Yes\"),VLOOKUP($B8,'Round Seven'!$C:$J,6,0),\"\"))","v":0},{"$f":"IF(ISERROR(VLOOKUP($B8,'Round Seven'!$C:$J,7,0)),0,IF(LEN($C8)<>0,VLOOKUP($B8,'Round Seven'!$C:$J,7,0)+1E-24,0))","v":0},{"$f":"IF(ISERROR(VLOOKUP($B8,'Round Eight'!$C:$J,8,0)),0,IF(AND(LEN($C8)<>0,$D8=\"Yes\"),VLOOKUP($B8,'Round Eight'!$C:$J,8,0),\"\"))","v":0},{"$f":"IF(ISERROR(VLOOKUP(AN8,'Round Eight'!$C:$J,7,0)),0,IF(AND(LEN($C8)<>0,$D8=\"Yes\"),VLOOKUP(AN8,'Round Eight'!$C:$J,7,0)+1E-24,0))","v":0},0,{"$f":"IF(ISERROR(VLOOKUP($B8,'Round Eight'!$C:$J,6,0)),0,IF(AND(LEN($C8)<>0,$D8=\"Yes\"),VLOOKUP($B8,'Round Eight'!$C:$J,6,0),\"\"))","v":0},{"$f":"IF(ISERROR(VLOOKUP($B8,'Round Eight'!$C:$J,7,0)),0,IF(LEN($C8)<>0,VLOOKUP($B8,'Round Eight'!$C:$J,7,0)+1E-24,0))","v":0},{"$f":"IF(ISERROR(VLOOKUP($B8,'Round Nine'!$C:$J,8,0)),0,IF(AND(LEN($C8)<>0,$D8=\"Yes\"),VLOOKUP($B8,'Round Nine'!$C:$J,8,0),\"\"))","v":0},{"$f":"IF(ISERROR(VLOOKUP(AS8,'Round Nine'!$C:$J,7,0)),0,IF(AND(LEN($C8)<>0,$D8=\"Yes\"),VLOOKUP(AS8,'Round Nine'!$C:$J,7,0)+1E-24,0))","v":0},0,{"$f":"IF(ISERROR(VLOOKUP($B8,'Round Nine'!$C:$J,6,0)),0,IF(AND(LEN($C8)<>0,$D8=\"Yes\"),VLOOKUP($B8,'Round Nine'!$C:$J,6,0),\"\"))","v":0},{"$f":"IF(ISERROR(VLOOKUP($B8,'Round Nine'!$C:$J,7,0)),0,IF(LEN($C8)<>0,VLOOKUP($B8,'Round Nine'!$C:$J,7,0)+1E-24,0))","v":0},null,0,0,0,{"$f":"IF(D8<>\"Yes\",A8*-10,AY8*1000000+AZ8*10000+BA8+(A8/100000))+IF(OR(Accel_Pairing_2!$B$4=\"no\",D8<>\"Yes\",ISERROR(VLOOKUP(C8,PowerRanking!A:B,2,0))),0,(VLOOKUP(C8,PowerRanking!A:D,4,0)*1000000)+VLOOKUP(C8,PowerRanking!A:D,2,0)/10)","v":-7.4224403387231845},48,"T05",0,""]
[0.31406213511236714,"T06",null,null,{"$f":"IF(ISERROR(VLOOKUP($B9,'Round One'!$C:$J,8,0)),0,IF(AND(LEN($C9)<>0,$D9=\"Yes\"),VLOOKUP($B9,'Round One'!$C:$J,8,0),0))","v":0},{"$f":"IF(ISERROR(VLOOKUP(E9,'Round One'!$C:$J,7,0)),0,IF(AND(LEN($C9)<>0,$D9=\"Yes\"),VALUE(VLOOKUP(E9,'Round One'!$C:$J,7,0)+1E-24),0))","v":0},0,{"$f":"IF(ISERROR(VLOOKUP($B9,'Round One'!$C:$J,6,0)),0,IF(AND(LEN($C9)<>0,$D9=\"Yes\"),VLOOKUP($B9,'Round One'!$C:$J,6,0),\"\"))","v":0},{"$f":"IF(ISERROR(VLOOKUP($B9,'Round One'!$C:$J,7,0)),0,IF(LEN($C9)<>0,VLOOKUP($B9,'Round One'!$C:$J,7,0)+1E-24,0))","v":0},{"$f":"IF(ISERROR(VLOOKUP($B9,'Round Two'!$C:$J,8,0)),0,IF(AND(LEN($C9)<>0,$D9=\"Yes\"),VLOOKUP($B9,'Round Two'!$C:$J,8,0),\"\"))","v":0},{"$f":"IF(ISERROR(VLOOKUP(J9,'Round Two'!$C:$J,7,0)),0,IF(AND(LEN($C9)<>0,$D9=\"Yes\"),VLOOKUP(J9,'Round Two'!$C:$J,7,0)+1E-24,0))","v":0},0,{"$f":"IF(ISERROR(VLOOKUP($B9,'Round Two'!$C:$J,6,0)),0,IF(AND(LEN($C9)<>0,$D9=\"Yes\"),VLOOKUP($B9,'Round Two'!$C:$J,6,0),\"\"))","v":0},{"$f":"IF(ISERROR(VLOOKUP($B9,'Round Two'!$C:$J,7,0)),0,IF(LEN($C9)<>0,VLOOKUP($B9,'Round Two'!$C:$J,7,0)+1E-24,0))","v":0},{"$f":"IF(ISERROR(VLOOKUP($B9,'Round Three'!$C:$J,8,0)),0,IF(AND(LEN($C9)<>0,$D9=\"Yes\"),VLOOKUP($B9,'Round Three'!$C:$J,8,0),\"\"))","v":0},{"$f":"IF(ISERROR(VLOOKUP(O9,'Round Three'!$C:$J,7,0)),0,IF(AND(LEN($C9)<>0,$D9=\"Yes\"),VLOOKUP(O9,'Round Three'!$C:$J,7,0)+1E-24,0))","v":0},0,{"$f":"IF(ISERROR(VLOOKUP($B9,'Round Three'!$C:$J,6,0)),0,IF(AND(LEN($C9)<>0,$D9=\"Yes\"),VLOOKUP($B9,'Round Three'!$C:$J,6,0),\"\"))","v":0},{"$f":"IF(ISERROR(VLOOKUP($B9,'Round Three'!$C:$J,7,0)),0,IF(LEN($C9)<>0,VLOOKUP($B9,'Round Three'!$C:$J,7,0)+1E-24,0))","v":0},{"$f":"IF(ISERROR(VLOOKUP($B9,'Round Four'!$C:$J,8,0)),0,IF(AND(LEN($C9)<>0,$D9=\"Yes\"),VLOOKUP($B9,'Round Four'!$C:$J,8,0),\"\"))","v":0},{"$f":"IF(ISERROR(VLOOKUP(T9,'Round Four'!$C:$J,7,0)),0,IF(AND(LEN($C9)<>0,$D9=\"Yes\"),VLOOKUP(T9,'Round Four'!$C:$J,7,0)+1E-24,0))","v":0},0,{"$f":"IF(ISERROR(VLOOKUP($B9,'Round Four'!$C:$J,6,0)),0,IF(AND(LEN($C9)<>0,$D9=\"Yes\"),VLOOKUP($B9,'Round Four'!$C:$J,6,0),\"\"))","v":0},{"$f":"IF(ISERROR(VLOOKUP($B9,'Round Four'!$C:$J,7,0)),0,IF(LEN($C9)<>0,VLOOKUP($B9,'Round Four'!$C:$J,7,0)+1E-24,0))","v":0},{"$f":"IF(ISERROR(VLOOKUP($B9,'Round Five'!$C:$J,8,0)),0,IF(AND(LEN($C9)<>0,$D9=\"Yes\"),VLOOKUP($B9,'Round Five'!$C:$J,8,0),\"\"))","v":0},{"$f":"IF(ISERROR(VLOOKUP(Y9,'Round Five'!$C:$J,7,0)),0,IF(AND(LEN($C9)<>0,$D9=\"Yes\"),VLOOKUP(Y9,'Round Five'!$C:$J,7,0)+1E-24,0))","v":0},0,{"$f":"IF(ISERROR(VLOOKUP($B9,'Round Five'!$C:$J,6,0)),0,IF(AND(LEN($C9)<>0,$D9=\"Yes\"),VLOOKUP($B9,'Round Five'!$C:$J,6,0),\"\"))","v":0},{"$f":"IF(ISERROR(VLOOKUP($B9,'Round Five'!$C:$J,7,0)),0,IF(LEN($C9)<>0,VLOOKUP($B9,'Round Five'!$C:$J,7,0)+1E-24,0))","v":0},{"$f":"IF(ISERROR(VLOOKUP($B9,'Round Six'!$C:$J,8,0)),0,IF(AND(LEN($C9)<>0,$D9=\"Yes\"),VLOOKUP($B9,'Round Six'!$C:$J,8,0),\"\"))","v":0},{"$f":"IF(ISERROR(VLOOKUP(AD9,'Round Six'!$C:$J,7,0)),0,IF(AND(LEN($C9)<>0,$D9=\"Yes\"),VLOOKUP(AD9,'Round Six'!$C:$J,7,0)+1E-24,0))","v":0},0,{"$f":"IF(ISERROR(VLOOKUP($B9,'Round Six'!$C:$J,6,0)),0,IF(AND(LEN($C9)<>0,$D9=\"Yes\"),VLOOKUP($B9,'Round Six'!$C:$J,6,0),\"\"))","v":0},{"$f":"IF(ISERROR(VLOOKUP($B9,'Round Six'!$C:$J,7,0)),0,IF(LEN($C9)<>0,VLOOKUP($B9,'Round Six'!$C:$J,7,0)+1E-24,0))","v":0},{"$f":"IF(ISERROR(VLOOKUP($B9,'Round Seven'!$C:$J,8,0)),0,IF(AND(LEN($C9)<>0,$D9=\"Yes\"),VLOOKUP($B9,'Round Seven'!$C:$J,8,0),\"\"))","v":0},{"$f":"IF(ISERROR(VLOOKUP(AI9,'Round Seven'!$C:$J,7,0)),0,IF(AND(LEN($C9)<>0,$D9=\"Yes\"),VLOOKUP(AI9,'Round Seven'!$C:$J,7,0)+1E-24,0))","v":0},0,{"$f":"IF(ISERROR(VLOOKUP($B9,'Round Seven'!$C:$J,6,0)),0,IF(AND(LEN($C9)<>0,$D9=\"Yes\"),VLOOKUP($B9,'Round Seven'!$C:$J,6,0),\"\"))","v":0},{"$f":"IF(ISERROR(VLOOKUP($B9,'Round Seven'!$C:$J,7,0)),0,IF(LEN($C9)<>0,VLOOKUP($B9,'Round Seven'!$C:$J,7,0)+1E-24,0))","v":0},{"$f":"IF(ISERROR(VLOOKUP($B9,'Round Eight'!$C:$J,8,0)),0,IF(AND(LEN($C9)<>0,$D9=\"Yes\"),VLOOKUP($B9,'Round Eight'!$C:$J,8,0),\"\"))","v":0},{"$f":"IF(ISERROR(VLOOKUP(AN9,'Round Eight'!$C:$J,7,0)),0,IF(AND(LEN($C9)<>0,$D9=\"Yes\"),VLOOKUP(AN9,'Round Eight'!$C:$J,7,0)+1E-24,0))","v":0},0,{"$f":"IF(ISERROR(VLOOKUP($B9,'Round Eight'!$C:$J,6,0)),0,IF(AND(LEN($C9)<>0,$D9=\"Yes\"),VLOOKUP($B9,'Round Eight'!$C:$J,6,0),\"\"))","v":0},{"$f":"IF(ISERROR(VLOOKUP($B9,'Round Eight'!$C:$J,7,0)),0,IF(LEN($C9)<>0,VLOOKUP($B9,'Round Eight'!$C:$J,7,0)+1E-24,0))","v":0},{"$f":"IF(ISERROR(VLOOKUP($B9,'Round Nine'!$C:$J,8,0)),0,IF(AND(LEN($C9)<>0,$D9=\"Yes\"),VLOOKUP($B9,'Round Nine'!$C:$J,8,0),\"\"))","v":0},{"$f":"IF(ISERROR(VLOOKUP(AS9,'Round Nine'!$C:$J,7,0)),0,IF(AND(LEN($C9)<>0,$D9=\"Yes\"),VLOOKUP(AS9,'Round Nine'!$C:$J,7,0)+1E-24,0))","v":0},0,{"$f":"IF(ISERROR(VLOOKUP($B9,'Round Nine'!$C:$J,6,0)),0,IF(AND(LEN($C9)<>0,$D9=\"Yes\"),VLOOKUP($B9,'Round Nine'!$C:$J,6,0),\"\"))","v":0},{"$f":"IF(ISERROR(VLOOKUP($B9,'Round Nine'!$C:$J,7,0)),0,IF(LEN($C9)<>0,VLOOKUP($B9,'Round Nine'!$C:$J,7,0)+1E-24,0))","v":0},null,0,0,0,{"$f":"IF(D9<>\"Yes\",A9*-10,AY9*1000000+AZ9*10000+BA9+(A9/100000))+IF(OR(Accel_Pairing_2!$B$4=\"no\",D9<>\"Yes\",ISERROR(VLOOKUP(C9,PowerRanking!A:B,2,0))),0,(VLOOKUP(C9,PowerRanking!A:D,4,0)*1000000)+VLOOKUP(C9,PowerRanking!A:D,2,0)/10)","v":-3.1406213511236714},19,"T06",0,""]
[0.52741399436900505,"T07",null,null,{"$f":"IF(ISERROR(VLOOKUP($B10,'Round One'!$C:$J,8,0)),0,IF(AND(LEN($C10)<>0,$D10=\"Yes\"),VLOOKUP($B10,'Round One'!$C:$J,8,0),0))","v":0},{"$f":"IF(ISERROR(VLOOKUP(E10,'Round One'!$C:$J,7,0)),0,IF(AND(LEN($C10)<>0,$D10=\"Yes\"),VALUE(VLOOKUP(E10,'Round One'!$C:$J,7,0)+1E-24),0))","v":0},0,{"$f":"IF(ISERROR(VLOOKUP($B10,'Round One'!$C:$J,6,0)),0,IF(AND(LEN($C10)<>0,$D10=\"Yes\"),VLOOKUP($B10,'Round One'!$C:$J,6,0),\"\"))","v":0},{"$f":"IF(ISERROR(VLOOKUP($B10,'Round One'!$C:$J,7,0)),0,IF(LEN($C10)<>0,VLOOKUP($B10,'Round One'!$C:$J,7,0)+1E-24,0))","v":0},{"$f":"IF(ISERROR(VLOOKUP($B10,'Round Two'!$C:$J,8,0)),0,IF(AND(LEN($C10)<>0,$D10=\"Yes\"),VLOOKUP($B10,'Round Two'!$C:$J,8,0),\"\"))","v":0},{"$f":"IF(ISERROR(VLOOKUP(J10,'Round Two'!$C:$J,7,0)),0,IF(AND(LEN($C10)<>0,$D10=\"Yes\"),VLOOKUP(J10,'Round Two'!$C:$J,7,0)+1E-24,0))","v":0},0,{"$f":"IF(ISERROR(VLOOKUP($B10,'Round Two'!$C:$J,6,0)),0,IF(AND(LEN($C10)<>0,$D10=\"Yes\"),VLOOKUP($B10,'Round Two'!$C:$J,6,0),\"\"))","v":0},{"$f":"IF(ISERROR(VLOOKUP($B10,'Round Two'!$C:$J,7,0)),0,IF(LEN($C10)<>0,VLOOKUP($B10,'Round Two'!$C:$J,7,0)+1E-24,0))","v":0},{"$f":"IF(ISERROR(VLOOKUP($B10,'Round Three'!$C:$J,8,0)),0,IF(AND(LEN($C10)<>0,$D10=\"Yes\"),VLOOKUP($B10,'Round Three'!$C:$J,8,0),\"\"))","v":0},{"$f":"IF(ISERROR(VLOOKUP(O10,'Round Three'!$C:$J,7,0)),0,IF(AND(LEN($C10)<>0,$D10=\"Yes\"),VLOOKUP(O10,'Round Three'!$C:$J,7,0)+1E-24,0))","v":0},0,{"$f":"IF(ISERROR(VLOOKUP($B10,'Round Three'!$C:$J,6,0)),0,IF(AND(LEN($C10)<>0,$D10=\"Yes\"),VLOOKUP($B10,'Round Three'!$C:$J,6,0),\"\"))","v":0},{"$f":"IF(ISERROR(VLOOKUP($B10,'Round Three'!$C:$J,7,0)),0,IF(LEN($C10)<>0,VLOOKUP($B10,'Round Three'!$C:$J,7,0)+1E-24,0))","v":0},{"$f":"IF(ISERROR(VLOOKUP($B10,'Round Four'!$C:$J,8,0)),0,IF(AND(LEN($C10)<>0,$D10=\"Yes\"),VLOOKUP($B10,'Round Four'!$C:$J,8,0),\"\"))","v":0},{"$f":"IF(ISERROR(VLOOKUP(T10,'Round Four'!$C:$J,7,0)),0,IF(AND(LEN($C10)<>0,$D10=\"Yes\"),VLOOKUP(T10,'Round Four'!$C:$J,7,0)+1E-24,0))","v":0},0,{"$f":"IF(ISERROR(VLOOKUP($B10,'Round Four'!$C:$J,6,0)),0,IF(AND(LEN($C10)<>0,$D10=\"Yes\"),VLOOKUP($B10,'Round Four'!$C:$J,6,0),\"\"))","v":0},{"$f":"IF(ISERROR(VLOOKUP($B10,'Round Four'!$C:$J,7,0)),0,IF(LEN($C10)<>0,VLOOKUP($B10,'Round Four'!$C:$J,7,0)+1E-24,0))","v":0},{"$f":"IF(ISERROR(VLOOKUP($B10,'Round Five'!$C:$J,8,0)),0,IF(AND(LEN($C10)<>0,$D10=\"Yes\"),VLOOKUP($B10,'Round Five'!$C:$J,8,0),\"\"))","v":0},{"$f":"IF(ISERROR(VLOOKUP(Y10,'Round Five'!$C:$J,7,0)),0,IF(AND(LEN($C10)<>0,$D10=\"Yes\"),VLOOKUP(Y10,'Round Five'!$C:$J,7,0)+1E-24,0))","v":0},0,{"$f":"IF(ISERROR(VLOOKUP($B10,'Round Five'!$C:$J,6,0)),0,IF(AND(LEN($C10)<>0,$D10=\"Yes\"),VLOOKUP($B10,'Round Five'!$C:$J,6,0),\"\"))","v":0},{"$f":"IF(ISERROR(VLOOKUP($B10,'Round Five'!$C:$J,7,0)),0,IF(LEN($C10)<>0,VLOOKUP($B10,'Round Five'!$C:$J,7,0)+1E-24,0))","v":0},{"$f":"IF(ISERROR(VLOOKUP($B10,'Round Six'!$C:$J,8,0)),0,IF(AND(LEN($C10)<>0,$D10=\"Yes\"),VLOOKUP($B10,'Round Six'!$C:$J,8,0),\"\"))","v":0},{"$f":"IF(ISERROR(VLOOKUP(AD10,'Round Six'!$C:$J,7,0)),0,IF(AND(LEN($C10)<>0,$D10=\"Yes\"),VLOOKUP(AD10,'Round Six'!$C:$J,7,0)+1E-24,0))","v":0},0,{"$f":"IF(ISERROR(VLOOKUP($B10,'Round Six'!$C:$J,6,0)),0,IF(AND(LEN($C10)<>0,$D10=\"Yes\"),VLOOKUP($B10,'Round Six'!$C:$J,6,0),\"\"))","v":0},{"$f":"IF(ISERROR(VLOOKUP($B10,'Round Six'!$C:$J,7,0)),0,IF(LEN($C10)<>0,VLOOKUP($B10,'Round Six'!$C:$J,7,0)+1E-24,0))","v":0},{"$f":"IF(ISERROR(VLOOKUP($B10,'Round Seven'!$C:$J,8,0)),0,IF(AND(LEN($C10)<>0,$D10=\"Yes\"),VLOOKUP($B10,'Round Seven'!$C:$J,8,0),\"\"))","v":0},{"$f":"IF(ISERROR(VLOOKUP(AI10,'Round Seven'!$C:$J,7,0)),0,IF(AND(LEN($C10)<>0,$D10=\"Yes\"),VLOOKUP(AI10,'Round Seven'!$C:$J,7,0)+1E-24,0))","v":0},0,{"$f":"IF(ISERROR(VLOOKUP($B10,'Round Seven'!$C:$J,6,0)),0,IF(AND(LEN($C10)<>0,$D10=\"Yes\"),VLOOKUP($B10,'Round Seven'!$C:$J,6,0),\"\"))","v":0},{"$f":"IF(ISERROR(VLOOKUP($B10,'Round Seven'!$C:$J,7,0)),0,IF(LEN($C10)<>0,VLOOKUP($B10,'Round Seven'!$C:$J,7,0)+1E-24,0))","v":0},{"$f":"IF(ISERROR(VLOOKUP($B10,'Round Eight'!$C:$J,8,0)),0,IF(AND(LEN($C10)<>0,$D10=\"Yes\"),VLOOKUP($B10,'Round Eight'!$C:$J,8,0),\"\"))","v":0},{"$f":"IF(ISERROR(VLOOKUP(AN10,'Round Eight'!$C:$J,7,0)),0,IF(AND(LEN($C10)<>0,$D10=\"Yes\"),VLOOKUP(AN10,'Round Eight'!$C:$J,7,0)+1E-24,0))","v":0},0,{"$f":"IF(ISERROR(VLOOKUP($B10,'Round Eight'!$C:$J,6,0)),0,IF(AND(LEN($C10)<>0,$D10=\"Yes\"),VLOOKUP($B10,'Round Eight'!$C:$J,6,0),\"\"))","v":0},{"$f":"IF(ISERROR(VLOOKUP($B10,'Round Eight'!$C:$J,7,0)),0,IF(LEN($C10)<>0,VLOOKUP($B10,'Round Eight'!$C:$J,7,0)+1E-24,0))","v":0},{"$f":"IF(ISERROR(VLOOKUP($B10,'Round Nine'!$C:$J,8,0)),0,IF(AND(LEN($C10)<>0,$D10=\"Yes\"),VLOOKUP($B10,'Round Nine'!$C:$J,8,0),\"\"))","v":0},{"$f":"IF(ISERROR(VLOOKUP(AS10,'Round Nine'!$C:$J,7,0)),0,IF(AND(LEN($C10)<>0,$D10=\"Yes\"),VLOOKUP(AS10,'Round Nine'!$C:$J,7,0)+1E-24,0))","v":0},0,{"$f":"IF(ISERROR(VLOOKUP($B10,'Round Nine'!$C:$J,6,0)),0,IF(AND(LEN($C10)<>0,$D10=\"Yes\"),VLOOKUP($B10,'Round Nine'!$C:$J,6,0),\"\"))","v":0},{"$f":"IF(ISERROR(VLOOKUP($B10,'Round Nine'!$C:$J,7,0)),0,IF(LEN($C10)<>0,VLOOKUP($B10,'Round Nine'!$C:$J,7,0)+1E-24,0))","v":0},null,0,0,0,{"$f":"IF(D10<>\"Yes\",A10*-10,AY10*1000000+AZ10*10000+BA10+(A10/100000))+IF(OR(Accel_Pairing_2!$B$4=\"no\",D10<>\"Yes\",ISERROR(VLOOKUP(C10,PowerRanking!A:B,2,0))),0,(VLOOKUP(C10,PowerRanking!A:D,4,0)*1000000)+VLOOKUP(C10,PowerRanking!A:D,2,0)/10)","v":-5.2741399436900505},36,"T07",0,""]
[0.94514876691351002,"T08",null,null,{"$f":"IF(ISERROR(VLOOKUP($B11,'Round One'!$C:$J,8,0)),0,IF(AND(LEN($C11)<>0,$D11=\"Yes\"),VLOOKUP($B11,'Round One'!$C:$J,8,0),0))","v":0},{"$f":"IF(ISERROR(VLOOKUP(E11,'Round One'!$C:$J,7,0)),0,IF(AND(LEN($C11)<>0,$D11=\"Yes\"),VALUE(VLOOKUP(E11,'Round One'!$C:$J,7,0)+1E-24),0))","v":0},0,{"$f":"IF(ISERROR(VLOOKUP($B11,'Round One'!$C:$J,6,0)),0,IF(AND(LEN($C11)<>0,$D11=\"Yes\"),VLOOKUP($B11,'Round One'!$C:$J,6,0),\"\"))","v":0},{"$f":"IF(ISERROR(VLOOKUP($B11,'Round One'!$C:$J,7,0)),0,IF(LEN($C11)<>0,VLOOKUP($B11,'Round One'!$C:$J,7,0)+1E-24,0))","v":0},{"$f":"IF(ISERROR(VLOOKUP($B11,'Round Two'!$C:$J,8,0)),0,IF(AND(LEN($C11)<>0,$D11=\"Yes\"),VLOOKUP($B11,'Round Two'!$C:$J,8,0),\"\"))","v":0},{"$f":"IF(ISERROR(VLOOKUP(J11,'Round Two'!$C:$J,7,0)),0,IF(AND(LEN($C11)<>0,$D11=\"Yes\"),VLOOKUP(J11,'Round Two'!$C:$J,7,0)+1E-24,0))","v":0},0,{"$f":"IF(ISERROR(VLOOKUP($B11,'Round Two'!$C:$J,6,0)),0,IF(AND(LEN($C11)<>0,$D11=\"Yes\"),VLOOKUP($B11,'Round Two'!$C:$J,6,0),\"\"))","v":0},{"$f":"IF(ISERROR(VLOOKUP($B11,'Round Two'!$C:$J,7,0)),0,IF(LEN($C11)<>0,VLOOKUP($B11,'Round Two'!$C:$J,7,0)+1E-24,0))","v":0},{"$f":"IF(ISERROR(VLOOKUP($B11,'Round Three'!$C:$J,8,0)),0,IF(AND(LEN($C11)<>0,$D11=\"Yes\"),VLOOKUP($B11,'Round Three'!$C:$J,8,0),\"\"))","v":0},{"$f":"IF(ISERROR(VLOOKUP(O11,'Round Three'!$C:$J,7,0)),0,IF(AND(LEN($C11)<>0,$D11=\"Yes\"),VLOOKUP(O11,'Round Three'!$C:$J,7,0)+1E-24,0))","v":0},0,{"$f":"IF(ISERROR(VLOOKUP($B11,'Round Three'!$C:$J,6,0)),0,IF(AND(LEN($C11)<>0,$D11=\"Yes\"),VLOOKUP($B11,'Round Three'!$C:$J,6,0),\"\"))","v":0},{"$f":"IF(ISERROR(VLOOKUP($B11,'Round Three'!$C:$J,7,0)),0,IF(LEN($C11)<>0,VLOOKUP($B11,'Round Three'!$C:$J,7,0)+1E-24,0))","v":0},{"$f":"IF(ISERROR(VLOOKUP($B11,'Round Four'!$C:$J,8,0)),0,IF(AND(LEN($C11)<>0,$D11=\"Yes\"),VLOOKUP($B11,'Round Four'!$C:$J,8,0),\"\"))","v":0},{"$f":"IF(ISERROR(VLOOKUP(T11,'Round Four'!$C:$J,7,0)),0,IF(AND(LEN($C11)<>0,$D11=\"Yes\"),VLOOKUP(T11,'Round Four'!$C:$J,7,0)+1E-24,0))","v":0},0,{"$f":"IF(ISERROR(VLOOKUP($B11,'Round Four'!$C:$J,6,0)),0,IF(AND(LEN($C11)<>0,$D11=\"Yes\"),VLOOKUP($B11,'Round Four'!$C:$J,6,0),\"\"))","v":0},{"$f":"IF(ISERROR(VLOOKUP($B11,'Round Four'!$C:$J,7,0)),0,IF(LEN($C11)<>0,VLOOKUP($B11,'Round Four'!$C:$J,7,0)+1E-24,0))","v":0},{"$f":"IF(ISERROR(VLOOKUP($B11,'Round Five'!$C:$J,8,0)),0,IF(AND(LEN($C11)<>0,$D11=\"Yes\"),VLOOKUP($B11,'Round Five'!$C:$J,8,0),\"\"))","v":0},{"$f":"IF(ISERROR(VLOOKUP(Y11,'Round Five'!$C:$J,7,0)),0,IF(AND(LEN($C11)<>0,$D11=\"Yes\"),VLOOKUP(Y11,'Round Five'!$C:$J,7,0)+1E-24,0))","v":0},0,{"$f":"IF(ISERROR(VLOOKUP($B11,'Round Five'!$C:$J,6,0)),0,IF(AND(LEN($C11)<>0,$D11=\"Yes\"),VLOOKUP($B11,'Round Five'!$C:$J,6,0),\"\"))","v":0},{"$f":"IF(ISERROR(VLOOKUP($B11,'Round Five'!$C:$J,7,0)),0,IF(LEN($C11)<>0,VLOOKUP($B11,'Round Five'!$C:$J,7,0)+1E-24,0))","v":0},{"$f":"IF(ISERROR(VLOOKUP($B11,'Round Six'!$C:$J,8,0)),0,IF(AND(LEN($C11)<>0,$D11=\"Yes\"),VLOOKUP($B11,'Round Six'!$C:$J,8,0),\"\"))","v":0},{"$f":"IF(ISERROR(VLOOKUP(AD11,'Round Six'!$C:$J,7,0)),0,IF(AND(LEN($C11)<>0,$D11=\"Yes\"),VLOOKUP(AD11,'Round Six'!$C:$J,7,0)+1E-24,0))","v":0},0,{"$f":"IF(ISERROR(VLOOKUP($B11,'Round Six'!$C:$J,6,0)),0,IF(AND(LEN($C11)<>0,$D11=\"Yes\"),VLOOKUP($B11,'Round Six'!$C:$J,6,0),\"\"))","v":0},{"$f":"IF(ISERROR(VLOOKUP($B11,'Round Six'!$C:$J,7,0)),0,IF(LEN($C11)<>0,VLOOKUP($B11,'Round Six'!$C:$J,7,0)+1E-24,0))","v":0},{"$f":"IF(ISERROR(VLOOKUP($B11,'Round Seven'!$C:$J,8,0)),0,IF(AND(LEN($C11)<>0,$D11=\"Yes\"),VLOOKUP($B11,'Round Seven'!$C:$J,8,0),\"\"))","v":0},{"$f":"IF(ISERROR(VLOOKUP(AI11,'Round Seven'!$C:$J,7,0)),0,IF(AND(LEN($C11)<>0,$D11=\"Yes\"),VLOOKUP(AI11,'Round Seven'!$C:$J,7,0)+1E-24,0))","v":0},0,{"$f":"IF(ISERROR(VLOOKUP($B11,'Round Seven'!$C:$J,6,0)),0,IF(AND(LEN($C11)<>0,$D11=\"Yes\"),VLOOKUP($B11,'Round Seven'!$C:$J,6,0),\"\"))","v":0},{"$f":"IF(ISERROR(VLOOKUP($B11,'Round Seven'!$C:$J,7,0)),0,IF(LEN($C11)<>0,VLOOKUP($B11,'Round Seven'!$C:$J,7,0)+1E-24,0))","v":0},{"$f":"IF(ISERROR(VLOOKUP($B11,'Round Eight'!$C:$J,8,0)),0,IF(AND(LEN($C11)<>0,$D11=\"Yes\"),VLOOKUP($B11,'Round Eight'!$C:$J,8,0),\"\"))","v":0},{"$f":"IF(ISERROR(VLOOKUP(AN11,'Round Eight'!$C:$J,7,0)),0,IF(AND(LEN($C11)<>0,$D11=\"Yes\"),VLOOKUP(AN11,'Round Eight'!$C:$J,7,0)+1E-24,0))","v":0},0,{"$f":"IF(ISERROR(VLOOKUP($B11,'Round Eight'!$C:$J,6,0)),0,IF(AND(LEN($C11)<>0,$D11=\"Yes\"),VLOOKUP($B11,'Round Eight'!$C:$J,6,0),\"\"))","v":0},{"$f":"IF(ISERROR(VLOOKUP($B11,'Round Eight'!$C:$J,7,0)),0,IF(LEN($C11)<>0,VLOOKUP($B11,'Round Eight'!$C:$J,7,0)+1E-24,0))","v":0},{"$f":"IF(ISERROR(VLOOKUP($B11,'Round Nine'!$C:$J,8,0)),0,IF(AND(LEN($C11)<>0,$D11=\"Yes\"),VLOOKUP($B11,'Round Nine'!$C:$J,8,0),\"\"))","v":0},{"$f":"IF(ISERROR(VLOOKUP(AS11,'Round Nine'!$C:$J,7,0)),0,IF(AND(LEN($C11)<>0,$D11=\"Yes\"),VLOOKUP(AS11,'Round Nine'!$C:$J,7,0)+1E-24,0))","v":0},0,{"$f":"IF(ISERROR(VLOOKUP($B11,'Round Nine'!$C:$J,6,0)),0,IF(AND(LEN($C11)<>0,$D11=\"Yes\"),VLOOKUP($B11,'Round Nine'!$C:$J,6,0),\"\"))","v":0},{"$f":"IF(ISERROR(VLOOKUP($B11,'Round Nine'!$C:$J,7,0)),0,IF(LEN($C11)<>0,VLOOKUP($B11,'Round Nine'!$C:$J,7,0)+1E-24,0))","v":0},null,0,0,0,{"$f":"IF(D11<>\"Yes\",A11*-10,AY11*1000000+AZ11*10000+BA11+(A11/100000))+IF(OR(Accel_Pairing_2!$B$4=\"no\",D11<>\"Yes\",ISERROR(VLOOKUP(C11,PowerRanking!A:B,2,0))),0,(VLOOKUP(C11,PowerRanking!A:D,4,0)*1000000)+VLOOKUP(C11,PowerRanking!A:D,2,0)/10)","v":-9.4514876691350995},60,"T08",0,""]
[0.12899515869365275,"T09",null,null,{"$f":"IF(ISERROR(VLOOKUP($B12,'Round One'!$C:$J,8,0)),0,IF(AND(LEN($C12)<>0,$D12=\"Yes\"),VLOOKUP($B12,'Round One'!$C:$J,8,0),0))","v":0},{"$f":"IF(ISERROR(VLOOKUP(E12,'Round One'!$C:$J,7,0)),0,IF(AND(LEN($C12)<>0,$D12=\"Yes\"),VALUE(VLOOKUP(E12,'Round One'!$C:$J,7,0)+1E-24),0))","v":0},0,{"$f":"IF(ISERROR(VLOOKUP($B12,'Round One'!$C:$J,6,0)),0,IF(AND(LEN($C12)<>0,$D12=\"Yes\"),VLOOKUP($B12,'Round One'!$C:$J,6,0),\"\"))","v":0},{"$f":"IF(ISERROR(VLOOKUP($B12,'Round One'!$C:$J,7,0)),0,IF(LEN($C12)<>0,VLOOKUP($B12,'Round One'!$C:$J,7,0)+1E-24,0))","v":0},{"$f":"IF(ISERROR(VLOOKUP($B12,'Round Two'!$C:$J,8,0)),0,IF(AND(LEN($C12)<>0,$D12=\"Yes\"),VLOOKUP($B12,'Round Two'!$C:$J,8,0),\"\"))","v":0},{"$f":"IF(ISERROR(VLOOKUP(J12,'Round Two'!$C:$J,7,0)),0,IF(AND(LEN($C12)<>0,$D12=\"Yes\"),VLOOKUP(J12,'Round Two'!$C:$J,7,0)+1E-24,0))","v":0},0,{"$f":"IF(ISERROR(VLOOKUP($B12,'Round Two'!$C:$J,6,0)),0,IF(AND(LEN($C12)<>0,$D12=\"Yes\"),VLOOKUP($B12,'Round Two'!$C:$J,6,0),\"\"))","v":0},{"$f":"IF(ISERROR(VLOOKUP($B12,'Round Two'!$C:$J,7,0)),0,IF(LEN($C12)<>0,VLOOKUP($B12,'Round Two'!$C:$J,7,0)+1E-24,0))","v":0},{"$f":"IF(ISERROR(VLOOKUP($B12,'Round Three'!$C:$J,8,0)),0,IF(AND(LEN($C12)<>0,$D12=\"Yes\"),VLOOKUP($B12,'Round Three'!$C:$J,8,0),\"\"))","v":0},{"$f":"IF(ISERROR(VLOOKUP(O12,'Round Three'!$C:$J,7,0)),0,IF(AND(LEN($C12)<>0,$D12=\"Yes\"),VLOOKUP(O12,'Round Three'!$C:$J,7,0)+1E-24,0))","v":0},0,{"$f":"IF(ISERROR(VLOOKUP($B12,'Round Three'!$C:$J,6,0)),0,IF(AND(LEN($C12)<>0,$D12=\"Yes\"),VLOOKUP($B12,'Round Three'!$C:$J,6,0),\"\"))","v":0},{"$f":"IF(ISERROR(VLOOKUP($B12,'Round Three'!$C:$J,7,0)),0,IF(LEN($C12)<>0,VLOOKUP($B12,'Round Three'!$C:$J,7,0)+1E-24,0))","v":0},{"$f":"IF(ISERROR(VLOOKUP($B12,'Round Four'!$C:$J,8,0)),0,IF(AND(LEN($C12)<>0,$D12=\"Yes\"),VLOOKUP($B12,'Round Four'!$C:$J,8,0),\"\"))","v":0},{"$f":"IF(ISERROR(VLOOKUP(T12,'Round Four'!$C:$J,7,0)),0,IF(AND(LEN($C12)<>0,$D12=\"Yes\"),VLOOKUP(T12,'Round Four'!$C:$J,7,0)+1E-24,0))","v":0},0,{"$f":"IF(ISERROR(VLOOKUP($B12,'Round Four'!$C:$J,6,0)),0,IF(AND(LEN($C12)<>0,$D12=\"Yes\"),VLOOKUP($B12,'Round Four'!$C:$J,6,0),\"\"))","v":0},{"$f":"IF(ISERROR(VLOOKUP($B12,'Round Four'!$C:$J,7,0)),0,IF(LEN($C12)<>0,VLOOKUP($B12,'Round Four'!$C:$J,7,0)+1E-24,0))","v":0},{"$f":"IF(ISERROR(VLOOKUP($B12,'Round Five'!$C:$J,8,0)),0,IF(AND(LEN($C12)<>0,$D12=\"Yes\"),VLOOKUP($B12,'Round Five'!$C:$J,8,0),\"\"))","v":0},{"$f":"IF(ISERROR(VLOOKUP(Y12,'Round Five'!$C:$J,7,0)),0,IF(AND(LEN($C12)<>0,$D12=\"Yes\"),VLOOKUP(Y12,'Round Five'!$C:$J,7,0)+1E-24,0))","v":0},0,{"$f":"IF(ISERROR(VLOOKUP($B12,'Round Five'!$C:$J,6,0)),0,IF(AND(LEN($C12)<>0,$D12=\"Yes\"),VLOOKUP($B12,'Round Five'!$C:$J,6,0),\"\"))","v":0},{"$f":"IF(ISERROR(VLOOKUP($B12,'Round Five'!$C:$J,7,0)),0,IF(LEN($C12)<>0,VLOOKUP($B12,'Round Five'!$C:$J,7,0)+1E-24,0))","v":0},{"$f":"IF(ISERROR(VLOOKUP($B12,'Round Six'!$C:$J,8,0)),0,IF(AND(LEN($C12)<>0,$D12=\"Yes\"),VLOOKUP($B12,'Round Six'!$C:$J,8,0),\"\"))","v":0},{"$f":"IF(ISERROR(VLOOKUP(AD12,'Round Six'!$C:$J,7,0)),0,IF(AND(LEN($C12)<>0,$D12=\"Yes\"),VLOOKUP(AD12,'Round Six'!$C:$J,7,0)+1E-24,0))","v":0},0,{"$f":"IF(ISERROR(VLOOKUP($B12,'Round Six'!$C:$J,6,0)),0,IF(AND(LEN($C12)<>0,$D12=\"Yes\"),VLOOKUP($B12,'Round Six'!$C:$J,6,0),\"\"))","v":0},{"$f":"IF(ISERROR(VLOOKUP($B12,'Round Six'!$C:$J,7,0)),0,IF(LEN($C12)<>0,VLOOKUP($B12,'Round Six'!$C:$J,7,0)+1E-24,0))","v":0},{"$f":"IF(ISERROR(VLOOKUP($B12,'Round Seven'!$C:$J,8,0)),0,IF(AND(LEN($C12)<>0,$D12=\"Yes\"),VLOOKUP($B12,'Round Seven'!$C:$J,8,0),\"\"))","v":0},{"$f":"IF(ISERROR(VLOOKUP(AI12,'Round Seven'!$C:$J,7,0)),0,IF(AND(LEN($C12)<>0,$D12=\"Yes\"),VLOOKUP(AI12,'Round Seven'!$C:$J,7,0)+1E-24,0))","v":0},0,{"$f":"IF(ISERROR(VLOOKUP($B12,'Round Seven'!$C:$J,6,0)),0,IF(AND(LEN($C12)<>0,$D12=\"Yes\"),VLOOKUP($B12,'Round Seven'!$C:$J,6,0),\"\"))","v":0},{"$f":"IF(ISERROR(VLOOKUP($B12,'Round Seven'!$C:$J,7,0)),0,IF(LEN($C12)<>0,VLOOKUP($B12,'Round Seven'!$C:$J,7,0)+1E-24,0))","v":0},{"$f":"IF(ISERROR(VLOOKUP($B12,'Round Eight'!$C:$J,8,0)),0,IF(AND(LEN($C12)<>0,$D12=\"Yes\"),VLOOKUP($B12,'Round Eight'!$C:$J,8,0),\"\"))","v":0},{"$f":"IF(ISERROR(VLOOKUP(AN12,'Round Eight'!$C:$J,7,0)),0,IF(AND(LEN($C12)<>0,$D12=\"Yes\"),VLOOKUP(AN12,'Round Eight'!$C:$J,7,0)+1E-24,0))","v":0},0,{"$f":"IF(ISERROR(VLOOKUP($B12,'Round Eight'!$C:$J,6,0)),0,IF(AND(LEN($C12)<>0,$D12=\"Yes\"),VLOOKUP($B12,'Round Eight'!$C:$J,6,0),\"\"))","v":0},{"$f":"IF(ISERROR(VLOOKUP($B12,'Round Eight'!$C:$J,7,0)),0,IF(LEN($C12)<>0,VLOOKUP($B12,'Round Eight'!$C:$J,7,0)+1E-24,0))","v":0},{"$f":"IF(ISERROR(VLOOKUP($B12,'Round Nine'!$C:$J,8,0)),0,IF(AND(LEN($C12)<>0,$D12=\"Yes\"),VLOOKUP($B12,'Round Nine'!$C:$J,8,0),\"\"))","v":0},{"$f":"IF(ISERROR(VLOOKUP(AS12,'Round Nine'!$C:$J,7,0)),0,IF(AND(LEN($C12)<>0,$D12=\"Yes\"),VLOOKUP(AS12,'Round Nine'!$C:$J,7,0)+1E-24,0))","v":0},0,{"$f":"IF(ISERROR(VLOOKUP($B12,'Round Nine'!$C:$J,6,0)),0,IF(AND(LEN($C12)<>0,$D12=\"Yes\"),VLOOKUP($B12,'Round Nine'!$C:$J,6,0),\"\"))","v":0},{"$f":"IF(ISERROR(VLOOKUP($B12,'Round Nine'!$C:$J,7,0)),0,IF(LEN($C12)<>0,VLOOKUP($B12,'Round Nine'!$C:$J,7,0)+1E-24,0))","v":0},null,0,0,0,{"$f":"IF(D12<>\"Yes\",A12*-10,AY12*1000000+AZ12*10000+BA12+(A12/100000))+IF(OR(Accel_Pairing_2!$B$4=\"no\",D12<>\"Yes\",ISERROR(VLOOKUP(C12,PowerRanking!A:B,2,0))),0,(VLOOKUP(C12,PowerRanking!A:D,4,0)*1000000)+VLOOKUP(C12,PowerRanking!A:D,2,0)/10)","v":-1.2899515869365275},8,"T09",0,""]
[0.23834024947676868,"T10",null,null,{"$f":"IF(ISERROR(VLOOKUP($B13,'Round One'!$C:$J,8,0)),0,IF(AND(LEN($C13)<>0,$D13=\"Yes\"),VLOOKUP($B13,'Round One'!$C:$J,8,0),0))","v":0},{"$f":"IF(ISERROR(VLOOKUP(E13,'Round One'!$C:$J,7,0)),0,IF(AND(LEN($C13)<>0,$D13=\"Yes\"),VALUE(VLOOKUP(E13,'Round One'!$C:$J,7,0)+1E-24),0))","v":0},0,{"$f":"IF(ISERROR(VLOOKUP($B13,'Round One'!$C:$J,6,0)),0,IF(AND(LEN($C13)<>0,$D13=\"Yes\"),VLOOKUP($B13,'Round One'!$C:$J,6,0),\"\"))","v":0},{"$f":"IF(ISERROR(VLOOKUP($B13,'Round One'!$C:$J,7,0)),0,IF(LEN($C13)<>0,VLOOKUP($B13,'Round One'!$C:$J,7,0)+1E-24,0))","v":0},{"$f":"IF(ISERROR(VLOOKUP($B13,'Round Two'!$C:$J,8,0)),0,IF(AND(LEN($C13)<>0,$D13=\"Yes\"),VLOOKUP($B13,'Round Two'!$C:$J,8,0),\"\"))","v":0},{"$f":"IF(ISERROR(VLOOKUP(J13,'Round Two'!$C:$J,7,0)),0,IF(AND(LEN($C13)<>0,$D13=\"Yes\"),VLOOKUP(J13,'Round Two'!$C:$J,7,0)+1E-24,0))","v":0},0,{"$f":"IF(ISERROR(VLOOKUP($B13,'Round Two'!$C:$J,6,0)),0,IF(AND(LEN($C13)<>0,$D13=\"Yes\"),VLOOKUP($B13,'Round Two'!$C:$J,6,0),\"\"))","v":0},{"$f":"IF(ISERROR(VLOOKUP($B13,'Round Two'!$C:$J,7,0)),0,IF(LEN($C13)<>0,VLOOKUP($B13,'Round Two'!$C:$J,7,0)+1E-24,0))","v":0},{"$f":"IF(ISERROR(VLOOKUP($B13,'Round Three'!$C:$J,8,0)),0,IF(AND(LEN($C13)<>0,$D13=\"Yes\"),VLOOKUP($B13,'Round Three'!$C:$J,8,0),\"\"))","v":0},{"$f":"IF(ISERROR(VLOOKUP(O13,'Round Three'!$C:$J,7,0)),0,IF(AND(LEN($C13)<>0,$D13=\"Yes\"),VLOOKUP(O13,'Round Three'!$C:$J,7,0)+1E-24,0))","v":0},0,{"$f":"IF(ISERROR(VLOOKUP($B13,'Round Three'!$C:$J,6,0)),0,IF(AND(LEN($C13)<>0,$D13=\"Yes\"),VLOOKUP($B13,'Round Three'!$C:$J,6,0),\"\"))","v":0},{"$f":"IF(ISERROR(VLOOKUP($B13,'Round Three'!$C:$J,7,0)),0,IF(LEN($C13)<>0,VLOOKUP($B13,'Round Three'!$C:$J,7,0)+1E-24,0))","v":0},{"$f":"IF(ISERROR(VLOOKUP($B13,'Round Four'!$C:$J,8,0)),0,IF(AND(LEN($C13)<>0,$D13=\"Yes\"),VLOOKUP($B13,'Round Four'!$C:$J,8,0),\"\"))","v":0},{"$f":"IF(ISERROR(VLOOKUP(T13,'Round Four'!$C:$J,7,0)),0,IF(AND(LEN($C13)<>0,$D13=\"Yes\"),VLOOKUP(T13,'Round Four'!$C:$J,7,0)+1E-24,0))","v":0},0,{"$f":"IF(ISERROR(VLOOKUP($B13,'Round Four'!$C:$J,6,0)),0,IF(AND(LEN($C13)<>0,$D13=\"Yes\"),VLOOKUP($B13,'Round Four'!$C:$J,6,0),\"\"))","v":0},{"$f":"IF(ISERROR(VLOOKUP($B13,'Round Four'!$C:$J,7,0)),0,IF(LEN($C13)<>0,VLOOKUP($B13,'Round Four'!$C:$J,7,0)+1E-24,0))","v":0},{"$f":"IF(ISERROR(VLOOKUP($B13,'Round Five'!$C:$J,8,0)),0,IF(AND(LEN($C13)<>0,$D13=\"Yes\"),VLOOKUP($B13,'Round Five'!$C:$J,8,0),\"\"))","v":0},{"$f":"IF(ISERROR(VLOOKUP(Y13,'Round Five'!$C:$J,7,0)),0,IF(AND(LEN($C13)<>0,$D13=\"Yes\"),VLOOKUP(Y13,'Round Five'!$C:$J,7,0)+1E-24,0))","v":0},0,{"$f":"IF(ISERROR(VLOOKUP($B13,'Round Five'!$C:$J,6,0)),0,IF(AND(LEN($C13)<>0,$D13=\"Yes\"),VLOOKUP($B13,'Round Five'!$C:$J,6,0),\"\"))","v":0},{"$f":"IF(ISERROR(VLOOKUP($B13,'Round Five'!$C:$J,7,0)),0,IF(LEN($C13)<>0,VLOOKUP($B13,'Round Five'!$C:$J,7,0)+1E-24,0))","v":0},{"$f":"IF(ISERROR(VLOOKUP($B13,'Round Six'!$C:$J,8,0)),0,IF(AND(LEN($C13)<>0,$D13=\"Yes\"),VLOOKUP($B13,'Round Six'!$C:$J,8,0),\"\"))","v":0},{"$f":"IF(ISERROR(VLOOKUP(AD13,'Round Six'!$C:$J,7,0)),0,IF(AND(LEN($C13)<>0,$D13=\"Yes\"),VLOOKUP(AD13,'Round Six'!$C:$J,7,0)+1E-24,0))","v":0},0,{"$f":"IF(ISERROR(VLOOKUP($B13,'Round Six'!$C:$J,6,0)),0,IF(AND(LEN($C13)<>0,$D13=\"Yes\"),VLOOKUP($B13,'Round Six'!$C:$J,6,0),\"\"))","v":0},{"$f":"IF(ISERROR(VLOOKUP($B13,'Round Six'!$C:$J,7,0)),0,IF(LEN($C13)<>0,VLOOKUP($B13,'Round Six'!$C:$J,7,0)+1E-24,0))","v":0},{"$f":"IF(ISERROR(VLOOKUP($B13,'Round Seven'!$C:$J,8,0)),0,IF(AND(LEN($C13)<>0,$D13=\"Yes\"),VLOOKUP($B13,'Round Seven'!$C:$J,8,0),\"\"))","v":0},{"$f":"IF(ISERROR(VLOOKUP(AI13,'Round Seven'!$C:$J,7,0)),0,IF(AND(LEN($C13)<>0,$D13=\"Yes\"),VLOOKUP(AI13,'Round Seven'!$C:$J,7,0)+1E-24,0))","v":0},0,{"$f":"IF(ISERROR(VLOOKUP($B13,'Round Seven'!$C:$J,6,0)),0,IF(AND(LEN($C13)<>0,$D13=\"Yes\"),VLOOKUP($B13,'Round Seven'!$C:$J,6,0),\"\"))","v":0},{"$f":"IF(ISERROR(VLOOKUP($B13,'Round Seven'!$C:$J,7,0)),0,IF(LEN($C13)<>0,VLOOKUP($B13,'Round Seven'!$C:$J,7,0)+1E-24,0))","v":0},{"$f":"IF(ISERROR(VLOOKUP($B13,'Round Eight'!$C:$J,8,0)),0,IF(AND(LEN($C13)<>0,$D13=\"Yes\"),VLOOKUP($B13,'Round Eight'!$C:$J,8,0),\"\"))","v":0},{"$f":"IF(ISERROR(VLOOKUP(AN13,'Round Eight'!$C:$J,7,0)),0,IF(AND(LEN($C13)<>0,$D13=\"Yes\"),VLOOKUP(AN13,'Round Eight'!$C:$J,7,0)+1E-24,0))","v":0},0,{"$f":"IF(ISERROR(VLOOKUP($B13,'Round Eight'!$C:$J,6,0)),0,IF(AND(LEN($C13)<>0,$D13=\"Yes\"),VLOOKUP($B13,'Round Eight'!$C:$J,6,0),\"\"))","v":0},{"$f":"IF(ISERROR(VLOOKUP($B13,'Round Eight'!$C:$J,7,0)),0,IF(LEN($C13)<>0,VLOOKUP($B13,'Round Eight'!$C:$J,7,0)+1E-24,0))","v":0},{"$f":"IF(ISERROR(VLOOKUP($B13,'Round Nine'!$C:$J,8,0)),0,IF(AND(LEN($C13)<>0,$D13=\"Yes\"),VLOOKUP($B13,'Round Nine'!$C:$J,8,0),\"\"))","v":0},{"$f":"IF(ISERROR(VLOOKUP(AS13,'Round Nine'!$C:$J,7,0)),0,IF(AND(LEN($C13)<>0,$D13=\"Yes\"),VLOOKUP(AS13,'Round Nine'!$C:$J,7,0)+1E-24,0))","v":0},0,{"$f":"IF(ISERROR(VLOOKUP($B13,'Round Nine'!$C:$J,6,0)),0,IF(AND(LEN($C13)<>0,$D13=\"Yes\"),VLOOKUP($B13,'Round Nine'!$C:$J,6,0),\"\"))","v":0},{"$f":"IF(ISERROR(VLOOKUP($B13,'Round Nine'!$C:$J,7,0)),0,IF(LEN($C13)<>0,VLOOKUP($B13,'Round Nine'!$C:$J,7,0)+1E-24,0))","v":0},null,0,0,0,{"$f":"IF(D13<>\"Yes\",A13*-10,AY13*1000000+AZ13*10000+BA13+(A13/100000))+IF(OR(Accel_Pairing_2!$B$4=\"no\",D13<>\"Yes\",ISERROR(VLOOKUP(C13,PowerRanking!A:B,2,0))),0,(VLOOKUP(C13,PowerRanking!A:D,4,0)*1000000)+VLOOKUP(C13,PowerRanking!A:D,2,0)/10)","v":-2.3834024947676866},14,"T10",0,""]
[6.3970500896068594E-2,"T11",null,null,{"$f":"IF(ISERROR(VLOOKUP($B14,'Round One'!$C:$J,8,0)),0,IF(AND(LEN($C14)<>0,$D14=\"Yes\"),VLOOKUP($B14,'Round One'!$C:$J,8,0),0))","v":0},{"$f":"IF(ISERROR(VLOOKUP(E14,'Round One'!$C:$J,7,0)),0,IF(AND(LEN($C14)<>0,$D14=\"Yes\"),VALUE(VLOOKUP(E14,'Round One'!$C:$J,7,0)+1E-24),0))","v":0},0,{"$f":"IF(ISERROR(VLOOKUP($B14,'Round One'!$C:$J,6,0)),0,IF(AND(LEN($C14)<>0,$D14=\"Yes\"),VLOOKUP($B14,'Round One'!$C:$J,6,0),\"\"))","v":0},{"$f":"IF(ISERROR(VLOOKUP($B14,'Round One'!$C:$J,7,0)),0,IF(LEN($C14)<>0,VLOOKUP($B14,'Round One'!$C:$J,7,0)+1E-24,0))","v":0},{"$f":"IF(ISERROR(VLOOKUP($B14,'Round Two'!$C:$J,8,0)),0,IF(AND(LEN($C14)<>0,$D14=\"Yes\"),VLOOKUP($B14,'Round Two'!$C:$J,8,0),\"\"))","v":0},{"$f":"IF(ISERROR(VLOOKUP(J14,'Round Two'!$C:$J,7,0)),0,IF(AND(LEN($C14)<>0,$D14=\"Yes\"),VLOOKUP(J14,'Round Two'!$C:$J,7,0)+1E-24,0))","v":0},0,{"$f":"IF(ISERROR(VLOOKUP($B14,'Round Two'!$C:$J,6,0)),0,IF(AND(LEN($C14)<>0,$D14=\"Yes\"),VLOOKUP($B14,'Round Two'!$C:$J,6,0),\"\"))","v":0},{"$f":"IF(ISERROR(VLOOKUP($B14,'Round Two'!$C:$J,7,0)),0,IF(LEN($C14)<>0,VLOOKUP($B14,'Round Two'!$C:$J,7,0)+1E-24,0))","v":0},{"$f":"IF(ISERROR(VLOOKUP($B14,'Round Three'!$C:$J,8,0)),0,IF(AND(LEN($C14)<>0,$D14=\"Yes\"),VLOOKUP($B14,'Round Three'!$C:$J,8,0),\"\"))","v":0},{"$f":"IF(ISERROR(VLOOKUP(O14,'Round Three'!$C:$J,7,0)),0,IF(AND(LEN($C14)<>0,$D14=\"Yes\"),VLOOKUP(O14,'Round Three'!$C:$J,7,0)+1E-24,0))","v":0},0,{"$f":"IF(ISERROR(VLOOKUP($B14,'Round Three'!$C:$J,6,0)),0,IF(AND(LEN($C14)<>0,$D14=\"Yes\"),VLOOKUP($B14,'Round Three'!$C:$J,6,0),\"\"))","v":0},{"$f":"IF(ISERROR(VLOOKUP($B14,'Round Three'!$C:$J,7,0)),0,IF(LEN($C14)<>0,VLOOKUP($B14,'Round Three'!$C:$J,7,0)+1E-24,0))","v":0},{"$f":"IF(ISERROR(VLOOKUP($B14,'Round Four'!$C:$J,8,0)),0,IF(AND(LEN($C14)<>0,$D14=\"Yes\"),VLOOKUP($B14,'Round Four'!$C:$J,8,0),\"\"))","v":0},{"$f":"IF(ISERROR(VLOOKUP(T14,'Round Four'!$C:$J,7,0)),0,IF(AND(LEN($C14)<>0,$D14=\"Yes\"),VLOOKUP(T14,'Round Four'!$C:$J,7,0)+1E-24,0))","v":0},0,{"$f":"IF(ISERROR(VLOOKUP($B14,'Round Four'!$C:$J,6,0)),0,IF(AND(LEN($C14)<>0,$D14=\"Yes\"),VLOOKUP($B14,'Round Four'!$C:$J,6,0),\"\"))","v":0},{"$f":"IF(ISERROR(VLOOKUP($B14,'Round Four'!$C:$J,7,0)),0,IF(LEN($C14)<>0,VLOOKUP($B14,'Round Four'!$C:$J,7,0)+1E-24,0))","v":0},{"$f":"IF(ISERROR(VLOOKUP($B14,'Round Five'!$C:$J,8,0)),0,IF(AND(LEN($C14)<>0,$D14=\"Yes\"),VLOOKUP($B14,'Round Five'!$C:$J,8,0),\"\"))","v":0},{"$f":"IF(ISERROR(VLOOKUP(Y14,'Round Five'!$C:$J,7,0)),0,IF(AND(LEN($C14)<>0,$D14=\"Yes\"),VLOOKUP(Y14,'Round Five'!$C:$J,7,0)+1E-24,0))","v":0},0,{"$f":"IF(ISERROR(VLOOKUP($B14,'Round Five'!$C:$J,6,0)),0,IF(AND(LEN($C14)<>0,$D14=\"Yes\"),VLOOKUP($B14,'Round Five'!$C:$J,6,0),\"\"))","v":0},{"$f":"IF(ISERROR(VLOOKUP($B14,'Round Five'!$C:$J,7,0)),0,IF(LEN($C14)<>0,VLOOKUP($B14,'Round Five'!$C:$J,7,0)+1E-24,0))","v":0},{"$f":"IF(ISERROR(VLOOKUP($B14,'Round Six'!$C:$J,8,0)),0,IF(AND(LEN($C14)<>0,$D14=\"Yes\"),VLOOKUP($B14,'Round Six'!$C:$J,8,0),\"\"))","v":0},{"$f":"IF(ISERROR(VLOOKUP(AD14,'Round Six'!$C:$J,7,0)),0,IF(AND(LEN($C14)<>0,$D14=\"Yes\"),VLOOKUP(AD14,'Round Six'!$C:$J,7,0)+1E-24,0))","v":0},0,{"$f":"IF(ISERROR(VLOOKUP($B14,'Round Six'!$C:$J,6,0)),0,IF(AND(LEN($C14)<>0,$D14=\"Yes\"),VLOOKUP($B14,'Round Six'!$C:$J,6,0),\"\"))","v":0},{"$f":"IF(ISERROR(VLOOKUP($B14,'Round Six'!$C:$J,7,0)),0,IF(LEN($C14)<>0,VLOOKUP($B14,'Round Six'!$C:$J,7,0)+1E-24,0))","v":0},{"$f":"IF(ISERROR(VLOOKUP($B14,'Round Seven'!$C:$J,8,0)),0,IF(AND(LEN($C14)<>0,$D14=\"Yes\"),VLOOKUP($B14,'Round Seven'!$C:$J,8,0),\"\"))","v":0},{"$f":"IF(ISERROR(VLOOKUP(AI14,'Round Seven'!$C:$J,7,0)),0,IF(AND(LEN($C14)<>0,$D14=\"Yes\"),VLOOKUP(AI14,'Round Seven'!$C:$J,7,0)+1E-24,0))","v":0},0,{"$f":"IF(ISERROR(VLOOKUP($B14,'Round Seven'!$C:$J,6,0)),0,IF(AND(LEN($C14)<>0,$D14=\"Yes\"),VLOOKUP($B14,'Round Seven'!$C:$J,6,0),\"\"))","v":0},{"$f":"IF(ISERROR(VLOOKUP($B14,'Round Seven'!$C:$J,7,0)),0,IF(LEN($C14)<>0,VLOOKUP($B14,'Round Seven'!$C:$J,7,0)+1E-24,0))","v":0},{"$f":"IF(ISERROR(VLOOKUP($B14,'Round Eight'!$C:$J,8,0)),0,IF(AND(LEN($C14)<>0,$D14=\"Yes\"),VLOOKUP($B14,'Round Eight'!$C:$J,8,0),\"\"))","v":0},{"$f":"IF(ISERROR(VLOOKUP(AN14,'Round Eight'!$C:$J,7,0)),0,IF(AND(LEN($C14)<>0,$D14=\"Yes\"),VLOOKUP(AN14,'Round Eight'!$C:$J,7,0)+1E-24,0))","v":0},0,{"$f":"IF(ISERROR(VLOOKUP($B14,'Round Eight'!$C:$J,6,0)),0,IF(AND(LEN($C14)<>0,$D14=\"Yes\"),VLOOKUP($B14,'Round Eight'!$C:$J,6,0),\"\"))","v":0},{"$f":"IF(ISERROR(VLOOKUP($B14,'Round Eight'!$C:$J,7,0)),0,IF(LEN($C14)<>0,VLOOKUP($B14,'Round Eight'!$C:$J,7,0)+1E-24,0))","v":0},{"$f":"IF(ISERROR(VLOOKUP($B14,'Round Nine'!$C:$J,8,0)),0,IF(AND(LEN($C14)<>0,$D14=\"Yes\"),VLOOKUP($B14,'Round Nine'!$C:$J,8,0),\"\"))","v":0},{"$f":"IF(ISERROR(VLOOKUP(AS14,'Round Nine'!$C:$J,7,0)),0,IF(AND(LEN($C14)<>0,$D14=\"Yes\"),VLOOKUP(AS14,'Round Nine'!$C:$J,7,0)+1E-24,0))","v":0},0,{"$f":"IF(ISERROR(VLOOKUP($B14,'Round Nine'!$C:$J,6,0)),0,IF(AND(LEN($C14)<>0,$D14=\"Yes\"),VLOOKUP($B14,'Round Nine'!$C:$J,6,0),\"\"))","v":0},{"$f":"IF(ISERROR(VLOOKUP($B14,'Round Nine'!$C:$J,7,0)),0,IF(LEN($C14)<>0,VLOOKUP($B14,'Round Nine'!$C:$J,7,0)+1E-24,0))","v":0},null,0,0,0,{"$f":"IF(D14<>\"Yes\",A14*-10,AY14*1000000+AZ14*10000+BA14+(A14/100000))+IF(OR(Accel_Pairing_2!$B$4=\"no\",D14<>\"Yes\",ISERROR(VLOOKUP(C14,PowerRanking!A:B,2,0))),0,(VLOOKUP(C14,PowerRanking!A:D,4,0)*1000000)+VLOOKUP(C14,PowerRanking!A:D,2,0)/10)","v":-0.63970500896068594},3,"T11",0,""]
[0.391255922447035,"T12",null,null,{"$f":"IF(ISERROR(VLOOKUP($B15,'Round One'!$C:$J,8,0)),0,IF(AND(LEN($C15)<>0,$D15=\"Yes\"),VLOOKUP($B15,'Round One'!$C:$J,8,0),0))","v":0},{"$f":"IF(ISERROR(VLOOKUP(E15,'Round One'!$C:$J,7,0)),0,IF(AND(LEN($C15)<>0,$D15=\"Yes\"),VALUE(VLOOKUP(E15,'Round One'!$C:$J,7,0)+1E-24),0))","v":0},0,{"$f":"IF(ISERROR(VLOOKUP($B15,'Round One'!$C:$J,6,0)),0,IF(AND(LEN($C15)<>0,$D15=\"Yes\"),VLOOKUP($B15,'Round One'!$C:$J,6,0),\"\"))","v":0},{"$f":"IF(ISERROR(VLOOKUP($B15,'Round One'!$C:$J,7,0)),0,IF(LEN($C15)<>0,VLOOKUP($B15,'Round One'!$C:$J,7,0)+1E-24,0))","v":0},{"$f":"IF(ISERROR(VLOOKUP($B15,'Round Two'!$C:$J,8,0)),0,IF(AND(LEN($C15)<>0,$D15=\"Yes\"),VLOOKUP($B15,'Round Two'!$C:$J,8,0),\"\"))","v":0},{"$f":"IF(ISERROR(VLOOKUP(J15,'Round Two'!$C:$J,7,0)),0,IF(AND(LEN($C15)<>0,$D15=\"Yes\"),VLOOKUP(J15,'Round Two'!$C:$J,7,0)+1E-24,0))","v":0},0,{"$f":"IF(ISERROR(VLOOKUP($B15,'Round Two'!$C:$J,6,0)),0,IF(AND(LEN($C15)<>0,$D15=\"Yes\"),VLOOKUP($B15,'Round Two'!$C:$J,6,0),\"\"))","v":0},{"$f":"IF(ISERROR(VLOOKUP($B15,'Round Two'!$C:$J,7,0)),0,IF(LEN($C15)<>0,VLOOKUP($B15,'Round Two'!$C:$J,7,0)+1E-24,0))","v":0},{"$f":"IF(ISERROR(VLOOKUP($B15,'Round Three'!$C:$J,8,0)),0,IF(AND(LEN($C15)<>0,$D15=\"Yes\"),VLOOKUP($B15,'Round Three'!$C:$J,8,0),\"\"))","v":0},{"$f":"IF(ISERROR(VLOOKUP(O15,'Round Three'!$C:$J,7,0)),0,IF(AND(LEN($C15)<>0,$D15=\"Yes\"),VLOOKUP(O15,'Round Three'!$C:$J,7,0)+1E-24,0))","v":0},0,{"$f":"IF(ISERROR(VLOOKUP($B15,'Round Three'!$C:$J,6,0)),0,IF(AND(LEN($C15)<>0,$D15=\"Yes\"),VLOOKUP($B15,'Round Three'!$C:$J,6,0),\"\"))","v":0},{"$f":"IF(ISERROR(VLOOKUP($B15,'Round Three'!$C:$J,7,0)),0,IF(LEN($C15)<>0,VLOOKUP($B15,'Round Three'!$C:$J,7,0)+1E-24,0))","v":0},{"$f":"IF(ISERROR(VLOOKUP($B15,'Round Four'!$C:$J,8,0)),0,IF(AND(LEN($C15)<>0,$D15=\"Yes\"),VLOOKUP($B15,'Round Four'!$C:$J,8,0),\"\"))","v":0},{"$f":"IF(ISERROR(VLOOKUP(T15,'Round Four'!$C:$J,7,0)),0,IF(AND(LEN($C15)<>0,$D15=\"Yes\"),VLOOKUP(T15,'Round Four'!$C:$J,7,0)+1E-24,0))","v":0},0,{"$f":"IF(ISERROR(VLOOKUP($B15,'Round Four'!$C:$J,6,0)),0,IF(AND(LEN($C15)<>0,$D15=\"Yes\"),VLOOKUP($B15,'Round Four'!$C:$J,6,0),\"\"))","v":0},{"$f":"IF(ISERROR(VLOOKUP($B15,'Round Four'!$C:$J,7,0)),0,IF(LEN($C15)<>0,VLOOKUP($B15,'Round Four'!$C:$J,7,0)+1E-24,0))","v":0},{"$f":"IF(ISERROR(VLOOKUP($B15,'Round Five'!$C:$J,8,0)),0,IF(AND(LEN($C15)<>0,$D15=\"Yes\"),VLOOKUP($B15,'Round Five'!$C:$J,8,0),\"\"))","v":0},{"$f":"IF(ISERROR(VLOOKUP(Y15,'Round Five'!$C:$J,7,0)),0,IF(AND(LEN($C15)<>0,$D15=\"Yes\"),VLOOKUP(Y15,'Round Five'!$C:$J,7,0)+1E-24,0))","v":0},0,{"$f":"IF(ISERROR(VLOOKUP($B15,'Round Five'!$C:$J,6,0)),0,IF(AND(LEN($C15)<>0,$D15=\"Yes\"),VLOOKUP($B15,'Round Five'!$C:$J,6,0),\"\"))","v":0},{"$f":"IF(ISERROR(VLOOKUP($B15,'Round Five'!$C:$J,7,0)),0,IF(LEN($C15)<>0,VLOOKUP($B15,'Round Five'!$C:$J,7,0)+1E-24,0))","v":0},{"$f":"IF(ISERROR(VLOOKUP($B15,'Round Six'!$C:$J,8,0)),0,IF(AND(LEN($C15)<>0,$D15=\"Yes\"),VLOOKUP($B15,'Round Six'!$C:$J,8,0),\"\"))","v":0},{"$f":"IF(ISERROR(VLOOKUP(AD15,'Round Six'!$C:$J,7,0)),0,IF(AND(LEN($C15)<>0,$D15=\"Yes\"),VLOOKUP(AD15,'Round Six'!$C:$J,7,0)+1E-24,0))","v":0},0,{"$f":"IF(ISERROR(VLOOKUP($B15,'Round Six'!$C:$J,6,0)),0,IF(AND(LEN($C15)<>0,$D15=\"Yes\"),VLOOKUP($B15,'Round Six'!$C:$J,6,0),\"\"))","v":0},{"$f":"IF(ISERROR(VLOOKUP($B15,'Round Six'!$C:$J,7,0)),0,IF(LEN($C15)<>0,VLOOKUP($B15,'Round Six'!$C:$J,7,0)+1E-24,0))","v":0},{"$f":"IF(ISERROR(VLOOKUP($B15,'Round Seven'!$C:$J,8,0)),0,IF(AND(LEN($C15)<>0,$D15=\"Yes\"),VLOOKUP($B15,'Round Seven'!$C:$J,8,0),\"\"))","v":0},{"$f":"IF(ISERROR(VLOOKUP(AI15,'Round Seven'!$C:$J,7,0)),0,IF(AND(LEN($C15)<>0,$D15=\"Yes\"),VLOOKUP(AI15,'Round Seven'!$C:$J,7,0)+1E-24,0))","v":0},0,{"$f":"IF(ISERROR(VLOOKUP($B15,'Round Seven'!$C:$J,6,0)),0,IF(AND(LEN($C15)<>0,$D15=\"Yes\"),VLOOKUP($B15,'Round Seven'!$C:$J,6,0),\"\"))","v":0},{"$f":"IF(ISERROR(VLOOKUP($B15,'Round Seven'!$C:$J,7,0)),0,IF(LEN($C15)<>0,VLOOKUP($B15,'Round Seven'!$C:$J,7,0)+1E-24,0))","v":0},{"$f":"IF(ISERROR(VLOOKUP($B15,'Round Eight'!$C:$J,8,0)),0,IF(AND(LEN($C15)<>0,$D15=\"Yes\"),VLOOKUP($B15,'Round Eight'!$C:$J,8,0),\"\"))","v":0},{"$f":"IF(ISERROR(VLOOKUP(AN15,'Round Eight'!$C:$J,7,0)),0,IF(AND(LEN($C15)<>0,$D15=\"Yes\"),VLOOKUP(AN15,'Round Eight'!$C:$J,7,0)+1E-24,0))","v":0},0,{"$f":"IF(ISERROR(VLOOKUP($B15,'Round Eight'!$C:$J,6,0)),0,IF(AND(LEN($C15)<>0,$D15=\"Yes\"),VLOOKUP($B15,'Round Eight'!$C:$J,6,0),\"\"))","v":0},{"$f":"IF(ISERROR(VLOOKUP($B15,'Round Eight'!$C:$J,7,0)),0,IF(LEN($C15)<>0,VLOOKUP($B15,'Round Eight'!$C:$J,7,0)+1E-24,0))","v":0},{"$f":"IF(ISERROR(VLOOKUP($B15,'Round Nine'!$C:$J,8,0)),0,IF(AND(LEN($C15)<>0,$D15=\"Yes\"),VLOOKUP($B15,'Round Nine'!$C:$J,8,0),\"\"))","v":0},{"$f":"IF(ISERROR(VLOOKUP(AS15,'Round Nine'!$C:$J,7,0)),0,IF(AND(LEN($C15)<>0,$D15=\"Yes\"),VLOOKUP(AS15,'Round Nine'!$C:$J,7,0)+1E-24,0))","v":0},0,{"$f":"IF(ISERROR(VLOOKUP($B15,'Round Nine'!$C:$J,6,0)),0,IF(AND(LEN($C15)<>0,$D15=\"Yes\"),VLOOKUP($B15,'Round Nine'!$C:$J,6,0),\"\"))","v":0},{"$f":"IF(ISERROR(VLOOKUP($B15,'Round Nine'!$C:$J,7,0)),0,IF(LEN($C15)<>0,VLOOKUP($B15,'Round Nine'!$C:$J,7,0)+1E-24,0))","v":0},null,0,0,0,{"$f":"IF(D15<>\"Yes\",A15*-10,AY15*1000000+AZ15*10000+BA15+(A15/100000))+IF(OR(Accel_Pairing_2!$B$4=\"no\",D15<>\"Yes\",ISERROR(VLOOKUP(C15,PowerRanking!A:B,2,0))),0,(VLOOKUP(C15,PowerRanking!A:D,4,0)*1000000)+VLOOKUP(C15,PowerRanking!A:D,2,0)/10)","v":-3.9125592244703498},25,"T12",0,""]
[0.25227102130130752,"T13",null,null,{"$f":"IF(ISERROR(VLOOKUP($B16,'Round One'!$C:$J,8,0)),0,IF(AND(LEN($C16)<>0,$D16=\"Yes\"),VLOOKUP($B16,'Round One'!$C:$J,8,0),0))","v":0},{"$f":"IF(ISERROR(VLOOKUP(E16,'Round One'!$C:$J,7,0)),0,IF(AND(LEN($C16)<>0,$D16=\"Yes\"),VALUE(VLOOKUP(E16,'Round One'!$C:$J,7,0)+1E-24),0))","v":0},0,{"$f":"IF(ISERROR(VLOOKUP($B16,'Round One'!$C:$J,6,0)),0,IF(AND(LEN($C16)<>0,$D16=\"Yes\"),VLOOKUP($B16,'Round One'!$C:$J,6,0),\"\"))","v":0},{"$f":"IF(ISERROR(VLOOKUP($B16,'Round One'!$C:$J,7,0)),0,IF(LEN($C16)<>0,VLOOKUP($B16,'Round One'!$C:$J,7,0)+1E-24,0))","v":0},{"$f":"IF(ISERROR(VLOOKUP($B16,'Round Two'!$C:$J,8,0)),0,IF(AND(LEN($C16)<>0,$D16=\"Yes\"),VLOOKUP($B16,'Round Two'!$C:$J,8,0),\"\"))","v":0},{"$f":"IF(ISERROR(VLOOKUP(J16,'Round Two'!$C:$J,7,0)),0,IF(AND(LEN($C16)<>0,$D16=\"Yes\"),VLOOKUP(J16,'Round Two'!$C:$J,7,0)+1E-24,0))","v":0},0,{"$f":"IF(ISERROR(VLOOKUP($B16,'Round Two'!$C:$J,6,0)),0,IF(AND(LEN($C16)<>0,$D16=\"Yes\"),VLOOKUP($B16,'Round Two'!$C:$J,6,0),\"\"))","v":0},{"$f":"IF(ISERROR(VLOOKUP($B16,'Round Two'!$C:$J,7,0)),0,IF(LEN($C16)<>0,VLOOKUP($B16,'Round Two'!$C:$J,7,0)+1E-24,0))","v":0},{"$f":"IF(ISERROR(VLOOKUP($B16,'Round Three'!$C:$J,8,0)),0,IF(AND(LEN($C16)<>0,$D16=\"Yes\"),VLOOKUP($B16,'Round Three'!$C:$J,8,0),\"\"))","v":0},{"$f":"IF(ISERROR(VLOOKUP(O16,'Round Three'!$C:$J,7,0)),0,IF(AND(LEN($C16)<>0,$D16=\"Yes\"),VLOOKUP(O16,'Round Three'!$C:$J,7,0)+1E-24,0))","v":0},0,{"$f":"IF(ISERROR(VLOOKUP($B16,'Round Three'!$C:$J,6,0)),0,IF(AND(LEN($C16)<>0,$D16=\"Yes\"),VLOOKUP($B16,'Round Three'!$C:$J,6,0),\"\"))","v":0},{"$f":"IF(ISERROR(VLOOKUP($B16,'Round Three'!$C:$J,7,0)),0,IF(LEN($C16)<>0,VLOOKUP($B16,'Round Three'!$C:$J,7,0)+1E-24,0))","v":0},{"$f":"IF(ISERROR(VLOOKUP($B16,'Round Four'!$C:$J,8,0)),0,IF(AND(LEN($C16)<>0,$D16=\"Yes\"),VLOOKUP($B16,'Round Four'!$C:$J,8,0),\"\"))","v":0},{"$f":"IF(ISERROR(VLOOKUP(T16,'Round Four'!$C:$J,7,0)),0,IF(AND(LEN($C16)<>0,$D16=\"Yes\"),VLOOKUP(T16,'Round Four'!$C:$J,7,0)+1E-24,0))","v":0},0,{"$f":"IF(ISERROR(VLOOKUP($B16,'Round Four'!$C:$J,6,0)),0,IF(AND(LEN($C16)<>0,$D16=\"Yes\"),VLOOKUP($B16,'Round Four'!$C:$J,6,0),\"\"))","v":0},{"$f":"IF(ISERROR(VLOOKUP($B16,'Round Four'!$C:$J,7,0)),0,IF(LEN($C16)<>0,VLOOKUP($B16,'Round Four'!$C:$J,7,0)+1E-24,0))","v":0},{"$f":"IF(ISERROR(VLOOKUP($B16,'Round Five'!$C:$J,8,0)),0,IF(AND(LEN($C16)<>0,$D16=\"Yes\"),VLOOKUP($B16,'Round Five'!$C:$J,8,0),\"\"))","v":0},{"$f":"IF(ISERROR(VLOOKUP(Y16,'Round Five'!$C:$J,7,0)),0,IF(AND(LEN($C16)<>0,$D16=\"Yes\"),VLOOKUP(Y16,'Round Five'!$C:$J,7,0)+1E-24,0))","v":0},0,{"$f":"IF(ISERROR(VLOOKUP($B16,'Round Five'!$C:$J,6,0)),0,IF(AND(LEN($C16)<>0,$D16=\"Yes\"),VLOOKUP($B16,'Round Five'!$C:$J,6,0),\"\"))","v":0},{"$f":"IF(ISERROR(VLOOKUP($B16,'Round Five'!$C:$J,7,0)),0,IF(LEN($C16)<>0,VLOOKUP($B16,'Round Five'!$C:$J,7,0)+1E-24,0))","v":0},{"$f":"IF(ISERROR(VLOOKUP($B16,'Round Six'!$C:$J,8,0)),0,IF(AND(LEN($C16)<>0,$D16=\"Yes\"),VLOOKUP($B16,'Round Six'!$C:$J,8,0),\"\"))","v":0},{"$f":"IF(ISERROR(VLOOKUP(AD16,'Round Six'!$C:$J,7,0)),0,IF(AND(LEN($C16)<>0,$D16=\"Yes\"),VLOOKUP(AD16,'Round Six'!$C:$J,7,0)+1E-24,0))","v":0},0,{"$f":"IF(ISERROR(VLOOKUP($B16,'Round Six'!$C:$J,6,0)),0,IF(AND(LEN($C16)<>0,$D16=\"Yes\"),VLOOKUP($B16,'Round Six'!$C:$J,6,0),\"\"))","v":0},{"$f":"IF(ISERROR(VLOOKUP($B16,'Round Six'!$C:$J,7,0)),0,IF(LEN($C16)<>0,VLOOKUP($B16,'Round Six'!$C:$J,7,0)+1E-24,0))","v":0},{"$f":"IF(ISERROR(VLOOKUP($B16,'Round Seven'!$C:$J,8,0)),0,IF(AND(LEN($C16)<>0,$D16=\"Yes\"),VLOOKUP($B16,'Round Seven'!$C:$J,8,0),\"\"))","v":0},{"$f":"IF(ISERROR(VLOOKUP(AI16,'Round Seven'!$C:$J,7,0)),0,IF(AND(LEN($C16)<>0,$D16=\"Yes\"),VLOOKUP(AI16,'Round Seven'!$C:$J,7,0)+1E-24,0))","v":0},0,{"$f":"IF(ISERROR(VLOOKUP($B16,'Round Seven'!$C:$J,6,0)),0,IF(AND(LEN($C16)<>0,$D16=\"Yes\"),VLOOKUP($B16,'Round Seven'!$C:$J,6,0),\"\"))","v":0},{"$f":"IF(ISERROR(VLOOKUP($B16,'Round Seven'!$C:$J,7,0)),0,IF(LEN($C16)<>0,VLOOKUP($B16,'Round Seven'!$C:$J,7,0)+1E-24,0))","v":0},{"$f":"IF(ISERROR(VLOOKUP($B16,'Round Eight'!$C:$J,8,0)),0,IF(AND(LEN($C16)<>0,$D16=\"Yes\"),VLOOKUP($B16,'Round Eight'!$C:$J,8,0),\"\"))","v":0},{"$f":"IF(ISERROR(VLOOKUP(AN16,'Round Eight'!$C:$J,7,0)),0,IF(AND(LEN($C16)<>0,$D16=\"Yes\"),VLOOKUP(AN16,'Round Eight'!$C:$J,7,0)+1E-24,0))","v":0},0,{"$f":"IF(ISERROR(VLOOKUP($B16,'Round Eight'!$C:$J,6,0)),0,IF(AND(LEN($C16)<>0,$D16=\"Yes\"),VLOOKUP($B16,'Round Eight'!$C:$J,6,0),\"\"))","v":0},{"$f":"IF(ISERROR(VLOOKUP($B16,'Round Eight'!$C:$J,7,0)),0,IF(LEN($C16)<>0,VLOOKUP($B16,'Round Eight'!$C:$J,7,0)+1E-24,0))","v":0},{"$f":"IF(ISERROR(VLOOKUP($B16,'Round Nine'!$C:$J,8,0)),0,IF(AND(LEN($C16)<>0,$D16=\"Yes\"),VLOOKUP($B16,'Round Nine'!$C:$J,8,0),\"\"))","v":0},{"$f":"IF(ISERROR(VLOOKUP(AS16,'Round Nine'!$C:$J,7,0)),0,IF(AND(LEN($C16)<>0,$D16=\"Yes\"),VLOOKUP(AS16,'Round Nine'!$C:$J,7,0)+1E-24,0))","v":0},0,{"$f":"IF(ISERROR(VLOOKUP($B16,'Round Nine'!$C:$J,6,0)),0,IF(AND(LEN($C16)<>0,$D16=\"Yes\"),VLOOKUP($B16,'Round Nine'!$C:$J,6,0),\"\"))","v":0},{"$f":"IF(ISERROR(VLOOKUP($B16,'Round Nine'!$C:$J,7,0)),0,IF(LEN($C16)<>0,VLOOKUP($B16,'Round Nine'!$C:$J,7,0)+1E-24,0))","v":0},null,0,0,0,{"$f":"IF(D16<>\"Yes\",A16*-10,AY16*1000000+AZ16*10000+BA16+(A16/100000))+IF(OR(Accel_Pairing_2!$B$4=\"no\",D16<>\"Yes\",ISERROR(VLOOKUP(C16,PowerRanking!A:B,2,0))),0,(VLOOKUP(C16,PowerRanking!A:D,4,0)*1000000)+VLOOKUP(C16,PowerRanking!A:D,2,0)/10)","v":-2.5227102130130752},15,"T13",0,""]
[0.22594504527619552,"T14",null,null,{"$f":"IF(ISERROR(VLOOKUP($B17,'Round One'!$C:$J,8,0)),0,IF(AND(LEN($C17)<>0,$D17=\"Yes\"),VLOOKUP($B17,'Round One'!$C:$J,8,0),0))","v":0},{"$f":"IF(ISERROR(VLOOKUP(E17,'Round One'!$C:$J,7,0)),0,IF(AND(LEN($C17)<>0,$D17=\"Yes\"),VALUE(VLOOKUP(E17,'Round One'!$C:$J,7,0)+1E-24),0))","v":0},0,{"$f":"IF(ISERROR(VLOOKUP($B17,'Round One'!$C:$J,6,0)),0,IF(AND(LEN($C17)<>0,$D17=\"Yes\"),VLOOKUP($B17,'Round One'!$C:$J,6,0),\"\"))","v":0},{"$f":"IF(ISERROR(VLOOKUP($B17,'Round One'!$C:$J,7,0)),0,IF(LEN($C17)<>0,VLOOKUP($B17,'Round One'!$C:$J,7,0)+1E-24,0))","v":0},{"$f":"IF(ISERROR(VLOOKUP($B17,'Round Two'!$C:$J,8,0)),0,IF(AND(LEN($C17)<>0,$D17=\"Yes\"),VLOOKUP($B17,'Round Two'!$C:$J,8,0),\"\"))","v":0},{"$f":"IF(ISERROR(VLOOKUP(J17,'Round Two'!$C:$J,7,0)),0,IF(AND(LEN($C17)<>0,$D17=\"Yes\"),VLOOKUP(J17,'Round Two'!$C:$J,7,0)+1E-24,0))","v":0},0,{"$f":"IF(ISERROR(VLOOKUP($B17,'Round Two'!$C:$J,6,0)),0,IF(AND(LEN($C17)<>0,$D17=\"Yes\"),VLOOKUP($B17,'Round Two'!$C:$J,6,0),\"\"))","v":0},{"$f":"IF(ISERROR(VLOOKUP($B17,'Round Two'!$C:$J,7,0)),0,IF(LEN($C17)<>0,VLOOKUP($B17,'Round Two'!$C:$J,7,0)+1E-24,0))","v":0},{"$f":"IF(ISERROR(VLOOKUP($B17,'Round Three'!$C:$J,8,0)),0,IF(AND(LEN($C17)<>0,$D17=\"Yes\"),VLOOKUP($B17,'Round Three'!$C:$J,8,0),\"\"))","v":0},{"$f":"IF(ISERROR(VLOOKUP(O17,'Round Three'!$C:$J,7,0)),0,IF(AND(LEN($C17)<>0,$D17=\"Yes\"),VLOOKUP(O17,'Round Three'!$C:$J,7,0)+1E-24,0))","v":0},0,{"$f":"IF(ISERROR(VLOOKUP($B17,'Round Three'!$C:$J,6,0)),0,IF(AND(LEN($C17)<>0,$D17=\"Yes\"),VLOOKUP($B17,'Round Three'!$C:$J,6,0),\"\"))","v":0},{"$f":"IF(ISERROR(VLOOKUP($B17,'Round Three'!$C:$J,7,0)),0,IF(LEN($C17)<>0,VLOOKUP($B17,'Round Three'!$C:$J,7,0)+1E-24,0))","v":0},{"$f":"IF(ISERROR(VLOOKUP($B17,'Round Four'!$C:$J,8,0)),0,IF(AND(LEN($C17)<>0,$D17=\"Yes\"),VLOOKUP($B17,'Round Four'!$C:$J,8,0),\"\"))","v":0},{"$f":"IF(ISERROR(VLOOKUP(T17,'Round Four'!$C:$J,7,0)),0,IF(AND(LEN($C17)<>0,$D17=\"Yes\"),VLOOKUP(T17,'Round Four'!$C:$J,7,0)+1E-24,0))","v":0},0,{"$f":"IF(ISERROR(VLOOKUP($B17,'Round Four'!$C:$J,6,0)),0,IF(AND(LEN($C17)<>0,$D17=\"Yes\"),VLOOKUP($B17,'Round Four'!$C:$J,6,0),\"\"))","v":0},{"$f":"IF(ISERROR(VLOOKUP($B17,'Round Four'!$C:$J,7,0)),0,IF(LEN($C17)<>0,VLOOKUP($B17,'Round Four'!$C:$J,7,0)+1E-24,0))","v":0},{"$f":"IF(ISERROR(VLOOKUP($B17,'Round Five'!$C:$J,8,0)),0,IF(AND(LEN($C17)<>0,$D17=\"Yes\"),VLOOKUP($B17,'Round Five'!$C:$J,8,0),\"\"))","v":0},{"$f":"IF(ISERROR(VLOOKUP(Y17,'Round Five'!$C:$J,7,0)),0,IF(AND(LEN($C17)<>0,$D17=\"Yes\"),VLOOKUP(Y17,'Round Five'!$C:$J,7,0)+1E-24,0))","v":0},0,{"$f":"IF(ISERROR(VLOOKUP($B17,'Round Five'!$C:$J,6,0)),0,IF(AND(LEN($C17)<>0,$D17=\"Yes\"),VLOOKUP($B17,'Round Five'!$C:$J,6,0),\"\"))","v":0},{"$f":"IF(ISERROR(VLOOKUP($B17,'Round Five'!$C:$J,7,0)),0,IF(LEN($C17)<>0,VLOOKUP($B17,'Round Five'!$C:$J,7,0)+1E-24,0))","v":0},{"$f":"IF(ISERROR(VLOOKUP($B17,'Round Six'!$C:$J,8,0)),0,IF(AND(LEN($C17)<>0,$D17=\"Yes\"),VLOOKUP($B17,'Round Six'!$C:$J,8,0),\"\"))","v":0},{"$f":"IF(ISERROR(VLOOKUP(AD17,'Round Six'!$C:$J,7,0)),0,IF(AND(LEN($C17)<>0,$D17=\"Yes\"),VLOOKUP(AD17,'Round Six'!$C:$J,7,0)+1E-24,0))","v":0},0,{"$f":"IF(ISERROR(VLOOKUP($B17,'Round Six'!$C:$J,6,0)),0,IF(AND(LEN($C17)<>0,$D17=\"Yes\"),VLOOKUP($B17,'Round Six'!$C:$J,6,0),\"\"))","v":0},{"$f":"IF(ISERROR(VLOOKUP($B17,'Round Six'!$C:$J,7,0)),0,IF(LEN($C17)<>0,VLOOKUP($B17,'Round Six'!$C:$J,7,0)+1E-24,0))","v":0},{"$f":"IF(ISERROR(VLOOKUP($B17,'Round Seven'!$C:$J,8,0)),0,IF(AND(LEN($C17)<>0,$D17=\"Yes\"),VLOOKUP($B17,'Round Seven'!$C:$J,8,0),\"\"))","v":0},{"$f":"IF(ISERROR(VLOOKUP(AI17,'Round Seven'!$C:$J,7,0)),0,IF(AND(LEN($C17)<>0,$D17=\"Yes\"),VLOOKUP(AI17,'Round Seven'!$C:$J,7,0)+1E-24,0))","v":0},0,{"$f":"IF(ISERROR(VLOOKUP($B17,'Round Seven'!$C:$J,6,0)),0,IF(AND(LEN($C17)<>0,$D17=\"Yes\"),VLOOKUP($B17,'Round Seven'!$C:$J,6,0),\"\"))","v":0},{"$f":"IF(ISERROR(VLOOKUP($B17,'Round Seven'!$C:$J,7,0)),0,IF(LEN($C17)<>0,VLOOKUP($B17,'Round Seven'!$C:$J,7,0)+1E-24,0))","v":0},{"$f":"IF(ISERROR(VLOOKUP($B17,'Round Eight'!$C:$J,8,0)),0,IF(AND(LEN($C17)<>0,$D17=\"Yes\"),VLOOKUP($B17,'Round Eight'!$C:$J,8,0),\"\"))","v":0},{"$f":"IF(ISERROR(VLOOKUP(AN17,'Round Eight'!$C:$J,7,0)),0,IF(AND(LEN($C17)<>0,$D17=\"Yes\"),VLOOKUP(AN17,'Round Eight'!$C:$J,7,0)+1E-24,0))","v":0},0,{"$f":"IF(ISERROR(VLOOKUP($B17,'Round Eight'!$C:$J,6,0)),0,IF(AND(LEN($C17)<>0,$D17=\"Yes\"),VLOOKUP($B17,'Round Eight'!$C:$J,6,0),\"\"))","v":0},{"$f":"IF(ISERROR(VLOOKUP($B17,'Round Eight'!$C:$J,7,0)),0,IF(LEN($C17)<>0,VLOOKUP($B17,'Round Eight'!$C:$J,7,0)+1E-24,0))","v":0},{"$f":"IF(ISERROR(VLOOKUP($B17,'Round Nine'!$C:$J,8,0)),0,IF(AND(LEN($C17)<>0,$D17=\"Yes\"),VLOOKUP($B17,'Round Nine'!$C:$J,8,0),\"\"))","v":0},{"$f":"IF(ISERROR(VLOOKUP(AS17,'Round Nine'!$C:$J,7,0)),0,IF(AND(LEN($C17)<>0,$D17=\"Yes\"),VLOOKUP(AS17,'Round Nine'!$C:$J,7,0)+1E-24,0))","v":0},0,{"$f":"IF(ISERROR(VLOOKUP($B17,'Round Nine'!$C:$J,6,0)),0,IF(AND(LEN($C17)<>0,$D17=\"Yes\"),VLOOKUP($B17,'Round Nine'!$C:$J,6,0),\"\"))","v":0},{"$f":"IF(ISERROR(VLOOKUP($B17,'Round Nine'!$C:$J,7,0)),0,IF(LEN($C17)<>0,VLOOKUP($B17,'Round Nine'!$C:$J,7,0)+1E-24,0))","v":0},null,0,0,0,{"$f":"IF(D17<>\"Yes\",A17*-10,AY17*1000000+AZ17*10000+BA17+(A17/100000))+IF(OR(Accel_Pairing_2!$B$4=\"no\",D17<>\"Yes\",ISERROR(VLOOKUP(C17,PowerRanking!A:B,2,0))),0,(VLOOKUP(C17,PowerRanking!A:D,4,0)*1000000)+VLOOKUP(C17,PowerRanking!A:D,2,0)/10)","v":-2.2594504527619552},13,"T14",0,""]
[0.34395640666175931,"T15",null,null,{"$f":"IF(ISERROR(VLOOKUP($B18,'Round One'!$C:$J,8,0)),0,IF(AND(LEN($C18)<>0,$D18=\"Yes\"),VLOOKUP($B18,'Round One'!$C:$J,8,0),0))","v":0},{"$f":"IF(ISERROR(VLOOKUP(E18,'Round One'!$C:$J,7,0)),0,IF(AND(LEN($C18)<>0,$D18=\"Yes\"),VALUE(VLOOKUP(E18,'Round One'!$C:$J,7,0)+1E-24),0))","v":0},0,{"$f":"IF(ISERROR(VLOOKUP($B18,'Round One'!$C:$J,6,0)),0,IF(AND(LEN($C18)<>0,$D18=\"Yes\"),VLOOKUP($B18,'Round One'!$C:$J,6,0),\"\"))","v":0},{"$f":"IF(ISERROR(VLOOKUP($B18,'Round One'!$C:$J,7,0)),0,IF(LEN($C18)<>0,VLOOKUP($B18,'Round One'!$C:$J,7,0)+1E-24,0))","v":0},{"$f":"IF(ISERROR(VLOOKUP($B18,'Round Two'!$C:$J,8,0)),0,IF(AND(LEN($C18)<>0,$D18=\"Yes\"),VLOOKUP($B18,'Round Two'!$C:$J,8,0),\"\"))","v":0},{"$f":"IF(ISERROR(VLOOKUP(J18,'Round Two'!$C:$J,7,0)),0,IF(AND(LEN($C18)<>0,$D18=\"Yes\"),VLOOKUP(J18,'Round Two'!$C:$J,7,0)+1E-24,0))","v":0},0,{"$f":"IF(ISERROR(VLOOKUP($B18,'Round Two'!$C:$J,6,0)),0,IF(AND(LEN($C18)<>0,$D18=\"Yes\"),VLOOKUP($B18,'Round Two'!$C:$J,6,0),\"\"))","v":0},{"$f":"IF(ISERROR(VLOOKUP($B18,'Round Two'!$C:$J,7,0)),0,IF(LEN($C18)<>0,VLOOKUP($B18,'Round Two'!$C:$J,7,0)+1E-24,0))","v":0},{"$f":"IF(ISERROR(VLOOKUP($B18,'Round Three'!$C:$J,8,0)),0,IF(AND(LEN($C18)<>0,$D18=\"Yes\"),VLOOKUP($B18,'Round Three'!$C:$J,8,0),\"\"))","v":0},{"$f":"IF(ISERROR(VLOOKUP(O18,'Round Three'!$C:$J,7,0)),0,IF(AND(LEN($C18)<>0,$D18=\"Yes\"),VLOOKUP(O18,'Round Three'!$C:$J,7,0)+1E-24,0))","v":0},0,{"$f":"IF(ISERROR(VLOOKUP($B18,'Round Three'!$C:$J,6,0)),0,IF(AND(LEN($C18)<>0,$D18=\"Yes\"),VLOOKUP($B18,'Round Three'!$C:$J,6,0),\"\"))","v":0},{"$f":"IF(ISERROR(VLOOKUP($B18,'Round Three'!$C:$J,7,0)),0,IF(LEN($C18)<>0,VLOOKUP($B18,'Round Three'!$C:$J,7,0)+1E-24,0))","v":0},{"$f":"IF(ISERROR(VLOOKUP($B18,'Round Four'!$C:$J,8,0)),0,IF(AND(LEN($C18)<>0,$D18=\"Yes\"),VLOOKUP($B18,'Round Four'!$C:$J,8,0),\"\"))","v":0},{"$f":"IF(ISERROR(VLOOKUP(T18,'Round Four'!$C:$J,7,0)),0,IF(AND(LEN($C18)<>0,$D18=\"Yes\"),VLOOKUP(T18,'Round Four'!$C:$J,7,0)+1E-24,0))","v":0},0,{"$f":"IF(ISERROR(VLOOKUP($B18,'Round Four'!$C:$J,6,0)),0,IF(AND(LEN($C18)<>0,$D18=\"Yes\"),VLOOKUP($B18,'Round Four'!$C:$J,6,0),\"\"))","v":0},{"$f":"IF(ISERROR(VLOOKUP($B18,'Round Four'!$C:$J,7,0)),0,IF(LEN($C18)<>0,VLOOKUP($B18,'Round Four'!$C:$J,7,0)+1E-24,0))","v":0},{"$f":"IF(ISERROR(VLOOKUP($B18,'Round Five'!$C:$J,8,0)),0,IF(AND(LEN($C18)<>0,$D18=\"Yes\"),VLOOKUP($B18,'Round Five'!$C:$J,8,0),\"\"))","v":0},{"$f":"IF(ISERROR(VLOOKUP(Y18,'Round Five'!$C:$J,7,0)),0,IF(AND(LEN($C18)<>0,$D18=\"Yes\"),VLOOKUP(Y18,'Round Five'!$C:$J,7,0)+1E-24,0))","v":0},0,{"$f":"IF(ISERROR(VLOOKUP($B18,'Round Five'!$C:$J,6,0)),0,IF(AND(LEN($C18)<>0,$D18=\"Yes\"),VLOOKUP($B18,'Round Five'!$C:$J,6,0),\"\"))","v":0},{"$f":"IF(ISERROR(VLOOKUP($B18,'Round Five'!$C:$J,7,0)),0,IF(LEN($C18)<>0,VLOOKUP($B18,'Round Five'!$C:$J,7,0)+1E-24,0))","v":0},{"$f":"IF(ISERROR(VLOOKUP($B18,'Round Six'!$C:$J,8,0)),0,IF(AND(LEN($C18)<>0,$D18=\"Yes\"),VLOOKUP($B18,'Round Six'!$C:$J,8,0),\"\"))","v":0},{"$f":"IF(ISERROR(VLOOKUP(AD18,'Round Six'!$C:$J,7,0)),0,IF(AND(LEN($C18)<>0,$D18=\"Yes\"),VLOOKUP(AD18,'Round Six'!$C:$J,7,0)+1E-24,0))","v":0},0,{"$f":"IF(ISERROR(VLOOKUP($B18,'Round Six'!$C:$J,6,0)),0,IF(AND(LEN($C18)<>0,$D18=\"Yes\"),VLOOKUP($B18,'Round Six'!$C:$J,6,0),\"\"))","v":0},{"$f":"IF(ISERROR(VLOOKUP($B18,'Round Six'!$C:$J,7,0)),0,IF(LEN($C18)<>0,VLOOKUP($B18,'Round Six'!$C:$J,7,0)+1E-24,0))","v":0},{"$f":"IF(ISERROR(VLOOKUP($B18,'Round Seven'!$C:$J,8,0)),0,IF(AND(LEN($C18)<>0,$D18=\"Yes\"),VLOOKUP($B18,'Round Seven'!$C:$J,8,0),\"\"))","v":0},{"$f":"IF(ISERROR(VLOOKUP(AI18,'Round Seven'!$C:$J,7,0)),0,IF(AND(LEN($C18)<>0,$D18=\"Yes\"),VLOOKUP(AI18,'Round Seven'!$C:$J,7,0)+1E-24,0))","v":0},0,{"$f":"IF(ISERROR(VLOOKUP($B18,'Round Seven'!$C:$J,6,0)),0,IF(AND(LEN($C18)<>0,$D18=\"Yes\"),VLOOKUP($B18,'Round Seven'!$C:$J,6,0),\"\"))","v":0},{"$f":"IF(ISERROR(VLOOKUP($B18,'Round Seven'!$C:$J,7,0)),0,IF(LEN($C18)<>0,VLOOKUP($B18,'Round Seven'!$C:$J,7,0)+1E-24,0))","v":0},{"$f":"IF(ISERROR(VLOOKUP($B18,'Round Eight'!$C:$J,8,0)),0,IF(AND(LEN($C18)<>0,$D18=\"Yes\"),VLOOKUP($B18,'Round Eight'!$C:$J,8,0),\"\"))","v":0},{"$f":"IF(ISERROR(VLOOKUP(AN18,'Round Eight'!$C:$J,7,0)),0,IF(AND(LEN($C18)<>0,$D18=\"Yes\"),VLOOKUP(AN18,'Round Eight'!$C:$J,7,0)+1E-24,0))","v":0},0,{"$f":"IF(ISERROR(VLOOKUP($B18,'Round Eight'!$C:$J,6,0)),0,IF(AND(LEN($C18)<>0,$D18=\"Yes\"),VLOOKUP($B18,'Round Eight'!$C:$J,6,0),\"\"))","v":0},{"$f":"IF(ISERROR(VLOOKUP($B18,'Round Eight'!$C:$J,7,0)),0,IF(LEN($C18)<>0,VLOOKUP($B18,'Round Eight'!$C:$J,7,0)+1E-24,0))","v":0},{"$f":"IF(ISERROR(VLOOKUP($B18,'Round Nine'!$C:$J,8,0)),0,IF(AND(LEN($C18)<>0,$D18=\"Yes\"),VLOOKUP($B18,'Round Nine'!$C:$J,8,0),\"\"))","v":0},{"$f":"IF(ISERROR(VLOOKUP(AS18,'Round Nine'!$C:$J,7,0)),0,IF(AND(LEN($C18)<>0,$D18=\"Yes\"),VLOOKUP(AS18,'Round Nine'!$C:$J,7,0)+1E-24,0))","v":0},0,{"$f":"IF(ISERROR(VLOOKUP($B18,'Round Nine'!$C:$J,6,0)),0,IF(AND(LEN($C18)<>0,$D18=\"Yes\"),VLOOKUP($B18,'Round Nine'!$C:$J,6,0),\"\"))","v":0},{"$f":"IF(ISERROR(VLOOKUP($B18,'Round Nine'!$C:$J,7,0)),0,IF(LEN($C18)<>0,VLOOKUP($B18,'Round Nine'!$C:$J,7,0)+1E-24,0))","v":0},null,0,0,0,{"$f":"IF(D18<>\"Yes\",A18*-10,AY18*1000000+AZ18*10000+BA18+(A18/100000))+IF(OR(Accel_Pairing_2!$B$4=\"no\",D18<>\"Yes\",ISERROR(VLOOKUP(C18,PowerRanking!A:B,2,0))),0,(VLOOKUP(C18,PowerRanking!A:D,4,0)*1000000)+VLOOKUP(C18,PowerRanking!A:D,2,0)/10)","v":-3.4395640666175931},22,"T15",0,""]
[0.29804049707446256,"T16",null,null,{"$f":"IF(ISERROR(VLOOKUP($B19,'Round One'!$C:$J,8,0)),0,IF(AND(LEN($C19)<>0,$D19=\"Yes\"),VLOOKUP($B19,'Round One'!$C:$J,8,0),0))","v":0},{"$f":"IF(ISERROR(VLOOKUP(E19,'Round One'!$C:$J,7,0)),0,IF(AND(LEN($C19)<>0,$D19=\"Yes\"),VALUE(VLOOKUP(E19,'Round One'!$C:$J,7,0)+1E-24),0))","v":0},0,{"$f":"IF(ISERROR(VLOOKUP($B19,'Round One'!$C:$J,6,0)),0,IF(AND(LEN($C19)<>0,$D19=\"Yes\"),VLOOKUP($B19,'Round One'!$C:$J,6,0),\"\"))","v":0},{"$f":"IF(ISERROR(VLOOKUP($B19,'Round One'!$C:$J,7,0)),0,IF(LEN($C19)<>0,VLOOKUP($B19,'Round One'!$C:$J,7,0)+1E-24,0))","v":0},{"$f":"IF(ISERROR(VLOOKUP($B19,'Round Two'!$C:$J,8,0)),0,IF(AND(LEN($C19)<>0,$D19=\"Yes\"),VLOOKUP($B19,'Round Two'!$C:$J,8,0),\"\"))","v":0},{"$f":"IF(ISERROR(VLOOKUP(J19,'Round Two'!$C:$J,7,0)),0,IF(AND(LEN($C19)<>0,$D19=\"Yes\"),VLOOKUP(J19,'Round Two'!$C:$J,7,0)+1E-24,0))","v":0},0,{"$f":"IF(ISERROR(VLOOKUP($B19,'Round Two'!$C:$J,6,0)),0,IF(AND(LEN($C19)<>0,$D19=\"Yes\"),VLOOKUP($B19,'Round Two'!$C:$J,6,0),\"\"))","v":0},{"$f":"IF(ISERROR(VLOOKUP($B19,'Round Two'!$C:$J,7,0)),0,IF(LEN($C19)<>0,VLOOKUP($B19,'Round Two'!$C:$J,7,0)+1E-24,0))","v":0},{"$f":"IF(ISERROR(VLOOKUP($B19,'Round Three'!$C:$J,8,0)),0,IF(AND(LEN($C19)<>0,$D19=\"Yes\"),VLOOKUP($B19,'Round Three'!$C:$J,8,0),\"\"))","v":0},{"$f":"IF(ISERROR(VLOOKUP(O19,'Round Three'!$C:$J,7,0)),0,IF(AND(LEN($C19)<>0,$D19=\"Yes\"),VLOOKUP(O19,'Round Three'!$C:$J,7,0)+1E-24,0))","v":0},0,{"$f":"IF(ISERROR(VLOOKUP($B19,'Round Three'!$C:$J,6,0)),0,IF(AND(LEN($C19)<>0,$D19=\"Yes\"),VLOOKUP($B19,'Round Three'!$C:$J,6,0),\"\"))","v":0},{"$f":"IF(ISERROR(VLOOKUP($B19,'Round Three'!$C:$J,7,0)),0,IF(LEN($C19)<>0,VLOOKUP($B19,'Round Three'!$C:$J,7,0)+1E-24,0))","v":0},{"$f":"IF(ISERROR(VLOOKUP($B19,'Round Four'!$C:$J,8,0)),0,IF(AND(LEN($C19)<>0,$D19=\"Yes\"),VLOOKUP($B19,'Round Four'!$C:$J,8,0),\"\"))","v":0},{"$f":"IF(ISERROR(VLOOKUP(T19,'Round Four'!$C:$J,7,0)),0,IF(AND(LEN($C19)<>0,$D19=\"Yes\"),VLOOKUP(T19,'Round Four'!$C:$J,7,0)+1E-24,0))","v":0},0,{"$f":"IF(ISERROR(VLOOKUP($B19,'Round Four'!$C:$J,6,0)),0,IF(AND(LEN($C19)<>0,$D19=\"Yes\"),VLOOKUP($B19,'Round Four'!$C:$J,6,0),\"\"))","v":0},{"$f":"IF(ISERROR(VLOOKUP($B19,'Round Four'!$C:$J,7,0)),0,IF(LEN($C19)<>0,VLOOKUP($B19,'Round Four'!$C:$J,7,0)+1E-24,0))","v":0},{"$f":"IF(ISERROR(VLOOKUP($B19,'Round Five'!$C:$J,8,0)),0,IF(AND(LEN($C19)<>0,$D19=\"Yes\"),VLOOKUP($B19,'Round Five'!$C:$J,8,0),\"\"))","v":0},{"$f":"IF(ISERROR(VLOOKUP(Y19,'Round Five'!$C:$J,7,0)),0,IF(AND(LEN($C19)<>0,$D19=\"Yes\"),VLOOKUP(Y19,'Round Five'!$C:$J,7,0)+1E-24,0))","v":0},0,{"$f":"IF(ISERROR(VLOOKUP($B19,'Round Five'!$C:$J,6,0)),0,IF(AND(LEN($C19)<>0,$D19=\"Yes\"),VLOOKUP($B19,'Round Five'!$C:$J,6,0),\"\"))","v":0},{"$f":"IF(ISERROR(VLOOKUP($B19,'Round Five'!$C:$J,7,0)),0,IF(LEN($C19)<>0,VLOOKUP($B19,'Round Five'!$C:$J,7,0)+1E-24,0))","v":0},{"$f":"IF(ISERROR(VLOOKUP($B19,'Round Six'!$C:$J,8,0)),0,IF(AND(LEN($C19)<>0,$D19=\"Yes\"),VLOOKUP($B19,'Round Six'!$C:$J,8,0),\"\"))","v":0},{"$f":"IF(ISERROR(VLOOKUP(AD19,'Round Six'!$C:$J,7,0)),0,IF(AND(LEN($C19)<>0,$D19=\"Yes\"),VLOOKUP(AD19,'Round Six'!$C:$J,7,0)+1E-24,0))","v":0},0,{"$f":"IF(ISERROR(VLOOKUP($B19,'Round Six'!$C:$J,6,0)),0,IF(AND(LEN($C19)<>0,$D19=\"Yes\"),VLOOKUP($B19,'Round Six'!$C:$J,6,0),\"\"))","v":0},{"$f":"IF(ISERROR(VLOOKUP($B19,'Round Six'!$C:$J,7,0)),0,IF(LEN($C19)<>0,VLOOKUP($B19,'Round Six'!$C:$J,7,0)+1E-24,0))","v":0},{"$f":"IF(ISERROR(VLOOKUP($B19,'Round Seven'!$C:$J,8,0)),0,IF(AND(LEN($C19)<>0,$D19=\"Yes\"),VLOOKUP($B19,'Round Seven'!$C:$J,8,0),\"\"))","v":0},{"$f":"IF(ISERROR(VLOOKUP(AI19,'Round Seven'!$C:$J,7,0)),0,IF(AND(LEN($C19)<>0,$D19=\"Yes\"),VLOOKUP(AI19,'Round Seven'!$C:$J,7,0)+1E-24,0))","v":0},0,{"$f":"IF(ISERROR(VLOOKUP($B19,'Round Seven'!$C:$J,6,0)),0,IF(AND(LEN($C19)<>0,$D19=\"Yes\"),VLOOKUP($B19,'Round Seven'!$C:$J,6,0),\"\"))","v":0},{"$f":"IF(ISERROR(VLOOKUP($B19,'Round Seven'!$C:$J,7,0)),0,IF(LEN($C19)<>0,VLOOKUP($B19,'Round Seven'!$C:$J,7,0)+1E-24,0))","v":0},{"$f":"IF(ISERROR(VLOOKUP($B19,'Round Eight'!$C:$J,8,0)),0,IF(AND(LEN($C19)<>0,$D19=\"Yes\"),VLOOKUP($B19,'Round Eight'!$C:$J,8,0),\"\"))","v":0},{"$f":"IF(ISERROR(VLOOKUP(AN19,'Round Eight'!$C:$J,7,0)),0,IF(AND(LEN($C19)<>0,$D19=\"Yes\"),VLOOKUP(AN19,'Round Eight'!$C:$J,7,0)+1E-24,0))","v":0},0,{"$f":"IF(ISERROR(VLOOKUP($B19,'Round Eight'!$C:$J,6,0)),0,IF(AND(LEN($C19)<>0,$D19=\"Yes\"),VLOOKUP($B19,'Round Eight'!$C:$J,6,0),\"\"))","v":0},{"$f":"IF(ISERROR(VLOOKUP($B19,'Round Eight'!$C:$J,7,0)),0,IF(LEN($C19)<>0,VLOOKUP($B19,'Round Eight'!$C:$J,7,0)+1E-24,0))","v":0},{"$f":"IF(ISERROR(VLOOKUP($B19,'Round Nine'!$C:$J,8,0)),0,IF(AND(LEN($C19)<>0,$D19=\"Yes\"),VLOOKUP($B19,'Round Nine'!$C:$J,8,0),\"\"))","v":0},{"$f":"IF(ISERROR(VLOOKUP(AS19,'Round Nine'!$C:$J,7,0)),0,IF(AND(LEN($C19)<>0,$D19=\"Yes\"),VLOOKUP(AS19,'Round Nine'!$C:$J,7,0)+1E-24,0))","v":0},0,{"$f":"IF(ISERROR(VLOOKUP($B19,'Round Nine'!$C:$J,6,0)),0,IF(AND(LEN($C19)<>0,$D19=\"Yes\"),VLOOKUP($B19,'Round Nine'!$C:$J,6,0),\"\"))","v":0},{"$f":"IF(ISERROR(VLOOKUP($B19,'Round Nine'!$C:$J,7,0)),0,IF(LEN($C19)<>0,VLOOKUP($B19,'Round Nine'!$C:$J,7,0)+1E-24,0))","v":0},null,0,0,{"$f":"SUM(G19,L19,Q19,V19,AA19,AF19,AK19,AP19,AU19)-SUM(F19,K19,P19,U19,Z19,AE19,AJ19,AO19,AT19)","v":0},{"$f":"IF(D19<>\"Yes\",A19*-10,AY19*1000000+AZ19*10000+BA19+(A19/100000))+IF(OR(Accel_Pairing_2!$B$4=\"no\",D19<>\"Yes\",ISERROR(VLOOKUP(C19,PowerRanking!A:B,2,0))),0,(VLOOKUP(C19,PowerRanking!A:D,4,0)*1000000)+VLOOKUP(C19,PowerRanking!A:D,2,0)/10)","v":-2.9804049707446256},18,"T16",0,""]
[0.33544521538645988,"T17",null,null,{"$f":"IF(ISERROR(VLOOKUP($B20,'Round One'!$C:$J,8,0)),0,IF(AND(LEN($C20)<>0,$D20=\"Yes\"),VLOOKUP($B20,'Round One'!$C:$J,8,0),0))","v":0},{"$f":"IF(ISERROR(VLOOKUP(E20,'Round One'!$C:$J,7,0)),0,IF(AND(LEN($C20)<>0,$D20=\"Yes\"),VALUE(VLOOKUP(E20,'Round One'!$C:$J,7,0)+1E-24),0))","v":0},0,{"$f":"IF(ISERROR(VLOOKUP($B20,'Round One'!$C:$J,6,0)),0,IF(AND(LEN($C20)<>0,$D20=\"Yes\"),VLOOKUP($B20,'Round One'!$C:$J,6,0),\"\"))","v":0},{"$f":"IF(ISERROR(VLOOKUP($B20,'Round One'!$C:$J,7,0)),0,IF(LEN($C20)<>0,VLOOKUP($B20,'Round One'!$C:$J,7,0)+1E-24,0))","v":0},{"$f":"IF(ISERROR(VLOOKUP($B20,'Round Two'!$C:$J,8,0)),0,IF(AND(LEN($C20)<>0,$D20=\"Yes\"),VLOOKUP($B20,'Round Two'!$C:$J,8,0),\"\"))","v":0},{"$f":"IF(ISERROR(VLOOKUP(J20,'Round Two'!$C:$J,7,0)),0,IF(AND(LEN($C20)<>0,$D20=\"Yes\"),VLOOKUP(J20,'Round Two'!$C:$J,7,0)+1E-24,0))","v":0},0,{"$f":"IF(ISERROR(VLOOKUP($B20,'Round Two'!$C:$J,6,0)),0,IF(AND(LEN($C20)<>0,$D20=\"Yes\"),VLOOKUP($B20,'Round Two'!$C:$J,6,0),\"\"))","v":0},{"$f":"IF(ISERROR(VLOOKUP($B20,'Round Two'!$C:$J,7,0)),0,IF(LEN($C20)<>0,VLOOKUP($B20,'Round Two'!$C:$J,7,0)+1E-24,0))","v":0},{"$f":"IF(ISERROR(VLOOKUP($B20,'Round Three'!$C:$J,8,0)),0,IF(AND(LEN($C20)<>0,$D20=\"Yes\"),VLOOKUP($B20,'Round Three'!$C:$J,8,0),\"\"))","v":0},{"$f":"IF(ISERROR(VLOOKUP(O20,'Round Three'!$C:$J,7,0)),0,IF(AND(LEN($C20)<>0,$D20=\"Yes\"),VLOOKUP(O20,'Round Three'!$C:$J,7,0)+1E-24,0))","v":0},0,{"$f":"IF(ISERROR(VLOOKUP($B20,'Round Three'!$C:$J,6,0)),0,IF(AND(LEN($C20)<>0,$D20=\"Yes\"),VLOOKUP($B20,'Round Three'!$C:$J,6,0),\"\"))","v":0},{"$f":"IF(ISERROR(VLOOKUP($B20,'Round Three'!$C:$J,7,0)),0,IF(LEN($C20)<>0,VLOOKUP($B20,'Round Three'!$C:$J,7,0)+1E-24,0))","v":0},{"$f":"IF(ISERROR(VLOOKUP($B20,'Round Four'!$C:$J,8,0)),0,IF(AND(LEN($C20)<>0,$D20=\"Yes\"),VLOOKUP($B20,'Round Four'!$C:$J,8,0),\"\"))","v":0},{"$f":"IF(ISERROR(VLOOKUP(T20,'Round Four'!$C:$J,7,0)),0,IF(AND(LEN($C20)<>0,$D20=\"Yes\"),VLOOKUP(T20,'Round Four'!$C:$J,7,0)+1E-24,0))","v":0},0,{"$f":"IF(ISERROR(VLOOKUP($B20,'Round Four'!$C:$J,6,0)),0,IF(AND(LEN($C20)<>0,$D20=\"Yes\"),VLOOKUP($B20,'Round Four'!$C:$J,6,0),\"\"))","v":0},{"$f":"IF(ISERROR(VLOOKUP($B20,'Round Four'!$C:$J,7,0)),0,IF(LEN($C20)<>0,VLOOKUP($B20,'Round Four'!$C:$J,7,0)+1E-24,0))","v":0},{"$f":"IF(ISERROR(VLOOKUP($B20,'Round Five'!$C:$J,8,0)),0,IF(AND(LEN($C20)<>0,$D20=\"Yes\"),VLOOKUP($B20,'Round Five'!$C:$J,8,0),\"\"))","v":0},{"$f":"IF(ISERROR(VLOOKUP(Y20,'Round Five'!$C:$J,7,0)),0,IF(AND(LEN($C20)<>0,$D20=\"Yes\"),VLOOKUP(Y20,'Round Five'!$C:$J,7,0)+1E-24,0))","v":0},0,{"$f":"IF(ISERROR(VLOOKUP($B20,'Round Five'!$C:$J,6,0)),0,IF(AND(LEN($C20)<>0,$D20=\"Yes\"),VLOOKUP($B20,'Round Five'!$C:$J,6,0),\"\"))","v":0},{"$f":"IF(ISERROR(VLOOKUP($B20,'Round Five'!$C:$J,7,0)),0,IF(LEN($C20)<>0,VLOOKUP($B20,'Round Five'!$C:$J,7,0)+1E-24,0))","v":0},{"$f":"IF(ISERROR(VLOOKUP($B20,'Round Six'!$C:$J,8,0)),0,IF(AND(LEN($C20)<>0,$D20=\"Yes\"),VLOOKUP($B20,'Round Six'!$C:$J,8,0),\"\"))","v":0},{"$f":"IF(ISERROR(VLOOKUP(AD20,'Round Six'!$C:$J,7,0)),0,IF(AND(LEN($C20)<>0,$D20=\"Yes\"),VLOOKUP(AD20,'Round Six'!$C:$J,7,0)+1E-24,0))","v":0},0,{"$f":"IF(ISERROR(VLOOKUP($B20,'Round Six'!$C:$J,6,0)),0,IF(AND(LEN($C20)<>0,$D20=\"Yes\"),VLOOKUP($B20,'Round Six'!$C:$J,6,0),\"\"))","v":0},{"$f":"IF(ISERROR(VLOOKUP($B20,'Round Six'!$C:$J,7,0)),0,IF(LEN($C20)<>0,VLOOKUP($B20,'Round Six'!$C:$J,7,0)+1E-24,0))","v":0},{"$f":"IF(ISERROR(VLOOKUP($B20,'Round Seven'!$C:$J,8,0)),0,IF(AND(LEN($C20)<>0,$D20=\"Yes\"),VLOOKUP($B20,'Round Seven'!$C:$J,8,0),\"\"))","v":0},{"$f":"IF(ISERROR(VLOOKUP(AI20,'Round Seven'!$C:$J,7,0)),0,IF(AND(LEN($C20)<>0,$D20=\"Yes\"),VLOOKUP(AI20,'Round Seven'!$C:$J,7,0)+1E-24,0))","v":0},0,{"$f":"IF(ISERROR(VLOOKUP($B20,'Round Seven'!$C:$J,6,0)),0,IF(AND(LEN($C20)<>0,$D20=\"Yes\"),VLOOKUP($B20,'Round Seven'!$C:$J,6,0),\"\"))","v":0},{"$f":"IF(ISERROR(VLOOKUP($B20,'Round Seven'!$C:$J,7,0)),0,IF(LEN($C20)<>0,VLOOKUP($B20,'Round Seven'!$C:$J,7,0)+1E-24,0))","v":0},{"$f":"IF(ISERROR(VLOOKUP($B20,'Round Eight'!$C:$J,8,0)),0,IF(AND(LEN($C20)<>0,$D20=\"Yes\"),VLOOKUP($B20,'Round Eight'!$C:$J,8,0),\"\"))","v":0},{"$f":"IF(ISERROR(VLOOKUP(AN20,'Round Eight'!$C:$J,7,0)),0,IF(AND(LEN($C20)<>0,$D20=\"Yes\"),VLOOKUP(AN20,'Round Eight'!$C:$J,7,0)+1E-24,0))","v":0},0,{"$f":"IF(ISERROR(VLOOKUP($B20,'Round Eight'!$C:$J,6,0)),0,IF(AND(LEN($C20)<>0,$D20=\"Yes\"),VLOOKUP($B20,'Round Eight'!$C:$J,6,0),\"\"))","v":0},{"$f":"IF(ISERROR(VLOOKUP($B20,'Round Eight'!$C:$J,7,0)),0,IF(LEN($C20)<>0,VLOOKUP($B20,'Round Eight'!$C:$J,7,0)+1E-24,0))","v":0},{"$f":"IF(ISERROR(VLOOKUP($B20,'Round Nine'!$C:$J,8,0)),0,IF(AND(LEN($C20)<>0,$D20=\"Yes\"),VLOOKUP($B20,'Round Nine'!$C:$J,8,0),\"\"))","v":0},{"$f":"IF(ISERROR(VLOOKUP(AS20,'Round Nine'!$C:$J,7,0)),0,IF(AND(LEN($C20)<>0,$D20=\"Yes\"),VLOOKUP(AS20,'Round Nine'!$C:$J,7,0)+1E-24,0))","v":0},0,{"$f":"IF(ISERROR(VLOOKUP($B20,'Round Nine'!$C:$J,6,0)),0,IF(AND(LEN($C20)<>0,$D20=\"Yes\"),VLOOKUP($B20,'Round Nine'!$C:$J,6,0),\"\"))","v":0},{"$f":"IF(ISERROR(VLOOKUP($B20,'Round Nine'!$C:$J,7,0)),0,IF(LEN($C20)<>0,VLOOKUP($B20,'Round Nine'!$C:$J,7,0)+1E-24,0))","v":0},null,0,0,0,{"$f":"IF(D20<>\"Yes\",A20*-10,AY20*1000000+AZ20*10000+BA20+(A20/100000))+IF(OR(Accel_Pairing_2!$B$4=\"no\",D20<>\"Yes\",ISERROR(VLOOKUP(C20,PowerRanking!A:B,2,0))),0,(VLOOKUP(C20,PowerRanking!A:D,4,0)*1000000)+VLOOKUP(C20,PowerRanking!A:D,2,0)/10)","v":-3.3544521538645986},20,"T17",0,""]
[0.39453660551720315,"T18",null,null,{"$f":"IF(ISERROR(VLOOKUP($B21,'Round One'!$C:$J,8,0)),0,IF(AND(LEN($C21)<>0,$D21=\"Yes\"),VLOOKUP($B21,'Round One'!$C:$J,8,0),0))","v":0},{"$f":"IF(ISERROR(VLOOKUP(E21,'Round One'!$C:$J,7,0)),0,IF(AND(LEN($C21)<>0,$D21=\"Yes\"),VALUE(VLOOKUP(E21,'Round One'!$C:$J,7,0)+1E-24),0))","v":0},0,{"$f":"IF(ISERROR(VLOOKUP($B21,'Round One'!$C:$J,6,0)),0,IF(AND(LEN($C21)<>0,$D21=\"Yes\"),VLOOKUP($B21,'Round One'!$C:$J,6,0),\"\"))","v":0},{"$f":"IF(ISERROR(VLOOKUP($B21,'Round One'!$C:$J,7,0)),0,IF(LEN($C21)<>0,VLOOKUP($B21,'Round One'!$C:$J,7,0)+1E-24,0))","v":0},{"$f":"IF(ISERROR(VLOOKUP($B21,'Round Two'!$C:$J,8,0)),0,IF(AND(LEN($C21)<>0,$D21=\"Yes\"),VLOOKUP($B21,'Round Two'!$C:$J,8,0),\"\"))","v":0},{"$f":"IF(ISERROR(VLOOKUP(J21,'Round Two'!$C:$J,7,0)),0,IF(AND(LEN($C21)<>0,$D21=\"Yes\"),VLOOKUP(J21,'Round Two'!$C:$J,7,0)+1E-24,0))","v":0},0,{"$f":"IF(ISERROR(VLOOKUP($B21,'Round Two'!$C:$J,6,0)),0,IF(AND(LEN($C21)<>0,$D21=\"Yes\"),VLOOKUP($B21,'Round Two'!$C:$J,6,0),\"\"))","v":0},{"$f":"IF(ISERROR(VLOOKUP($B21,'Round Two'!$C:$J,7,0)),0,IF(LEN($C21)<>0,VLOOKUP($B21,'Round Two'!$C:$J,7,0)+1E-24,0))","v":0},{"$f":"IF(ISERROR(VLOOKUP($B21,'Round Three'!$C:$J,8,0)),0,IF(AND(LEN($C21)<>0,$D21=\"Yes\"),VLOOKUP($B21,'Round Three'!$C:$J,8,0),\"\"))","v":0},{"$f":"IF(ISERROR(VLOOKUP(O21,'Round Three'!$C:$J,7,0)),0,IF(AND(LEN($C21)<>0,$D21=\"Yes\"),VLOOKUP(O21,'Round Three'!$C:$J,7,0)+1E-24,0))","v":0},0,{"$f":"IF(ISERROR(VLOOKUP($B21,'Round Three'!$C:$J,6,0)),0,IF(AND(LEN($C21)<>0,$D21=\"Yes\"),VLOOKUP($B21,'Round Three'!$C:$J,6,0),\"\"))","v":0},{"$f":"IF(ISERROR(VLOOKUP($B21,'Round Three'!$C:$J,7,0)),0,IF(LEN($C21)<>0,VLOOKUP($B21,'Round Three'!$C:$J,7,0)+1E-24,0))","v":0},{"$f":"IF(ISERROR(VLOOKUP($B21,'Round Four'!$C:$J,8,0)),0,IF(AND(LEN($C21)<>0,$D21=\"Yes\"),VLOOKUP($B21,'Round Four'!$C:$J,8,0),\"\"))","v":0},{"$f":"IF(ISERROR(VLOOKUP(T21,'Round Four'!$C:$J,7,0)),0,IF(AND(LEN($C21)<>0,$D21=\"Yes\"),VLOOKUP(T21,'Round Four'!$C:$J,7,0)+1E-24,0))","v":0},0,{"$f":"IF(ISERROR(VLOOKUP($B21,'Round Four'!$C:$J,6,0)),0,IF(AND(LEN($C21)<>0,$D21=\"Yes\"),VLOOKUP($B21,'Round Four'!$C:$J,6,0),\"\"))","v":0},{"$f":"IF(ISERROR(VLOOKUP($B21,'Round Four'!$C:$J,7,0)),0,IF(LEN($C21)<>0,VLOOKUP($B21,'Round Four'!$C:$J,7,0)+1E-24,0))","v":0},{"$f":"IF(ISERROR(VLOOKUP($B21,'Round Five'!$C:$J,8,0)),0,IF(AND(LEN($C21)<>0,$D21=\"Yes\"),VLOOKUP($B21,'Round Five'!$C:$J,8,0),\"\"))","v":0},{"$f":"IF(ISERROR(VLOOKUP(Y21,'Round Five'!$C:$J,7,0)),0,IF(AND(LEN($C21)<>0,$D21=\"Yes\"),VLOOKUP(Y21,'Round Five'!$C:$J,7,0)+1E-24,0))","v":0},0,{"$f":"IF(ISERROR(VLOOKUP($B21,'Round Five'!$C:$J,6,0)),0,IF(AND(LEN($C21)<>0,$D21=\"Yes\"),VLOOKUP($B21,'Round Five'!$C:$J,6,0),\"\"))","v":0},{"$f":"IF(ISERROR(VLOOKUP($B21,'Round Five'!$C:$J,7,0)),0,IF(LEN($C21)<>0,VLOOKUP($B21,'Round Five'!$C:$J,7,0)+1E-24,0))","v":0},{"$f":"IF(ISERROR(VLOOKUP($B21,'Round Six'!$C:$J,8,0)),0,IF(AND(LEN($C21)<>0,$D21=\"Yes\"),VLOOKUP($B21,'Round Six'!$C:$J,8,0),\"\"))","v":0},{"$f":"IF(ISERROR(VLOOKUP(AD21,'Round Six'!$C:$J,7,0)),0,IF(AND(LEN($C21)<>0,$D21=\"Yes\"),VLOOKUP(AD21,'Round Six'!$C:$J,7,0)+1E-24,0))","v":0},0,{"$f":"IF(ISERROR(VLOOKUP($B21,'Round Six'!$C:$J,6,0)),0,IF(AND(LEN($C21)<>0,$D21=\"Yes\"),VLOOKUP($B21,'Round Six'!$C:$J,6,0),\"\"))","v":0},{"$f":"IF(ISERROR(VLOOKUP($B21,'Round Six'!$C:$J,7,0)),0,IF(LEN($C21)<>0,VLOOKUP($B21,'Round Six'!$C:$J,7,0)+1E-24,0))","v":0},{"$f":"IF(ISERROR(VLOOKUP($B21,'Round Seven'!$C:$J,8,0)),0,IF(AND(LEN($C21)<>0,$D21=\"Yes\"),VLOOKUP($B21,'Round Seven'!$C:$J,8,0),\"\"))","v":0},{"$f":"IF(ISERROR(VLOOKUP(AI21,'Round Seven'!$C:$J,7,0)),0,IF(AND(LEN($C21)<>0,$D21=\"Yes\"),VLOOKUP(AI21,'Round Seven'!$C:$J,7,0)+1E-24,0))","v":0},0,{"$f":"IF(ISERROR(VLOOKUP($B21,'Round Seven'!$C:$J,6,0)),0,IF(AND(LEN($C21)<>0,$D21=\"Yes\"),VLOOKUP($B21,'Round Seven'!$C:$J,6,0),\"\"))","v":0},{"$f":"IF(ISERROR(VLOOKUP($B21,'Round Seven'!$C:$J,7,0)),0,IF(LEN($C21)<>0,VLOOKUP($B21,'Round Seven'!$C:$J,7,0)+1E-24,0))","v":0},{"$f":"IF(ISERROR(VLOOKUP($B21,'Round Eight'!$C:$J,8,0)),0,IF(AND(LEN($C21)<>0,$D21=\"Yes\"),VLOOKUP($B21,'Round Eight'!$C:$J,8,0),\"\"))","v":0},{"$f":"IF(ISERROR(VLOOKUP(AN21,'Round Eight'!$C:$J,7,0)),0,IF(AND(LEN($C21)<>0,$D21=\"Yes\"),VLOOKUP(AN21,'Round Eight'!$C:$J,7,0)+1E-24,0))","v":0},0,{"$f":"IF(ISERROR(VLOOKUP($B21,'Round Eight'!$C:$J,6,0)),0,IF(AND(LEN($C21)<>0,$D21=\"Yes\"),VLOOKUP($B21,'Round Eight'!$C:$J,6,0),\"\"))","v":0},{"$f":"IF(ISERROR(VLOOKUP($B21,'Round Eight'!$C:$J,7,0)),0,IF(LEN($C21)<>0,VLOOKUP($B21,'Round Eight'!$C:$J,7,0)+1E-24,0))","v":0},{"$f":"IF(ISERROR(VLOOKUP($B21,'Round Nine'!$C:$J,8,0)),0,IF(AND(LEN($C21)<>0,$D21=\"Yes\"),VLOOKUP($B21,'Round Nine'!$C:$J,8,0),\"\"))","v":0},{"$f":"IF(ISERROR(VLOOKUP(AS21,'Round Nine'!$C:$J,7,0)),0,IF(AND(LEN($C21)<>0,$D21=\"Yes\"),VLOOKUP(AS21,'Round Nine'!$C:$J,7,0)+1E-24,0))","v":0},0,{"$f":"IF(ISERROR(VLOOKUP($B21,'Round Nine'!$C:$J,6,0)),0,IF(AND(LEN($C21)<>0,$D21=\"Yes\"),VLOOKUP($B21,'Round Nine'!$C:$J,6,0),\"\"))","v":0},{"$f":"IF(ISERROR(VLOOKUP($B21,'Round Nine'!$C:$J,7,0)),0,IF(LEN($C21)<>0,VLOOKUP($B21,'Round Nine'!$C:$J,7,0)+1E-24,0))","v":0},null,0,0,0,{"$f":"IF(D21<>\"Yes\",A21*-10,AY21*1000000+AZ21*10000+BA21+(A21/100000))+IF(OR(Accel_Pairing_2!$B$4=\"no\",D21<>\"Yes\",ISERROR(VLOOKUP(C21,PowerRanking!A:B,2,0))),0,(VLOOKUP(C21,PowerRanking!A:D,4,0)*1000000)+VLOOKUP(C21,PowerRanking!A:D,2,0)/10)","v":-3.9453660551720313},26,"T18",0,""]
[0.5302692633962075,"T19",null,null,{"$f":"IF(ISERROR(VLOOKUP($B22,'Round One'!$C:$J,8,0)),0,IF(AND(LEN($C22)<>0,$D22=\"Yes\"),VLOOKUP($B22,'Round One'!$C:$J,8,0),0))","v":0},{"$f":"IF(ISERROR(VLOOKUP(E22,'Round One'!$C:$J,7,0)),0,IF(AND(LEN($C22)<>0,$D22=\"Yes\"),VALUE(VLOOKUP(E22,'Round One'!$C:$J,7,0)+1E-24),0))","v":0},0,{"$f":"IF(ISERROR(VLOOKUP($B22,'Round One'!$C:$J,6,0)),0,IF(AND(LEN($C22)<>0,$D22=\"Yes\"),VLOOKUP($B22,'Round One'!$C:$J,6,0),\"\"))","v":0},{"$f":"IF(ISERROR(VLOOKUP($B22,'Round One'!$C:$J,7,0)),0,IF(LEN($C22)<>0,VLOOKUP($B22,'Round One'!$C:$J,7,0)+1E-24,0))","v":0},{"$f":"IF(ISERROR(VLOOKUP($B22,'Round Two'!$C:$J,8,0)),0,IF(AND(LEN($C22)<>0,$D22=\"Yes\"),VLOOKUP($B22,'Round Two'!$C:$J,8,0),\"\"))","v":0},{"$f":"IF(ISERROR(VLOOKUP(J22,'Round Two'!$C:$J,7,0)),0,IF(AND(LEN($C22)<>0,$D22=\"Yes\"),VLOOKUP(J22,'Round Two'!$C:$J,7,0)+1E-24,0))","v":0},0,{"$f":"IF(ISERROR(VLOOKUP($B22,'Round Two'!$C:$J,6,0)),0,IF(AND(LEN($C22)<>0,$D22=\"Yes\"),VLOOKUP($B22,'Round Two'!$C:$J,6,0),\"\"))","v":0},{"$f":"IF(ISERROR(VLOOKUP($B22,'Round Two'!$C:$J,7,0)),0,IF(LEN($C22)<>0,VLOOKUP($B22,'Round Two'!$C:$J,7,0)+1E-24,0))","v":0},{"$f":"IF(ISERROR(VLOOKUP($B22,'Round Three'!$C:$J,8,0)),0,IF(AND(LEN($C22)<>0,$D22=\"Yes\"),VLOOKUP($B22,'Round Three'!$C:$J,8,0),\"\"))","v":0},{"$f":"IF(ISERROR(VLOOKUP(O22,'Round Three'!$C:$J,7,0)),0,IF(AND(LEN($C22)<>0,$D22=\"Yes\"),VLOOKUP(O22,'Round Three'!$C:$J,7,0)+1E-24,0))","v":0},0,{"$f":"IF(ISERROR(VLOOKUP($B22,'Round Three'!$C:$J,6,0)),0,IF(AND(LEN($C22)<>0,$D22=\"Yes\"),VLOOKUP($B22,'Round Three'!$C:$J,6,0),\"\"))","v":0},{"$f":"IF(ISERROR(VLOOKUP($B22,'Round Three'!$C:$J,7,0)),0,IF(LEN($C22)<>0,VLOOKUP($B22,'Round Three'!$C:$J,7,0)+1E-24,0))","v":0},{"$f":"IF(ISERROR(VLOOKUP($B22,'Round Four'!$C:$J,8,0)),0,IF(AND(LEN($C22)<>0,$D22=\"Yes\"),VLOOKUP($B22,'Round Four'!$C:$J,8,0),\"\"))","v":0},{"$f":"IF(ISERROR(VLOOKUP(T22,'Round Four'!$C:$J,7,0)),0,IF(AND(LEN($C22)<>0,$D22=\"Yes\"),VLOOKUP(T22,'Round Four'!$C:$J,7,0)+1E-24,0))","v":0},0,{"$f":"IF(ISERROR(VLOOKUP($B22,'Round Four'!$C:$J,6,0)),0,IF(AND(LEN($C22)<>0,$D22=\"Yes\"),VLOOKUP($B22,'Round Four'!$C:$J,6,0),\"\"))","v":0},{"$f":"IF(ISERROR(VLOOKUP($B22,'Round Four'!$C:$J,7,0)),0,IF(LEN($C22)<>0,VLOOKUP($B22,'Round Four'!$C:$J,7,0)+1E-24,0))","v":0},{"$f":"IF(ISERROR(VLOOKUP($B22,'Round Five'!$C:$J,8,0)),0,IF(AND(LEN($C22)<>0,$D22=\"Yes\"),VLOOKUP($B22,'Round Five'!$C:$J,8,0),\"\"))","v":0},{"$f":"IF(ISERROR(VLOOKUP(Y22,'Round Five'!$C:$J,7,0)),0,IF(AND(LEN($C22)<>0,$D22=\"Yes\"),VLOOKUP(Y22,'Round Five'!$C:$J,7,0)+1E-24,0))","v":0},0,{"$f":"IF(ISERROR(VLOOKUP($B22,'Round Five'!$C:$J,6,0)),0,IF(AND(LEN($C22)<>0,$D22=\"Yes\"),VLOOKUP($B22,'Round Five'!$C:$J,6,0),\"\"))","v":0},{"$f":"IF(ISERROR(VLOOKUP($B22,'Round Five'!$C:$J,7,0)),0,IF(LEN($C22)<>0,VLOOKUP($B22,'Round Five'!$C:$J,7,0)+1E-24,0))","v":0},{"$f":"IF(ISERROR(VLOOKUP($B22,'Round Six'!$C:$J,8,0)),0,IF(AND(LEN($C22)<>0,$D22=\"Yes\"),VLOOKUP($B22,'Round Six'!$C:$J,8,0),\"\"))","v":0},{"$f":"IF(ISERROR(VLOOKUP(AD22,'Round Six'!$C:$J,7,0)),0,IF(AND(LEN($C22)<>0,$D22=\"Yes\"),VLOOKUP(AD22,'Round Six'!$C:$J,7,0)+1E-24,0))","v":0},0,{"$f":"IF(ISERROR(VLOOKUP($B22,'Round Six'!$C:$J,6,0)),0,IF(AND(LEN($C22)<>0,$D22=\"Yes\"),VLOOKUP($B22,'Round Six'!$C:$J,6,0),\"\"))","v":0},{"$f":"IF(ISERROR(VLOOKUP($B22,'Round Six'!$C:$J,7,0)),0,IF(LEN($C22)<>0,VLOOKUP($B22,'Round Six'!$C:$J,7,0)+1E-24,0))","v":0},{"$f":"IF(ISERROR(VLOOKUP($B22,'Round Seven'!$C:$J,8,0)),0,IF(AND(LEN($C22)<>0,$D22=\"Yes\"),VLOOKUP($B22,'Round Seven'!$C:$J,8,0),\"\"))","v":0},{"$f":"IF(ISERROR(VLOOKUP(AI22,'Round Seven'!$C:$J,7,0)),0,IF(AND(LEN($C22)<>0,$D22=\"Yes\"),VLOOKUP(AI22,'Round Seven'!$C:$J,7,0)+1E-24,0))","v":0},0,{"$f":"IF(ISERROR(VLOOKUP($B22,'Round Seven'!$C:$J,6,0)),0,IF(AND(LEN($C22)<>0,$D22=\"Yes\"),VLOOKUP($B22,'Round Seven'!$C:$J,6,0),\"\"))","v":0},{"$f":"IF(ISERROR(VLOOKUP($B22,'Round Seven'!$C:$J,7,0)),0,IF(LEN($C22)<>0,VLOOKUP($B22,'Round Seven'!$C:$J,7,0)+1E-24,0))","v":0},{"$f":"IF(ISERROR(VLOOKUP($B22,'Round Eight'!$C:$J,8,0)),0,IF(AND(LEN($C22)<>0,$D22=\"Yes\"),VLOOKUP($B22,'Round Eight'!$C:$J,8,0),\"\"))","v":0},{"$f":"IF(ISERROR(VLOOKUP(AN22,'Round Eight'!$C:$J,7,0)),0,IF(AND(LEN($C22)<>0,$D22=\"Yes\"),VLOOKUP(AN22,'Round Eight'!$C:$J,7,0)+1E-24,0))","v":0},0,{"$f":"IF(ISERROR(VLOOKUP($B22,'Round Eight'!$C:$J,6,0)),0,IF(AND(LEN($C22)<>0,$D22=\"Yes\"),VLOOKUP($B22,'Round Eight'!$C:$J,6,0),\"\"))","v":0},{"$f":"IF(ISERROR(VLOOKUP($B22,'Round Eight'!$C:$J,7,0)),0,IF(LEN($C22)<>0,VLOOKUP($B22,'Round Eight'!$C:$J,7,0)+1E-24,0))","v":0},{"$f":"IF(ISERROR(VLOOKUP($B22,'Round Nine'!$C:$J,8,0)),0,IF(AND(LEN($C22)<>0,$D22=\"Yes\"),VLOOKUP($B22,'Round Nine'!$C:$J,8,0),\"\"))","v":0},{"$f":"IF(ISERROR(VLOOKUP(AS22,'Round Nine'!$C:$J,7,0)),0,IF(AND(LEN($C22)<>0,$D22=\"Yes\"),VLOOKUP(AS22,'Round Nine'!$C:$J,7,0)+1E-24,0))","v":0},0,{"$f":"IF(ISERROR(VLOOKUP($B22,'Round Nine'!$C:$J,6,0)),0,IF(AND(LEN($C22)<>0,$D22=\"Yes\"),VLOOKUP($B22,'Round Nine'!$C:$J,6,0),\"\"))","v":0},{"$f":"IF(ISERROR(VLOOKUP($B22,'Round Nine'!$C:$J,7,0)),0,IF(LEN($C22)<>0,VLOOKUP($B22,'Round Nine'!$C:$J,7,0)+1E-24,0))","v":0},null,0,0,0,{"$f":"IF(D22<>\"Yes\",A22*-10,AY22*1000000+AZ22*10000+BA22+(A22/100000))+IF(OR(Accel_Pairing_2!$B$4=\"no\",D22<>\"Yes\",ISERROR(VLOOKUP(C22,PowerRanking!A:B,2,0))),0,(VLOOKUP(C22,PowerRanking!A:D,4,0)*1000000)+VLOOKUP(C22,PowerRanking!A:D,2,0)/10)","v":-5.3026926339620752},37,"T19",0,""]
[0.38549292972152582,"T20",null,null,{"$f":"IF(ISERROR(VLOOKUP($B23,'Round One'!$C:$J,8,0)),0,IF(AND(LEN($C23)<>0,$D23=\"Yes\"),VLOOKUP($B23,'Round One'!$C:$J,8,0),0))","v":0},{"$f":"IF(ISERROR(VLOOKUP(E23,'Round One'!$C:$J,7,0)),0,IF(AND(LEN($C23)<>0,$D23=\"Yes\"),VALUE(VLOOKUP(E23,'Round One'!$C:$J,7,0)+1E-24),0))","v":0},0,{"$f":"IF(ISERROR(VLOOKUP($B23,'Round One'!$C:$J,6,0)),0,IF(AND(LEN($C23)<>0,$D23=\"Yes\"),VLOOKUP($B23,'Round One'!$C:$J,6,0),\"\"))","v":0},{"$f":"IF(ISERROR(VLOOKUP($B23,'Round One'!$C:$J,7,0)),0,IF(LEN($C23)<>0,VLOOKUP($B23,'Round One'!$C:$J,7,0)+1E-24,0))","v":0},{"$f":"IF(ISERROR(VLOOKUP($B23,'Round Two'!$C:$J,8,0)),0,IF(AND(LEN($C23)<>0,$D23=\"Yes\"),VLOOKUP($B23,'Round Two'!$C:$J,8,0),\"\"))","v":0},{"$f":"IF(ISERROR(VLOOKUP(J23,'Round Two'!$C:$J,7,0)),0,IF(AND(LEN($C23)<>0,$D23=\"Yes\"),VLOOKUP(J23,'Round Two'!$C:$J,7,0)+1E-24,0))","v":0},0,{"$f":"IF(ISERROR(VLOOKUP($B23,'Round Two'!$C:$J,6,0)),0,IF(AND(LEN($C23)<>0,$D23=\"Yes\"),VLOOKUP($B23,'Round Two'!$C:$J,6,0),\"\"))","v":0},{"$f":"IF(ISERROR(VLOOKUP($B23,'Round Two'!$C:$J,7,0)),0,IF(LEN($C23)<>0,VLOOKUP($B23,'Round Two'!$C:$J,7,0)+1E-24,0))","v":0},{"$f":"IF(ISERROR(VLOOKUP($B23,'Round Three'!$C:$J,8,0)),0,IF(AND(LEN($C23)<>0,$D23=\"Yes\"),VLOOKUP($B23,'Round Three'!$C:$J,8,0),\"\"))","v":0},{"$f":"IF(ISERROR(VLOOKUP(O23,'Round Three'!$C:$J,7,0)),0,IF(AND(LEN($C23)<>0,$D23=\"Yes\"),VLOOKUP(O23,'Round Three'!$C:$J,7,0)+1E-24,0))","v":0},0,{"$f":"IF(ISERROR(VLOOKUP($B23,'Round Three'!$C:$J,6,0)),0,IF(AND(LEN($C23)<>0,$D23=\"Yes\"),VLOOKUP($B23,'Round Three'!$C:$J,6,0),\"\"))","v":0},{"$f":"IF(ISERROR(VLOOKUP($B23,'Round Three'!$C:$J,7,0)),0,IF(LEN($C23)<>0,VLOOKUP($B23,'Round Three'!$C:$J,7,0)+1E-24,0))","v":0},{"$f":"IF(ISERROR(VLOOKUP($B23,'Round Four'!$C:$J,8,0)),0,IF(AND(LEN($C23)<>0,$D23=\"Yes\"),VLOOKUP($B23,'Round Four'!$C:$J,8,0),\"\"))","v":0},{"$f":"IF(ISERROR(VLOOKUP(T23,'Round Four'!$C:$J,7,0)),0,IF(AND(LEN($C23)<>0,$D23=\"Yes\"),VLOOKUP(T23,'Round Four'!$C:$J,7,0)+1E-24,0))","v":0},0,{"$f":"IF(ISERROR(VLOOKUP($B23,'Round Four'!$C:$J,6,0)),0,IF(AND(LEN($C23)<>0,$D23=\"Yes\"),VLOOKUP($B23,'Round Four'!$C:$J,6,0),\"\"))","v":0},{"$f":"IF(ISERROR(VLOOKUP($B23,'Round Four'!$C:$J,7,0)),0,IF(LEN($C23)<>0,VLOOKUP($B23,'Round Four'!$C:$J,7,0)+1E-24,0))","v":0},{"$f":"IF(ISERROR(VLOOKUP($B23,'Round Five'!$C:$J,8,0)),0,IF(AND(LEN($C23)<>0,$D23=\"Yes\"),VLOOKUP($B23,'Round Five'!$C:$J,8,0),\"\"))","v":0},{"$f":"IF(ISERROR(VLOOKUP(Y23,'Round Five'!$C:$J,7,0)),0,IF(AND(LEN($C23)<>0,$D23=\"Yes\"),VLOOKUP(Y23,'Round Five'!$C:$J,7,0)+1E-24,0))","v":0},0,{"$f":"IF(ISERROR(VLOOKUP($B23,'Round Five'!$C:$J,6,0)),0,IF(AND(LEN($C23)<>0,$D23=\"Yes\"),VLOOKUP($B23,'Round Five'!$C:$J,6,0),\"\"))","v":0},{"$f":"IF(ISERROR(VLOOKUP($B23,'Round Five'!$C:$J,7,0)),0,IF(LEN($C23)<>0,VLOOKUP($B23,'Round Five'!$C:$J,7,0)+1E-24,0))","v":0},{"$f":"IF(ISERROR(VLOOKUP($B23,'Round Six'!$C:$J,8,0)),0,IF(AND(LEN($C23)<>0,$D23=\"Yes\"),VLOOKUP($B23,'Round Six'!$C:$J,8,0),\"\"))","v":0},{"$f":"IF(ISERROR(VLOOKUP(AD23,'Round Six'!$C:$J,7,0)),0,IF(AND(LEN($C23)<>0,$D23=\"Yes\"),VLOOKUP(AD23,'Round Six'!$C:$J,7,0)+1E-24,0))","v":0},0,{"$f":"IF(ISERROR(VLOOKUP($B23,'Round Six'!$C:$J,6,0)),0,IF(AND(LEN($C23)<>0,$D23=\"Yes\"),VLOOKUP($B23,'Round Six'!$C:$J,6,0),\"\"))","v":0},{"$f":"IF(ISERROR(VLOOKUP($B23,'Round Six'!$C:$J,7,0)),0,IF(LEN($C23)<>0,VLOOKUP($B23,'Round Six'!$C:$J,7,0)+1E-24,0))","v":0},{"$f":"IF(ISERROR(VLOOKUP($B23,'Round Seven'!$C:$J,8,0)),0,IF(AND(LEN($C23)<>0,$D23=\"Yes\"),VLOOKUP($B23,'Round Seven'!$C:$J,8,0),\"\"))","v":0},{"$f":"IF(ISERROR(VLOOKUP(AI23,'Round Seven'!$C:$J,7,0)),0,IF(AND(LEN($C23)<>0,$D23=\"Yes\"),VLOOKUP(AI23,'Round Seven'!$C:$J,7,0)+1E-24,0))","v":0},0,{"$f":"IF(ISERROR(VLOOKUP($B23,'Round Seven'!$C:$J,6,0)),0,IF(AND(LEN($C23)<>0,$D23=\"Yes\"),VLOOKUP($B23,'Round Seven'!$C:$J,6,0),\"\"))","v":0},{"$f":"IF(ISERROR(VLOOKUP($B23,'Round Seven'!$C:$J,7,0)),0,IF(LEN($C23)<>0,VLOOKUP($B23,'Round Seven'!$C:$J,7,0)+1E-24,0))","v":0},{"$f":"IF(ISERROR(VLOOKUP($B23,'Round Eight'!$C:$J,8,0)),0,IF(AND(LEN($C23)<>0,$D23=\"Yes\"),VLOOKUP($B23,'Round Eight'!$C:$J,8,0),\"\"))","v":0},{"$f":"IF(ISERROR(VLOOKUP(AN23,'Round Eight'!$C:$J,7,0)),0,IF(AND(LEN($C23)<>0,$D23=\"Yes\"),VLOOKUP(AN23,'Round Eight'!$C:$J,7,0)+1E-24,0))","v":0},0,{"$f":"IF(ISERROR(VLOOKUP($B23,'Round Eight'!$C:$J,6,0)),0,IF(AND(LEN($C23)<>0,$D23=\"Yes\"),VLOOKUP($B23,'Round Eight'!$C:$J,6,0),\"\"))","v":0},{"$f":"IF(ISERROR(VLOOKUP($B23,'Round Eight'!$C:$J,7,0)),0,IF(LEN($C23)<>0,VLOOKUP($B23,'Round Eight'!$C:$J,7,0)+1E-24,0))","v":0},{"$f":"IF(ISERROR(VLOOKUP($B23,'Round Nine'!$C:$J,8,0)),0,IF(AND(LEN($C23)<>0,$D23=\"Yes\"),VLOOKUP($B23,'Round Nine'!$C:$J,8,0),\"\"))","v":0},{"$f":"IF(ISERROR(VLOOKUP(AS23,'Round Nine'!$C:$J,7,0)),0,IF(AND(LEN($C23)<>0,$D23=\"Yes\"),VLOOKUP(AS23,'Round Nine'!$C:$J,7,0)+1E-24,0))","v":0},0,{"$f":"IF(ISERROR(VLOOKUP($B23,'Round Nine'!$C:$J,6,0)),0,IF(AND(LEN($C23)<>0,$D23=\"Yes\"),VLOOKUP($B23,'Round Nine'!$C:$J,6,0),\"\"))","v":0},{"$f":"IF(ISERROR(VLOOKUP($B23,'Round Nine'!$C:$J,7,0)),0,IF(LEN($C23)<>0,VLOOKUP($B23,'Round Nine'!$C:$J,7,0)+1E-24,0))","v":0},null,0,0,0,{"$f":"IF(D23<>\"Yes\",A23*-10,AY23*1000000+AZ23*10000+BA23+(A23/100000))+IF(OR(Accel_Pairing_2!$B$4=\"no\",D23<>\"Yes\",ISERROR(VLOOKUP(C23,PowerRanking!A:B,2,0))),0,(VLOOKUP(C23,PowerRanking!A:D,4,0)*1000000)+VLOOKUP(C23,PowerRanking!A:D,2,0)/10)","v":-3.854929297215258},24,"T20",0,""]
[0.46902653755666213,"T21",null,null,{"$f":"IF(ISERROR(VLOOKUP($B24,'Round One'!$C:$J,8,0)),0,IF(AND(LEN($C24)<>0,$D24=\"Yes\"),VLOOKUP($B24,'Round One'!$C:$J,8,0),0))","v":0},{"$f":"IF(ISERROR(VLOOKUP(E24,'Round One'!$C:$J,7,0)),0,IF(AND(LEN($C24)<>0,$D24=\"Yes\"),VALUE(VLOOKUP(E24,'Round One'!$C:$J,7,0)+1E-24),0))","v":0},0,{"$f":"IF(ISERROR(VLOOKUP($B24,'Round One'!$C:$J,6,0)),0,IF(AND(LEN($C24)<>0,$D24=\"Yes\"),VLOOKUP($B24,'Round One'!$C:$J,6,0),\"\"))","v":0},{"$f":"IF(ISERROR(VLOOKUP($B24,'Round One'!$C:$J,7,0)),0,IF(LEN($C24)<>0,VLOOKUP($B24,'Round One'!$C:$J,7,0)+1E-24,0))","v":0},{"$f":"IF(ISERROR(VLOOKUP($B24,'Round Two'!$C:$J,8,0)),0,IF(AND(LEN($C24)<>0,$D24=\"Yes\"),VLOOKUP($B24,'Round Two'!$C:$J,8,0),\"\"))","v":0},{"$f":"IF(ISERROR(VLOOKUP(J24,'Round Two'!$C:$J,7,0)),0,IF(AND(LEN($C24)<>0,$D24=\"Yes\"),VLOOKUP(J24,'Round Two'!$C:$J,7,0)+1E-24,0))","v":0},0,{"$f":"IF(ISERROR(VLOOKUP($B24,'Round Two'!$C:$J,6,0)),0,IF(AND(LEN($C24)<>0,$D24=\"Yes\"),VLOOKUP($B24,'Round Two'!$C:$J,6,0),\"\"))","v":0},{"$f":"IF(ISERROR(VLOOKUP($B24,'Round Two'!$C:$J,7,0)),0,IF(LEN($C24)<>0,VLOOKUP($B24,'Round Two'!$C:$J,7,0)+1E-24,0))","v":0},{"$f":"IF(ISERROR(VLOOKUP($B24,'Round Three'!$C:$J,8,0)),0,IF(AND(LEN($C24)<>0,$D24=\"Yes\"),VLOOKUP($B24,'Round Three'!$C:$J,8,0),\"\"))","v":0},{"$f":"IF(ISERROR(VLOOKUP(O24,'Round Three'!$C:$J,7,0)),0,IF(AND(LEN($C24)<>0,$D24=\"Yes\"),VLOOKUP(O24,'Round Three'!$C:$J,7,0)+1E-24,0))","v":0},0,{"$f":"IF(ISERROR(VLOOKUP($B24,'Round Three'!$C:$J,6,0)),0,IF(AND(LEN($C24)<>0,$D24=\"Yes\"),VLOOKUP($B24,'Round Three'!$C:$J,6,0),\"\"))","v":0},{"$f":"IF(ISERROR(VLOOKUP($B24,'Round Three'!$C:$J,7,0)),0,IF(LEN($C24)<>0,VLOOKUP($B24,'Round Three'!$C:$J,7,0)+1E-24,0))","v":0},{"$f":"IF(ISERROR(VLOOKUP($B24,'Round Four'!$C:$J,8,0)),0,IF(AND(LEN($C24)<>0,$D24=\"Yes\"),VLOOKUP($B24,'Round Four'!$C:$J,8,0),\"\"))","v":0},{"$f":"IF(ISERROR(VLOOKUP(T24,'Round Four'!$C:$J,7,0)),0,IF(AND(LEN($C24)<>0,$D24=\"Yes\"),VLOOKUP(T24,'Round Four'!$C:$J,7,0)+1E-24,0))","v":0},0,{"$f":"IF(ISERROR(VLOOKUP($B24,'Round Four'!$C:$J,6,0)),0,IF(AND(LEN($C24)<>0,$D24=\"Yes\"),VLOOKUP($B24,'Round Four'!$C:$J,6,0),\"\"))","v":0},{"$f":"IF(ISERROR(VLOOKUP($B24,'Round Four'!$C:$J,7,0)),0,IF(LEN($C24)<>0,VLOOKUP($B24,'Round Four'!$C:$J,7,0)+1E-24,0))","v":0},{"$f":"IF(ISERROR(VLOOKUP($B24,'Round Five'!$C:$J,8,0)),0,IF(AND(LEN($C24)<>0,$D24=\"Yes\"),VLOOKUP($B24,'Round Five'!$C:$J,8,0),\"\"))","v":0},{"$f":"IF(ISERROR(VLOOKUP(Y24,'Round Five'!$C:$J,7,0)),0,IF(AND(LEN($C24)<>0,$D24=\"Yes\"),VLOOKUP(Y24,'Round Five'!$C:$J,7,0)+1E-24,0))","v":0},0,{"$f":"IF(ISERROR(VLOOKUP($B24,'Round Five'!$C:$J,6,0)),0,IF(AND(LEN($C24)<>0,$D24=\"Yes\"),VLOOKUP($B24,'Round Five'!$C:$J,6,0),\"\"))","v":0},{"$f":"IF(ISERROR(VLOOKUP($B24,'Round Five'!$C:$J,7,0)),0,IF(LEN($C24)<>0,VLOOKUP($B24,'Round Five'!$C:$J,7,0)+1E-24,0))","v":0},{"$f":"IF(ISERROR(VLOOKUP($B24,'Round Six'!$C:$J,8,0)),0,IF(AND(LEN($C24)<>0,$D24=\"Yes\"),VLOOKUP($B24,'Round Six'!$C:$J,8,0),\"\"))","v":0},{"$f":"IF(ISERROR(VLOOKUP(AD24,'Round Six'!$C:$J,7,0)),0,IF(AND(LEN($C24)<>0,$D24=\"Yes\"),VLOOKUP(AD24,'Round Six'!$C:$J,7,0)+1E-24,0))","v":0},0,{"$f":"IF(ISERROR(VLOOKUP($B24,'Round Six'!$C:$J,6,0)),0,IF(AND(LEN($C24)<>0,$D24=\"Yes\"),VLOOKUP($B24,'Round Six'!$C:$J,6,0),\"\"))","v":0},{"$f":"IF(ISERROR(VLOOKUP($B24,'Round Six'!$C:$J,7,0)),0,IF(LEN($C24)<>0,VLOOKUP($B24,'Round Six'!$C:$J,7,0)+1E-24,0))","v":0},{"$f":"IF(ISERROR(VLOOKUP($B24,'Round Seven'!$C:$J,8,0)),0,IF(AND(LEN($C24)<>0,$D24=\"Yes\"),VLOOKUP($B24,'Round Seven'!$C:$J,8,0),\"\"))","v":0},{"$f":"IF(ISERROR(VLOOKUP(AI24,'Round Seven'!$C:$J,7,0)),0,IF(AND(LEN($C24)<>0,$D24=\"Yes\"),VLOOKUP(AI24,'Round Seven'!$C:$J,7,0)+1E-24,0))","v":0},0,{"$f":"IF(ISERROR(VLOOKUP($B24,'Round Seven'!$C:$J,6,0)),0,IF(AND(LEN($C24)<>0,$D24=\"Yes\"),VLOOKUP($B24,'Round Seven'!$C:$J,6,0),\"\"))","v":0},{"$f":"IF(ISERROR(VLOOKUP($B24,'Round Seven'!$C:$J,7,0)),0,IF(LEN($C24)<>0,VLOOKUP($B24,'Round Seven'!$C:$J,7,0)+1E-24,0))","v":0},{"$f":"IF(ISERROR(VLOOKUP($B24,'Round Eight'!$C:$J,8,0)),0,IF(AND(LEN($C24)<>0,$D24=\"Yes\"),VLOOKUP($B24,'Round Eight'!$C:$J,8,0),\"\"))","v":0},{"$f":"IF(ISERROR(VLOOKUP(AN24,'Round Eight'!$C:$J,7,0)),0,IF(AND(LEN($C24)<>0,$D24=\"Yes\"),VLOOKUP(AN24,'Round Eight'!$C:$J,7,0)+1E-24,0))","v":0},0,{"$f":"IF(ISERROR(VLOOKUP($B24,'Round Eight'!$C:$J,6,0)),0,IF(AND(LEN($C24)<>0,$D24=\"Yes\"),VLOOKUP($B24,'Round Eight'!$C:$J,6,0),\"\"))","v":0},{"$f":"IF(ISERROR(VLOOKUP($B24,'Round Eight'!$C:$J,7,0)),0,IF(LEN($C24)<>0,VLOOKUP($B24,'Round Eight'!$C:$J,7,0)+1E-24,0))","v":0},{"$f":"IF(ISERROR(VLOOKUP($B24,'Round Nine'!$C:$J,8,0)),0,IF(AND(LEN($C24)<>0,$D24=\"Yes\"),VLOOKUP($B24,'Round Nine'!$C:$J,8,0),\"\"))","v":0},{"$f":"IF(ISERROR(VLOOKUP(AS24,'Round Nine'!$C:$J,7,0)),0,IF(AND(LEN($C24)<>0,$D24=\"Yes\"),VLOOKUP(AS24,'Round Nine'!$C:$J,7,0)+1E-24,0))","v":0},0,{"$f":"IF(ISERROR(VLOOKUP($B24,'Round Nine'!$C:$J,6,0)),0,IF(AND(LEN($C24)<>0,$D24=\"Yes\"),VLOOKUP($B24,'Round Nine'!$C:$J,6,0),\"\"))","v":0},{"$f":"IF(ISERROR(VLOOKUP($B24,'Round Nine'!$C:$J,7,0)),0,IF(LEN($C24)<>0,VLOOKUP($B24,'Round Nine'!$C:$J,7,0)+1E-24,0))","v":0},null,0,0,0,{"$f":"IF(D24<>\"Yes\",A24*-10,AY24*1000000+AZ24*10000+BA24+(A24/100000))+IF(OR(Accel_Pairing_2!$B$4=\"no\",D24<>\"Yes\",ISERROR(VLOOKUP(C24,PowerRanking!A:B,2,0))),0,(VLOOKUP(C24,PowerRanking!A:D,4,0)*1000000)+VLOOKUP(C24,PowerRanking!A:D,2,0)/10)","v":-4.6902653755666215},35,"T21",0,""]
[0.76938616239016255,"T22",null,null,{"$f":"IF(ISERROR(VLOOKUP($B25,'Round One'!$C:$J,8,0)),0,IF(AND(LEN($C25)<>0,$D25=\"Yes\"),VLOOKUP($B25,'Round One'!$C:$J,8,0),0))","v":0},{"$f":"IF(ISERROR(VLOOKUP(E25,'Round One'!$C:$J,7,0)),0,IF(AND(LEN($C25)<>0,$D25=\"Yes\"),VALUE(VLOOKUP(E25,'Round One'!$C:$J,7,0)+1E-24),0))","v":0},0,{"$f":"IF(ISERROR(VLOOKUP($B25,'Round One'!$C:$J,6,0)),0,IF(AND(LEN($C25)<>0,$D25=\"Yes\"),VLOOKUP($B25,'Round One'!$C:$J,6,0),\"\"))","v":0},{"$f":"IF(ISERROR(VLOOKUP($B25,'Round One'!$C:$J,7,0)),0,IF(LEN($C25)<>0,VLOOKUP($B25,'Round One'!$C:$J,7,0)+1E-24,0))","v":0},{"$f":"IF(ISERROR(VLOOKUP($B25,'Round Two'!$C:$J,8,0)),0,IF(AND(LEN($C25)<>0,$D25=\"Yes\"),VLOOKUP($B25,'Round Two'!$C:$J,8,0),\"\"))","v":0},{"$f":"IF(ISERROR(VLOOKUP(J25,'Round Two'!$C:$J,7,0)),0,IF(AND(LEN($C25)<>0,$D25=\"Yes\"),VLOOKUP(J25,'Round Two'!$C:$J,7,0)+1E-24,0))","v":0},0,{"$f":"IF(ISERROR(VLOOKUP($B25,'Round Two'!$C:$J,6,0)),0,IF(AND(LEN($C25)<>0,$D25=\"Yes\"),VLOOKUP($B25,'Round Two'!$C:$J,6,0),\"\"))","v":0},{"$f":"IF(ISERROR(VLOOKUP($B25,'Round Two'!$C:$J,7,0)),0,IF(LEN($C25)<>0,VLOOKUP($B25,'Round Two'!$C:$J,7,0)+1E-24,0))","v":0},{"$f":"IF(ISERROR(VLOOKUP($B25,'Round Three'!$C:$J,8,0)),0,IF(AND(LEN($C25)<>0,$D25=\"Yes\"),VLOOKUP($B25,'Round Three'!$C:$J,8,0),\"\"))","v":0},{"$f":"IF(ISERROR(VLOOKUP(O25,'Round Three'!$C:$J,7,0)),0,IF(AND(LEN($C25)<>0,$D25=\"Yes\"),VLOOKUP(O25,'Round Three'!$C:$J,7,0)+1E-24,0))","v":0},0,{"$f":"IF(ISERROR(VLOOKUP($B25,'Round Three'!$C:$J,6,0)),0,IF(AND(LEN($C25)<>0,$D25=\"Yes\"),VLOOKUP($B25,'Round Three'!$C:$J,6,0),\"\"))","v":0},{"$f":"IF(ISERROR(VLOOKUP($B25,'Round Three'!$C:$J,7,0)),0,IF(LEN($C25)<>0,VLOOKUP($B25,'Round Three'!$C:$J,7,0)+1E-24,0))","v":0},{"$f":"IF(ISERROR(VLOOKUP($B25,'Round Four'!$C:$J,8,0)),0,IF(AND(LEN($C25)<>0,$D25=\"Yes\"),VLOOKUP($B25,'Round Four'!$C:$J,8,0),\"\"))","v":0},{"$f":"IF(ISERROR(VLOOKUP(T25,'Round Four'!$C:$J,7,0)),0,IF(AND(LEN($C25)<>0,$D25=\"Yes\"),VLOOKUP(T25,'Round Four'!$C:$J,7,0)+1E-24,0))","v":0},0,{"$f":"IF(ISERROR(VLOOKUP($B25,'Round Four'!$C:$J,6,0)),0,IF(AND(LEN($C25)<>0,$D25=\"Yes\"),VLOOKUP($B25,'Round Four'!$C:$J,6,0),\"\"))","v":0},{"$f":"IF(ISERROR(VLOOKUP($B25,'Round Four'!$C:$J,7,0)),0,IF(LEN($C25)<>0,VLOOKUP($B25,'Round Four'!$C:$J,7,0)+1E-24,0))","v":0},{"$f":"IF(ISERROR(VLOOKUP($B25,'Round Five'!$C:$J,8,0)),0,IF(AND(LEN($C25)<>0,$D25=\"Yes\"),VLOOKUP($B25,'Round Five'!$C:$J,8,0),\"\"))","v":0},{"$f":"IF(ISERROR(VLOOKUP(Y25,'Round Five'!$C:$J,7,0)),0,IF(AND(LEN($C25)<>0,$D25=\"Yes\"),VLOOKUP(Y25,'Round Five'!$C:$J,7,0)+1E-24,0))","v":0},0,{"$f":"IF(ISERROR(VLOOKUP($B25,'Round Five'!$C:$J,6,0)),0,IF(AND(LEN($C25)<>0,$D25=\"Yes\"),VLOOKUP($B25,'Round Five'!$C:$J,6,0),\"\"))","v":0},{"$f":"IF(ISERROR(VLOOKUP($B25,'Round Five'!$C:$J,7,0)),0,IF(LEN($C25)<>0,VLOOKUP($B25,'Round Five'!$C:$J,7,0)+1E-24,0))","v":0},{"$f":"IF(ISERROR(VLOOKUP($B25,'Round Six'!$C:$J,8,0)),0,IF(AND(LEN($C25)<>0,$D25=\"Yes\"),VLOOKUP($B25,'Round Six'!$C:$J,8,0),\"\"))","v":0},{"$f":"IF(ISERROR(VLOOKUP(AD25,'Round Six'!$C:$J,7,0)),0,IF(AND(LEN($C25)<>0,$D25=\"Yes\"),VLOOKUP(AD25,'Round Six'!$C:$J,7,0)+1E-24,0))","v":0},0,{"$f":"IF(ISERROR(VLOOKUP($B25,'Round Six'!$C:$J,6,0)),0,IF(AND(LEN($C25)<>0,$D25=\"Yes\"),VLOOKUP($B25,'Round Six'!$C:$J,6,0),\"\"))","v":0},{"$f":"IF(ISERROR(VLOOKUP($B25,'Round Six'!$C:$J,7,0)),0,IF(LEN($C25)<>0,VLOOKUP($B25,'Round Six'!$C:$J,7,0)+1E-24,0))","v":0},{"$f":"IF(ISERROR(VLOOKUP($B25,'Round Seven'!$C:$J,8,0)),0,IF(AND(LEN($C25)<>0,$D25=\"Yes\"),VLOOKUP($B25,'Round Seven'!$C:$J,8,0),\"\"))","v":0},{"$f":"IF(ISERROR(VLOOKUP(AI25,'Round Seven'!$C:$J,7,0)),0,IF(AND(LEN($C25)<>0,$D25=\"Yes\"),VLOOKUP(AI25,'Round Seven'!$C:$J,7,0)+1E-24,0))","v":0},0,{"$f":"IF(ISERROR(VLOOKUP($B25,'Round Seven'!$C:$J,6,0)),0,IF(AND(LEN($C25)<>0,$D25=\"Yes\"),VLOOKUP($B25,'Round Seven'!$C:$J,6,0),\"\"))","v":0},{"$f":"IF(ISERROR(VLOOKUP($B25,'Round Seven'!$C:$J,7,0)),0,IF(LEN($C25)<>0,VLOOKUP($B25,'Round Seven'!$C:$J,7,0)+1E-24,0))","v":0},{"$f":"IF(ISERROR(VLOOKUP($B25,'Round Eight'!$C:$J,8,0)),0,IF(AND(LEN($C25)<>0,$D25=\"Yes\"),VLOOKUP($B25,'Round Eight'!$C:$J,8,0),\"\"))","v":0},{"$f":"IF(ISERROR(VLOOKUP(AN25,'Round Eight'!$C:$J,7,0)),0,IF(AND(LEN($C25)<>0,$D25=\"Yes\"),VLOOKUP(AN25,'Round Eight'!$C:$J,7,0)+1E-24,0))","v":0},0,{"$f":"IF(ISERROR(VLOOKUP($B25,'Round Eight'!$C:$J,6,0)),0,IF(AND(LEN($C25)<>0,$D25=\"Yes\"),VLOOKUP($B25,'Round Eight'!$C:$J,6,0),\"\"))","v":0},{"$f":"IF(ISERROR(VLOOKUP($B25,'Round Eight'!$C:$J,7,0)),0,IF(LEN($C25)<>0,VLOOKUP($B25,'Round Eight'!$C:$J,7,0)+1E-24,0))","v":0},{"$f":"IF(ISERROR(VLOOKUP($B25,'Round Nine'!$C:$J,8,0)),0,IF(AND(LEN($C25)<>0,$D25=\"Yes\"),VLOOKUP($B25,'Round Nine'!$C:$J,8,0),\"\"))","v":0},{"$f":"IF(ISERROR(VLOOKUP(AS25,'Round Nine'!$C:$J,7,0)),0,IF(AND(LEN($C25)<>0,$D25=\"Yes\"),VLOOKUP(AS25,'Round Nine'!$C:$J,7,0)+1E-24,0))","v":0},0,{"$f":"IF(ISERROR(VLOOKUP($B25,'Round Nine'!$C:$J,6,0)),0,IF(AND(LEN($C25)<>0,$D25=\"Yes\"),VLOOKUP($B25,'Round Nine'!$C:$J,6,0),\"\"))","v":0},{"$f":"IF(ISERROR(VLOOKUP($B25,'Round Nine'!$C:$J,7,0)),0,IF(LEN($C25)<>0,VLOOKUP($B25,'Round Nine'!$C:$J,7,0)+1E-24,0))","v":0},null,0,0,0,{"$f":"IF(D25<>\"Yes\",A25*-10,AY25*1000000+AZ25*10000+BA25+(A25/100000))+IF(OR(Accel_Pairing_2!$B$4=\"no\",D25<>\"Yes\",ISERROR(VLOOKUP(C25,PowerRanking!A:B,2,0))),0,(VLOOKUP(C25,PowerRanking!A:D,4,0)*1000000)+VLOOKUP(C25,PowerRanking!A:D,2,0)/10)","v":-7.6938616239016255},50,"T22",0,""]
[0.43189484194216954,"T23",null,null,{"$f":"IF(ISERROR(VLOOKUP($B26,'Round One'!$C:$J,8,0)),0,IF(AND(LEN($C26)<>0,$D26=\"Yes\"),VLOOKUP($B26,'Round One'!$C:$J,8,0),0))","v":0},{"$f":"IF(ISERROR(VLOOKUP(E26,'Round One'!$C:$J,7,0)),0,IF(AND(LEN($C26)<>0,$D26=\"Yes\"),VALUE(VLOOKUP(E26,'Round One'!$C:$J,7,0)+1E-24),0))","v":0},0,{"$f":"IF(ISERROR(VLOOKUP($B26,'Round One'!$C:$J,6,0)),0,IF(AND(LEN($C26)<>0,$D26=\"Yes\"),VLOOKUP($B26,'Round One'!$C:$J,6,0),\"\"))","v":0},{"$f":"IF(ISERROR(VLOOKUP($B26,'Round One'!$C:$J,7,0)),0,IF(LEN($C26)<>0,VLOOKUP($B26,'Round One'!$C:$J,7,0)+1E-24,0))","v":0},{"$f":"IF(ISERROR(VLOOKUP($B26,'Round Two'!$C:$J,8,0)),0,IF(AND(LEN($C26)<>0,$D26=\"Yes\"),VLOOKUP($B26,'Round Two'!$C:$J,8,0),\"\"))","v":0},{"$f":"IF(ISERROR(VLOOKUP(J26,'Round Two'!$C:$J,7,0)),0,IF(AND(LEN($C26)<>0,$D26=\"Yes\"),VLOOKUP(J26,'Round Two'!$C:$J,7,0)+1E-24,0))","v":0},0,{"$f":"IF(ISERROR(VLOOKUP($B26,'Round Two'!$C:$J,6,0)),0,IF(AND(LEN($C26)<>0,$D26=\"Yes\"),VLOOKUP($B26,'Round Two'!$C:$J,6,0),\"\"))","v":0},{"$f":"IF(ISERROR(VLOOKUP($B26,'Round Two'!$C:$J,7,0)),0,IF(LEN($C26)<>0,VLOOKUP($B26,'Round Two'!$C:$J,7,0)+1E-24,0))","v":0},{"$f":"IF(ISERROR(VLOOKUP($B26,'Round Three'!$C:$J,8,0)),0,IF(AND(LEN($C26)<>0,$D26=\"Yes\"),VLOOKUP($B26,'Round Three'!$C:$J,8,0),\"\"))","v":0},{"$f":"IF(ISERROR(VLOOKUP(O26,'Round Three'!$C:$J,7,0)),0,IF(AND(LEN($C26)<>0,$D26=\"Yes\"),VLOOKUP(O26,'Round Three'!$C:$J,7,0)+1E-24,0))","v":0},0,{"$f":"IF(ISERROR(VLOOKUP($B26,'Round Three'!$C:$J,6,0)),0,IF(AND(LEN($C26)<>0,$D26=\"Yes\"),VLOOKUP($B26,'Round Three'!$C:$J,6,0),\"\"))","v":0},{"$f":"IF(ISERROR(VLOOKUP($B26,'Round Three'!$C:$J,7,0)),0,IF(LEN($C26)<>0,VLOOKUP($B26,'Round Three'!$C:$J,7,0)+1E-24,0))","v":0},{"$f":"IF(ISERROR(VLOOKUP($B26,'Round Four'!$C:$J,8,0)),0,IF(AND(LEN($C26)<>0,$D26=\"Yes\"),VLOOKUP($B26,'Round Four'!$C:$J,8,0),\"\"))","v":0},{"$f":"IF(ISERROR(VLOOKUP(T26,'Round Four'!$C:$J,7,0)),0,IF(AND(LEN($C26)<>0,$D26=\"Yes\"),VLOOKUP(T26,'Round Four'!$C:$J,7,0)+1E-24,0))","v":0},0,{"$f":"IF(ISERROR(VLOOKUP($B26,'Round Four'!$C:$J,6,0)),0,IF(AND(LEN($C26)<>0,$D26=\"Yes\"),VLOOKUP($B26,'Round Four'!$C:$J,6,0),\"\"))","v":0},{"$f":"IF(ISERROR(VLOOKUP($B26,'Round Four'!$C:$J,7,0)),0,IF(LEN($C26)<>0,VLOOKUP($B26,'Round Four'!$C:$J,7,0)+1E-24,0))","v":0},{"$f":"IF(ISERROR(VLOOKUP($B26,'Round Five'!$C:$J,8,0)),0,IF(AND(LEN($C26)<>0,$D26=\"Yes\"),VLOOKUP($B26,'Round Five'!$C:$J,8,0),\"\"))","v":0},{"$f":"IF(ISERROR(VLOOKUP(Y26,'Round Five'!$C:$J,7,0)),0,IF(AND(LEN($C26)<>0,$D26=\"Yes\"),VLOOKUP(Y26,'Round Five'!$C:$J,7,0)+1E-24,0))","v":0},0,{"$f":"IF(ISERROR(VLOOKUP($B26,'Round Five'!$C:$J,6,0)),0,IF(AND(LEN($C26)<>0,$D26=\"Yes\"),VLOOKUP($B26,'Round Five'!$C:$J,6,0),\"\"))","v":0},{"$f":"IF(ISERROR(VLOOKUP($B26,'Round Five'!$C:$J,7,0)),0,IF(LEN($C26)<>0,VLOOKUP($B26,'Round Five'!$C:$J,7,0)+1E-24,0))","v":0},{"$f":"IF(ISERROR(VLOOKUP($B26,'Round Six'!$C:$J,8,0)),0,IF(AND(LEN($C26)<>0,$D26=\"Yes\"),VLOOKUP($B26,'Round Six'!$C:$J,8,0),\"\"))","v":0},{"$f":"IF(ISERROR(VLOOKUP(AD26,'Round Six'!$C:$J,7,0)),0,IF(AND(LEN($C26)<>0,$D26=\"Yes\"),VLOOKUP(AD26,'Round Six'!$C:$J,7,0)+1E-24,0))","v":0},0,{"$f":"IF(ISERROR(VLOOKUP($B26,'Round Six'!$C:$J,6,0)),0,IF(AND(LEN($C26)<>0,$D26=\"Yes\"),VLOOKUP($B26,'Round Six'!$C:$J,6,0),\"\"))","v":0},{"$f":"IF(ISERROR(VLOOKUP($B26,'Round Six'!$C:$J,7,0)),0,IF(LEN($C26)<>0,VLOOKUP($B26,'Round Six'!$C:$J,7,0)+1E-24,0))","v":0},{"$f":"IF(ISERROR(VLOOKUP($B26,'Round Seven'!$C:$J,8,0)),0,IF(AND(LEN($C26)<>0,$D26=\"Yes\"),VLOOKUP($B26,'Round Seven'!$C:$J,8,0),\"\"))","v":0},{"$f":"IF(ISERROR(VLOOKUP(AI26,'Round Seven'!$C:$J,7,0)),0,IF(AND(LEN($C26)<>0,$D26=\"Yes\"),VLOOKUP(AI26,'Round Seven'!$C:$J,7,0)+1E-24,0))","v":0},0,{"$f":"IF(ISERROR(VLOOKUP($B26,'Round Seven'!$C:$J,6,0)),0,IF(AND(LEN($C26)<>0,$D26=\"Yes\"),VLOOKUP($B26,'Round Seven'!$C:$J,6,0),\"\"))","v":0},{"$f":"IF(ISERROR(VLOOKUP($B26,'Round Seven'!$C:$J,7,0)),0,IF(LEN($C26)<>0,VLOOKUP($B26,'Round Seven'!$C:$J,7,0)+1E-24,0))","v":0},{"$f":"IF(ISERROR(VLOOKUP($B26,'Round Eight'!$C:$J,8,0)),0,IF(AND(LEN($C26)<>0,$D26=\"Yes\"),VLOOKUP($B26,'Round Eight'!$C:$J,8,0),\"\"))","v":0},{"$f":"IF(ISERROR(VLOOKUP(AN26,'Round Eight'!$C:$J,7,0)),0,IF(AND(LEN($C26)<>0,$D26=\"Yes\"),VLOOKUP(AN26,'Round Eight'!$C:$J,7,0)+1E-24,0))","v":0},0,{"$f":"IF(ISERROR(VLOOKUP($B26,'Round Eight'!$C:$J,6,0)),0,IF(AND(LEN($C26)<>0,$D26=\"Yes\"),VLOOKUP($B26,'Round Eight'!$C:$J,6,0),\"\"))","v":0},{"$f":"IF(ISERROR(VLOOKUP($B26,'Round Eight'!$C:$J,7,0)),0,IF(LEN($C26)<>0,VLOOKUP($B26,'Round Eight'!$C:$J,7,0)+1E-24,0))","v":0},{"$f":"IF(ISERROR(VLOOKUP($B26,'Round Nine'!$C:$J,8,0)),0,IF(AND(LEN($C26)<>0,$D26=\"Yes\"),VLOOKUP($B26,'Round Nine'!$C:$J,8,0),\"\"))","v":0},{"$f":"IF(ISERROR(VLOOKUP(AS26,'Round Nine'!$C:$J,7,0)),0,IF(AND(LEN($C26)<>0,$D26=\"Yes\"),VLOOKUP(AS26,'Round Nine'!$C:$J,7,0)+1E-24,0))","v":0},0,{"$f":"IF(ISERROR(VLOOKUP($B26,'Round Nine'!$C:$J,6,0)),0,IF(AND(LEN($C26)<>0,$D26=\"Yes\"),VLOOKUP($B26,'Round Nine'!$C:$J,6,0),\"\"))","v":0},{"$f":"IF(ISERROR(VLOOKUP($B26,'Round Nine'!$C:$J,7,0)),0,IF(LEN($C26)<>0,VLOOKUP($B26,'Round Nine'!$C:$J,7,0)+1E-24,0))","v":0},null,0,0,0,{"$f":"IF(D26<>\"Yes\",A26*-10,AY26*1000000+AZ26*10000+BA26+(A26/100000))+IF(OR(Accel_Pairing_2!$B$4=\"no\",D26<>\"Yes\",ISERROR(VLOOKUP(C26,PowerRanking!A:B,2,0))),0,(VLOOKUP(C26,PowerRanking!A:D,4,0)*1000000)+VLOOKUP(C26,PowerRanking!A:D,2,0)/10)","v":-4.3189484194216954},30,"T23",0,""]
[0.98765980712504198,"T24",null,null,{"$f":"IF(ISERROR(VLOOKUP($B27,'Round One'!$C:$J,8,0)),0,IF(AND(LEN($C27)<>0,$D27=\"Yes\"),VLOOKUP($B27,'Round One'!$C:$J,8,0),0))","v":0},{"$f":"IF(ISERROR(VLOOKUP(E27,'Round One'!$C:$J,7,0)),0,IF(AND(LEN($C27)<>0,$D27=\"Yes\"),VALUE(VLOOKUP(E27,'Round One'!$C:$J,7,0)+1E-24),0))","v":0},0,{"$f":"IF(ISERROR(VLOOKUP($B27,'Round One'!$C:$J,6,0)),0,IF(AND(LEN($C27)<>0,$D27=\"Yes\"),VLOOKUP($B27,'Round One'!$C:$J,6,0),\"\"))","v":0},{"$f":"IF(ISERROR(VLOOKUP($B27,'Round One'!$C:$J,7,0)),0,IF(LEN($C27)<>0,VLOOKUP($B27,'Round One'!$C:$J,7,0)+1E-24,0))","v":0},{"$f":"IF(ISERROR(VLOOKUP($B27,'Round Two'!$C:$J,8,0)),0,IF(AND(LEN($C27)<>0,$D27=\"Yes\"),VLOOKUP($B27,'Round Two'!$C:$J,8,0),\"\"))","v":0},{"$f":"IF(ISERROR(VLOOKUP(J27,'Round Two'!$C:$J,7,0)),0,IF(AND(LEN($C27)<>0,$D27=\"Yes\"),VLOOKUP(J27,'Round Two'!$C:$J,7,0)+1E-24,0))","v":0},0,{"$f":"IF(ISERROR(VLOOKUP($B27,'Round Two'!$C:$J,6,0)),0,IF(AND(LEN($C27)<>0,$D27=\"Yes\"),VLOOKUP($B27,'Round Two'!$C:$J,6,0),\"\"))","v":0},{"$f":"IF(ISERROR(VLOOKUP($B27,'Round Two'!$C:$J,7,0)),0,IF(LEN($C27)<>0,VLOOKUP($B27,'Round Two'!$C:$J,7,0)+1E-24,0))","v":0},{"$f":"IF(ISERROR(VLOOKUP($B27,'Round Three'!$C:$J,8,0)),0,IF(AND(LEN($C27)<>0,$D27=\"Yes\"),VLOOKUP($B27,'Round Three'!$C:$J,8,0),\"\"))","v":0},{"$f":"IF(ISERROR(VLOOKUP(O27,'Round Three'!$C:$J,7,0)),0,IF(AND(LEN($C27)<>0,$D27=\"Yes\"),VLOOKUP(O27,'Round Three'!$C:$J,7,0)+1E-24,0))","v":0},0,{"$f":"IF(ISERROR(VLOOKUP($B27,'Round Three'!$C:$J,6,0)),0,IF(AND(LEN($C27)<>0,$D27=\"Yes\"),VLOOKUP($B27,'Round Three'!$C:$J,6,0),\"\"))","v":0},{"$f":"IF(ISERROR(VLOOKUP($B27,'Round Three'!$C:$J,7,0)),0,IF(LEN($C27)<>0,VLOOKUP($B27,'Round Three'!$C:$J,7,0)+1E-24,0))","v":0},{"$f":"IF(ISERROR(VLOOKUP($B27,'Round Four'!$C:$J,8,0)),0,IF(AND(LEN($C27)<>0,$D27=\"Yes\"),VLOOKUP($B27,'Round Four'!$C:$J,8,0),\"\"))","v":0},{"$f":"IF(ISERROR(VLOOKUP(T27,'Round Four'!$C:$J,7,0)),0,IF(AND(LEN($C27)<>0,$D27=\"Yes\"),VLOOKUP(T27,'Round Four'!$C:$J,7,0)+1E-24,0))","v":0},0,{"$f":"IF(ISERROR(VLOOKUP($B27,'Round Four'!$C:$J,6,0)),0,IF(AND(LEN($C27)<>0,$D27=\"Yes\"),VLOOKUP($B27,'Round Four'!$C:$J,6,0),\"\"))","v":0},{"$f":"IF(ISERROR(VLOOKUP($B27,'Round Four'!$C:$J,7,0)),0,IF(LEN($C27)<>0,VLOOKUP($B27,'Round Four'!$C:$J,7,0)+1E-24,0))","v":0},{"$f":"IF(ISERROR(VLOOKUP($B27,'Round Five'!$C:$J,8,0)),0,IF(AND(LEN($C27)<>0,$D27=\"Yes\"),VLOOKUP($B27,'Round Five'!$C:$J,8,0),\"\"))","v":0},{"$f":"IF(ISERROR(VLOOKUP(Y27,'Round Five'!$C:$J,7,0)),0,IF(AND(LEN($C27)<>0,$D27=\"Yes\"),VLOOKUP(Y27,'Round Five'!$C:$J,7,0)+1E-24,0))","v":0},0,{"$f":"IF(ISERROR(VLOOKUP($B27,'Round Five'!$C:$J,6,0)),0,IF(AND(LEN($C27)<>0,$D27=\"Yes\"),VLOOKUP($B27,'Round Five'!$C:$J,6,0),\"\"))","v":0},{"$f":"IF(ISERROR(VLOOKUP($B27,'Round Five'!$C:$J,7,0)),0,IF(LEN($C27)<>0,VLOOKUP($B27,'Round Five'!$C:$J,7,0)+1E-24,0))","v":0},{"$f":"IF(ISERROR(VLOOKUP($B27,'Round Six'!$C:$J,8,0)),0,IF(AND(LEN($C27)<>0,$D27=\"Yes\"),VLOOKUP($B27,'Round Six'!$C:$J,8,0),\"\"))","v":0},{"$f":"IF(ISERROR(VLOOKUP(AD27,'Round Six'!$C:$J,7,0)),0,IF(AND(LEN($C27)<>0,$D27=\"Yes\"),VLOOKUP(AD27,'Round Six'!$C:$J,7,0)+1E-24,0))","v":0},0,{"$f":"IF(ISERROR(VLOOKUP($B27,'Round Six'!$C:$J,6,0)),0,IF(AND(LEN($C27)<>0,$D27=\"Yes\"),VLOOKUP($B27,'Round Six'!$C:$J,6,0),\"\"))","v":0},{"$f":"IF(ISERROR(VLOOKUP($B27,'Round Six'!$C:$J,7,0)),0,IF(LEN($C27)<>0,VLOOKUP($B27,'Round Six'!$C:$J,7,0)+1E-24,0))","v":0},{"$f":"IF(ISERROR(VLOOKUP($B27,'Round Seven'!$C:$J,8,0)),0,IF(AND(LEN($C27)<>0,$D27=\"Yes\"),VLOOKUP($B27,'Round Seven'!$C:$J,8,0),\"\"))","v":0},{"$f":"IF(ISERROR(VLOOKUP(AI27,'Round Seven'!$C:$J,7,0)),0,IF(AND(LEN($C27)<>0,$D27=\"Yes\"),VLOOKUP(AI27,'Round Seven'!$C:$J,7,0)+1E-24,0))","v":0},0,{"$f":"IF(ISERROR(VLOOKUP($B27,'Round Seven'!$C:$J,6,0)),0,IF(AND(LEN($C27)<>0,$D27=\"Yes\"),VLOOKUP($B27,'Round Seven'!$C:$J,6,0),\"\"))","v":0},{"$f":"IF(ISERROR(VLOOKUP($B27,'Round Seven'!$C:$J,7,0)),0,IF(LEN($C27)<>0,VLOOKUP($B27,'Round Seven'!$C:$J,7,0)+1E-24,0))","v":0},{"$f":"IF(ISERROR(VLOOKUP($B27,'Round Eight'!$C:$J,8,0)),0,IF(AND(LEN($C27)<>0,$D27=\"Yes\"),VLOOKUP($B27,'Round Eight'!$C:$J,8,0),\"\"))","v":0},{"$f":"IF(ISERROR(VLOOKUP(AN27,'Round Eight'!$C:$J,7,0)),0,IF(AND(LEN($C27)<>0,$D27=\"Yes\"),VLOOKUP(AN27,'Round Eight'!$C:$J,7,0)+1E-24,0))","v":0},0,{"$f":"IF(ISERROR(VLOOKUP($B27,'Round Eight'!$C:$J,6,0)),0,IF(AND(LEN($C27)<>0,$D27=\"Yes\"),VLOOKUP($B27,'Round Eight'!$C:$J,6,0),\"\"))","v":0},{"$f":"IF(ISERROR(VLOOKUP($B27,'Round Eight'!$C:$J,7,0)),0,IF(LEN($C27)<>0,VLOOKUP($B27,'Round Eight'!$C:$J,7,0)+1E-24,0))","v":0},{"$f":"IF(ISERROR(VLOOKUP($B27,'Round Nine'!$C:$J,8,0)),0,IF(AND(LEN($C27)<>0,$D27=\"Yes\"),VLOOKUP($B27,'Round Nine'!$C:$J,8,0),\"\"))","v":0},{"$f":"IF(ISERROR(VLOOKUP(AS27,'Round Nine'!$C:$J,7,0)),0,IF(AND(LEN($C27)<>0,$D27=\"Yes\"),VLOOKUP(AS27,'Round Nine'!$C:$J,7,0)+1E-24,0))","v":0},0,{"$f":"IF(ISERROR(VLOOKUP($B27,'Round Nine'!$C:$J,6,0)),0,IF(AND(LEN($C27)<>0,$D27=\"Yes\"),VLOOKUP($B27,'Round Nine'!$C:$J,6,0),\"\"))","v":0},{"$f":"IF(ISERROR(VLOOKUP($B27,'Round Nine'!$C:$J,7,0)),0,IF(LEN($C27)<>0,VLOOKUP($B27,'Round Nine'!$C:$J,7,0)+1E-24,0))","v":0},null,0,0,0,{"$f":"IF(D27<>\"Yes\",A27*-10,AY27*1000000+AZ27*10000+BA27+(A27/100000))+IF(OR(Accel_Pairing_2!$B$4=\"no\",D27<>\"Yes\",ISERROR(VLOOKUP(C27,PowerRanking!A:B,2,0))),0,(VLOOKUP(C27,PowerRanking!A:D,4,0)*1000000)+VLOOKUP(C27,PowerRanking!A:D,2,0)/10)","v":-9.8765980712504202},64,"T24",0,""]
[0.90076289614764471,"T25",null,null,{"$f":"IF(ISERROR(VLOOKUP($B28,'Round One'!$C:$J,8,0)),0,IF(AND(LEN($C28)<>0,$D28=\"Yes\"),VLOOKUP($B28,'Round One'!$C:$J,8,0),0))","v":0},{"$f":"IF(ISERROR(VLOOKUP(E28,'Round One'!$C:$J,7,0)),0,IF(AND(LEN($C28)<>0,$D28=\"Yes\"),VALUE(VLOOKUP(E28,'Round One'!$C:$J,7,0)+1E-24),0))","v":0},0,{"$f":"IF(ISERROR(VLOOKUP($B28,'Round One'!$C:$J,6,0)),0,IF(AND(LEN($C28)<>0,$D28=\"Yes\"),VLOOKUP($B28,'Round One'!$C:$J,6,0),\"\"))","v":0},{"$f":"IF(ISERROR(VLOOKUP($B28,'Round One'!$C:$J,7,0)),0,IF(LEN($C28)<>0,VLOOKUP($B28,'Round One'!$C:$J,7,0)+1E-24,0))","v":0},{"$f":"IF(ISERROR(VLOOKUP($B28,'Round Two'!$C:$J,8,0)),0,IF(AND(LEN($C28)<>0,$D28=\"Yes\"),VLOOKUP($B28,'Round Two'!$C:$J,8,0),\"\"))","v":0},{"$f":"IF(ISERROR(VLOOKUP(J28,'Round Two'!$C:$J,7,0)),0,IF(AND(LEN($C28)<>0,$D28=\"Yes\"),VLOOKUP(J28,'Round Two'!$C:$J,7,0)+1E-24,0))","v":0},0,{"$f":"IF(ISERROR(VLOOKUP($B28,'Round Two'!$C:$J,6,0)),0,IF(AND(LEN($C28)<>0,$D28=\"Yes\"),VLOOKUP($B28,'Round Two'!$C:$J,6,0),\"\"))","v":0},{"$f":"IF(ISERROR(VLOOKUP($B28,'Round Two'!$C:$J,7,0)),0,IF(LEN($C28)<>0,VLOOKUP($B28,'Round Two'!$C:$J,7,0)+1E-24,0))","v":0},{"$f":"IF(ISERROR(VLOOKUP($B28,'Round Three'!$C:$J,8,0)),0,IF(AND(LEN($C28)<>0,$D28=\"Yes\"),VLOOKUP($B28,'Round Three'!$C:$J,8,0),\"\"))","v":0},{"$f":"IF(ISERROR(VLOOKUP(O28,'Round Three'!$C:$J,7,0)),0,IF(AND(LEN($C28)<>0,$D28=\"Yes\"),VLOOKUP(O28,'Round Three'!$C:$J,7,0)+1E-24,0))","v":0},0,{"$f":"IF(ISERROR(VLOOKUP($B28,'Round Three'!$C:$J,6,0)),0,IF(AND(LEN($C28)<>0,$D28=\"Yes\"),VLOOKUP($B28,'Round Three'!$C:$J,6,0),\"\"))","v":0},{"$f":"IF(ISERROR(VLOOKUP($B28,'Round Three'!$C:$J,7,0)),0,IF(LEN($C28)<>0,VLOOKUP($B28,'Round Three'!$C:$J,7,0)+1E-24,0))","v":0},{"$f":"IF(ISERROR(VLOOKUP($B28,'Round Four'!$C:$J,8,0)),0,IF(AND(LEN($C28)<>0,$D28=\"Yes\"),VLOOKUP($B28,'Round Four'!$C:$J,8,0),\"\"))","v":0},{"$f":"IF(ISERROR(VLOOKUP(T28,'Round Four'!$C:$J,7,0)),0,IF(AND(LEN($C28)<>0,$D28=\"Yes\"),VLOOKUP(T28,'Round Four'!$C:$J,7,0)+1E-24,0))","v":0},0,{"$f":"IF(ISERROR(VLOOKUP($B28,'Round Four'!$C:$J,6,0)),0,IF(AND(LEN($C28)<>0,$D28=\"Yes\"),VLOOKUP($B28,'Round Four'!$C:$J,6,0),\"\"))","v":0},{"$f":"IF(ISERROR(VLOOKUP($B28,'Round Four'!$C:$J,7,0)),0,IF(LEN($C28)<>0,VLOOKUP($B28,'Round Four'!$C:$J,7,0)+1E-24,0))","v":0},{"$f":"IF(ISERROR(VLOOKUP($B28,'Round Five'!$C:$J,8,0)),0,IF(AND(LEN($C28)<>0,$D28=\"Yes\"),VLOOKUP($B28,'Round Five'!$C:$J,8,0),\"\"))","v":0},{"$f":"IF(ISERROR(VLOOKUP(Y28,'Round Five'!$C:$J,7,0)),0,IF(AND(LEN($C28)<>0,$D28=\"Yes\"),VLOOKUP(Y28,'Round Five'!$C:$J,7,0)+1E-24,0))","v":0},0,{"$f":"IF(ISERROR(VLOOKUP($B28,'Round Five'!$C:$J,6,0)),0,IF(AND(LEN($C28)<>0,$D28=\"Yes\"),VLOOKUP($B28,'Round Five'!$C:$J,6,0),\"\"))","v":0},{"$f":"IF(ISERROR(VLOOKUP($B28,'Round Five'!$C:$J,7,0)),0,IF(LEN($C28)<>0,VLOOKUP($B28,'Round Five'!$C:$J,7,0)+1E-24,0))","v":0},{"$f":"IF(ISERROR(VLOOKUP($B28,'Round Six'!$C:$J,8,0)),0,IF(AND(LEN($C28)<>0,$D28=\"Yes\"),VLOOKUP($B28,'Round Six'!$C:$J,8,0),\"\"))","v":0},{"$f":"IF(ISERROR(VLOOKUP(AD28,'Round Six'!$C:$J,7,0)),0,IF(AND(LEN($C28)<>0,$D28=\"Yes\"),VLOOKUP(AD28,'Round Six'!$C:$J,7,0)+1E-24,0))","v":0},0,{"$f":"IF(ISERROR(VLOOKUP($B28,'Round Six'!$C:$J,6,0)),0,IF(AND(LEN($C28)<>0,$D28=\"Yes\"),VLOOKUP($B28,'Round Six'!$C:$J,6,0),\"\"))","v":0},{"$f":"IF(ISERROR(VLOOKUP($B28,'Round Six'!$C:$J,7,0)),0,IF(LEN($C28)<>0,VLOOKUP($B28,'Round Six'!$C:$J,7,0)+1E-24,0))","v":0},{"$f":"IF(ISERROR(VLOOKUP($B28,'Round Seven'!$C:$J,8,0)),0,IF(AND(LEN($C28)<>0,$D28=\"Yes\"),VLOOKUP($B28,'Round Seven'!$C:$J,8,0),\"\"))","v":0},{"$f":"IF(ISERROR(VLOOKUP(AI28,'Round Seven'!$C:$J,7,0)),0,IF(AND(LEN($C28)<>0,$D28=\"Yes\"),VLOOKUP(AI28,'Round Seven'!$C:$J,7,0)+1E-24,0))","v":0},0,{"$f":"IF(ISERROR(VLOOKUP($B28,'Round Seven'!$C:$J,6,0)),0,IF(AND(LEN($C28)<>0,$D28=\"Yes\"),VLOOKUP($B28,'Round Seven'!$C:$J,6,0),\"\"))","v":0},{"$f":"IF(ISERROR(VLOOKUP($B28,'Round Seven'!$C:$J,7,0)),0,IF(LEN($C28)<>0,VLOOKUP($B28,'Round Seven'!$C:$J,7,0)+1E-24,0))","v":0},{"$f":"IF(ISERROR(VLOOKUP($B28,'Round Eight'!$C:$J,8,0)),0,IF(AND(LEN($C28)<>0,$D28=\"Yes\"),VLOOKUP($B28,'Round Eight'!$C:$J,8,0),\"\"))","v":0},{"$f":"IF(ISERROR(VLOOKUP(AN28,'Round Eight'!$C:$J,7,0)),0,IF(AND(LEN($C28)<>0,$D28=\"Yes\"),VLOOKUP(AN28,'Round Eight'!$C:$J,7,0)+1E-24,0))","v":0},0,{"$f":"IF(ISERROR(VLOOKUP($B28,'Round Eight'!$C:$J,6,0)),0,IF(AND(LEN($C28)<>0,$D28=\"Yes\"),VLOOKUP($B28,'Round Eight'!$C:$J,6,0),\"\"))","v":0},{"$f":"IF(ISERROR(VLOOKUP($B28,'Round Eight'!$C:$J,7,0)),0,IF(LEN($C28)<>0,VLOOKUP($B28,'Round Eight'!$C:$J,7,0)+1E-24,0))","v":0},{"$f":"IF(ISERROR(VLOOKUP($B28,'Round Nine'!$C:$J,8,0)),0,IF(AND(LEN($C28)<>0,$D28=\"Yes\"),VLOOKUP($B28,'Round Nine'!$C:$J,8,0),\"\"))","v":0},{"$f":"IF(ISERROR(VLOOKUP(AS28,'Round Nine'!$C:$J,7,0)),0,IF(AND(LEN($C28)<>0,$D28=\"Yes\"),VLOOKUP(AS28,'Round Nine'!$C:$J,7,0)+1E-24,0))","v":0},0,{"$f":"IF(ISERROR(VLOOKUP($B28,'Round Nine'!$C:$J,6,0)),0,IF(AND(LEN($C28)<>0,$D28=\"Yes\"),VLOOKUP($B28,'Round Nine'!$C:$J,6,0),\"\"))","v":0},{"$f":"IF(ISERROR(VLOOKUP($B28,'Round Nine'!$C:$J,7,0)),0,IF(LEN($C28)<>0,VLOOKUP($B28,'Round Nine'!$C:$J,7,0)+1E-24,0))","v":0},null,0,0,0,{"$f":"IF(D28<>\"Yes\",A28*-10,AY28*1000000+AZ28*10000+BA28+(A28/100000))+IF(OR(Accel_Pairing_2!$B$4=\"no\",D28<>\"Yes\",ISERROR(VLOOKUP(C28,PowerRanking!A:B,2,0))),0,(VLOOKUP(C28,PowerRanking!A:D,4,0)*1000000)+VLOOKUP(C28,PowerRanking!A:D,2,0)/10)","v":-9.0076289614764473},57,"T25",0,""]
[0.40723960467084297,"T26",null,null,{"$f":"IF(ISERROR(VLOOKUP($B29,'Round One'!$C:$J,8,0)),0,IF(AND(LEN($C29)<>0,$D29=\"Yes\"),VLOOKUP($B29,'Round One'!$C:$J,8,0),0))","v":0},{"$f":"IF(ISERROR(VLOOKUP(E29,'Round One'!$C:$J,7,0)),0,IF(AND(LEN($C29)<>0,$D29=\"Yes\"),VALUE(VLOOKUP(E29,'Round One'!$C:$J,7,0)+1E-24),0))","v":0},0,{"$f":"IF(ISERROR(VLOOKUP($B29,'Round One'!$C:$J,6,0)),0,IF(AND(LEN($C29)<>0,$D29=\"Yes\"),VLOOKUP($B29,'Round One'!$C:$J,6,0),\"\"))","v":0},{"$f":"IF(ISERROR(VLOOKUP($B29,'Round One'!$C:$J,7,0)),0,IF(LEN($C29)<>0,VLOOKUP($B29,'Round One'!$C:$J,7,0)+1E-24,0))","v":0},{"$f":"IF(ISERROR(VLOOKUP($B29,'Round Two'!$C:$J,8,0)),0,IF(AND(LEN($C29)<>0,$D29=\"Yes\"),VLOOKUP($B29,'Round Two'!$C:$J,8,0),\"\"))","v":0},{"$f":"IF(ISERROR(VLOOKUP(J29,'Round Two'!$C:$J,7,0)),0,IF(AND(LEN($C29)<>0,$D29=\"Yes\"),VLOOKUP(J29,'Round Two'!$C:$J,7,0)+1E-24,0))","v":0},0,{"$f":"IF(ISERROR(VLOOKUP($B29,'Round Two'!$C:$J,6,0)),0,IF(AND(LEN($C29)<>0,$D29=\"Yes\"),VLOOKUP($B29,'Round Two'!$C:$J,6,0),\"\"))","v":0},{"$f":"IF(ISERROR(VLOOKUP($B29,'Round Two'!$C:$J,7,0)),0,IF(LEN($C29)<>0,VLOOKUP($B29,'Round Two'!$C:$J,7,0)+1E-24,0))","v":0},{"$f":"IF(ISERROR(VLOOKUP($B29,'Round Three'!$C:$J,8,0)),0,IF(AND(LEN($C29)<>0,$D29=\"Yes\"),VLOOKUP($B29,'Round Three'!$C:$J,8,0),\"\"))","v":0},{"$f":"IF(ISERROR(VLOOKUP(O29,'Round Three'!$C:$J,7,0)),0,IF(AND(LEN($C29)<>0,$D29=\"Yes\"),VLOOKUP(O29,'Round Three'!$C:$J,7,0)+1E-24,0))","v":0},0,{"$f":"IF(ISERROR(VLOOKUP($B29,'Round Three'!$C:$J,6,0)),0,IF(AND(LEN($C29)<>0,$D29=\"Yes\"),VLOOKUP($B29,'Round Three'!$C:$J,6,0),\"\"))","v":0},{"$f":"IF(ISERROR(VLOOKUP($B29,'Round Three'!$C:$J,7,0)),0,IF(LEN($C29)<>0,VLOOKUP($B29,'Round Three'!$C:$J,7,0)+1E-24,0))","v":0},{"$f":"IF(ISERROR(VLOOKUP($B29,'Round Four'!$C:$J,8,0)),0,IF(AND(LEN($C29)<>0,$D29=\"Yes\"),VLOOKUP($B29,'Round Four'!$C:$J,8,0),\"\"))","v":0},{"$f":"IF(ISERROR(VLOOKUP(T29,'Round Four'!$C:$J,7,0)),0,IF(AND(LEN($C29)<>0,$D29=\"Yes\"),VLOOKUP(T29,'Round Four'!$C:$J,7,0)+1E-24,0))","v":0},0,{"$f":"IF(ISERROR(VLOOKUP($B29,'Round Four'!$C:$J,6,0)),0,IF(AND(LEN($C29)<>0,$D29=\"Yes\"),VLOOKUP($B29,'Round Four'!$C:$J,6,0),\"\"))","v":0},{"$f":"IF(ISERROR(VLOOKUP($B29,'Round Four'!$C:$J,7,0)),0,IF(LEN($C29)<>0,VLOOKUP($B29,'Round Four'!$C:$J,7,0)+1E-24,0))","v":0},{"$f":"IF(ISERROR(VLOOKUP($B29,'Round Five'!$C:$J,8,0)),0,IF(AND(LEN($C29)<>0,$D29=\"Yes\"),VLOOKUP($B29,'Round Five'!$C:$J,8,0),\"\"))","v":0},{"$f":"IF(ISERROR(VLOOKUP(Y29,'Round Five'!$C:$J,7,0)),0,IF(AND(LEN($C29)<>0,$D29=\"Yes\"),VLOOKUP(Y29,'Round Five'!$C:$J,7,0)+1E-24,0))","v":0},0,{"$f":"IF(ISERROR(VLOOKUP($B29,'Round Five'!$C:$J,6,0)),0,IF(AND(LEN($C29)<>0,$D29=\"Yes\"),VLOOKUP($B29,'Round Five'!$C:$J,6,0),\"\"))","v":0},{"$f":"IF(ISERROR(VLOOKUP($B29,'Round Five'!$C:$J,7,0)),0,IF(LEN($C29)<>0,VLOOKUP($B29,'Round Five'!$C:$J,7,0)+1E-24,0))","v":0},{"$f":"IF(ISERROR(VLOOKUP($B29,'Round Six'!$C:$J,8,0)),0,IF(AND(LEN($C29)<>0,$D29=\"Yes\"),VLOOKUP($B29,'Round Six'!$C:$J,8,0),\"\"))","v":0},{"$f":"IF(ISERROR(VLOOKUP(AD29,'Round Six'!$C:$J,7,0)),0,IF(AND(LEN($C29)<>0,$D29=\"Yes\"),VLOOKUP(AD29,'Round Six'!$C:$J,7,0)+1E-24,0))","v":0},0,{"$f":"IF(ISERROR(VLOOKUP($B29,'Round Six'!$C:$J,6,0)),0,IF(AND(LEN($C29)<>0,$D29=\"Yes\"),VLOOKUP($B29,'Round Six'!$C:$J,6,0),\"\"))","v":0},{"$f":"IF(ISERROR(VLOOKUP($B29,'Round Six'!$C:$J,7,0)),0,IF(LEN($C29)<>0,VLOOKUP($B29,'Round Six'!$C:$J,7,0)+1E-24,0))","v":0},{"$f":"IF(ISERROR(VLOOKUP($B29,'Round Seven'!$C:$J,8,0)),0,IF(AND(LEN($C29)<>0,$D29=\"Yes\"),VLOOKUP($B29,'Round Seven'!$C:$J,8,0),\"\"))","v":0},{"$f":"IF(ISERROR(VLOOKUP(AI29,'Round Seven'!$C:$J,7,0)),0,IF(AND(LEN($C29)<>0,$D29=\"Yes\"),VLOOKUP(AI29,'Round Seven'!$C:$J,7,0)+1E-24,0))","v":0},0,{"$f":"IF(ISERROR(VLOOKUP($B29,'Round Seven'!$C:$J,6,0)),0,IF(AND(LEN($C29)<>0,$D29=\"Yes\"),VLOOKUP($B29,'Round Seven'!$C:$J,6,0),\"\"))","v":0},{"$f":"IF(ISERROR(VLOOKUP($B29,'Round Seven'!$C:$J,7,0)),0,IF(LEN($C29)<>0,VLOOKUP($B29,'Round Seven'!$C:$J,7,0)+1E-24,0))","v":0},{"$f":"IF(ISERROR(VLOOKUP($B29,'Round Eight'!$C:$J,8,0)),0,IF(AND(LEN($C29)<>0,$D29=\"Yes\"),VLOOKUP($B29,'Round Eight'!$C:$J,8,0),\"\"))","v":0},{"$f":"IF(ISERROR(VLOOKUP(AN29,'Round Eight'!$C:$J,7,0)),0,IF(AND(LEN($C29)<>0,$D29=\"Yes\"),VLOOKUP(AN29,'Round Eight'!$C:$J,7,0)+1E-24,0))","v":0},0,{"$f":"IF(ISERROR(VLOOKUP($B29,'Round Eight'!$C:$J,6,0)),0,IF(AND(LEN($C29)<>0,$D29=\"Yes\"),VLOOKUP($B29,'Round Eight'!$C:$J,6,0),\"\"))","v":0},{"$f":"IF(ISERROR(VLOOKUP($B29,'Round Eight'!$C:$J,7,0)),0,IF(LEN($C29)<>0,VLOOKUP($B29,'Round Eight'!$C:$J,7,0)+1E-24,0))","v":0},{"$f":"IF(ISERROR(VLOOKUP($B29,'Round Nine'!$C:$J,8,0)),0,IF(AND(LEN($C29)<>0,$D29=\"Yes\"),VLOOKUP($B29,'Round Nine'!$C:$J,8,0),\"\"))","v":0},{"$f":"IF(ISERROR(VLOOKUP(AS29,'Round Nine'!$C:$J,7,0)),0,IF(AND(LEN($C29)<>0,$D29=\"Yes\"),VLOOKUP(AS29,'Round Nine'!$C:$J,7,0)+1E-24,0))","v":0},0,{"$f":"IF(ISERROR(VLOOKUP($B29,'Round Nine'!$C:$J,6,0)),0,IF(AND(LEN($C29)<>0,$D29=\"Yes\"),VLOOKUP($B29,'Round Nine'!$C:$J,6,0),\"\"))","v":0},{"$f":"IF(ISERROR(VLOOKUP($B29,'Round Nine'!$C:$J,7,0)),0,IF(LEN($C29)<>0,VLOOKUP($B29,'Round Nine'!$C:$J,7,0)+1E-24,0))","v":0},null,0,0,0,{"$f":"IF(D29<>\"Yes\",A29*-10,AY29*1000000+AZ29*10000+BA29+(A29/100000))+IF(OR(Accel_Pairing_2!$B$4=\"no\",D29<>\"Yes\",ISERROR(VLOOKUP(C29,PowerRanking!A:B,2,0))),0,(VLOOKUP(C29,PowerRanking!A:D,4,0)*1000000)+VLOOKUP(C29,PowerRanking!A:D,2,0)/10)","v":-4.0723960467084295},28,"T26",0,""]
[0.20486769802512661,"T27",null,null,{"$f":"IF(ISERROR(VLOOKUP($B30,'Round One'!$C:$J,8,0)),0,IF(AND(LEN($C30)<>0,$D30=\"Yes\"),VLOOKUP($B30,'Round One'!$C:$J,8,0),0))","v":0},{"$f":"IF(ISERROR(VLOOKUP(E30,'Round One'!$C:$J,7,0)),0,IF(AND(LEN($C30)<>0,$D30=\"Yes\"),VALUE(VLOOKUP(E30,'Round One'!$C:$J,7,0)+1E-24),0))","v":0},0,{"$f":"IF(ISERROR(VLOOKUP($B30,'Round One'!$C:$J,6,0)),0,IF(AND(LEN($C30)<>0,$D30=\"Yes\"),VLOOKUP($B30,'Round One'!$C:$J,6,0),\"\"))","v":0},{"$f":"IF(ISERROR(VLOOKUP($B30,'Round One'!$C:$J,7,0)),0,IF(LEN($C30)<>0,VLOOKUP($B30,'Round One'!$C:$J,7,0)+1E-24,0))","v":0},{"$f":"IF(ISERROR(VLOOKUP($B30,'Round Two'!$C:$J,8,0)),0,IF(AND(LEN($C30)<>0,$D30=\"Yes\"),VLOOKUP($B30,'Round Two'!$C:$J,8,0),\"\"))","v":0},{"$f":"IF(ISERROR(VLOOKUP(J30,'Round Two'!$C:$J,7,0)),0,IF(AND(LEN($C30)<>0,$D30=\"Yes\"),VLOOKUP(J30,'Round Two'!$C:$J,7,0)+1E-24,0))","v":0},0,{"$f":"IF(ISERROR(VLOOKUP($B30,'Round Two'!$C:$J,6,0)),0,IF(AND(LEN($C30)<>0,$D30=\"Yes\"),VLOOKUP($B30,'Round Two'!$C:$J,6,0),\"\"))","v":0},{"$f":"IF(ISERROR(VLOOKUP($B30,'Round Two'!$C:$J,7,0)),0,IF(LEN($C30)<>0,VLOOKUP($B30,'Round Two'!$C:$J,7,0)+1E-24,0))","v":0},{"$f":"IF(ISERROR(VLOOKUP($B30,'Round Three'!$C:$J,8,0)),0,IF(AND(LEN($C30)<>0,$D30=\"Yes\"),VLOOKUP($B30,'Round Three'!$C:$J,8,0),\"\"))","v":0},{"$f":"IF(ISERROR(VLOOKUP(O30,'Round Three'!$C:$J,7,0)),0,IF(AND(LEN($C30)<>0,$D30=\"Yes\"),VLOOKUP(O30,'Round Three'!$C:$J,7,0)+1E-24,0))","v":0},0,{"$f":"IF(ISERROR(VLOOKUP($B30,'Round Three'!$C:$J,6,0)),0,IF(AND(LEN($C30)<>0,$D30=\"Yes\"),VLOOKUP($B30,'Round Three'!$C:$J,6,0),\"\"))","v":0},{"$f":"IF(ISERROR(VLOOKUP($B30,'Round Three'!$C:$J,7,0)),0,IF(LEN($C30)<>0,VLOOKUP($B30,'Round Three'!$C:$J,7,0)+1E-24,0))","v":0},{"$f":"IF(ISERROR(VLOOKUP($B30,'Round Four'!$C:$J,8,0)),0,IF(AND(LEN($C30)<>0,$D30=\"Yes\"),VLOOKUP($B30,'Round Four'!$C:$J,8,0),\"\"))","v":0},{"$f":"IF(ISERROR(VLOOKUP(T30,'Round Four'!$C:$J,7,0)),0,IF(AND(LEN($C30)<>0,$D30=\"Yes\"),VLOOKUP(T30,'Round Four'!$C:$J,7,0)+1E-24,0))","v":0},0,{"$f":"IF(ISERROR(VLOOKUP($B30,'Round Four'!$C:$J,6,0)),0,IF(AND(LEN($C30)<>0,$D30=\"Yes\"),VLOOKUP($B30,'Round Four'!$C:$J,6,0),\"\"))","v":0},{"$f":"IF(ISERROR(VLOOKUP($B30,'Round Four'!$C:$J,7,0)),0,IF(LEN($C30)<>0,VLOOKUP($B30,'Round Four'!$C:$J,7,0)+1E-24,0))","v":0},{"$f":"IF(ISERROR(VLOOKUP($B30,'Round Five'!$C:$J,8,0)),0,IF(AND(LEN($C30)<>0,$D30=\"Yes\"),VLOOKUP($B30,'Round Five'!$C:$J,8,0),\"\"))","v":0},{"$f":"IF(ISERROR(VLOOKUP(Y30,'Round Five'!$C:$J,7,0)),0,IF(AND(LEN($C30)<>0,$D30=\"Yes\"),VLOOKUP(Y30,'Round Five'!$C:$J,7,0)+1E-24,0))","v":0},0,{"$f":"IF(ISERROR(VLOOKUP($B30,'Round Five'!$C:$J,6,0)),0,IF(AND(LEN($C30)<>0,$D30=\"Yes\"),VLOOKUP($B30,'Round Five'!$C:$J,6,0),\"\"))","v":0},{"$f":"IF(ISERROR(VLOOKUP($B30,'Round Five'!$C:$J,7,0)),0,IF(LEN($C30)<>0,VLOOKUP($B30,'Round Five'!$C:$J,7,0)+1E-24,0))","v":0},{"$f":"IF(ISERROR(VLOOKUP($B30,'Round Six'!$C:$J,8,0)),0,IF(AND(LEN($C30)<>0,$D30=\"Yes\"),VLOOKUP($B30,'Round Six'!$C:$J,8,0),\"\"))","v":0},{"$f":"IF(ISERROR(VLOOKUP(AD30,'Round Six'!$C:$J,7,0)),0,IF(AND(LEN($C30)<>0,$D30=\"Yes\"),VLOOKUP(AD30,'Round Six'!$C:$J,7,0)+1E-24,0))","v":0},0,{"$f":"IF(ISERROR(VLOOKUP($B30,'Round Six'!$C:$J,6,0)),0,IF(AND(LEN($C30)<>0,$D30=\"Yes\"),VLOOKUP($B30,'Round Six'!$C:$J,6,0),\"\"))","v":0},{"$f":"IF(ISERROR(VLOOKUP($B30,'Round Six'!$C:$J,7,0)),0,IF(LEN($C30)<>0,VLOOKUP($B30,'Round Six'!$C:$J,7,0)+1E-24,0))","v":0},{"$f":"IF(ISERROR(VLOOKUP($B30,'Round Seven'!$C:$J,8,0)),0,IF(AND(LEN($C30)<>0,$D30=\"Yes\"),VLOOKUP($B30,'Round Seven'!$C:$J,8,0),\"\"))","v":0},{"$f":"IF(ISERROR(VLOOKUP(AI30,'Round Seven'!$C:$J,7,0)),0,IF(AND(LEN($C30)<>0,$D30=\"Yes\"),VLOOKUP(AI30,'Round Seven'!$C:$J,7,0)+1E-24,0))","v":0},0,{"$f":"IF(ISERROR(VLOOKUP($B30,'Round Seven'!$C:$J,6,0)),0,IF(AND(LEN($C30)<>0,$D30=\"Yes\"),VLOOKUP($B30,'Round Seven'!$C:$J,6,0),\"\"))","v":0},{"$f":"IF(ISERROR(VLOOKUP($B30,'Round Seven'!$C:$J,7,0)),0,IF(LEN($C30)<>0,VLOOKUP($B30,'Round Seven'!$C:$J,7,0)+1E-24,0))","v":0},{"$f":"IF(ISERROR(VLOOKUP($B30,'Round Eight'!$C:$J,8,0)),0,IF(AND(LEN($C30)<>0,$D30=\"Yes\"),VLOOKUP($B30,'Round Eight'!$C:$J,8,0),\"\"))","v":0},{"$f":"IF(ISERROR(VLOOKUP(AN30,'Round Eight'!$C:$J,7,0)),0,IF(AND(LEN($C30)<>0,$D30=\"Yes\"),VLOOKUP(AN30,'Round Eight'!$C:$J,7,0)+1E-24,0))","v":0},0,{"$f":"IF(ISERROR(VLOOKUP($B30,'Round Eight'!$C:$J,6,0)),0,IF(AND(LEN($C30)<>0,$D30=\"Yes\"),VLOOKUP($B30,'Round Eight'!$C:$J,6,0),\"\"))","v":0},{"$f":"IF(ISERROR(VLOOKUP($B30,'Round Eight'!$C:$J,7,0)),0,IF(LEN($C30)<>0,VLOOKUP($B30,'Round Eight'!$C:$J,7,0)+1E-24,0))","v":0},{"$f":"IF(ISERROR(VLOOKUP($B30,'Round Nine'!$C:$J,8,0)),0,IF(AND(LEN($C30)<>0,$D30=\"Yes\"),VLOOKUP($B30,'Round Nine'!$C:$J,8,0),\"\"))","v":0},{"$f":"IF(ISERROR(VLOOKUP(AS30,'Round Nine'!$C:$J,7,0)),0,IF(AND(LEN($C30)<>0,$D30=\"Yes\"),VLOOKUP(AS30,'Round Nine'!$C:$J,7,0)+1E-24,0))","v":0},0,{"$f":"IF(ISERROR(VLOOKUP($B30,'Round Nine'!$C:$J,6,0)),0,IF(AND(LEN($C30)<>0,$D30=\"Yes\"),VLOOKUP($B30,'Round Nine'!$C:$J,6,0),\"\"))","v":0},{"$f":"IF(ISERROR(VLOOKUP($B30,'Round Nine'!$C:$J,7,0)),0,IF(LEN($C30)<>0,VLOOKUP($B30,'Round Nine'!$C:$J,7,0)+1E-24,0))","v":0},null,0,0,0,{"$f":"IF(D30<>\"Yes\",A30*-10,AY30*1000000+AZ30*10000+BA30+(A30/100000))+IF(OR(Accel_Pairing_2!$B$4=\"no\",D30<>\"Yes\",ISERROR(VLOOKUP(C30,PowerRanking!A:B,2,0))),0,(VLOOKUP(C30,PowerRanking!A:D,4,0)*1000000)+VLOOKUP(C30,PowerRanking!A:D,2,0)/10)","v":-2.0486769802512663},10,"T27",0,""]
[0.21107260428102503,"T28",null,null,{"$f":"IF(ISERROR(VLOOKUP($B31,'Round One'!$C:$J,8,0)),0,IF(AND(LEN($C31)<>0,$D31=\"Yes\"),VLOOKUP($B31,'Round One'!$C:$J,8,0),0))","v":0},{"$f":"IF(ISERROR(VLOOKUP(E31,'Round One'!$C:$J,7,0)),0,IF(AND(LEN($C31)<>0,$D31=\"Yes\"),VALUE(VLOOKUP(E31,'Round One'!$C:$J,7,0)+1E-24),0))","v":0},0,{"$f":"IF(ISERROR(VLOOKUP($B31,'Round One'!$C:$J,6,0)),0,IF(AND(LEN($C31)<>0,$D31=\"Yes\"),VLOOKUP($B31,'Round One'!$C:$J,6,0),\"\"))","v":0},{"$f":"IF(ISERROR(VLOOKUP($B31,'Round One'!$C:$J,7,0)),0,IF(LEN($C31)<>0,VLOOKUP($B31,'Round One'!$C:$J,7,0)+1E-24,0))","v":0},{"$f":"IF(ISERROR(VLOOKUP($B31,'Round Two'!$C:$J,8,0)),0,IF(AND(LEN($C31)<>0,$D31=\"Yes\"),VLOOKUP($B31,'Round Two'!$C:$J,8,0),\"\"))","v":0},{"$f":"IF(ISERROR(VLOOKUP(J31,'Round Two'!$C:$J,7,0)),0,IF(AND(LEN($C31)<>0,$D31=\"Yes\"),VLOOKUP(J31,'Round Two'!$C:$J,7,0)+1E-24,0))","v":0},0,{"$f":"IF(ISERROR(VLOOKUP($B31,'Round Two'!$C:$J,6,0)),0,IF(AND(LEN($C31)<>0,$D31=\"Yes\"),VLOOKUP($B31,'Round Two'!$C:$J,6,0),\"\"))","v":0},{"$f":"IF(ISERROR(VLOOKUP($B31,'Round Two'!$C:$J,7,0)),0,IF(LEN($C31)<>0,VLOOKUP($B31,'Round Two'!$C:$J,7,0)+1E-24,0))","v":0},{"$f":"IF(ISERROR(VLOOKUP($B31,'Round Three'!$C:$J,8,0)),0,IF(AND(LEN($C31)<>0,$D31=\"Yes\"),VLOOKUP($B31,'Round Three'!$C:$J,8,0),\"\"))","v":0},{"$f":"IF(ISERROR(VLOOKUP(O31,'Round Three'!$C:$J,7,0)),0,IF(AND(LEN($C31)<>0,$D31=\"Yes\"),VLOOKUP(O31,'Round Three'!$C:$J,7,0)+1E-24,0))","v":0},0,{"$f":"IF(ISERROR(VLOOKUP($B31,'Round Three'!$C:$J,6,0)),0,IF(AND(LEN($C31)<>0,$D31=\"Yes\"),VLOOKUP($B31,'Round Three'!$C:$J,6,0),\"\"))","v":0},{"$f":"IF(ISERROR(VLOOKUP($B31,'Round Three'!$C:$J,7,0)),0,IF(LEN($C31)<>0,VLOOKUP($B31,'Round Three'!$C:$J,7,0)+1E-24,0))","v":0},{"$f":"IF(ISERROR(VLOOKUP($B31,'Round Four'!$C:$J,8,0)),0,IF(AND(LEN($C31)<>0,$D31=\"Yes\"),VLOOKUP($B31,'Round Four'!$C:$J,8,0),\"\"))","v":0},{"$f":"IF(ISERROR(VLOOKUP(T31,'Round Four'!$C:$J,7,0)),0,IF(AND(LEN($C31)<>0,$D31=\"Yes\"),VLOOKUP(T31,'Round Four'!$C:$J,7,0)+1E-24,0))","v":0},0,{"$f":"IF(ISERROR(VLOOKUP($B31,'Round Four'!$C:$J,6,0)),0,IF(AND(LEN($C31)<>0,$D31=\"Yes\"),VLOOKUP($B31,'Round Four'!$C:$J,6,0),\"\"))","v":0},{"$f":"IF(ISERROR(VLOOKUP($B31,'Round Four'!$C:$J,7,0)),0,IF(LEN($C31)<>0,VLOOKUP($B31,'Round Four'!$C:$J,7,0)+1E-24,0))","v":0},{"$f":"IF(ISERROR(VLOOKUP($B31,'Round Five'!$C:$J,8,0)),0,IF(AND(LEN($C31)<>0,$D31=\"Yes\"),VLOOKUP($B31,'Round Five'!$C:$J,8,0),\"\"))","v":0},{"$f":"IF(ISERROR(VLOOKUP(Y31,'Round Five'!$C:$J,7,0)),0,IF(AND(LEN($C31)<>0,$D31=\"Yes\"),VLOOKUP(Y31,'Round Five'!$C:$J,7,0)+1E-24,0))","v":0},0,{"$f":"IF(ISERROR(VLOOKUP($B31,'Round Five'!$C:$J,6,0)),0,IF(AND(LEN($C31)<>0,$D31=\"Yes\"),VLOOKUP($B31,'Round Five'!$C:$J,6,0),\"\"))","v":0},{"$f":"IF(ISERROR(VLOOKUP($B31,'Round Five'!$C:$J,7,0)),0,IF(LEN($C31)<>0,VLOOKUP($B31,'Round Five'!$C:$J,7,0)+1E-24,0))","v":0},{"$f":"IF(ISERROR(VLOOKUP($B31,'Round Six'!$C:$J,8,0)),0,IF(AND(LEN($C31)<>0,$D31=\"Yes\"),VLOOKUP($B31,'Round Six'!$C:$J,8,0),\"\"))","v":0},{"$f":"IF(ISERROR(VLOOKUP(AD31,'Round Six'!$C:$J,7,0)),0,IF(AND(LEN($C31)<>0,$D31=\"Yes\"),VLOOKUP(AD31,'Round Six'!$C:$J,7,0)+1E-24,0))","v":0},0,{"$f":"IF(ISERROR(VLOOKUP($B31,'Round Six'!$C:$J,6,0)),0,IF(AND(LEN($C31)<>0,$D31=\"Yes\"),VLOOKUP($B31,'Round Six'!$C:$J,6,0),\"\"))","v":0},{"$f":"IF(ISERROR(VLOOKUP($B31,'Round Six'!$C:$J,7,0)),0,IF(LEN($C31)<>0,VLOOKUP($B31,'Round Six'!$C:$J,7,0)+1E-24,0))","v":0},{"$f":"IF(ISERROR(VLOOKUP($B31,'Round Seven'!$C:$J,8,0)),0,IF(AND(LEN($C31)<>0,$D31=\"Yes\"),VLOOKUP($B31,'Round Seven'!$C:$J,8,0),\"\"))","v":0},{"$f":"IF(ISERROR(VLOOKUP(AI31,'Round Seven'!$C:$J,7,0)),0,IF(AND(LEN($C31)<>0,$D31=\"Yes\"),VLOOKUP(AI31,'Round Seven'!$C:$J,7,0)+1E-24,0))","v":0},0,{"$f":"IF(ISERROR(VLOOKUP($B31,'Round Seven'!$C:$J,6,0)),0,IF(AND(LEN($C31)<>0,$D31=\"Yes\"),VLOOKUP($B31,'Round Seven'!$C:$J,6,0),\"\"))","v":0},{"$f":"IF(ISERROR(VLOOKUP($B31,'Round Seven'!$C:$J,7,0)),0,IF(LEN($C31)<>0,VLOOKUP($B31,'Round Seven'!$C:$J,7,0)+1E-24,0))","v":0},{"$f":"IF(ISERROR(VLOOKUP($B31,'Round Eight'!$C:$J,8,0)),0,IF(AND(LEN($C31)<>0,$D31=\"Yes\"),VLOOKUP($B31,'Round Eight'!$C:$J,8,0),\"\"))","v":0},{"$f":"IF(ISERROR(VLOOKUP(AN31,'Round Eight'!$C:$J,7,0)),0,IF(AND(LEN($C31)<>0,$D31=\"Yes\"),VLOOKUP(AN31,'Round Eight'!$C:$J,7,0)+1E-24,0))","v":0},0,{"$f":"IF(ISERROR(VLOOKUP($B31,'Round Eight'!$C:$J,6,0)),0,IF(AND(LEN($C31)<>0,$D31=\"Yes\"),VLOOKUP($B31,'Round Eight'!$C:$J,6,0),\"\"))","v":0},{"$f":"IF(ISERROR(VLOOKUP($B31,'Round Eight'!$C:$J,7,0)),0,IF(LEN($C31)<>0,VLOOKUP($B31,'Round Eight'!$C:$J,7,0)+1E-24,0))","v":0},{"$f":"IF(ISERROR(VLOOKUP($B31,'Round Nine'!$C:$J,8,0)),0,IF(AND(LEN($C31)<>0,$D31=\"Yes\"),VLOOKUP($B31,'Round Nine'!$C:$J,8,0),\"\"))","v":0},{"$f":"IF(ISERROR(VLOOKUP(AS31,'Round Nine'!$C:$J,7,0)),0,IF(AND(LEN($C31)<>0,$D31=\"Yes\"),VLOOKUP(AS31,'Round Nine'!$C:$J,7,0)+1E-24,0))","v":0},0,{"$f":"IF(ISERROR(VLOOKUP($B31,'Round Nine'!$C:$J,6,0)),0,IF(AND(LEN($C31)<>0,$D31=\"Yes\"),VLOOKUP($B31,'Round Nine'!$C:$J,6,0),\"\"))","v":0},{"$f":"IF(ISERROR(VLOOKUP($B31,'Round Nine'!$C:$J,7,0)),0,IF(LEN($C31)<>0,VLOOKUP($B31,'Round Nine'!$C:$J,7,0)+1E-24,0))","v":0},null,0,0,0,{"$f":"IF(D31<>\"Yes\",A31*-10,AY31*1000000+AZ31*10000+BA31+(A31/100000))+IF(OR(Accel_Pairing_2!$B$4=\"no\",D31<>\"Yes\",ISERROR(VLOOKUP(C31,PowerRanking!A:B,2,0))),0,(VLOOKUP(C31,PowerRanking!A:D,4,0)*1000000)+VLOOKUP(C31,PowerRanking!A:D,2,0)/10)","v":-2.1107260428102501},12,"T28",0,""]
[0.37201078027060208,"T29",null,null,{"$f":"IF(ISERROR(VLOOKUP($B32,'Round One'!$C:$J,8,0)),0,IF(AND(LEN($C32)<>0,$D32=\"Yes\"),VLOOKUP($B32,'Round One'!$C:$J,8,0),0))","v":0},{"$f":"IF(ISERROR(VLOOKUP(E32,'Round One'!$C:$J,7,0)),0,IF(AND(LEN($C32)<>0,$D32=\"Yes\"),VALUE(VLOOKUP(E32,'Round One'!$C:$J,7,0)+1E-24),0))","v":0},0,{"$f":"IF(ISERROR(VLOOKUP($B32,'Round One'!$C:$J,6,0)),0,IF(AND(LEN($C32)<>0,$D32=\"Yes\"),VLOOKUP($B32,'Round One'!$C:$J,6,0),\"\"))","v":0},{"$f":"IF(ISERROR(VLOOKUP($B32,'Round One'!$C:$J,7,0)),0,IF(LEN($C32)<>0,VLOOKUP($B32,'Round One'!$C:$J,7,0)+1E-24,0))","v":0},{"$f":"IF(ISERROR(VLOOKUP($B32,'Round Two'!$C:$J,8,0)),0,IF(AND(LEN($C32)<>0,$D32=\"Yes\"),VLOOKUP($B32,'Round Two'!$C:$J,8,0),\"\"))","v":0},{"$f":"IF(ISERROR(VLOOKUP(J32,'Round Two'!$C:$J,7,0)),0,IF(AND(LEN($C32)<>0,$D32=\"Yes\"),VLOOKUP(J32,'Round Two'!$C:$J,7,0)+1E-24,0))","v":0},0,{"$f":"IF(ISERROR(VLOOKUP($B32,'Round Two'!$C:$J,6,0)),0,IF(AND(LEN($C32)<>0,$D32=\"Yes\"),VLOOKUP($B32,'Round Two'!$C:$J,6,0),\"\"))","v":0},{"$f":"IF(ISERROR(VLOOKUP($B32,'Round Two'!$C:$J,7,0)),0,IF(LEN($C32)<>0,VLOOKUP($B32,'Round Two'!$C:$J,7,0)+1E-24,0))","v":0},{"$f":"IF(ISERROR(VLOOKUP($B32,'Round Three'!$C:$J,8,0)),0,IF(AND(LEN($C32)<>0,$D32=\"Yes\"),VLOOKUP($B32,'Round Three'!$C:$J,8,0),\"\"))","v":0},{"$f":"IF(ISERROR(VLOOKUP(O32,'Round Three'!$C:$J,7,0)),0,IF(AND(LEN($C32)<>0,$D32=\"Yes\"),VLOOKUP(O32,'Round Three'!$C:$J,7,0)+1E-24,0))","v":0},0,{"$f":"IF(ISERROR(VLOOKUP($B32,'Round Three'!$C:$J,6,0)),0,IF(AND(LEN($C32)<>0,$D32=\"Yes\"),VLOOKUP($B32,'Round Three'!$C:$J,6,0),\"\"))","v":0},{"$f":"IF(ISERROR(VLOOKUP($B32,'Round Three'!$C:$J,7,0)),0,IF(LEN($C32)<>0,VLOOKUP($B32,'Round Three'!$C:$J,7,0)+1E-24,0))","v":0},{"$f":"IF(ISERROR(VLOOKUP($B32,'Round Four'!$C:$J,8,0)),0,IF(AND(LEN($C32)<>0,$D32=\"Yes\"),VLOOKUP($B32,'Round Four'!$C:$J,8,0),\"\"))","v":0},{"$f":"IF(ISERROR(VLOOKUP(T32,'Round Four'!$C:$J,7,0)),0,IF(AND(LEN($C32)<>0,$D32=\"Yes\"),VLOOKUP(T32,'Round Four'!$C:$J,7,0)+1E-24,0))","v":0},0,{"$f":"IF(ISERROR(VLOOKUP($B32,'Round Four'!$C:$J,6,0)),0,IF(AND(LEN($C32)<>0,$D32=\"Yes\"),VLOOKUP($B32,'Round Four'!$C:$J,6,0),\"\"))","v":0},{"$f":"IF(ISERROR(VLOOKUP($B32,'Round Four'!$C:$J,7,0)),0,IF(LEN($C32)<>0,VLOOKUP($B32,'Round Four'!$C:$J,7,0)+1E-24,0))","v":0},{"$f":"IF(ISERROR(VLOOKUP($B32,'Round Five'!$C:$J,8,0)),0,IF(AND(LEN($C32)<>0,$D32=\"Yes\"),VLOOKUP($B32,'Round Five'!$C:$J,8,0),\"\"))","v":0},{"$f":"IF(ISERROR(VLOOKUP(Y32,'Round Five'!$C:$J,7,0)),0,IF(AND(LEN($C32)<>0,$D32=\"Yes\"),VLOOKUP(Y32,'Round Five'!$C:$J,7,0)+1E-24,0))","v":0},0,{"$f":"IF(ISERROR(VLOOKUP($B32,'Round Five'!$C:$J,6,0)),0,IF(AND(LEN($C32)<>0,$D32=\"Yes\"),VLOOKUP($B32,'Round Five'!$C:$J,6,0),\"\"))","v":0},{"$f":"IF(ISERROR(VLOOKUP($B32,'Round Five'!$C:$J,7,0)),0,IF(LEN($C32)<>0,VLOOKUP($B32,'Round Five'!$C:$J,7,0)+1E-24,0))","v":0},{"$f":"IF(ISERROR(VLOOKUP($B32,'Round Six'!$C:$J,8,0)),0,IF(AND(LEN($C32)<>0,$D32=\"Yes\"),VLOOKUP($B32,'Round Six'!$C:$J,8,0),\"\"))","v":0},{"$f":"IF(ISERROR(VLOOKUP(AD32,'Round Six'!$C:$J,7,0)),0,IF(AND(LEN($C32)<>0,$D32=\"Yes\"),VLOOKUP(AD32,'Round Six'!$C:$J,7,0)+1E-24,0))","v":0},0,{"$f":"IF(ISERROR(VLOOKUP($B32,'Round Six'!$C:$J,6,0)),0,IF(AND(LEN($C32)<>0,$D32=\"Yes\"),VLOOKUP($B32,'Round Six'!$C:$J,6,0),\"\"))","v":0},{"$f":"IF(ISERROR(VLOOKUP($B32,'Round Six'!$C:$J,7,0)),0,IF(LEN($C32)<>0,VLOOKUP($B32,'Round Six'!$C:$J,7,0)+1E-24,0))","v":0},{"$f":"IF(ISERROR(VLOOKUP($B32,'Round Seven'!$C:$J,8,0)),0,IF(AND(LEN($C32)<>0,$D32=\"Yes\"),VLOOKUP($B32,'Round Seven'!$C:$J,8,0),\"\"))","v":0},{"$f":"IF(ISERROR(VLOOKUP(AI32,'Round Seven'!$C:$J,7,0)),0,IF(AND(LEN($C32)<>0,$D32=\"Yes\"),VLOOKUP(AI32,'Round Seven'!$C:$J,7,0)+1E-24,0))","v":0},0,{"$f":"IF(ISERROR(VLOOKUP($B32,'Round Seven'!$C:$J,6,0)),0,IF(AND(LEN($C32)<>0,$D32=\"Yes\"),VLOOKUP($B32,'Round Seven'!$C:$J,6,0),\"\"))","v":0},{"$f":"IF(ISERROR(VLOOKUP($B32,'Round Seven'!$C:$J,7,0)),0,IF(LEN($C32)<>0,VLOOKUP($B32,'Round Seven'!$C:$J,7,0)+1E-24,0))","v":0},{"$f":"IF(ISERROR(VLOOKUP($B32,'Round Eight'!$C:$J,8,0)),0,IF(AND(LEN($C32)<>0,$D32=\"Yes\"),VLOOKUP($B32,'Round Eight'!$C:$J,8,0),\"\"))","v":0},{"$f":"IF(ISERROR(VLOOKUP(AN32,'Round Eight'!$C:$J,7,0)),0,IF(AND(LEN($C32)<>0,$D32=\"Yes\"),VLOOKUP(AN32,'Round Eight'!$C:$J,7,0)+1E-24,0))","v":0},0,{"$f":"IF(ISERROR(VLOOKUP($B32,'Round Eight'!$C:$J,6,0)),0,IF(AND(LEN($C32)<>0,$D32=\"Yes\"),VLOOKUP($B32,'Round Eight'!$C:$J,6,0),\"\"))","v":0},{"$f":"IF(ISERROR(VLOOKUP($B32,'Round Eight'!$C:$J,7,0)),0,IF(LEN($C32)<>0,VLOOKUP($B32,'Round Eight'!$C:$J,7,0)+1E-24,0))","v":0},{"$f":"IF(ISERROR(VLOOKUP($B32,'Round Nine'!$C:$J,8,0)),0,IF(AND(LEN($C32)<>0,$D32=\"Yes\"),VLOOKUP($B32,'Round Nine'!$C:$J,8,0),\"\"))","v":0},{"$f":"IF(ISERROR(VLOOKUP(AS32,'Round Nine'!$C:$J,7,0)),0,IF(AND(LEN($C32)<>0,$D32=\"Yes\"),VLOOKUP(AS32,'Round Nine'!$C:$J,7,0)+1E-24,0))","v":0},0,{"$f":"IF(ISERROR(VLOOKUP($B32,'Round Nine'!$C:$J,6,0)),0,IF(AND(LEN($C32)<>0,$D32=\"Yes\"),VLOOKUP($B32,'Round Nine'!$C:$J,6,0),\"\"))","v":0},{"$f":"IF(ISERROR(VLOOKUP($B32,'Round Nine'!$C:$J,7,0)),0,IF(LEN($C32)<>0,VLOOKUP($B32,'Round Nine'!$C:$J,7,0)+1E-24,0))","v":0},null,0,0,0,{"$f":"IF(D32<>\"Yes\",A32*-10,AY32*1000000+AZ32*10000+BA32+(A32/100000))+IF(OR(Accel_Pairing_2!$B$4=\"no\",D32<>\"Yes\",ISERROR(VLOOKUP(C32,PowerRanking!A:B,2,0))),0,(VLOOKUP(C32,PowerRanking!A:D,4,0)*1000000)+VLOOKUP(C32,PowerRanking!A:D,2,0)/10)","v":-3.7201078027060208},23,"T29",0,""]
[0.42864933398975869,"T30",null,null,{"$f":"IF(ISERROR(VLOOKUP($B33,'Round One'!$C:$J,8,0)),0,IF(AND(LEN($C33)<>0,$D33=\"Yes\"),VLOOKUP($B33,'Round One'!$C:$J,8,0),0))","v":0},{"$f":"IF(ISERROR(VLOOKUP(E33,'Round One'!$C:$J,7,0)),0,IF(AND(LEN($C33)<>0,$D33=\"Yes\"),VALUE(VLOOKUP(E33,'Round One'!$C:$J,7,0)+1E-24),0))","v":0},0,{"$f":"IF(ISERROR(VLOOKUP($B33,'Round One'!$C:$J,6,0)),0,IF(AND(LEN($C33)<>0,$D33=\"Yes\"),VLOOKUP($B33,'Round One'!$C:$J,6,0),\"\"))","v":0},{"$f":"IF(ISERROR(VLOOKUP($B33,'Round One'!$C:$J,7,0)),0,IF(LEN($C33)<>0,VLOOKUP($B33,'Round One'!$C:$J,7,0)+1E-24,0))","v":0},{"$f":"IF(ISERROR(VLOOKUP($B33,'Round Two'!$C:$J,8,0)),0,IF(AND(LEN($C33)<>0,$D33=\"Yes\"),VLOOKUP($B33,'Round Two'!$C:$J,8,0),\"\"))","v":0},{"$f":"IF(ISERROR(VLOOKUP(J33,'Round Two'!$C:$J,7,0)),0,IF(AND(LEN($C33)<>0,$D33=\"Yes\"),VLOOKUP(J33,'Round Two'!$C:$J,7,0)+1E-24,0))","v":0},0,{"$f":"IF(ISERROR(VLOOKUP($B33,'Round Two'!$C:$J,6,0)),0,IF(AND(LEN($C33)<>0,$D33=\"Yes\"),VLOOKUP($B33,'Round Two'!$C:$J,6,0),\"\"))","v":0},{"$f":"IF(ISERROR(VLOOKUP($B33,'Round Two'!$C:$J,7,0)),0,IF(LEN($C33)<>0,VLOOKUP($B33,'Round Two'!$C:$J,7,0)+1E-24,0))","v":0},{"$f":"IF(ISERROR(VLOOKUP($B33,'Round Three'!$C:$J,8,0)),0,IF(AND(LEN($C33)<>0,$D33=\"Yes\"),VLOOKUP($B33,'Round Three'!$C:$J,8,0),\"\"))","v":0},{"$f":"IF(ISERROR(VLOOKUP(O33,'Round Three'!$C:$J,7,0)),0,IF(AND(LEN($C33)<>0,$D33=\"Yes\"),VLOOKUP(O33,'Round Three'!$C:$J,7,0)+1E-24,0))","v":0},0,{"$f":"IF(ISERROR(VLOOKUP($B33,'Round Three'!$C:$J,6,0)),0,IF(AND(LEN($C33)<>0,$D33=\"Yes\"),VLOOKUP($B33,'Round Three'!$C:$J,6,0),\"\"))","v":0},{"$f":"IF(ISERROR(VLOOKUP($B33,'Round Three'!$C:$J,7,0)),0,IF(LEN($C33)<>0,VLOOKUP($B33,'Round Three'!$C:$J,7,0)+1E-24,0))","v":0},{"$f":"IF(ISERROR(VLOOKUP($B33,'Round Four'!$C:$J,8,0)),0,IF(AND(LEN($C33)<>0,$D33=\"Yes\"),VLOOKUP($B33,'Round Four'!$C:$J,8,0),\"\"))","v":0},{"$f":"IF(ISERROR(VLOOKUP(T33,'Round Four'!$C:$J,7,0)),0,IF(AND(LEN($C33)<>0,$D33=\"Yes\"),VLOOKUP(T33,'Round Four'!$C:$J,7,0)+1E-24,0))","v":0},0,{"$f":"IF(ISERROR(VLOOKUP($B33,'Round Four'!$C:$J,6,0)),0,IF(AND(LEN($C33)<>0,$D33=\"Yes\"),VLOOKUP($B33,'Round Four'!$C:$J,6,0),\"\"))","v":0},{"$f":"IF(ISERROR(VLOOKUP($B33,'Round Four'!$C:$J,7,0)),0,IF(LEN($C33)<>0,VLOOKUP($B33,'Round Four'!$C:$J,7,0)+1E-24,0))","v":0},{"$f":"IF(ISERROR(VLOOKUP($B33,'Round Five'!$C:$J,8,0)),0,IF(AND(LEN($C33)<>0,$D33=\"Yes\"),VLOOKUP($B33,'Round Five'!$C:$J,8,0),\"\"))","v":0},{"$f":"IF(ISERROR(VLOOKUP(Y33,'Round Five'!$C:$J,7,0)),0,IF(AND(LEN($C33)<>0,$D33=\"Yes\"),VLOOKUP(Y33,'Round Five'!$C:$J,7,0)+1E-24,0))","v":0},0,{"$f":"IF(ISERROR(VLOOKUP($B33,'Round Five'!$C:$J,6,0)),0,IF(AND(LEN($C33)<>0,$D33=\"Yes\"),VLOOKUP($B33,'Round Five'!$C:$J,6,0),\"\"))","v":0},{"$f":"IF(ISERROR(VLOOKUP($B33,'Round Five'!$C:$J,7,0)),0,IF(LEN($C33)<>0,VLOOKUP($B33,'Round Five'!$C:$J,7,0)+1E-24,0))","v":0},{"$f":"IF(ISERROR(VLOOKUP($B33,'Round Six'!$C:$J,8,0)),0,IF(AND(LEN($C33)<>0,$D33=\"Yes\"),VLOOKUP($B33,'Round Six'!$C:$J,8,0),\"\"))","v":0},{"$f":"IF(ISERROR(VLOOKUP(AD33,'Round Six'!$C:$J,7,0)),0,IF(AND(LEN($C33)<>0,$D33=\"Yes\"),VLOOKUP(AD33,'Round Six'!$C:$J,7,0)+1E-24,0))","v":0},0,{"$f":"IF(ISERROR(VLOOKUP($B33,'Round Six'!$C:$J,6,0)),0,IF(AND(LEN($C33)<>0,$D33=\"Yes\"),VLOOKUP($B33,'Round Six'!$C:$J,6,0),\"\"))","v":0},{"$f":"IF(ISERROR(VLOOKUP($B33,'Round Six'!$C:$J,7,0)),0,IF(LEN($C33)<>0,VLOOKUP($B33,'Round Six'!$C:$J,7,0)+1E-24,0))","v":0},{"$f":"IF(ISERROR(VLOOKUP($B33,'Round Seven'!$C:$J,8,0)),0,IF(AND(LEN($C33)<>0,$D33=\"Yes\"),VLOOKUP($B33,'Round Seven'!$C:$J,8,0),\"\"))","v":0},{"$f":"IF(ISERROR(VLOOKUP(AI33,'Round Seven'!$C:$J,7,0)),0,IF(AND(LEN($C33)<>0,$D33=\"Yes\"),VLOOKUP(AI33,'Round Seven'!$C:$J,7,0)+1E-24,0))","v":0},0,{"$f":"IF(ISERROR(VLOOKUP($B33,'Round Seven'!$C:$J,6,0)),0,IF(AND(LEN($C33)<>0,$D33=\"Yes\"),VLOOKUP($B33,'Round Seven'!$C:$J,6,0),\"\"))","v":0},{"$f":"IF(ISERROR(VLOOKUP($B33,'Round Seven'!$C:$J,7,0)),0,IF(LEN($C33)<>0,VLOOKUP($B33,'Round Seven'!$C:$J,7,0)+1E-24,0))","v":0},{"$f":"IF(ISERROR(VLOOKUP($B33,'Round Eight'!$C:$J,8,0)),0,IF(AND(LEN($C33)<>0,$D33=\"Yes\"),VLOOKUP($B33,'Round Eight'!$C:$J,8,0),\"\"))","v":0},{"$f":"IF(ISERROR(VLOOKUP(AN33,'Round Eight'!$C:$J,7,0)),0,IF(AND(LEN($C33)<>0,$D33=\"Yes\"),VLOOKUP(AN33,'Round Eight'!$C:$J,7,0)+1E-24,0))","v":0},0,{"$f":"IF(ISERROR(VLOOKUP($B33,'Round Eight'!$C:$J,6,0)),0,IF(AND(LEN($C33)<>0,$D33=\"Yes\"),VLOOKUP($B33,'Round Eight'!$C:$J,6,0),\"\"))","v":0},{"$f":"IF(ISERROR(VLOOKUP($B33,'Round Eight'!$C:$J,7,0)),0,IF(LEN($C33)<>0,VLOOKUP($B33,'Round Eight'!$C:$J,7,0)+1E-24,0))","v":0},{"$f":"IF(ISERROR(VLOOKUP($B33,'Round Nine'!$C:$J,8,0)),0,IF(AND(LEN($C33)<>0,$D33=\"Yes\"),VLOOKUP($B33,'Round Nine'!$C:$J,8,0),\"\"))","v":0},{"$f":"IF(ISERROR(VLOOKUP(AS33,'Round Nine'!$C:$J,7,0)),0,IF(AND(LEN($C33)<>0,$D33=\"Yes\"),VLOOKUP(AS33,'Round Nine'!$C:$J,7,0)+1E-24,0))","v":0},0,{"$f":"IF(ISERROR(VLOOKUP($B33,'Round Nine'!$C:$J,6,0)),0,IF(AND(LEN($C33)<>0,$D33=\"Yes\"),VLOOKUP($B33,'Round Nine'!$C:$J,6,0),\"\"))","v":0},{"$f":"IF(ISERROR(VLOOKUP($B33,'Round Nine'!$C:$J,7,0)),0,IF(LEN($C33)<>0,VLOOKUP($B33,'Round Nine'!$C:$J,7,0)+1E-24,0))","v":0},null,0,0,0,{"$f":"IF(D33<>\"Yes\",A33*-10,AY33*1000000+AZ33*10000+BA33+(A33/100000))+IF(OR(Accel_Pairing_2!$B$4=\"no\",D33<>\"Yes\",ISERROR(VLOOKUP(C33,PowerRanking!A:B,2,0))),0,(VLOOKUP(C33,PowerRanking!A:D,4,0)*1000000)+VLOOKUP(C33,PowerRanking!A:D,2,0)/10)","v":-4.2864933398975866},29,"T30",0,""]
[0.34319645465194981,"T31",null,null,{"$f":"IF(ISERROR(VLOOKUP($B34,'Round One'!$C:$J,8,0)),0,IF(AND(LEN($C34)<>0,$D34=\"Yes\"),VLOOKUP($B34,'Round One'!$C:$J,8,0),0))","v":0},{"$f":"IF(ISERROR(VLOOKUP(E34,'Round One'!$C:$J,7,0)),0,IF(AND(LEN($C34)<>0,$D34=\"Yes\"),VALUE(VLOOKUP(E34,'Round One'!$C:$J,7,0)+1E-24),0))","v":0},0,{"$f":"IF(ISERROR(VLOOKUP($B34,'Round One'!$C:$J,6,0)),0,IF(AND(LEN($C34)<>0,$D34=\"Yes\"),VLOOKUP($B34,'Round One'!$C:$J,6,0),\"\"))","v":0},{"$f":"IF(ISERROR(VLOOKUP($B34,'Round One'!$C:$J,7,0)),0,IF(LEN($C34)<>0,VLOOKUP($B34,'Round One'!$C:$J,7,0)+1E-24,0))","v":0},{"$f":"IF(ISERROR(VLOOKUP($B34,'Round Two'!$C:$J,8,0)),0,IF(AND(LEN($C34)<>0,$D34=\"Yes\"),VLOOKUP($B34,'Round Two'!$C:$J,8,0),\"\"))","v":0},{"$f":"IF(ISERROR(VLOOKUP(J34,'Round Two'!$C:$J,7,0)),0,IF(AND(LEN($C34)<>0,$D34=\"Yes\"),VLOOKUP(J34,'Round Two'!$C:$J,7,0)+1E-24,0))","v":0},0,{"$f":"IF(ISERROR(VLOOKUP($B34,'Round Two'!$C:$J,6,0)),0,IF(AND(LEN($C34)<>0,$D34=\"Yes\"),VLOOKUP($B34,'Round Two'!$C:$J,6,0),\"\"))","v":0},{"$f":"IF(ISERROR(VLOOKUP($B34,'Round Two'!$C:$J,7,0)),0,IF(LEN($C34)<>0,VLOOKUP($B34,'Round Two'!$C:$J,7,0)+1E-24,0))","v":0},{"$f":"IF(ISERROR(VLOOKUP($B34,'Round Three'!$C:$J,8,0)),0,IF(AND(LEN($C34)<>0,$D34=\"Yes\"),VLOOKUP($B34,'Round Three'!$C:$J,8,0),\"\"))","v":0},{"$f":"IF(ISERROR(VLOOKUP(O34,'Round Three'!$C:$J,7,0)),0,IF(AND(LEN($C34)<>0,$D34=\"Yes\"),VLOOKUP(O34,'Round Three'!$C:$J,7,0)+1E-24,0))","v":0},0,{"$f":"IF(ISERROR(VLOOKUP($B34,'Round Three'!$C:$J,6,0)),0,IF(AND(LEN($C34)<>0,$D34=\"Yes\"),VLOOKUP($B34,'Round Three'!$C:$J,6,0),\"\"))","v":0},{"$f":"IF(ISERROR(VLOOKUP($B34,'Round Three'!$C:$J,7,0)),0,IF(LEN($C34)<>0,VLOOKUP($B34,'Round Three'!$C:$J,7,0)+1E-24,0))","v":0},{"$f":"IF(ISERROR(VLOOKUP($B34,'Round Four'!$C:$J,8,0)),0,IF(AND(LEN($C34)<>0,$D34=\"Yes\"),VLOOKUP($B34,'Round Four'!$C:$J,8,0),\"\"))","v":0},{"$f":"IF(ISERROR(VLOOKUP(T34,'Round Four'!$C:$J,7,0)),0,IF(AND(LEN($C34)<>0,$D34=\"Yes\"),VLOOKUP(T34,'Round Four'!$C:$J,7,0)+1E-24,0))","v":0},0,{"$f":"IF(ISERROR(VLOOKUP($B34,'Round Four'!$C:$J,6,0)),0,IF(AND(LEN($C34)<>0,$D34=\"Yes\"),VLOOKUP($B34,'Round Four'!$C:$J,6,0),\"\"))","v":0},{"$f":"IF(ISERROR(VLOOKUP($B34,'Round Four'!$C:$J,7,0)),0,IF(LEN($C34)<>0,VLOOKUP($B34,'Round Four'!$C:$J,7,0)+1E-24,0))","v":0},{"$f":"IF(ISERROR(VLOOKUP($B34,'Round Five'!$C:$J,8,0)),0,IF(AND(LEN($C34)<>0,$D34=\"Yes\"),VLOOKUP($B34,'Round Five'!$C:$J,8,0),\"\"))","v":0},{"$f":"IF(ISERROR(VLOOKUP(Y34,'Round Five'!$C:$J,7,0)),0,IF(AND(LEN($C34)<>0,$D34=\"Yes\"),VLOOKUP(Y34,'Round Five'!$C:$J,7,0)+1E-24,0))","v":0},0,{"$f":"IF(ISERROR(VLOOKUP($B34,'Round Five'!$C:$J,6,0)),0,IF(AND(LEN($C34)<>0,$D34=\"Yes\"),VLOOKUP($B34,'Round Five'!$C:$J,6,0),\"\"))","v":0},{"$f":"IF(ISERROR(VLOOKUP($B34,'Round Five'!$C:$J,7,0)),0,IF(LEN($C34)<>0,VLOOKUP($B34,'Round Five'!$C:$J,7,0)+1E-24,0))","v":0},{"$f":"IF(ISERROR(VLOOKUP($B34,'Round Six'!$C:$J,8,0)),0,IF(AND(LEN($C34)<>0,$D34=\"Yes\"),VLOOKUP($B34,'Round Six'!$C:$J,8,0),\"\"))","v":0},{"$f":"IF(ISERROR(VLOOKUP(AD34,'Round Six'!$C:$J,7,0)),0,IF(AND(LEN($C34)<>0,$D34=\"Yes\"),VLOOKUP(AD34,'Round Six'!$C:$J,7,0)+1E-24,0))","v":0},0,{"$f":"IF(ISERROR(VLOOKUP($B34,'Round Six'!$C:$J,6,0)),0,IF(AND(LEN($C34)<>0,$D34=\"Yes\"),VLOOKUP($B34,'Round Six'!$C:$J,6,0),\"\"))","v":0},{"$f":"IF(ISERROR(VLOOKUP($B34,'Round Six'!$C:$J,7,0)),0,IF(LEN($C34)<>0,VLOOKUP($B34,'Round Six'!$C:$J,7,0)+1E-24,0))","v":0},{"$f":"IF(ISERROR(VLOOKUP($B34,'Round Seven'!$C:$J,8,0)),0,IF(AND(LEN($C34)<>0,$D34=\"Yes\"),VLOOKUP($B34,'Round Seven'!$C:$J,8,0),\"\"))","v":0},{"$f":"IF(ISERROR(VLOOKUP(AI34,'Round Seven'!$C:$J,7,0)),0,IF(AND(LEN($C34)<>0,$D34=\"Yes\"),VLOOKUP(AI34,'Round Seven'!$C:$J,7,0)+1E-24,0))","v":0},0,{"$f":"IF(ISERROR(VLOOKUP($B34,'Round Seven'!$C:$J,6,0)),0,IF(AND(LEN($C34)<>0,$D34=\"Yes\"),VLOOKUP($B34,'Round Seven'!$C:$J,6,0),\"\"))","v":0},{"$f":"IF(ISERROR(VLOOKUP($B34,'Round Seven'!$C:$J,7,0)),0,IF(LEN($C34)<>0,VLOOKUP($B34,'Round Seven'!$C:$J,7,0)+1E-24,0))","v":0},{"$f":"IF(ISERROR(VLOOKUP($B34,'Round Eight'!$C:$J,8,0)),0,IF(AND(LEN($C34)<>0,$D34=\"Yes\"),VLOOKUP($B34,'Round Eight'!$C:$J,8,0),\"\"))","v":0},{"$f":"IF(ISERROR(VLOOKUP(AN34,'Round Eight'!$C:$J,7,0)),0,IF(AND(LEN($C34)<>0,$D34=\"Yes\"),VLOOKUP(AN34,'Round Eight'!$C:$J,7,0)+1E-24,0))","v":0},0,{"$f":"IF(ISERROR(VLOOKUP($B34,'Round Eight'!$C:$J,6,0)),0,IF(AND(LEN($C34)<>0,$D34=\"Yes\"),VLOOKUP($B34,'Round Eight'!$C:$J,6,0),\"\"))","v":0},{"$f":"IF(ISERROR(VLOOKUP($B34,'Round Eight'!$C:$J,7,0)),0,IF(LEN($C34)<>0,VLOOKUP($B34,'Round Eight'!$C:$J,7,0)+1E-24,0))","v":0},{"$f":"IF(ISERROR(VLOOKUP($B34,'Round Nine'!$C:$J,8,0)),0,IF(AND(LEN($C34)<>0,$D34=\"Yes\"),VLOOKUP($B34,'Round Nine'!$C:$J,8,0),\"\"))","v":0},{"$f":"IF(ISERROR(VLOOKUP(AS34,'Round Nine'!$C:$J,7,0)),0,IF(AND(LEN($C34)<>0,$D34=\"Yes\"),VLOOKUP(AS34,'Round Nine'!$C:$J,7,0)+1E-24,0))","v":0},0,{"$f":"IF(ISERROR(VLOOKUP($B34,'Round Nine'!$C:$J,6,0)),0,IF(AND(LEN($C34)<>0,$D34=\"Yes\"),VLOOKUP($B34,'Round Nine'!$C:$J,6,0),\"\"))","v":0},{"$f":"IF(ISERROR(VLOOKUP($B34,'Round Nine'!$C:$J,7,0)),0,IF(LEN($C34)<>0,VLOOKUP($B34,'Round Nine'!$C:$J,7,0)+1E-24,0))","v":0},null,0,0,0,{"$f":"IF(D34<>\"Yes\",A34*-10,AY34*1000000+AZ34*10000+BA34+(A34/100000))+IF(OR(Accel_Pairing_2!$B$4=\"no\",D34<>\"Yes\",ISERROR(VLOOKUP(C34,PowerRanking!A:B,2,0))),0,(VLOOKUP(C34,PowerRanking!A:D,4,0)*1000000)+VLOOKUP(C34,PowerRanking!A:D,2,0)/10)","v":-3.4319645465194979},21,"T31",0,""]
[0.44442353479487162,"T32",null,null,{"$f":"IF(ISERROR(VLOOKUP($B35,'Round One'!$C:$J,8,0)),0,IF(AND(LEN($C35)<>0,$D35=\"Yes\"),VLOOKUP($B35,'Round One'!$C:$J,8,0),0))","v":0},{"$f":"IF(ISERROR(VLOOKUP(E35,'Round One'!$C:$J,7,0)),0,IF(AND(LEN($C35)<>0,$D35=\"Yes\"),VALUE(VLOOKUP(E35,'Round One'!$C:$J,7,0)+1E-24),0))","v":0},0,{"$f":"IF(ISERROR(VLOOKUP($B35,'Round One'!$C:$J,6,0)),0,IF(AND(LEN($C35)<>0,$D35=\"Yes\"),VLOOKUP($B35,'Round One'!$C:$J,6,0),\"\"))","v":0},{"$f":"IF(ISERROR(VLOOKUP($B35,'Round One'!$C:$J,7,0)),0,IF(LEN($C35)<>0,VLOOKUP($B35,'Round One'!$C:$J,7,0)+1E-24,0))","v":0},{"$f":"IF(ISERROR(VLOOKUP($B35,'Round Two'!$C:$J,8,0)),0,IF(AND(LEN($C35)<>0,$D35=\"Yes\"),VLOOKUP($B35,'Round Two'!$C:$J,8,0),\"\"))","v":0},{"$f":"IF(ISERROR(VLOOKUP(J35,'Round Two'!$C:$J,7,0)),0,IF(AND(LEN($C35)<>0,$D35=\"Yes\"),VLOOKUP(J35,'Round Two'!$C:$J,7,0)+1E-24,0))","v":0},0,{"$f":"IF(ISERROR(VLOOKUP($B35,'Round Two'!$C:$J,6,0)),0,IF(AND(LEN($C35)<>0,$D35=\"Yes\"),VLOOKUP($B35,'Round Two'!$C:$J,6,0),\"\"))","v":0},{"$f":"IF(ISERROR(VLOOKUP($B35,'Round Two'!$C:$J,7,0)),0,IF(LEN($C35)<>0,VLOOKUP($B35,'Round Two'!$C:$J,7,0)+1E-24,0))","v":0},{"$f":"IF(ISERROR(VLOOKUP($B35,'Round Three'!$C:$J,8,0)),0,IF(AND(LEN($C35)<>0,$D35=\"Yes\"),VLOOKUP($B35,'Round Three'!$C:$J,8,0),\"\"))","v":0},{"$f":"IF(ISERROR(VLOOKUP(O35,'Round Three'!$C:$J,7,0)),0,IF(AND(LEN($C35)<>0,$D35=\"Yes\"),VLOOKUP(O35,'Round Three'!$C:$J,7,0)+1E-24,0))","v":0},0,{"$f":"IF(ISERROR(VLOOKUP($B35,'Round Three'!$C:$J,6,0)),0,IF(AND(LEN($C35)<>0,$D35=\"Yes\"),VLOOKUP($B35,'Round Three'!$C:$J,6,0),\"\"))","v":0},{"$f":"IF(ISERROR(VLOOKUP($B35,'Round Three'!$C:$J,7,0)),0,IF(LEN($C35)<>0,VLOOKUP($B35,'Round Three'!$C:$J,7,0)+1E-24,0))","v":0},{"$f":"IF(ISERROR(VLOOKUP($B35,'Round Four'!$C:$J,8,0)),0,IF(AND(LEN($C35)<>0,$D35=\"Yes\"),VLOOKUP($B35,'Round Four'!$C:$J,8,0),\"\"))","v":0},{"$f":"IF(ISERROR(VLOOKUP(T35,'Round Four'!$C:$J,7,0)),0,IF(AND(LEN($C35)<>0,$D35=\"Yes\"),VLOOKUP(T35,'Round Four'!$C:$J,7,0)+1E-24,0))","v":0},0,{"$f":"IF(ISERROR(VLOOKUP($B35,'Round Four'!$C:$J,6,0)),0,IF(AND(LEN($C35)<>0,$D35=\"Yes\"),VLOOKUP($B35,'Round Four'!$C:$J,6,0),\"\"))","v":0},{"$f":"IF(ISERROR(VLOOKUP($B35,'Round Four'!$C:$J,7,0)),0,IF(LEN($C35)<>0,VLOOKUP($B35,'Round Four'!$C:$J,7,0)+1E-24,0))","v":0},{"$f":"IF(ISERROR(VLOOKUP($B35,'Round Five'!$C:$J,8,0)),0,IF(AND(LEN($C35)<>0,$D35=\"Yes\"),VLOOKUP($B35,'Round Five'!$C:$J,8,0),\"\"))","v":0},{"$f":"IF(ISERROR(VLOOKUP(Y35,'Round Five'!$C:$J,7,0)),0,IF(AND(LEN($C35)<>0,$D35=\"Yes\"),VLOOKUP(Y35,'Round Five'!$C:$J,7,0)+1E-24,0))","v":0},0,{"$f":"IF(ISERROR(VLOOKUP($B35,'Round Five'!$C:$J,6,0)),0,IF(AND(LEN($C35)<>0,$D35=\"Yes\"),VLOOKUP($B35,'Round Five'!$C:$J,6,0),\"\"))","v":0},{"$f":"IF(ISERROR(VLOOKUP($B35,'Round Five'!$C:$J,7,0)),0,IF(LEN($C35)<>0,VLOOKUP($B35,'Round Five'!$C:$J,7,0)+1E-24,0))","v":0},{"$f":"IF(ISERROR(VLOOKUP($B35,'Round Six'!$C:$J,8,0)),0,IF(AND(LEN($C35)<>0,$D35=\"Yes\"),VLOOKUP($B35,'Round Six'!$C:$J,8,0),\"\"))","v":0},{"$f":"IF(ISERROR(VLOOKUP(AD35,'Round Six'!$C:$J,7,0)),0,IF(AND(LEN($C35)<>0,$D35=\"Yes\"),VLOOKUP(AD35,'Round Six'!$C:$J,7,0)+1E-24,0))","v":0},0,{"$f":"IF(ISERROR(VLOOKUP($B35,'Round Six'!$C:$J,6,0)),0,IF(AND(LEN($C35)<>0,$D35=\"Yes\"),VLOOKUP($B35,'Round Six'!$C:$J,6,0),\"\"))","v":0},{"$f":"IF(ISERROR(VLOOKUP($B35,'Round Six'!$C:$J,7,0)),0,IF(LEN($C35)<>0,VLOOKUP($B35,'Round Six'!$C:$J,7,0)+1E-24,0))","v":0},{"$f":"IF(ISERROR(VLOOKUP($B35,'Round Seven'!$C:$J,8,0)),0,IF(AND(LEN($C35)<>0,$D35=\"Yes\"),VLOOKUP($B35,'Round Seven'!$C:$J,8,0),\"\"))","v":0},{"$f":"IF(ISERROR(VLOOKUP(AI35,'Round Seven'!$C:$J,7,0)),0,IF(AND(LEN($C35)<>0,$D35=\"Yes\"),VLOOKUP(AI35,'Round Seven'!$C:$J,7,0)+1E-24,0))","v":0},0,{"$f":"IF(ISERROR(VLOOKUP($B35,'Round Seven'!$C:$J,6,0)),0,IF(AND(LEN($C35)<>0,$D35=\"Yes\"),VLOOKUP($B35,'Round Seven'!$C:$J,6,0),\"\"))","v":0},{"$f":"IF(ISERROR(VLOOKUP($B35,'Round Seven'!$C:$J,7,0)),0,IF(LEN($C35)<>0,VLOOKUP($B35,'Round Seven'!$C:$J,7,0)+1E-24,0))","v":0},{"$f":"IF(ISERROR(VLOOKUP($B35,'Round Eight'!$C:$J,8,0)),0,IF(AND(LEN($C35)<>0,$D35=\"Yes\"),VLOOKUP($B35,'Round Eight'!$C:$J,8,0),\"\"))","v":0},{"$f":"IF(ISERROR(VLOOKUP(AN35,'Round Eight'!$C:$J,7,0)),0,IF(AND(LEN($C35)<>0,$D35=\"Yes\"),VLOOKUP(AN35,'Round Eight'!$C:$J,7,0)+1E-24,0))","v":0},0,{"$f":"IF(ISERROR(VLOOKUP($B35,'Round Eight'!$C:$J,6,0)),0,IF(AND(LEN($C35)<>0,$D35=\"Yes\"),VLOOKUP($B35,'Round Eight'!$C:$J,6,0),\"\"))","v":0},{"$f":"IF(ISERROR(VLOOKUP($B35,'Round Eight'!$C:$J,7,0)),0,IF(LEN($C35)<>0,VLOOKUP($B35,'Round Eight'!$C:$J,7,0)+1E-24,0))","v":0},{"$f":"IF(ISERROR(VLOOKUP($B35,'Round Nine'!$C:$J,8,0)),0,IF(AND(LEN($C35)<>0,$D35=\"Yes\"),VLOOKUP($B35,'Round Nine'!$C:$J,8,0),\"\"))","v":0},{"$f":"IF(ISERROR(VLOOKUP(AS35,'Round Nine'!$C:$J,7,0)),0,IF(AND(LEN($C35)<>0,$D35=\"Yes\"),VLOOKUP(AS35,'Round Nine'!$C:$J,7,0)+1E-24,0))","v":0},0,{"$f":"IF(ISERROR(VLOOKUP($B35,'Round Nine'!$C:$J,6,0)),0,IF(AND(LEN($C35)<>0,$D35=\"Yes\"),VLOOKUP($B35,'Round Nine'!$C:$J,6,0),\"\"))","v":0},{"$f":"IF(ISERROR(VLOOKUP($B35,'Round Nine'!$C:$J,7,0)),0,IF(LEN($C35)<>0,VLOOKUP($B35,'Round Nine'!$C:$J,7,0)+1E-24,0))","v":0},null,0,0,0,{"$f":"IF(D35<>\"Yes\",A35*-10,AY35*1000000+AZ35*10000+BA35+(A35/100000))+IF(OR(Accel_Pairing_2!$B$4=\"no\",D35<>\"Yes\",ISERROR(VLOOKUP(C35,PowerRanking!A:B,2,0))),0,(VLOOKUP(C35,PowerRanking!A:D,4,0)*1000000)+VLOOKUP(C35,PowerRanking!A:D,2,0)/10)","v":-4.444235347948716},34,"T32",0,""]
[0.77862523290872221,"T33",null,null,{"$f":"IF(ISERROR(VLOOKUP($B36,'Round One'!$C:$J,8,0)),0,IF(AND(LEN($C36)<>0,$D36=\"Yes\"),VLOOKUP($B36,'Round One'!$C:$J,8,0),0))","v":0},{"$f":"IF(ISERROR(VLOOKUP(E36,'Round One'!$C:$J,7,0)),0,IF(AND(LEN($C36)<>0,$D36=\"Yes\"),VALUE(VLOOKUP(E36,'Round One'!$C:$J,7,0)+1E-24),0))","v":0},0,{"$f":"IF(ISERROR(VLOOKUP($B36,'Round One'!$C:$J,6,0)),0,IF(AND(LEN($C36)<>0,$D36=\"Yes\"),VLOOKUP($B36,'Round One'!$C:$J,6,0),\"\"))","v":0},{"$f":"IF(ISERROR(VLOOKUP($B36,'Round One'!$C:$J,7,0)),0,IF(LEN($C36)<>0,VLOOKUP($B36,'Round One'!$C:$J,7,0)+1E-24,0))","v":0},{"$f":"IF(ISERROR(VLOOKUP($B36,'Round Two'!$C:$J,8,0)),0,IF(AND(LEN($C36)<>0,$D36=\"Yes\"),VLOOKUP($B36,'Round Two'!$C:$J,8,0),\"\"))","v":0},{"$f":"IF(ISERROR(VLOOKUP(J36,'Round Two'!$C:$J,7,0)),0,IF(AND(LEN($C36)<>0,$D36=\"Yes\"),VLOOKUP(J36,'Round Two'!$C:$J,7,0)+1E-24,0))","v":0},{"$f":"IF(ISERROR(VLOOKUP(J36,$B:$AZ,51,0)),0,VLOOKUP(J36,$B:$AZ,51,0)+1E-24)","v":0},{"$f":"IF(ISERROR(VLOOKUP($B36,'Round Two'!$C:$J,6,0)),0,IF(AND(LEN($C36)<>0,$D36=\"Yes\"),VLOOKUP($B36,'Round Two'!$C:$J,6,0),\"\"))","v":0},{"$f":"IF(ISERROR(VLOOKUP($B36,'Round Two'!$C:$J,7,0)),0,IF(LEN($C36)<>0,VLOOKUP($B36,'Round Two'!$C:$J,7,0)+1E-24,0))","v":0},{"$f":"IF(ISERROR(VLOOKUP($B36,'Round Three'!$C:$J,8,0)),0,IF(AND(LEN($C36)<>0,$D36=\"Yes\"),VLOOKUP($B36,'Round Three'!$C:$J,8,0),\"\"))","v":0},{"$f":"IF(ISERROR(VLOOKUP(O36,'Round Three'!$C:$J,7,0)),0,IF(AND(LEN($C36)<>0,$D36=\"Yes\"),VLOOKUP(O36,'Round Three'!$C:$J,7,0)+1E-24,0))","v":0},{"$f":"IF(ISERROR(VLOOKUP(O36,$B:$AZ,51,0)),0,VLOOKUP(O36,$B:$AZ,51,0)+1E-24)","v":0},{"$f":"IF(ISERROR(VLOOKUP($B36,'Round Three'!$C:$J,6,0)),0,IF(AND(LEN($C36)<>0,$D36=\"Yes\"),VLOOKUP($B36,'Round Three'!$C:$J,6,0),\"\"))","v":0},{"$f":"IF(ISERROR(VLOOKUP($B36,'Round Three'!$C:$J,7,0)),0,IF(LEN($C36)<>0,VLOOKUP($B36,'Round Three'!$C:$J,7,0)+1E-24,0))","v":0},{"$f":"IF(ISERROR(VLOOKUP($B36,'Round Four'!$C:$J,8,0)),0,IF(AND(LEN($C36)<>0,$D36=\"Yes\"),VLOOKUP($B36,'Round Four'!$C:$J,8,0),\"\"))","v":0},{"$f":"IF(ISERROR(VLOOKUP(T36,'Round Four'!$C:$J,7,0)),0,IF(AND(LEN($C36)<>0,$D36=\"Yes\"),VLOOKUP(T36,'Round Four'!$C:$J,7,0)+1E-24,0))","v":0},{"$f":"IF(ISERROR(VLOOKUP(T36,$B:$AZ,51,0)),0,VLOOKUP(T36,$B:$AZ,51,0)+1E-24)","v":0},{"$f":"IF(ISERROR(VLOOKUP($B36,'Round Four'!$C:$J,6,0)),0,IF(AND(LEN($C36)<>0,$D36=\"Yes\"),VLOOKUP($B36,'Round Four'!$C:$J,6,0),\"\"))","v":0},{"$f":"IF(ISERROR(VLOOKUP($B36,'Round Four'!$C:$J,7,0)),0,IF(LEN($C36)<>0,VLOOKUP($B36,'Round Four'!$C:$J,7,0)+1E-24,0))","v":0},{"$f":"IF(ISERROR(VLOOKUP($B36,'Round Five'!$C:$J,8,0)),0,IF(AND(LEN($C36)<>0,$D36=\"Yes\"),VLOOKUP($B36,'Round Five'!$C:$J,8,0),\"\"))","v":0},{"$f":"IF(ISERROR(VLOOKUP(Y36,'Round Five'!$C:$J,7,0)),0,IF(AND(LEN($C36)<>0,$D36=\"Yes\"),VLOOKUP(Y36,'Round Five'!$C:$J,7,0)+1E-24,0))","v":0},{"$f":"IF(ISERROR(VLOOKUP(Y36,$B:$AZ,51,0)),0,VLOOKUP(Y36,$B:$AZ,51,0)+1E-24)","v":0},{"$f":"IF(ISERROR(VLOOKUP($B36,'Round Five'!$C:$J,6,0)),0,IF(AND(LEN($C36)<>0,$D36=\"Yes\"),VLOOKUP($B36,'Round Five'!$C:$J,6,0),\"\"))","v":0},{"$f":"IF(ISERROR(VLOOKUP($B36,'Round Five'!$C:$J,7,0)),0,IF(LEN($C36)<>0,VLOOKUP($B36,'Round Five'!$C:$J,7,0)+1E-24,0))","v":0},{"$f":"IF(ISERROR(VLOOKUP($B36,'Round Six'!$C:$J,8,0)),0,IF(AND(LEN($C36)<>0,$D36=\"Yes\"),VLOOKUP($B36,'Round Six'!$C:$J,8,0),\"\"))","v":0},{"$f":"IF(ISERROR(VLOOKUP(AD36,'Round Six'!$C:$J,7,0)),0,IF(AND(LEN($C36)<>0,$D36=\"Yes\"),VLOOKUP(AD36,'Round Six'!$C:$J,7,0)+1E-24,0))","v":0},{"$f":"IF(ISERROR(VLOOKUP(AD36,$B:$AZ,51,0)),0,VLOOKUP(AD36,$B:$AZ,51,0)+1E-24)","v":0},{"$f":"IF(ISERROR(VLOOKUP($B36,'Round Six'!$C:$J,6,0)),0,IF(AND(LEN($C36)<>0,$D36=\"Yes\"),VLOOKUP($B36,'Round Six'!$C:$J,6,0),\"\"))","v":0},{"$f":"IF(ISERROR(VLOOKUP($B36,'Round Six'!$C:$J,7,0)),0,IF(LEN($C36)<>0,VLOOKUP($B36,'Round Six'!$C:$J,7,0)+1E-24,0))","v":0},{"$f":"IF(ISERROR(VLOOKUP($B36,'Round Seven'!$C:$J,8,0)),0,IF(AND(LEN($C36)<>0,$D36=\"Yes\"),VLOOKUP($B36,'Round Seven'!$C:$J,8,0),\"\"))","v":0},{"$f":"IF(ISERROR(VLOOKUP(AI36,'Round Seven'!$C:$J,7,0)),0,IF(AND(LEN($C36)<>0,$D36=\"Yes\"),VLOOKUP(AI36,'Round Seven'!$C:$J,7,0)+1E-24,0))","v":0},{"$f":"IF(ISERROR(VLOOKUP(AI36,$B:$AZ,51,0)),0,VLOOKUP(AI36,$B:$AZ,51,0)+1E-24)","v":0},{"$f":"IF(ISERROR(VLOOKUP($B36,'Round Seven'!$C:$J,6,0)),0,IF(AND(LEN($C36)<>0,$D36=\"Yes\"),VLOOKUP($B36,'Round Seven'!$C:$J,6,0),\"\"))","v":0},{"$f":"IF(ISERROR(VLOOKUP($B36,'Round Seven'!$C:$J,7,0)),0,IF(LEN($C36)<>0,VLOOKUP($B36,'Round Seven'!$C:$J,7,0)+1E-24,0))","v":0},{"$f":"IF(ISERROR(VLOOKUP($B36,'Round Eight'!$C:$J,8,0)),0,IF(AND(LEN($C36)<>0,$D36=\"Yes\"),VLOOKUP($B36,'Round Eight'!$C:$J,8,0),\"\"))","v":0},{"$f":"IF(ISERROR(VLOOKUP(AN36,'Round Eight'!$C:$J,7,0)),0,IF(AND(LEN($C36)<>0,$D36=\"Yes\"),VLOOKUP(AN36,'Round Eight'!$C:$J,7,0)+1E-24,0))","v":0},{"$f":"IF(ISERROR(VLOOKUP(AN36,$B:$AZ,51,0)),0,VLOOKUP(AN36,$B:$AZ,51,0)+1E-24)","v":0},{"$f":"IF(ISERROR(VLOOKUP($B36,'Round Eight'!$C:$J,6,0)),0,IF(AND(LEN($C36)<>0,$D36=\"Yes\"),VLOOKUP($B36,'Round Eight'!$C:$J,6,0),\"\"))","v":0},{"$f":"IF(ISERROR(VLOOKUP($B36,'Round Eight'!$C:$J,7,0)),0,IF(LEN($C36)<>0,VLOOKUP($B36,'Round Eight'!$C:$J,7,0)+1E-24,0))","v":0},{"$f":"IF(ISERROR(VLOOKUP($B36,'Round Nine'!$C:$J,8,0)),0,IF(AND(LEN($C36)<>0,$D36=\"Yes\"),VLOOKUP($B36,'Round Nine'!$C:$J,8,0),\"\"))","v":0},{"$f":"IF(ISERROR(VLOOKUP(AS36,'Round Nine'!$C:$J,7,0)),0,IF(AND(LEN($C36)<>0,$D36=\"Yes\"),VLOOKUP(AS36,'Round Nine'!$C:$J,7,0)+1E-24,0))","v":0},{"$f":"IF(ISERROR(VLOOKUP(AS36,$B:$AZ,51,0)),0,VLOOKUP(AS36,$B:$AZ,51,0)+1E-24)","v":0},{"$f":"IF(ISERROR(VLOOKUP($B36,'Round Nine'!$C:$J,6,0)),0,IF(AND(LEN($C36)<>0,$D36=\"Yes\"),VLOOKUP($B36,'Round Nine'!$C:$J,6,0),\"\"))","v":0},{"$f":"IF(ISERROR(VLOOKUP($B36,'Round Nine'!$C:$J,7,0)),0,IF(LEN($C36)<>0,VLOOKUP($B36,'Round Nine'!$C:$J,7,0)+1E-24,0))","v":0},null,0,0,0,{"$f":"IF(D36<>\"Yes\",A36*-10,AY36*1000000+AZ36*10000+BA36+(A36/100000))+IF(OR(Accel_Pairing_2!$B$4=\"no\",D36<>\"Yes\",ISERROR(VLOOKUP(C36,PowerRanking!A:B,2,0))),0,(VLOOKUP(C36,PowerRanking!A:D,4,0)*1000000)+VLOOKUP(C36,PowerRanking!A:D,2,0)/10)","v":-7.7862523290872225},51,"T33",0,""]
[0.20611177097287314,"T34",null,null,{"$f":"IF(ISERROR(VLOOKUP($B37,'Round One'!$C:$J,8,0)),0,IF(AND(LEN($C37)<>0,$D37=\"Yes\"),VLOOKUP($B37,'Round One'!$C:$J,8,0),0))","v":0},{"$f":"IF(ISERROR(VLOOKUP(E37,'Round One'!$C:$J,7,0)),0,IF(AND(LEN($C37)<>0,$D37=\"Yes\"),VALUE(VLOOKUP(E37,'Round One'!$C:$J,7,0)+1E-24),0))","v":0},0,{"$f":"IF(ISERROR(VLOOKUP($B37,'Round One'!$C:$J,6,0)),0,IF(AND(LEN($C37)<>0,$D37=\"Yes\"),VLOOKUP($B37,'Round One'!$C:$J,6,0),\"\"))","v":0},{"$f":"IF(ISERROR(VLOOKUP($B37,'Round One'!$C:$J,7,0)),0,IF(LEN($C37)<>0,VLOOKUP($B37,'Round One'!$C:$J,7,0)+1E-24,0))","v":0},{"$f":"IF(ISERROR(VLOOKUP($B37,'Round Two'!$C:$J,8,0)),0,IF(AND(LEN($C37)<>0,$D37=\"Yes\"),VLOOKUP($B37,'Round Two'!$C:$J,8,0),\"\"))","v":0},{"$f":"IF(ISERROR(VLOOKUP(J37,'Round Two'!$C:$J,7,0)),0,IF(AND(LEN($C37)<>0,$D37=\"Yes\"),VLOOKUP(J37,'Round Two'!$C:$J,7,0)+1E-24,0))","v":0},0,{"$f":"IF(ISERROR(VLOOKUP($B37,'Round Two'!$C:$J,6,0)),0,IF(AND(LEN($C37)<>0,$D37=\"Yes\"),VLOOKUP($B37,'Round Two'!$C:$J,6,0),\"\"))","v":0},{"$f":"IF(ISERROR(VLOOKUP($B37,'Round Two'!$C:$J,7,0)),0,IF(LEN($C37)<>0,VLOOKUP($B37,'Round Two'!$C:$J,7,0)+1E-24,0))","v":0},{"$f":"IF(ISERROR(VLOOKUP($B37,'Round Three'!$C:$J,8,0)),0,IF(AND(LEN($C37)<>0,$D37=\"Yes\"),VLOOKUP($B37,'Round Three'!$C:$J,8,0),\"\"))","v":0},{"$f":"IF(ISERROR(VLOOKUP(O37,'Round Three'!$C:$J,7,0)),0,IF(AND(LEN($C37)<>0,$D37=\"Yes\"),VLOOKUP(O37,'Round Three'!$C:$J,7,0)+1E-24,0))","v":0},0,{"$f":"IF(ISERROR(VLOOKUP($B37,'Round Three'!$C:$J,6,0)),0,IF(AND(LEN($C37)<>0,$D37=\"Yes\"),VLOOKUP($B37,'Round Three'!$C:$J,6,0),\"\"))","v":0},{"$f":"IF(ISERROR(VLOOKUP($B37,'Round Three'!$C:$J,7,0)),0,IF(LEN($C37)<>0,VLOOKUP($B37,'Round Three'!$C:$J,7,0)+1E-24,0))","v":0},{"$f":"IF(ISERROR(VLOOKUP($B37,'Round Four'!$C:$J,8,0)),0,IF(AND(LEN($C37)<>0,$D37=\"Yes\"),VLOOKUP($B37,'Round Four'!$C:$J,8,0),\"\"))","v":0},{"$f":"IF(ISERROR(VLOOKUP(T37,'Round Four'!$C:$J,7,0)),0,IF(AND(LEN($C37)<>0,$D37=\"Yes\"),VLOOKUP(T37,'Round Four'!$C:$J,7,0)+1E-24,0))","v":0},0,{"$f":"IF(ISERROR(VLOOKUP($B37,'Round Four'!$C:$J,6,0)),0,IF(AND(LEN($C37)<>0,$D37=\"Yes\"),VLOOKUP($B37,'Round Four'!$C:$J,6,0),\"\"))","v":0},{"$f":"IF(ISERROR(VLOOKUP($B37,'Round Four'!$C:$J,7,0)),0,IF(LEN($C37)<>0,VLOOKUP($B37,'Round Four'!$C:$J,7,0)+1E-24,0))","v":0},{"$f":"IF(ISERROR(VLOOKUP($B37,'Round Five'!$C:$J,8,0)),0,IF(AND(LEN($C37)<>0,$D37=\"Yes\"),VLOOKUP($B37,'Round Five'!$C:$J,8,0),\"\"))","v":0},{"$f":"IF(ISERROR(VLOOKUP(Y37,'Round Five'!$C:$J,7,0)),0,IF(AND(LEN($C37)<>0,$D37=\"Yes\"),VLOOKUP(Y37,'Round Five'!$C:$J,7,0)+1E-24,0))","v":0},0,{"$f":"IF(ISERROR(VLOOKUP($B37,'Round Five'!$C:$J,6,0)),0,IF(AND(LEN($C37)<>0,$D37=\"Yes\"),VLOOKUP($B37,'Round Five'!$C:$J,6,0),\"\"))","v":0},{"$f":"IF(ISERROR(VLOOKUP($B37,'Round Five'!$C:$J,7,0)),0,IF(LEN($C37)<>0,VLOOKUP($B37,'Round Five'!$C:$J,7,0)+1E-24,0))","v":0},{"$f":"IF(ISERROR(VLOOKUP($B37,'Round Six'!$C:$J,8,0)),0,IF(AND(LEN($C37)<>0,$D37=\"Yes\"),VLOOKUP($B37,'Round Six'!$C:$J,8,0),\"\"))","v":0},{"$f":"IF(ISERROR(VLOOKUP(AD37,'Round Six'!$C:$J,7,0)),0,IF(AND(LEN($C37)<>0,$D37=\"Yes\"),VLOOKUP(AD37,'Round Six'!$C:$J,7,0)+1E-24,0))","v":0},0,{"$f":"IF(ISERROR(VLOOKUP($B37,'Round Six'!$C:$J,6,0)),0,IF(AND(LEN($C37)<>0,$D37=\"Yes\"),VLOOKUP($B37,'Round Six'!$C:$J,6,0),\"\"))","v":0},{"$f":"IF(ISERROR(VLOOKUP($B37,'Round Six'!$C:$J,7,0)),0,IF(LEN($C37)<>0,VLOOKUP($B37,'Round Six'!$C:$J,7,0)+1E-24,0))","v":0},{"$f":"IF(ISERROR(VLOOKUP($B37,'Round Seven'!$C:$J,8,0)),0,IF(AND(LEN($C37)<>0,$D37=\"Yes\"),VLOOKUP($B37,'Round Seven'!$C:$J,8,0),\"\"))","v":0},{"$f":"IF(ISERROR(VLOOKUP(AI37,'Round Seven'!$C:$J,7,0)),0,IF(AND(LEN($C37)<>0,$D37=\"Yes\"),VLOOKUP(AI37,'Round Seven'!$C:$J,7,0)+1E-24,0))","v":0},0,{"$f":"IF(ISERROR(VLOOKUP($B37,'Round Seven'!$C:$J,6,0)),0,IF(AND(LEN($C37)<>0,$D37=\"Yes\"),VLOOKUP($B37,'Round Seven'!$C:$J,6,0),\"\"))","v":0},{"$f":"IF(ISERROR(VLOOKUP($B37,'Round Seven'!$C:$J,7,0)),0,IF(LEN($C37)<>0,VLOOKUP($B37,'Round Seven'!$C:$J,7,0)+1E-24,0))","v":0},{"$f":"IF(ISERROR(VLOOKUP($B37,'Round Eight'!$C:$J,8,0)),0,IF(AND(LEN($C37)<>0,$D37=\"Yes\"),VLOOKUP($B37,'Round Eight'!$C:$J,8,0),\"\"))","v":0},{"$f":"IF(ISERROR(VLOOKUP(AN37,'Round Eight'!$C:$J,7,0)),0,IF(AND(LEN($C37)<>0,$D37=\"Yes\"),VLOOKUP(AN37,'Round Eight'!$C:$J,7,0)+1E-24,0))","v":0},0,{"$f":"IF(ISERROR(VLOOKUP($B37,'Round Eight'!$C:$J,6,0)),0,IF(AND(LEN($C37)<>0,$D37=\"Yes\"),VLOOKUP($B37,'Round Eight'!$C:$J,6,0),\"\"))","v":0},{"$f":"IF(ISERROR(VLOOKUP($B37,'Round Eight'!$C:$J,7,0)),0,IF(LEN($C37)<>0,VLOOKUP($B37,'Round Eight'!$C:$J,7,0)+1E-24,0))","v":0},{"$f":"IF(ISERROR(VLOOKUP($B37,'Round Nine'!$C:$J,8,0)),0,IF(AND(LEN($C37)<>0,$D37=\"Yes\"),VLOOKUP($B37,'Round Nine'!$C:$J,8,0),\"\"))","v":0},{"$f":"IF(ISERROR(VLOOKUP(AS37,'Round Nine'!$C:$J,7,0)),0,IF(AND(LEN($C37)<>0,$D37=\"Yes\"),VLOOKUP(AS37,'Round Nine'!$C:$J,7,0)+1E-24,0))","v":0},0,{"$f":"IF(ISERROR(VLOOKUP($B37,'Round Nine'!$C:$J,6,0)),0,IF(AND(LEN($C37)<>0,$D37=\"Yes\"),VLOOKUP($B37,'Round Nine'!$C:$J,6,0),\"\"))","v":0},{"$f":"IF(ISERROR(VLOOKUP($B37,'Round Nine'!$C:$J,7,0)),0,IF(LEN($C37)<>0,VLOOKUP($B37,'Round Nine'!$C:$J,7,0)+1E-24,0))","v":0},null,0,0,0,{"$f":"IF(D37<>\"Yes\",A37*-10,AY37*1000000+AZ37*10000+BA37+(A37/100000))+IF(OR(Accel_Pairing_2!$B$4=\"no\",D37<>\"Yes\",ISERROR(VLOOKUP(C37,PowerRanking!A:B,2,0))),0,(VLOOKUP(C37,PowerRanking!A:D,4,0)*1000000)+VLOOKUP(C37,PowerRanking!A:D,2,0)/10)","v":-2.0611177097287312},11,"T34",0,""]
[0.85021864836629513,"T35",null,null,{"$f":"IF(ISERROR(VLOOKUP($B38,'Round One'!$C:$J,8,0)),0,IF(AND(LEN($C38)<>0,$D38=\"Yes\"),VLOOKUP($B38,'Round One'!$C:$J,8,0),0))","v":0},{"$f":"IF(ISERROR(VLOOKUP(E38,'Round One'!$C:$J,7,0)),0,IF(AND(LEN($C38)<>0,$D38=\"Yes\"),VALUE(VLOOKUP(E38,'Round One'!$C:$J,7,0)+1E-24),0))","v":0},0,{"$f":"IF(ISERROR(VLOOKUP($B38,'Round One'!$C:$J,6,0)),0,IF(AND(LEN($C38)<>0,$D38=\"Yes\"),VLOOKUP($B38,'Round One'!$C:$J,6,0),\"\"))","v":0},{"$f":"IF(ISERROR(VLOOKUP($B38,'Round One'!$C:$J,7,0)),0,IF(LEN($C38)<>0,VLOOKUP($B38,'Round One'!$C:$J,7,0)+1E-24,0))","v":0},{"$f":"IF(ISERROR(VLOOKUP($B38,'Round Two'!$C:$J,8,0)),0,IF(AND(LEN($C38)<>0,$D38=\"Yes\"),VLOOKUP($B38,'Round Two'!$C:$J,8,0),\"\"))","v":0},{"$f":"IF(ISERROR(VLOOKUP(J38,'Round Two'!$C:$J,7,0)),0,IF(AND(LEN($C38)<>0,$D38=\"Yes\"),VLOOKUP(J38,'Round Two'!$C:$J,7,0)+1E-24,0))","v":0},0,{"$f":"IF(ISERROR(VLOOKUP($B38,'Round Two'!$C:$J,6,0)),0,IF(AND(LEN($C38)<>0,$D38=\"Yes\"),VLOOKUP($B38,'Round Two'!$C:$J,6,0),\"\"))","v":0},{"$f":"IF(ISERROR(VLOOKUP($B38,'Round Two'!$C:$J,7,0)),0,IF(LEN($C38)<>0,VLOOKUP($B38,'Round Two'!$C:$J,7,0)+1E-24,0))","v":0},{"$f":"IF(ISERROR(VLOOKUP($B38,'Round Three'!$C:$J,8,0)),0,IF(AND(LEN($C38)<>0,$D38=\"Yes\"),VLOOKUP($B38,'Round Three'!$C:$J,8,0),\"\"))","v":0},{"$f":"IF(ISERROR(VLOOKUP(O38,'Round Three'!$C:$J,7,0)),0,IF(AND(LEN($C38)<>0,$D38=\"Yes\"),VLOOKUP(O38,'Round Three'!$C:$J,7,0)+1E-24,0))","v":0},0,{"$f":"IF(ISERROR(VLOOKUP($B38,'Round Three'!$C:$J,6,0)),0,IF(AND(LEN($C38)<>0,$D38=\"Yes\"),VLOOKUP($B38,'Round Three'!$C:$J,6,0),\"\"))","v":0},{"$f":"IF(ISERROR(VLOOKUP($B38,'Round Three'!$C:$J,7,0)),0,IF(LEN($C38)<>0,VLOOKUP($B38,'Round Three'!$C:$J,7,0)+1E-24,0))","v":0},{"$f":"IF(ISERROR(VLOOKUP($B38,'Round Four'!$C:$J,8,0)),0,IF(AND(LEN($C38)<>0,$D38=\"Yes\"),VLOOKUP($B38,'Round Four'!$C:$J,8,0),\"\"))","v":0},{"$f":"IF(ISERROR(VLOOKUP(T38,'Round Four'!$C:$J,7,0)),0,IF(AND(LEN($C38)<>0,$D38=\"Yes\"),VLOOKUP(T38,'Round Four'!$C:$J,7,0)+1E-24,0))","v":0},0,{"$f":"IF(ISERROR(VLOOKUP($B38,'Round Four'!$C:$J,6,0)),0,IF(AND(LEN($C38)<>0,$D38=\"Yes\"),VLOOKUP($B38,'Round Four'!$C:$J,6,0),\"\"))","v":0},{"$f":"IF(ISERROR(VLOOKUP($B38,'Round Four'!$C:$J,7,0)),0,IF(LEN($C38)<>0,VLOOKUP($B38,'Round Four'!$C:$J,7,0)+1E-24,0))","v":0},{"$f":"IF(ISERROR(VLOOKUP($B38,'Round Five'!$C:$J,8,0)),0,IF(AND(LEN($C38)<>0,$D38=\"Yes\"),VLOOKUP($B38,'Round Five'!$C:$J,8,0),\"\"))","v":0},{"$f":"IF(ISERROR(VLOOKUP(Y38,'Round Five'!$C:$J,7,0)),0,IF(AND(LEN($C38)<>0,$D38=\"Yes\"),VLOOKUP(Y38,'Round Five'!$C:$J,7,0)+1E-24,0))","v":0},0,{"$f":"IF(ISERROR(VLOOKUP($B38,'Round Five'!$C:$J,6,0)),0,IF(AND(LEN($C38)<>0,$D38=\"Yes\"),VLOOKUP($B38,'Round Five'!$C:$J,6,0),\"\"))","v":0},{"$f":"IF(ISERROR(VLOOKUP($B38,'Round Five'!$C:$J,7,0)),0,IF(LEN($C38)<>0,VLOOKUP($B38,'Round Five'!$C:$J,7,0)+1E-24,0))","v":0},{"$f":"IF(ISERROR(VLOOKUP($B38,'Round Six'!$C:$J,8,0)),0,IF(AND(LEN($C38)<>0,$D38=\"Yes\"),VLOOKUP($B38,'Round Six'!$C:$J,8,0),\"\"))","v":0},{"$f":"IF(ISERROR(VLOOKUP(AD38,'Round Six'!$C:$J,7,0)),0,IF(AND(LEN($C38)<>0,$D38=\"Yes\"),VLOOKUP(AD38,'Round Six'!$C:$J,7,0)+1E-24,0))","v":0},0,{"$f":"IF(ISERROR(VLOOKUP($B38,'Round Six'!$C:$J,6,0)),0,IF(AND(LEN($C38)<>0,$D38=\"Yes\"),VLOOKUP($B38,'Round Six'!$C:$J,6,0),\"\"))","v":0},{"$f":"IF(ISERROR(VLOOKUP($B38,'Round Six'!$C:$J,7,0)),0,IF(LEN($C38)<>0,VLOOKUP($B38,'Round Six'!$C:$J,7,0)+1E-24,0))","v":0},{"$f":"IF(ISERROR(VLOOKUP($B38,'Round Seven'!$C:$J,8,0)),0,IF(AND(LEN($C38)<>0,$D38=\"Yes\"),VLOOKUP($B38,'Round Seven'!$C:$J,8,0),\"\"))","v":0},{"$f":"IF(ISERROR(VLOOKUP(AI38,'Round Seven'!$C:$J,7,0)),0,IF(AND(LEN($C38)<>0,$D38=\"Yes\"),VLOOKUP(AI38,'Round Seven'!$C:$J,7,0)+1E-24,0))","v":0},0,{"$f":"IF(ISERROR(VLOOKUP($B38,'Round Seven'!$C:$J,6,0)),0,IF(AND(LEN($C38)<>0,$D38=\"Yes\"),VLOOKUP($B38,'Round Seven'!$C:$J,6,0),\"\"))","v":0},{"$f":"IF(ISERROR(VLOOKUP($B38,'Round Seven'!$C:$J,7,0)),0,IF(LEN($C38)<>0,VLOOKUP($B38,'Round Seven'!$C:$J,7,0)+1E-24,0))","v":0},{"$f":"IF(ISERROR(VLOOKUP($B38,'Round Eight'!$C:$J,8,0)),0,IF(AND(LEN($C38)<>0,$D38=\"Yes\"),VLOOKUP($B38,'Round Eight'!$C:$J,8,0),\"\"))","v":0},{"$f":"IF(ISERROR(VLOOKUP(AN38,'Round Eight'!$C:$J,7,0)),0,IF(AND(LEN($C38)<>0,$D38=\"Yes\"),VLOOKUP(AN38,'Round Eight'!$C:$J,7,0)+1E-24,0))","v":0},0,{"$f":"IF(ISERROR(VLOOKUP($B38,'Round Eight'!$C:$J,6,0)),0,IF(AND(LEN($C38)<>0,$D38=\"Yes\"),VLOOKUP($B38,'Round Eight'!$C:$J,6,0),\"\"))","v":0},{"$f":"IF(ISERROR(VLOOKUP($B38,'Round Eight'!$C:$J,7,0)),0,IF(LEN($C38)<>0,VLOOKUP($B38,'Round Eight'!$C:$J,7,0)+1E-24,0))","v":0},{"$f":"IF(ISERROR(VLOOKUP($B38,'Round Nine'!$C:$J,8,0)),0,IF(AND(LEN($C38)<>0,$D38=\"Yes\"),VLOOKUP($B38,'Round Nine'!$C:$J,8,0),\"\"))","v":0},{"$f":"IF(ISERROR(VLOOKUP(AS38,'Round Nine'!$C:$J,7,0)),0,IF(AND(LEN($C38)<>0,$D38=\"Yes\"),VLOOKUP(AS38,'Round Nine'!$C:$J,7,0)+1E-24,0))","v":0},0,{"$f":"IF(ISERROR(VLOOKUP($B38,'Round Nine'!$C:$J,6,0)),0,IF(AND(LEN($C38)<>0,$D38=\"Yes\"),VLOOKUP($B38,'Round Nine'!$C:$J,6,0),\"\"))","v":0},{"$f":"IF(ISERROR(VLOOKUP($B38,'Round Nine'!$C:$J,7,0)),0,IF(LEN($C38)<>0,VLOOKUP($B38,'Round Nine'!$C:$J,7,0)+1E-24,0))","v":0},null,0,0,0,{"$f":"IF(D38<>\"Yes\",A38*-10,AY38*1000000+AZ38*10000+BA38+(A38/100000))+IF(OR(Accel_Pairing_2!$B$4=\"no\",D38<>\"Yes\",ISERROR(VLOOKUP(C38,PowerRanking!A:B,2,0))),0,(VLOOKUP(C38,PowerRanking!A:D,4,0)*1000000)+VLOOKUP(C38,PowerRanking!A:D,2,0)/10)","v":-8.5021864836629515},55,"T35",0,""]
[0.78045224431924254,"T36",null,null,{"$f":"IF(ISERROR(VLOOKUP($B39,'Round One'!$C:$J,8,0)),0,IF(AND(LEN($C39)<>0,$D39=\"Yes\"),VLOOKUP($B39,'Round One'!$C:$J,8,0),0))","v":0},{"$f":"IF(ISERROR(VLOOKUP(E39,'Round One'!$C:$J,7,0)),0,IF(AND(LEN($C39)<>0,$D39=\"Yes\"),VALUE(VLOOKUP(E39,'Round One'!$C:$J,7,0)+1E-24),0))","v":0},0,{"$f":"IF(ISERROR(VLOOKUP($B39,'Round One'!$C:$J,6,0)),0,IF(AND(LEN($C39)<>0,$D39=\"Yes\"),VLOOKUP($B39,'Round One'!$C:$J,6,0),\"\"))","v":0},{"$f":"IF(ISERROR(VLOOKUP($B39,'Round One'!$C:$J,7,0)),0,IF(LEN($C39)<>0,VLOOKUP($B39,'Round One'!$C:$J,7,0)+1E-24,0))","v":0},{"$f":"IF(ISERROR(VLOOKUP($B39,'Round Two'!$C:$J,8,0)),0,IF(AND(LEN($C39)<>0,$D39=\"Yes\"),VLOOKUP($B39,'Round Two'!$C:$J,8,0),\"\"))","v":0},{"$f":"IF(ISERROR(VLOOKUP(J39,'Round Two'!$C:$J,7,0)),0,IF(AND(LEN($C39)<>0,$D39=\"Yes\"),VLOOKUP(J39,'Round Two'!$C:$J,7,0)+1E-24,0))","v":0},0,{"$f":"IF(ISERROR(VLOOKUP($B39,'Round Two'!$C:$J,6,0)),0,IF(AND(LEN($C39)<>0,$D39=\"Yes\"),VLOOKUP($B39,'Round Two'!$C:$J,6,0),\"\"))","v":0},{"$f":"IF(ISERROR(VLOOKUP($B39,'Round Two'!$C:$J,7,0)),0,IF(LEN($C39)<>0,VLOOKUP($B39,'Round Two'!$C:$J,7,0)+1E-24,0))","v":0},{"$f":"IF(ISERROR(VLOOKUP($B39,'Round Three'!$C:$J,8,0)),0,IF(AND(LEN($C39)<>0,$D39=\"Yes\"),VLOOKUP($B39,'Round Three'!$C:$J,8,0),\"\"))","v":0},{"$f":"IF(ISERROR(VLOOKUP(O39,'Round Three'!$C:$J,7,0)),0,IF(AND(LEN($C39)<>0,$D39=\"Yes\"),VLOOKUP(O39,'Round Three'!$C:$J,7,0)+1E-24,0))","v":0},0,{"$f":"IF(ISERROR(VLOOKUP($B39,'Round Three'!$C:$J,6,0)),0,IF(AND(LEN($C39)<>0,$D39=\"Yes\"),VLOOKUP($B39,'Round Three'!$C:$J,6,0),\"\"))","v":0},{"$f":"IF(ISERROR(VLOOKUP($B39,'Round Three'!$C:$J,7,0)),0,IF(LEN($C39)<>0,VLOOKUP($B39,'Round Three'!$C:$J,7,0)+1E-24,0))","v":0},{"$f":"IF(ISERROR(VLOOKUP($B39,'Round Four'!$C:$J,8,0)),0,IF(AND(LEN($C39)<>0,$D39=\"Yes\"),VLOOKUP($B39,'Round Four'!$C:$J,8,0),\"\"))","v":0},{"$f":"IF(ISERROR(VLOOKUP(T39,'Round Four'!$C:$J,7,0)),0,IF(AND(LEN($C39)<>0,$D39=\"Yes\"),VLOOKUP(T39,'Round Four'!$C:$J,7,0)+1E-24,0))","v":0},0,{"$f":"IF(ISERROR(VLOOKUP($B39,'Round Four'!$C:$J,6,0)),0,IF(AND(LEN($C39)<>0,$D39=\"Yes\"),VLOOKUP($B39,'Round Four'!$C:$J,6,0),\"\"))","v":0},{"$f":"IF(ISERROR(VLOOKUP($B39,'Round Four'!$C:$J,7,0)),0,IF(LEN($C39)<>0,VLOOKUP($B39,'Round Four'!$C:$J,7,0)+1E-24,0))","v":0},{"$f":"IF(ISERROR(VLOOKUP($B39,'Round Five'!$C:$J,8,0)),0,IF(AND(LEN($C39)<>0,$D39=\"Yes\"),VLOOKUP($B39,'Round Five'!$C:$J,8,0),\"\"))","v":0},{"$f":"IF(ISERROR(VLOOKUP(Y39,'Round Five'!$C:$J,7,0)),0,IF(AND(LEN($C39)<>0,$D39=\"Yes\"),VLOOKUP(Y39,'Round Five'!$C:$J,7,0)+1E-24,0))","v":0},0,{"$f":"IF(ISERROR(VLOOKUP($B39,'Round Five'!$C:$J,6,0)),0,IF(AND(LEN($C39)<>0,$D39=\"Yes\"),VLOOKUP($B39,'Round Five'!$C:$J,6,0),\"\"))","v":0},{"$f":"IF(ISERROR(VLOOKUP($B39,'Round Five'!$C:$J,7,0)),0,IF(LEN($C39)<>0,VLOOKUP($B39,'Round Five'!$C:$J,7,0)+1E-24,0))","v":0},{"$f":"IF(ISERROR(VLOOKUP($B39,'Round Six'!$C:$J,8,0)),0,IF(AND(LEN($C39)<>0,$D39=\"Yes\"),VLOOKUP($B39,'Round Six'!$C:$J,8,0),\"\"))","v":0},{"$f":"IF(ISERROR(VLOOKUP(AD39,'Round Six'!$C:$J,7,0)),0,IF(AND(LEN($C39)<>0,$D39=\"Yes\"),VLOOKUP(AD39,'Round Six'!$C:$J,7,0)+1E-24,0))","v":0},0,{"$f":"IF(ISERROR(VLOOKUP($B39,'Round Six'!$C:$J,6,0)),0,IF(AND(LEN($C39)<>0,$D39=\"Yes\"),VLOOKUP($B39,'Round Six'!$C:$J,6,0),\"\"))","v":0},{"$f":"IF(ISERROR(VLOOKUP($B39,'Round Six'!$C:$J,7,0)),0,IF(LEN($C39)<>0,VLOOKUP($B39,'Round Six'!$C:$J,7,0)+1E-24,0))","v":0},{"$f":"IF(ISERROR(VLOOKUP($B39,'Round Seven'!$C:$J,8,0)),0,IF(AND(LEN($C39)<>0,$D39=\"Yes\"),VLOOKUP($B39,'Round Seven'!$C:$J,8,0),\"\"))","v":0},{"$f":"IF(ISERROR(VLOOKUP(AI39,'Round Seven'!$C:$J,7,0)),0,IF(AND(LEN($C39)<>0,$D39=\"Yes\"),VLOOKUP(AI39,'Round Seven'!$C:$J,7,0)+1E-24,0))","v":0},0,{"$f":"IF(ISERROR(VLOOKUP($B39,'Round Seven'!$C:$J,6,0)),0,IF(AND(LEN($C39)<>0,$D39=\"Yes\"),VLOOKUP($B39,'Round Seven'!$C:$J,6,0),\"\"))","v":0},{"$f":"IF(ISERROR(VLOOKUP($B39,'Round Seven'!$C:$J,7,0)),0,IF(LEN($C39)<>0,VLOOKUP($B39,'Round Seven'!$C:$J,7,0)+1E-24,0))","v":0},{"$f":"IF(ISERROR(VLOOKUP($B39,'Round Eight'!$C:$J,8,0)),0,IF(AND(LEN($C39)<>0,$D39=\"Yes\"),VLOOKUP($B39,'Round Eight'!$C:$J,8,0),\"\"))","v":0},{"$f":"IF(ISERROR(VLOOKUP(AN39,'Round Eight'!$C:$J,7,0)),0,IF(AND(LEN($C39)<>0,$D39=\"Yes\"),VLOOKUP(AN39,'Round Eight'!$C:$J,7,0)+1E-24,0))","v":0},0,{"$f":"IF(ISERROR(VLOOKUP($B39,'Round Eight'!$C:$J,6,0)),0,IF(AND(LEN($C39)<>0,$D39=\"Yes\"),VLOOKUP($B39,'Round Eight'!$C:$J,6,0),\"\"))","v":0},{"$f":"IF(ISERROR(VLOOKUP($B39,'Round Eight'!$C:$J,7,0)),0,IF(LEN($C39)<>0,VLOOKUP($B39,'Round Eight'!$C:$J,7,0)+1E-24,0))","v":0},{"$f":"IF(ISERROR(VLOOKUP($B39,'Round Nine'!$C:$J,8,0)),0,IF(AND(LEN($C39)<>0,$D39=\"Yes\"),VLOOKUP($B39,'Round Nine'!$C:$J,8,0),\"\"))","v":0},{"$f":"IF(ISERROR(VLOOKUP(AS39,'Round Nine'!$C:$J,7,0)),0,IF(AND(LEN($C39)<>0,$D39=\"Yes\"),VLOOKUP(AS39,'Round Nine'!$C:$J,7,0)+1E-24,0))","v":0},0,{"$f":"IF(ISERROR(VLOOKUP($B39,'Round Nine'!$C:$J,6,0)),0,IF(AND(LEN($C39)<>0,$D39=\"Yes\"),VLOOKUP($B39,'Round Nine'!$C:$J,6,0),\"\"))","v":0},{"$f":"IF(ISERROR(VLOOKUP($B39,'Round Nine'!$C:$J,7,0)),0,IF(LEN($C39)<>0,VLOOKUP($B39,'Round Nine'!$C:$J,7,0)+1E-24,0))","v":0},null,0,0,0,{"$f":"IF(D39<>\"Yes\",A39*-10,AY39*1000000+AZ39*10000+BA39+(A39/100000))+IF(OR(Accel_Pairing_2!$B$4=\"no\",D39<>\"Yes\",ISERROR(VLOOKUP(C39,PowerRanking!A:B,2,0))),0,(VLOOKUP(C39,PowerRanking!A:D,4,0)*1000000)+VLOOKUP(C39,PowerRanking!A:D,2,0)/10)","v":-7.8045224431924254},52,"T36",0,""]
[0.69208080960575002,"T37",null,null,{"$f":"IF(ISERROR(VLOOKUP($B40,'Round One'!$C:$J,8,0)),0,IF(AND(LEN($C40)<>0,$D40=\"Yes\"),VLOOKUP($B40,'Round One'!$C:$J,8,0),0))","v":0},{"$f":"IF(ISERROR(VLOOKUP(E40,'Round One'!$C:$J,7,0)),0,IF(AND(LEN($C40)<>0,$D40=\"Yes\"),VALUE(VLOOKUP(E40,'Round One'!$C:$J,7,0)+1E-24),0))","v":0},0,{"$f":"IF(ISERROR(VLOOKUP($B40,'Round One'!$C:$J,6,0)),0,IF(AND(LEN($C40)<>0,$D40=\"Yes\"),VLOOKUP($B40,'Round One'!$C:$J,6,0),\"\"))","v":0},{"$f":"IF(ISERROR(VLOOKUP($B40,'Round One'!$C:$J,7,0)),0,IF(LEN($C40)<>0,VLOOKUP($B40,'Round One'!$C:$J,7,0)+1E-24,0))","v":0},{"$f":"IF(ISERROR(VLOOKUP($B40,'Round Two'!$C:$J,8,0)),0,IF(AND(LEN($C40)<>0,$D40=\"Yes\"),VLOOKUP($B40,'Round Two'!$C:$J,8,0),\"\"))","v":0},{"$f":"IF(ISERROR(VLOOKUP(J40,'Round Two'!$C:$J,7,0)),0,IF(AND(LEN($C40)<>0,$D40=\"Yes\"),VLOOKUP(J40,'Round Two'!$C:$J,7,0)+1E-24,0))","v":0},0,{"$f":"IF(ISERROR(VLOOKUP($B40,'Round Two'!$C:$J,6,0)),0,IF(AND(LEN($C40)<>0,$D40=\"Yes\"),VLOOKUP($B40,'Round Two'!$C:$J,6,0),\"\"))","v":0},{"$f":"IF(ISERROR(VLOOKUP($B40,'Round Two'!$C:$J,7,0)),0,IF(LEN($C40)<>0,VLOOKUP($B40,'Round Two'!$C:$J,7,0)+1E-24,0))","v":0},{"$f":"IF(ISERROR(VLOOKUP($B40,'Round Three'!$C:$J,8,0)),0,IF(AND(LEN($C40)<>0,$D40=\"Yes\"),VLOOKUP($B40,'Round Three'!$C:$J,8,0),\"\"))","v":0},{"$f":"IF(ISERROR(VLOOKUP(O40,'Round Three'!$C:$J,7,0)),0,IF(AND(LEN($C40)<>0,$D40=\"Yes\"),VLOOKUP(O40,'Round Three'!$C:$J,7,0)+1E-24,0))","v":0},0,{"$f":"IF(ISERROR(VLOOKUP($B40,'Round Three'!$C:$J,6,0)),0,IF(AND(LEN($C40)<>0,$D40=\"Yes\"),VLOOKUP($B40,'Round Three'!$C:$J,6,0),\"\"))","v":0},{"$f":"IF(ISERROR(VLOOKUP($B40,'Round Three'!$C:$J,7,0)),0,IF(LEN($C40)<>0,VLOOKUP($B40,'Round Three'!$C:$J,7,0)+1E-24,0))","v":0},{"$f":"IF(ISERROR(VLOOKUP($B40,'Round Four'!$C:$J,8,0)),0,IF(AND(LEN($C40)<>0,$D40=\"Yes\"),VLOOKUP($B40,'Round Four'!$C:$J,8,0),\"\"))","v":0},{"$f":"IF(ISERROR(VLOOKUP(T40,'Round Four'!$C:$J,7,0)),0,IF(AND(LEN($C40)<>0,$D40=\"Yes\"),VLOOKUP(T40,'Round Four'!$C:$J,7,0)+1E-24,0))","v":0},0,{"$f":"IF(ISERROR(VLOOKUP($B40,'Round Four'!$C:$J,6,0)),0,IF(AND(LEN($C40)<>0,$D40=\"Yes\"),VLOOKUP($B40,'Round Four'!$C:$J,6,0),\"\"))","v":0},{"$f":"IF(ISERROR(VLOOKUP($B40,'Round Four'!$C:$J,7,0)),0,IF(LEN($C40)<>0,VLOOKUP($B40,'Round Four'!$C:$J,7,0)+1E-24,0))","v":0},{"$f":"IF(ISERROR(VLOOKUP($B40,'Round Five'!$C:$J,8,0)),0,IF(AND(LEN($C40)<>0,$D40=\"Yes\"),VLOOKUP($B40,'Round Five'!$C:$J,8,0),\"\"))","v":0},{"$f":"IF(ISERROR(VLOOKUP(Y40,'Round Five'!$C:$J,7,0)),0,IF(AND(LEN($C40)<>0,$D40=\"Yes\"),VLOOKUP(Y40,'Round Five'!$C:$J,7,0)+1E-24,0))","v":0},0,{"$f":"IF(ISERROR(VLOOKUP($B40,'Round Five'!$C:$J,6,0)),0,IF(AND(LEN($C40)<>0,$D40=\"Yes\"),VLOOKUP($B40,'Round Five'!$C:$J,6,0),\"\"))","v":0},{"$f":"IF(ISERROR(VLOOKUP($B40,'Round Five'!$C:$J,7,0)),0,IF(LEN($C40)<>0,VLOOKUP($B40,'Round Five'!$C:$J,7,0)+1E-24,0))","v":0},{"$f":"IF(ISERROR(VLOOKUP($B40,'Round Six'!$C:$J,8,0)),0,IF(AND(LEN($C40)<>0,$D40=\"Yes\"),VLOOKUP($B40,'Round Six'!$C:$J,8,0),\"\"))","v":0},{"$f":"IF(ISERROR(VLOOKUP(AD40,'Round Six'!$C:$J,7,0)),0,IF(AND(LEN($C40)<>0,$D40=\"Yes\"),VLOOKUP(AD40,'Round Six'!$C:$J,7,0)+1E-24,0))","v":0},0,{"$f":"IF(ISERROR(VLOOKUP($B40,'Round Six'!$C:$J,6,0)),0,IF(AND(LEN($C40)<>0,$D40=\"Yes\"),VLOOKUP($B40,'Round Six'!$C:$J,6,0),\"\"))","v":0},{"$f":"IF(ISERROR(VLOOKUP($B40,'Round Six'!$C:$J,7,0)),0,IF(LEN($C40)<>0,VLOOKUP($B40,'Round Six'!$C:$J,7,0)+1E-24,0))","v":0},{"$f":"IF(ISERROR(VLOOKUP($B40,'Round Seven'!$C:$J,8,0)),0,IF(AND(LEN($C40)<>0,$D40=\"Yes\"),VLOOKUP($B40,'Round Seven'!$C:$J,8,0),\"\"))","v":0},{"$f":"IF(ISERROR(VLOOKUP(AI40,'Round Seven'!$C:$J,7,0)),0,IF(AND(LEN($C40)<>0,$D40=\"Yes\"),VLOOKUP(AI40,'Round Seven'!$C:$J,7,0)+1E-24,0))","v":0},0,{"$f":"IF(ISERROR(VLOOKUP($B40,'Round Seven'!$C:$J,6,0)),0,IF(AND(LEN($C40)<>0,$D40=\"Yes\"),VLOOKUP($B40,'Round Seven'!$C:$J,6,0),\"\"))","v":0},{"$f":"IF(ISERROR(VLOOKUP($B40,'Round Seven'!$C:$J,7,0)),0,IF(LEN($C40)<>0,VLOOKUP($B40,'Round Seven'!$C:$J,7,0)+1E-24,0))","v":0},{"$f":"IF(ISERROR(VLOOKUP($B40,'Round Eight'!$C:$J,8,0)),0,IF(AND(LEN($C40)<>0,$D40=\"Yes\"),VLOOKUP($B40,'Round Eight'!$C:$J,8,0),\"\"))","v":0},{"$f":"IF(ISERROR(VLOOKUP(AN40,'Round Eight'!$C:$J,7,0)),0,IF(AND(LEN($C40)<>0,$D40=\"Yes\"),VLOOKUP(AN40,'Round Eight'!$C:$J,7,0)+1E-24,0))","v":0},0,{"$f":"IF(ISERROR(VLOOKUP($B40,'Round Eight'!$C:$J,6,0)),0,IF(AND(LEN($C40)<>0,$D40=\"Yes\"),VLOOKUP($B40,'Round Eight'!$C:$J,6,0),\"\"))","v":0},{"$f":"IF(ISERROR(VLOOKUP($B40,'Round Eight'!$C:$J,7,0)),0,IF(LEN($C40)<>0,VLOOKUP($B40,'Round Eight'!$C:$J,7,0)+1E-24,0))","v":0},{"$f":"IF(ISERROR(VLOOKUP($B40,'Round Nine'!$C:$J,8,0)),0,IF(AND(LEN($C40)<>0,$D40=\"Yes\"),VLOOKUP($B40,'Round Nine'!$C:$J,8,0),\"\"))","v":0},{"$f":"IF(ISERROR(VLOOKUP(AS40,'Round Nine'!$C:$J,7,0)),0,IF(AND(LEN($C40)<>0,$D40=\"Yes\"),VLOOKUP(AS40,'Round Nine'!$C:$J,7,0)+1E-24,0))","v":0},0,{"$f":"IF(ISERROR(VLOOKUP($B40,'Round Nine'!$C:$J,6,0)),0,IF(AND(LEN($C40)<>0,$D40=\"Yes\"),VLOOKUP($B40,'Round Nine'!$C:$J,6,0),\"\"))","v":0},{"$f":"IF(ISERROR(VLOOKUP($B40,'Round Nine'!$C:$J,7,0)),0,IF(LEN($C40)<>0,VLOOKUP($B40,'Round Nine'!$C:$J,7,0)+1E-24,0))","v":0},null,0,0,0,{"$f":"IF(D40<>\"Yes\",A40*-10,AY40*1000000+AZ40*10000+BA40+(A40/100000))+IF(OR(Accel_Pairing_2!$B$4=\"no\",D40<>\"Yes\",ISERROR(VLOOKUP(C40,PowerRanking!A:B,2,0))),0,(VLOOKUP(C40,PowerRanking!A:D,4,0)*1000000)+VLOOKUP(C40,PowerRanking!A:D,2,0)/10)","v":-6.9208080960575007},45,"T37",0,""]
[0.10403558377824873,"T38",null,null,{"$f":"IF(ISERROR(VLOOKUP($B41,'Round One'!$C:$J,8,0)),0,IF(AND(LEN($C41)<>0,$D41=\"Yes\"),VLOOKUP($B41,'Round One'!$C:$J,8,0),0))","v":0},{"$f":"IF(ISERROR(VLOOKUP(E41,'Round One'!$C:$J,7,0)),0,IF(AND(LEN($C41)<>0,$D41=\"Yes\"),VALUE(VLOOKUP(E41,'Round One'!$C:$J,7,0)+1E-24),0))","v":0},0,{"$f":"IF(ISERROR(VLOOKUP($B41,'Round One'!$C:$J,6,0)),0,IF(AND(LEN($C41)<>0,$D41=\"Yes\"),VLOOKUP($B41,'Round One'!$C:$J,6,0),\"\"))","v":0},{"$f":"IF(ISERROR(VLOOKUP($B41,'Round One'!$C:$J,7,0)),0,IF(LEN($C41)<>0,VLOOKUP($B41,'Round One'!$C:$J,7,0)+1E-24,0))","v":0},{"$f":"IF(ISERROR(VLOOKUP($B41,'Round Two'!$C:$J,8,0)),0,IF(AND(LEN($C41)<>0,$D41=\"Yes\"),VLOOKUP($B41,'Round Two'!$C:$J,8,0),\"\"))","v":0},{"$f":"IF(ISERROR(VLOOKUP(J41,'Round Two'!$C:$J,7,0)),0,IF(AND(LEN($C41)<>0,$D41=\"Yes\"),VLOOKUP(J41,'Round Two'!$C:$J,7,0)+1E-24,0))","v":0},0,{"$f":"IF(ISERROR(VLOOKUP($B41,'Round Two'!$C:$J,6,0)),0,IF(AND(LEN($C41)<>0,$D41=\"Yes\"),VLOOKUP($B41,'Round Two'!$C:$J,6,0),\"\"))","v":0},{"$f":"IF(ISERROR(VLOOKUP($B41,'Round Two'!$C:$J,7,0)),0,IF(LEN($C41)<>0,VLOOKUP($B41,'Round Two'!$C:$J,7,0)+1E-24,0))","v":0},{"$f":"IF(ISERROR(VLOOKUP($B41,'Round Three'!$C:$J,8,0)),0,IF(AND(LEN($C41)<>0,$D41=\"Yes\"),VLOOKUP($B41,'Round Three'!$C:$J,8,0),\"\"))","v":0},{"$f":"IF(ISERROR(VLOOKUP(O41,'Round Three'!$C:$J,7,0)),0,IF(AND(LEN($C41)<>0,$D41=\"Yes\"),VLOOKUP(O41,'Round Three'!$C:$J,7,0)+1E-24,0))","v":0},0,{"$f":"IF(ISERROR(VLOOKUP($B41,'Round Three'!$C:$J,6,0)),0,IF(AND(LEN($C41)<>0,$D41=\"Yes\"),VLOOKUP($B41,'Round Three'!$C:$J,6,0),\"\"))","v":0},{"$f":"IF(ISERROR(VLOOKUP($B41,'Round Three'!$C:$J,7,0)),0,IF(LEN($C41)<>0,VLOOKUP($B41,'Round Three'!$C:$J,7,0)+1E-24,0))","v":0},{"$f":"IF(ISERROR(VLOOKUP($B41,'Round Four'!$C:$J,8,0)),0,IF(AND(LEN($C41)<>0,$D41=\"Yes\"),VLOOKUP($B41,'Round Four'!$C:$J,8,0),\"\"))","v":0},{"$f":"IF(ISERROR(VLOOKUP(T41,'Round Four'!$C:$J,7,0)),0,IF(AND(LEN($C41)<>0,$D41=\"Yes\"),VLOOKUP(T41,'Round Four'!$C:$J,7,0)+1E-24,0))","v":0},0,{"$f":"IF(ISERROR(VLOOKUP($B41,'Round Four'!$C:$J,6,0)),0,IF(AND(LEN($C41)<>0,$D41=\"Yes\"),VLOOKUP($B41,'Round Four'!$C:$J,6,0),\"\"))","v":0},{"$f":"IF(ISERROR(VLOOKUP($B41,'Round Four'!$C:$J,7,0)),0,IF(LEN($C41)<>0,VLOOKUP($B41,'Round Four'!$C:$J,7,0)+1E-24,0))","v":0},{"$f":"IF(ISERROR(VLOOKUP($B41,'Round Five'!$C:$J,8,0)),0,IF(AND(LEN($C41)<>0,$D41=\"Yes\"),VLOOKUP($B41,'Round Five'!$C:$J,8,0),\"\"))","v":0},{"$f":"IF(ISERROR(VLOOKUP(Y41,'Round Five'!$C:$J,7,0)),0,IF(AND(LEN($C41)<>0,$D41=\"Yes\"),VLOOKUP(Y41,'Round Five'!$C:$J,7,0)+1E-24,0))","v":0},0,{"$f":"IF(ISERROR(VLOOKUP($B41,'Round Five'!$C:$J,6,0)),0,IF(AND(LEN($C41)<>0,$D41=\"Yes\"),VLOOKUP($B41,'Round Five'!$C:$J,6,0),\"\"))","v":0},{"$f":"IF(ISERROR(VLOOKUP($B41,'Round Five'!$C:$J,7,0)),0,IF(LEN($C41)<>0,VLOOKUP($B41,'Round Five'!$C:$J,7,0)+1E-24,0))","v":0},{"$f":"IF(ISERROR(VLOOKUP($B41,'Round Six'!$C:$J,8,0)),0,IF(AND(LEN($C41)<>0,$D41=\"Yes\"),VLOOKUP($B41,'Round Six'!$C:$J,8,0),\"\"))","v":0},{"$f":"IF(ISERROR(VLOOKUP(AD41,'Round Six'!$C:$J,7,0)),0,IF(AND(LEN($C41)<>0,$D41=\"Yes\"),VLOOKUP(AD41,'Round Six'!$C:$J,7,0)+1E-24,0))","v":0},0,{"$f":"IF(ISERROR(VLOOKUP($B41,'Round Six'!$C:$J,6,0)),0,IF(AND(LEN($C41)<>0,$D41=\"Yes\"),VLOOKUP($B41,'Round Six'!$C:$J,6,0),\"\"))","v":0},{"$f":"IF(ISERROR(VLOOKUP($B41,'Round Six'!$C:$J,7,0)),0,IF(LEN($C41)<>0,VLOOKUP($B41,'Round Six'!$C:$J,7,0)+1E-24,0))","v":0},{"$f":"IF(ISERROR(VLOOKUP($B41,'Round Seven'!$C:$J,8,0)),0,IF(AND(LEN($C41)<>0,$D41=\"Yes\"),VLOOKUP($B41,'Round Seven'!$C:$J,8,0),\"\"))","v":0},{"$f":"IF(ISERROR(VLOOKUP(AI41,'Round Seven'!$C:$J,7,0)),0,IF(AND(LEN($C41)<>0,$D41=\"Yes\"),VLOOKUP(AI41,'Round Seven'!$C:$J,7,0)+1E-24,0))","v":0},0,{"$f":"IF(ISERROR(VLOOKUP($B41,'Round Seven'!$C:$J,6,0)),0,IF(AND(LEN($C41)<>0,$D41=\"Yes\"),VLOOKUP($B41,'Round Seven'!$C:$J,6,0),\"\"))","v":0},{"$f":"IF(ISERROR(VLOOKUP($B41,'Round Seven'!$C:$J,7,0)),0,IF(LEN($C41)<>0,VLOOKUP($B41,'Round Seven'!$C:$J,7,0)+1E-24,0))","v":0},{"$f":"IF(ISERROR(VLOOKUP($B41,'Round Eight'!$C:$J,8,0)),0,IF(AND(LEN($C41)<>0,$D41=\"Yes\"),VLOOKUP($B41,'Round Eight'!$C:$J,8,0),\"\"))","v":0},{"$f":"IF(ISERROR(VLOOKUP(AN41,'Round Eight'!$C:$J,7,0)),0,IF(AND(LEN($C41)<>0,$D41=\"Yes\"),VLOOKUP(AN41,'Round Eight'!$C:$J,7,0)+1E-24,0))","v":0},0,{"$f":"IF(ISERROR(VLOOKUP($B41,'Round Eight'!$C:$J,6,0)),0,IF(AND(LEN($C41)<>0,$D41=\"Yes\"),VLOOKUP($B41,'Round Eight'!$C:$J,6,0),\"\"))","v":0},{"$f":"IF(ISERROR(VLOOKUP($B41,'Round Eight'!$C:$J,7,0)),0,IF(LEN($C41)<>0,VLOOKUP($B41,'Round Eight'!$C:$J,7,0)+1E-24,0))","v":0},{"$f":"IF(ISERROR(VLOOKUP($B41,'Round Nine'!$C:$J,8,0)),0,IF(AND(LEN($C41)<>0,$D41=\"Yes\"),VLOOKUP($B41,'Round Nine'!$C:$J,8,0),\"\"))","v":0},{"$f":"IF(ISERROR(VLOOKUP(AS41,'Round Nine'!$C:$J,7,0)),0,IF(AND(LEN($C41)<>0,$D41=\"Yes\"),VLOOKUP(AS41,'Round Nine'!$C:$J,7,0)+1E-24,0))","v":0},0,{"$f":"IF(ISERROR(VLOOKUP($B41,'Round Nine'!$C:$J,6,0)),0,IF(AND(LEN($C41)<>0,$D41=\"Yes\"),VLOOKUP($B41,'Round Nine'!$C:$J,6,0),\"\"))","v":0},{"$f":"IF(ISERROR(VLOOKUP($B41,'Round Nine'!$C:$J,7,0)),0,IF(LEN($C41)<>0,VLOOKUP($B41,'Round Nine'!$C:$J,7,0)+1E-24,0))","v":0},null,0,0,0,{"$f":"IF(D41<>\"Yes\",A41*-10,AY41*1000000+AZ41*10000+BA41+(A41/100000))+IF(OR(Accel_Pairing_2!$B$4=\"no\",D41<>\"Yes\",ISERROR(VLOOKUP(C41,PowerRanking!A:B,2,0))),0,(VLOOKUP(C41,PowerRanking!A:D,4,0)*1000000)+VLOOKUP(C41,PowerRanking!A:D,2,0)/10)","v":-1.0403558377824873},6,"T38",0,""]
[0.27082162478180904,"T39",null,null,{"$f":"IF(ISERROR(VLOOKUP($B42,'Round One'!$C:$J,8,0)),0,IF(AND(LEN($C42)<>0,$D42=\"Yes\"),VLOOKUP($B42,'Round One'!$C:$J,8,0),0))","v":0},{"$f":"IF(ISERROR(VLOOKUP(E42,'Round One'!$C:$J,7,0)),0,IF(AND(LEN($C42)<>0,$D42=\"Yes\"),VALUE(VLOOKUP(E42,'Round One'!$C:$J,7,0)+1E-24),0))","v":0},0,{"$f":"IF(ISERROR(VLOOKUP($B42,'Round One'!$C:$J,6,0)),0,IF(AND(LEN($C42)<>0,$D42=\"Yes\"),VLOOKUP($B42,'Round One'!$C:$J,6,0),\"\"))","v":0},{"$f":"IF(ISERROR(VLOOKUP($B42,'Round One'!$C:$J,7,0)),0,IF(LEN($C42)<>0,VLOOKUP($B42,'Round One'!$C:$J,7,0)+1E-24,0))","v":0},{"$f":"IF(ISERROR(VLOOKUP($B42,'Round Two'!$C:$J,8,0)),0,IF(AND(LEN($C42)<>0,$D42=\"Yes\"),VLOOKUP($B42,'Round Two'!$C:$J,8,0),\"\"))","v":0},{"$f":"IF(ISERROR(VLOOKUP(J42,'Round Two'!$C:$J,7,0)),0,IF(AND(LEN($C42)<>0,$D42=\"Yes\"),VLOOKUP(J42,'Round Two'!$C:$J,7,0)+1E-24,0))","v":0},0,{"$f":"IF(ISERROR(VLOOKUP($B42,'Round Two'!$C:$J,6,0)),0,IF(AND(LEN($C42)<>0,$D42=\"Yes\"),VLOOKUP($B42,'Round Two'!$C:$J,6,0),\"\"))","v":0},{"$f":"IF(ISERROR(VLOOKUP($B42,'Round Two'!$C:$J,7,0)),0,IF(LEN($C42)<>0,VLOOKUP($B42,'Round Two'!$C:$J,7,0)+1E-24,0))","v":0},{"$f":"IF(ISERROR(VLOOKUP($B42,'Round Three'!$C:$J,8,0)),0,IF(AND(LEN($C42)<>0,$D42=\"Yes\"),VLOOKUP($B42,'Round Three'!$C:$J,8,0),\"\"))","v":0},{"$f":"IF(ISERROR(VLOOKUP(O42,'Round Three'!$C:$J,7,0)),0,IF(AND(LEN($C42)<>0,$D42=\"Yes\"),VLOOKUP(O42,'Round Three'!$C:$J,7,0)+1E-24,0))","v":0},0,{"$f":"IF(ISERROR(VLOOKUP($B42,'Round Three'!$C:$J,6,0)),0,IF(AND(LEN($C42)<>0,$D42=\"Yes\"),VLOOKUP($B42,'Round Three'!$C:$J,6,0),\"\"))","v":0},{"$f":"IF(ISERROR(VLOOKUP($B42,'Round Three'!$C:$J,7,0)),0,IF(LEN($C42)<>0,VLOOKUP($B42,'Round Three'!$C:$J,7,0)+1E-24,0))","v":0},{"$f":"IF(ISERROR(VLOOKUP($B42,'Round Four'!$C:$J,8,0)),0,IF(AND(LEN($C42)<>0,$D42=\"Yes\"),VLOOKUP($B42,'Round Four'!$C:$J,8,0),\"\"))","v":0},{"$f":"IF(ISERROR(VLOOKUP(T42,'Round Four'!$C:$J,7,0)),0,IF(AND(LEN($C42)<>0,$D42=\"Yes\"),VLOOKUP(T42,'Round Four'!$C:$J,7,0)+1E-24,0))","v":0},0,{"$f":"IF(ISERROR(VLOOKUP($B42,'Round Four'!$C:$J,6,0)),0,IF(AND(LEN($C42)<>0,$D42=\"Yes\"),VLOOKUP($B42,'Round Four'!$C:$J,6,0),\"\"))","v":0},{"$f":"IF(ISERROR(VLOOKUP($B42,'Round Four'!$C:$J,7,0)),0,IF(LEN($C42)<>0,VLOOKUP($B42,'Round Four'!$C:$J,7,0)+1E-24,0))","v":0},{"$f":"IF(ISERROR(VLOOKUP($B42,'Round Five'!$C:$J,8,0)),0,IF(AND(LEN($C42)<>0,$D42=\"Yes\"),VLOOKUP($B42,'Round Five'!$C:$J,8,0),\"\"))","v":0},{"$f":"IF(ISERROR(VLOOKUP(Y42,'Round Five'!$C:$J,7,0)),0,IF(AND(LEN($C42)<>0,$D42=\"Yes\"),VLOOKUP(Y42,'Round Five'!$C:$J,7,0)+1E-24,0))","v":0},0,{"$f":"IF(ISERROR(VLOOKUP($B42,'Round Five'!$C:$J,6,0)),0,IF(AND(LEN($C42)<>0,$D42=\"Yes\"),VLOOKUP($B42,'Round Five'!$C:$J,6,0),\"\"))","v":0},{"$f":"IF(ISERROR(VLOOKUP($B42,'Round Five'!$C:$J,7,0)),0,IF(LEN($C42)<>0,VLOOKUP($B42,'Round Five'!$C:$J,7,0)+1E-24,0))","v":0},{"$f":"IF(ISERROR(VLOOKUP($B42,'Round Six'!$C:$J,8,0)),0,IF(AND(LEN($C42)<>0,$D42=\"Yes\"),VLOOKUP($B42,'Round Six'!$C:$J,8,0),\"\"))","v":0},{"$f":"IF(ISERROR(VLOOKUP(AD42,'Round Six'!$C:$J,7,0)),0,IF(AND(LEN($C42)<>0,$D42=\"Yes\"),VLOOKUP(AD42,'Round Six'!$C:$J,7,0)+1E-24,0))","v":0},0,{"$f":"IF(ISERROR(VLOOKUP($B42,'Round Six'!$C:$J,6,0)),0,IF(AND(LEN($C42)<>0,$D42=\"Yes\"),VLOOKUP($B42,'Round Six'!$C:$J,6,0),\"\"))","v":0},{"$f":"IF(ISERROR(VLOOKUP($B42,'Round Six'!$C:$J,7,0)),0,IF(LEN($C42)<>0,VLOOKUP($B42,'Round Six'!$C:$J,7,0)+1E-24,0))","v":0},{"$f":"IF(ISERROR(VLOOKUP($B42,'Round Seven'!$C:$J,8,0)),0,IF(AND(LEN($C42)<>0,$D42=\"Yes\"),VLOOKUP($B42,'Round Seven'!$C:$J,8,0),\"\"))","v":0},{"$f":"IF(ISERROR(VLOOKUP(AI42,'Round Seven'!$C:$J,7,0)),0,IF(AND(LEN($C42)<>0,$D42=\"Yes\"),VLOOKUP(AI42,'Round Seven'!$C:$J,7,0)+1E-24,0))","v":0},0,{"$f":"IF(ISERROR(VLOOKUP($B42,'Round Seven'!$C:$J,6,0)),0,IF(AND(LEN($C42)<>0,$D42=\"Yes\"),VLOOKUP($B42,'Round Seven'!$C:$J,6,0),\"\"))","v":0},{"$f":"IF(ISERROR(VLOOKUP($B42,'Round Seven'!$C:$J,7,0)),0,IF(LEN($C42)<>0,VLOOKUP($B42,'Round Seven'!$C:$J,7,0)+1E-24,0))","v":0},{"$f":"IF(ISERROR(VLOOKUP($B42,'Round Eight'!$C:$J,8,0)),0,IF(AND(LEN($C42)<>0,$D42=\"Yes\"),VLOOKUP($B42,'Round Eight'!$C:$J,8,0),\"\"))","v":0},{"$f":"IF(ISERROR(VLOOKUP(AN42,'Round Eight'!$C:$J,7,0)),0,IF(AND(LEN($C42)<>0,$D42=\"Yes\"),VLOOKUP(AN42,'Round Eight'!$C:$J,7,0)+1E-24,0))","v":0},0,{"$f":"IF(ISERROR(VLOOKUP($B42,'Round Eight'!$C:$J,6,0)),0,IF(AND(LEN($C42)<>0,$D42=\"Yes\"),VLOOKUP($B42,'Round Eight'!$C:$J,6,0),\"\"))","v":0},{"$f":"IF(ISERROR(VLOOKUP($B42,'Round Eight'!$C:$J,7,0)),0,IF(LEN($C42)<>0,VLOOKUP($B42,'Round Eight'!$C:$J,7,0)+1E-24,0))","v":0},{"$f":"IF(ISERROR(VLOOKUP($B42,'Round Nine'!$C:$J,8,0)),0,IF(AND(LEN($C42)<>0,$D42=\"Yes\"),VLOOKUP($B42,'Round Nine'!$C:$J,8,0),\"\"))","v":0},{"$f":"IF(ISERROR(VLOOKUP(AS42,'Round Nine'!$C:$J,7,0)),0,IF(AND(LEN($C42)<>0,$D42=\"Yes\"),VLOOKUP(AS42,'Round Nine'!$C:$J,7,0)+1E-24,0))","v":0},0,{"$f":"IF(ISERROR(VLOOKUP($B42,'Round Nine'!$C:$J,6,0)),0,IF(AND(LEN($C42)<>0,$D42=\"Yes\"),VLOOKUP($B42,'Round Nine'!$C:$J,6,0),\"\"))","v":0},{"$f":"IF(ISERROR(VLOOKUP($B42,'Round Nine'!$C:$J,7,0)),0,IF(LEN($C42)<>0,VLOOKUP($B42,'Round Nine'!$C:$J,7,0)+1E-24,0))","v":0},null,0,0,0,{"$f":"IF(D42<>\"Yes\",A42*-10,AY42*1000000+AZ42*10000+BA42+(A42/100000))+IF(OR(Accel_Pairing_2!$B$4=\"no\",D42<>\"Yes\",ISERROR(VLOOKUP(C42,PowerRanking!A:B,2,0))),0,(VLOOKUP(C42,PowerRanking!A:D,4,0)*1000000)+VLOOKUP(C42,PowerRanking!A:D,2,0)/10)","v":-2.7082162478180907},17,"T39",0,""]
[3.9840235271332736E-2,"T40",null,null,{"$f":"IF(ISERROR(VLOOKUP($B43,'Round One'!$C:$J,8,0)),0,IF(AND(LEN($C43)<>0,$D43=\"Yes\"),VLOOKUP($B43,'Round One'!$C:$J,8,0),0))","v":0},{"$f":"IF(ISERROR(VLOOKUP(E43,'Round One'!$C:$J,7,0)),0,IF(AND(LEN($C43)<>0,$D43=\"Yes\"),VALUE(VLOOKUP(E43,'Round One'!$C:$J,7,0)+1E-24),0))","v":0},0,{"$f":"IF(ISERROR(VLOOKUP($B43,'Round One'!$C:$J,6,0)),0,IF(AND(LEN($C43)<>0,$D43=\"Yes\"),VLOOKUP($B43,'Round One'!$C:$J,6,0),\"\"))","v":0},{"$f":"IF(ISERROR(VLOOKUP($B43,'Round One'!$C:$J,7,0)),0,IF(LEN($C43)<>0,VLOOKUP($B43,'Round One'!$C:$J,7,0)+1E-24,0))","v":0},{"$f":"IF(ISERROR(VLOOKUP($B43,'Round Two'!$C:$J,8,0)),0,IF(AND(LEN($C43)<>0,$D43=\"Yes\"),VLOOKUP($B43,'Round Two'!$C:$J,8,0),\"\"))","v":0},{"$f":"IF(ISERROR(VLOOKUP(J43,'Round Two'!$C:$J,7,0)),0,IF(AND(LEN($C43)<>0,$D43=\"Yes\"),VLOOKUP(J43,'Round Two'!$C:$J,7,0)+1E-24,0))","v":0},0,{"$f":"IF(ISERROR(VLOOKUP($B43,'Round Two'!$C:$J,6,0)),0,IF(AND(LEN($C43)<>0,$D43=\"Yes\"),VLOOKUP($B43,'Round Two'!$C:$J,6,0),\"\"))","v":0},{"$f":"IF(ISERROR(VLOOKUP($B43,'Round Two'!$C:$J,7,0)),0,IF(LEN($C43)<>0,VLOOKUP($B43,'Round Two'!$C:$J,7,0)+1E-24,0))","v":0},{"$f":"IF(ISERROR(VLOOKUP($B43,'Round Three'!$C:$J,8,0)),0,IF(AND(LEN($C43)<>0,$D43=\"Yes\"),VLOOKUP($B43,'Round Three'!$C:$J,8,0),\"\"))","v":0},{"$f":"IF(ISERROR(VLOOKUP(O43,'Round Three'!$C:$J,7,0)),0,IF(AND(LEN($C43)<>0,$D43=\"Yes\"),VLOOKUP(O43,'Round Three'!$C:$J,7,0)+1E-24,0))","v":0},0,{"$f":"IF(ISERROR(VLOOKUP($B43,'Round Three'!$C:$J,6,0)),0,IF(AND(LEN($C43)<>0,$D43=\"Yes\"),VLOOKUP($B43,'Round Three'!$C:$J,6,0),\"\"))","v":0},{"$f":"IF(ISERROR(VLOOKUP($B43,'Round Three'!$C:$J,7,0)),0,IF(LEN($C43)<>0,VLOOKUP($B43,'Round Three'!$C:$J,7,0)+1E-24,0))","v":0},{"$f":"IF(ISERROR(VLOOKUP($B43,'Round Four'!$C:$J,8,0)),0,IF(AND(LEN($C43)<>0,$D43=\"Yes\"),VLOOKUP($B43,'Round Four'!$C:$J,8,0),\"\"))","v":0},{"$f":"IF(ISERROR(VLOOKUP(T43,'Round Four'!$C:$J,7,0)),0,IF(AND(LEN($C43)<>0,$D43=\"Yes\"),VLOOKUP(T43,'Round Four'!$C:$J,7,0)+1E-24,0))","v":0},0,{"$f":"IF(ISERROR(VLOOKUP($B43,'Round Four'!$C:$J,6,0)),0,IF(AND(LEN($C43)<>0,$D43=\"Yes\"),VLOOKUP($B43,'Round Four'!$C:$J,6,0),\"\"))","v":0},{"$f":"IF(ISERROR(VLOOKUP($B43,'Round Four'!$C:$J,7,0)),0,IF(LEN($C43)<>0,VLOOKUP($B43,'Round Four'!$C:$J,7,0)+1E-24,0))","v":0},{"$f":"IF(ISERROR(VLOOKUP($B43,'Round Five'!$C:$J,8,0)),0,IF(AND(LEN($C43)<>0,$D43=\"Yes\"),VLOOKUP($B43,'Round Five'!$C:$J,8,0),\"\"))","v":0},{"$f":"IF(ISERROR(VLOOKUP(Y43,'Round Five'!$C:$J,7,0)),0,IF(AND(LEN($C43)<>0,$D43=\"Yes\"),VLOOKUP(Y43,'Round Five'!$C:$J,7,0)+1E-24,0))","v":0},0,{"$f":"IF(ISERROR(VLOOKUP($B43,'Round Five'!$C:$J,6,0)),0,IF(AND(LEN($C43)<>0,$D43=\"Yes\"),VLOOKUP($B43,'Round Five'!$C:$J,6,0),\"\"))","v":0},{"$f":"IF(ISERROR(VLOOKUP($B43,'Round Five'!$C:$J,7,0)),0,IF(LEN($C43)<>0,VLOOKUP($B43,'Round Five'!$C:$J,7,0)+1E-24,0))","v":0},{"$f":"IF(ISERROR(VLOOKUP($B43,'Round Six'!$C:$J,8,0)),0,IF(AND(LEN($C43)<>0,$D43=\"Yes\"),VLOOKUP($B43,'Round Six'!$C:$J,8,0),\"\"))","v":0},{"$f":"IF(ISERROR(VLOOKUP(AD43,'Round Six'!$C:$J,7,0)),0,IF(AND(LEN($C43)<>0,$D43=\"Yes\"),VLOOKUP(AD43,'Round Six'!$C:$J,7,0)+1E-24,0))","v":0},0,{"$f":"IF(ISERROR(VLOOKUP($B43,'Round Six'!$C:$J,6,0)),0,IF(AND(LEN($C43)<>0,$D43=\"Yes\"),VLOOKUP($B43,'Round Six'!$C:$J,6,0),\"\"))","v":0},{"$f":"IF(ISERROR(VLOOKUP($B43,'Round Six'!$C:$J,7,0)),0,IF(LEN($C43)<>0,VLOOKUP($B43,'Round Six'!$C:$J,7,0)+1E-24,0))","v":0},{"$f":"IF(ISERROR(VLOOKUP($B43,'Round Seven'!$C:$J,8,0)),0,IF(AND(LEN($C43)<>0,$D43=\"Yes\"),VLOOKUP($B43,'Round Seven'!$C:$J,8,0),\"\"))","v":0},{"$f":"IF(ISERROR(VLOOKUP(AI43,'Round Seven'!$C:$J,7,0)),0,IF(AND(LEN($C43)<>0,$D43=\"Yes\"),VLOOKUP(AI43,'Round Seven'!$C:$J,7,0)+1E-24,0))","v":0},0,{"$f":"IF(ISERROR(VLOOKUP($B43,'Round Seven'!$C:$J,6,0)),0,IF(AND(LEN($C43)<>0,$D43=\"Yes\"),VLOOKUP($B43,'Round Seven'!$C:$J,6,0),\"\"))","v":0},{"$f":"IF(ISERROR(VLOOKUP($B43,'Round Seven'!$C:$J,7,0)),0,IF(LEN($C43)<>0,VLOOKUP($B43,'Round Seven'!$C:$J,7,0)+1E-24,0))","v":0},{"$f":"IF(ISERROR(VLOOKUP($B43,'Round Eight'!$C:$J,8,0)),0,IF(AND(LEN($C43)<>0,$D43=\"Yes\"),VLOOKUP($B43,'Round Eight'!$C:$J,8,0),\"\"))","v":0},{"$f":"IF(ISERROR(VLOOKUP(AN43,'Round Eight'!$C:$J,7,0)),0,IF(AND(LEN($C43)<>0,$D43=\"Yes\"),VLOOKUP(AN43,'Round Eight'!$C:$J,7,0)+1E-24,0))","v":0},0,{"$f":"IF(ISERROR(VLOOKUP($B43,'Round Eight'!$C:$J,6,0)),0,IF(AND(LEN($C43)<>0,$D43=\"Yes\"),VLOOKUP($B43,'Round Eight'!$C:$J,6,0),\"\"))","v":0},{"$f":"IF(ISERROR(VLOOKUP($B43,'Round Eight'!$C:$J,7,0)),0,IF(LEN($C43)<>0,VLOOKUP($B43,'Round Eight'!$C:$J,7,0)+1E-24,0))","v":0},{"$f":"IF(ISERROR(VLOOKUP($B43,'Round Nine'!$C:$J,8,0)),0,IF(AND(LEN($C43)<>0,$D43=\"Yes\"),VLOOKUP($B43,'Round Nine'!$C:$J,8,0),\"\"))","v":0},{"$f":"IF(ISERROR(VLOOKUP(AS43,'Round Nine'!$C:$J,7,0)),0,IF(AND(LEN($C43)<>0,$D43=\"Yes\"),VLOOKUP(AS43,'Round Nine'!$C:$J,7,0)+1E-24,0))","v":0},0,{"$f":"IF(ISERROR(VLOOKUP($B43,'Round Nine'!$C:$J,6,0)),0,IF(AND(LEN($C43)<>0,$D43=\"Yes\"),VLOOKUP($B43,'Round Nine'!$C:$J,6,0),\"\"))","v":0},{"$f":"IF(ISERROR(VLOOKUP($B43,'Round Nine'!$C:$J,7,0)),0,IF(LEN($C43)<>0,VLOOKUP($B43,'Round Nine'!$C:$J,7,0)+1E-24,0))","v":0},null,0,0,0,{"$f":"IF(D43<>\"Yes\",A43*-10,AY43*1000000+AZ43*10000+BA43+(A43/100000))+IF(OR(Accel_Pairing_2!$B$4=\"no\",D43<>\"Yes\",ISERROR(VLOOKUP(C43,PowerRanking!A:B,2,0))),0,(VLOOKUP(C43,PowerRanking!A:D,4,0)*1000000)+VLOOKUP(C43,PowerRanking!A:D,2,0)/10)","v":-0.39840235271332736},2,"T40",0,""]
[0.10432923843311215,"T41",null,null,{"$f":"IF(ISERROR(VLOOKUP($B44,'Round One'!$C:$J,8,0)),0,IF(AND(LEN($C44)<>0,$D44=\"Yes\"),VLOOKUP($B44,'Round One'!$C:$J,8,0),0))","v":0},{"$f":"IF(ISERROR(VLOOKUP(E44,'Round One'!$C:$J,7,0)),0,IF(AND(LEN($C44)<>0,$D44=\"Yes\"),VALUE(VLOOKUP(E44,'Round One'!$C:$J,7,0)+1E-24),0))","v":0},0,{"$f":"IF(ISERROR(VLOOKUP($B44,'Round One'!$C:$J,6,0)),0,IF(AND(LEN($C44)<>0,$D44=\"Yes\"),VLOOKUP($B44,'Round One'!$C:$J,6,0),\"\"))","v":0},{"$f":"IF(ISERROR(VLOOKUP($B44,'Round One'!$C:$J,7,0)),0,IF(LEN($C44)<>0,VLOOKUP($B44,'Round One'!$C:$J,7,0)+1E-24,0))","v":0},{"$f":"IF(ISERROR(VLOOKUP($B44,'Round Two'!$C:$J,8,0)),0,IF(AND(LEN($C44)<>0,$D44=\"Yes\"),VLOOKUP($B44,'Round Two'!$C:$J,8,0),\"\"))","v":0},{"$f":"IF(ISERROR(VLOOKUP(J44,'Round Two'!$C:$J,7,0)),0,IF(AND(LEN($C44)<>0,$D44=\"Yes\"),VLOOKUP(J44,'Round Two'!$C:$J,7,0)+1E-24,0))","v":0},0,{"$f":"IF(ISERROR(VLOOKUP($B44,'Round Two'!$C:$J,6,0)),0,IF(AND(LEN($C44)<>0,$D44=\"Yes\"),VLOOKUP($B44,'Round Two'!$C:$J,6,0),\"\"))","v":0},{"$f":"IF(ISERROR(VLOOKUP($B44,'Round Two'!$C:$J,7,0)),0,IF(LEN($C44)<>0,VLOOKUP($B44,'Round Two'!$C:$J,7,0)+1E-24,0))","v":0},{"$f":"IF(ISERROR(VLOOKUP($B44,'Round Three'!$C:$J,8,0)),0,IF(AND(LEN($C44)<>0,$D44=\"Yes\"),VLOOKUP($B44,'Round Three'!$C:$J,8,0),\"\"))","v":0},{"$f":"IF(ISERROR(VLOOKUP(O44,'Round Three'!$C:$J,7,0)),0,IF(AND(LEN($C44)<>0,$D44=\"Yes\"),VLOOKUP(O44,'Round Three'!$C:$J,7,0)+1E-24,0))","v":0},0,{"$f":"IF(ISERROR(VLOOKUP($B44,'Round Three'!$C:$J,6,0)),0,IF(AND(LEN($C44)<>0,$D44=\"Yes\"),VLOOKUP($B44,'Round Three'!$C:$J,6,0),\"\"))","v":0},{"$f":"IF(ISERROR(VLOOKUP($B44,'Round Three'!$C:$J,7,0)),0,IF(LEN($C44)<>0,VLOOKUP($B44,'Round Three'!$C:$J,7,0)+1E-24,0))","v":0},{"$f":"IF(ISERROR(VLOOKUP($B44,'Round Four'!$C:$J,8,0)),0,IF(AND(LEN($C44)<>0,$D44=\"Yes\"),VLOOKUP($B44,'Round Four'!$C:$J,8,0),\"\"))","v":0},{"$f":"IF(ISERROR(VLOOKUP(T44,'Round Four'!$C:$J,7,0)),0,IF(AND(LEN($C44)<>0,$D44=\"Yes\"),VLOOKUP(T44,'Round Four'!$C:$J,7,0)+1E-24,0))","v":0},0,{"$f":"IF(ISERROR(VLOOKUP($B44,'Round Four'!$C:$J,6,0)),0,IF(AND(LEN($C44)<>0,$D44=\"Yes\"),VLOOKUP($B44,'Round Four'!$C:$J,6,0),\"\"))","v":0},{"$f":"IF(ISERROR(VLOOKUP($B44,'Round Four'!$C:$J,7,0)),0,IF(LEN($C44)<>0,VLOOKUP($B44,'Round Four'!$C:$J,7,0)+1E-24,0))","v":0},{"$f":"IF(ISERROR(VLOOKUP($B44,'Round Five'!$C:$J,8,0)),0,IF(AND(LEN($C44)<>0,$D44=\"Yes\"),VLOOKUP($B44,'Round Five'!$C:$J,8,0),\"\"))","v":0},{"$f":"IF(ISERROR(VLOOKUP(Y44,'Round Five'!$C:$J,7,0)),0,IF(AND(LEN($C44)<>0,$D44=\"Yes\"),VLOOKUP(Y44,'Round Five'!$C:$J,7,0)+1E-24,0))","v":0},0,{"$f":"IF(ISERROR(VLOOKUP($B44,'Round Five'!$C:$J,6,0)),0,IF(AND(LEN($C44)<>0,$D44=\"Yes\"),VLOOKUP($B44,'Round Five'!$C:$J,6,0),\"\"))","v":0},{"$f":"IF(ISERROR(VLOOKUP($B44,'Round Five'!$C:$J,7,0)),0,IF(LEN($C44)<>0,VLOOKUP($B44,'Round Five'!$C:$J,7,0)+1E-24,0))","v":0},{"$f":"IF(ISERROR(VLOOKUP($B44,'Round Six'!$C:$J,8,0)),0,IF(AND(LEN($C44)<>0,$D44=\"Yes\"),VLOOKUP($B44,'Round Six'!$C:$J,8,0),\"\"))","v":0},{"$f":"IF(ISERROR(VLOOKUP(AD44,'Round Six'!$C:$J,7,0)),0,IF(AND(LEN($C44)<>0,$D44=\"Yes\"),VLOOKUP(AD44,'Round Six'!$C:$J,7,0)+1E-24,0))","v":0},0,{"$f":"IF(ISERROR(VLOOKUP($B44,'Round Six'!$C:$J,6,0)),0,IF(AND(LEN($C44)<>0,$D44=\"Yes\"),VLOOKUP($B44,'Round Six'!$C:$J,6,0),\"\"))","v":0},{"$f":"IF(ISERROR(VLOOKUP($B44,'Round Six'!$C:$J,7,0)),0,IF(LEN($C44)<>0,VLOOKUP($B44,'Round Six'!$C:$J,7,0)+1E-24,0))","v":0},{"$f":"IF(ISERROR(VLOOKUP($B44,'Round Seven'!$C:$J,8,0)),0,IF(AND(LEN($C44)<>0,$D44=\"Yes\"),VLOOKUP($B44,'Round Seven'!$C:$J,8,0),\"\"))","v":0},{"$f":"IF(ISERROR(VLOOKUP(AI44,'Round Seven'!$C:$J,7,0)),0,IF(AND(LEN($C44)<>0,$D44=\"Yes\"),VLOOKUP(AI44,'Round Seven'!$C:$J,7,0)+1E-24,0))","v":0},0,{"$f":"IF(ISERROR(VLOOKUP($B44,'Round Seven'!$C:$J,6,0)),0,IF(AND(LEN($C44)<>0,$D44=\"Yes\"),VLOOKUP($B44,'Round Seven'!$C:$J,6,0),\"\"))","v":0},{"$f":"IF(ISERROR(VLOOKUP($B44,'Round Seven'!$C:$J,7,0)),0,IF(LEN($C44)<>0,VLOOKUP($B44,'Round Seven'!$C:$J,7,0)+1E-24,0))","v":0},{"$f":"IF(ISERROR(VLOOKUP($B44,'Round Eight'!$C:$J,8,0)),0,IF(AND(LEN($C44)<>0,$D44=\"Yes\"),VLOOKUP($B44,'Round Eight'!$C:$J,8,0),\"\"))","v":0},{"$f":"IF(ISERROR(VLOOKUP(AN44,'Round Eight'!$C:$J,7,0)),0,IF(AND(LEN($C44)<>0,$D44=\"Yes\"),VLOOKUP(AN44,'Round Eight'!$C:$J,7,0)+1E-24,0))","v":0},0,{"$f":"IF(ISERROR(VLOOKUP($B44,'Round Eight'!$C:$J,6,0)),0,IF(AND(LEN($C44)<>0,$D44=\"Yes\"),VLOOKUP($B44,'Round Eight'!$C:$J,6,0),\"\"))","v":0},{"$f":"IF(ISERROR(VLOOKUP($B44,'Round Eight'!$C:$J,7,0)),0,IF(LEN($C44)<>0,VLOOKUP($B44,'Round Eight'!$C:$J,7,0)+1E-24,0))","v":0},{"$f":"IF(ISERROR(VLOOKUP($B44,'Round Nine'!$C:$J,8,0)),0,IF(AND(LEN($C44)<>0,$D44=\"Yes\"),VLOOKUP($B44,'Round Nine'!$C:$J,8,0),\"\"))","v":0},{"$f":"IF(ISERROR(VLOOKUP(AS44,'Round Nine'!$C:$J,7,0)),0,IF(AND(LEN($C44)<>0,$D44=\"Yes\"),VLOOKUP(AS44,'Round Nine'!$C:$J,7,0)+1E-24,0))","v":0},0,{"$f":"IF(ISERROR(VLOOKUP($B44,'Round Nine'!$C:$J,6,0)),0,IF(AND(LEN($C44)<>0,$D44=\"Yes\"),VLOOKUP($B44,'Round Nine'!$C:$J,6,0),\"\"))","v":0},{"$f":"IF(ISERROR(VLOOKUP($B44,'Round Nine'!$C:$J,7,0)),0,IF(LEN($C44)<>0,VLOOKUP($B44,'Round Nine'!$C:$J,7,0)+1E-24,0))","v":0},null,0,0,0,{"$f":"IF(D44<>\"Yes\",A44*-10,AY44*1000000+AZ44*10000+BA44+(A44/100000))+IF(OR(Accel_Pairing_2!$B$4=\"no\",D44<>\"Yes\",ISERROR(VLOOKUP(C44,PowerRanking!A:B,2,0))),0,(VLOOKUP(C44,PowerRanking!A:D,4,0)*1000000)+VLOOKUP(C44,PowerRanking!A:D,2,0)/10)","v":-1.0432923843311215},7,"T41",0,""]
[0.87617173553528505,"T42",null,null,{"$f":"IF(ISERROR(VLOOKUP($B45,'Round One'!$C:$J,8,0)),0,IF(AND(LEN($C45)<>0,$D45=\"Yes\"),VLOOKUP($B45,'Round One'!$C:$J,8,0),0))","v":0},{"$f":"IF(ISERROR(VLOOKUP(E45,'Round One'!$C:$J,7,0)),0,IF(AND(LEN($C45)<>0,$D45=\"Yes\"),VALUE(VLOOKUP(E45,'Round One'!$C:$J,7,0)+1E-24),0))","v":0},0,{"$f":"IF(ISERROR(VLOOKUP($B45,'Round One'!$C:$J,6,0)),0,IF(AND(LEN($C45)<>0,$D45=\"Yes\"),VLOOKUP($B45,'Round One'!$C:$J,6,0),\"\"))","v":0},{"$f":"IF(ISERROR(VLOOKUP($B45,'Round One'!$C:$J,7,0)),0,IF(LEN($C45)<>0,VLOOKUP($B45,'Round One'!$C:$J,7,0)+1E-24,0))","v":0},{"$f":"IF(ISERROR(VLOOKUP($B45,'Round Two'!$C:$J,8,0)),0,IF(AND(LEN($C45)<>0,$D45=\"Yes\"),VLOOKUP($B45,'Round Two'!$C:$J,8,0),\"\"))","v":0},{"$f":"IF(ISERROR(VLOOKUP(J45,'Round Two'!$C:$J,7,0)),0,IF(AND(LEN($C45)<>0,$D45=\"Yes\"),VLOOKUP(J45,'Round Two'!$C:$J,7,0)+1E-24,0))","v":0},0,{"$f":"IF(ISERROR(VLOOKUP($B45,'Round Two'!$C:$J,6,0)),0,IF(AND(LEN($C45)<>0,$D45=\"Yes\"),VLOOKUP($B45,'Round Two'!$C:$J,6,0),\"\"))","v":0},{"$f":"IF(ISERROR(VLOOKUP($B45,'Round Two'!$C:$J,7,0)),0,IF(LEN($C45)<>0,VLOOKUP($B45,'Round Two'!$C:$J,7,0)+1E-24,0))","v":0},{"$f":"IF(ISERROR(VLOOKUP($B45,'Round Three'!$C:$J,8,0)),0,IF(AND(LEN($C45)<>0,$D45=\"Yes\"),VLOOKUP($B45,'Round Three'!$C:$J,8,0),\"\"))","v":0},{"$f":"IF(ISERROR(VLOOKUP(O45,'Round Three'!$C:$J,7,0)),0,IF(AND(LEN($C45)<>0,$D45=\"Yes\"),VLOOKUP(O45,'Round Three'!$C:$J,7,0)+1E-24,0))","v":0},0,{"$f":"IF(ISERROR(VLOOKUP($B45,'Round Three'!$C:$J,6,0)),0,IF(AND(LEN($C45)<>0,$D45=\"Yes\"),VLOOKUP($B45,'Round Three'!$C:$J,6,0),\"\"))","v":0},{"$f":"IF(ISERROR(VLOOKUP($B45,'Round Three'!$C:$J,7,0)),0,IF(LEN($C45)<>0,VLOOKUP($B45,'Round Three'!$C:$J,7,0)+1E-24,0))","v":0},{"$f":"IF(ISERROR(VLOOKUP($B45,'Round Four'!$C:$J,8,0)),0,IF(AND(LEN($C45)<>0,$D45=\"Yes\"),VLOOKUP($B45,'Round Four'!$C:$J,8,0),\"\"))","v":0},{"$f":"IF(ISERROR(VLOOKUP(T45,'Round Four'!$C:$J,7,0)),0,IF(AND(LEN($C45)<>0,$D45=\"Yes\"),VLOOKUP(T45,'Round Four'!$C:$J,7,0)+1E-24,0))","v":0},0,{"$f":"IF(ISERROR(VLOOKUP($B45,'Round Four'!$C:$J,6,0)),0,IF(AND(LEN($C45)<>0,$D45=\"Yes\"),VLOOKUP($B45,'Round Four'!$C:$J,6,0),\"\"))","v":0},{"$f":"IF(ISERROR(VLOOKUP($B45,'Round Four'!$C:$J,7,0)),0,IF(LEN($C45)<>0,VLOOKUP($B45,'Round Four'!$C:$J,7,0)+1E-24,0))","v":0},{"$f":"IF(ISERROR(VLOOKUP($B45,'Round Five'!$C:$J,8,0)),0,IF(AND(LEN($C45)<>0,$D45=\"Yes\"),VLOOKUP($B45,'Round Five'!$C:$J,8,0),\"\"))","v":0},{"$f":"IF(ISERROR(VLOOKUP(Y45,'Round Five'!$C:$J,7,0)),0,IF(AND(LEN($C45)<>0,$D45=\"Yes\"),VLOOKUP(Y45,'Round Five'!$C:$J,7,0)+1E-24,0))","v":0},0,{"$f":"IF(ISERROR(VLOOKUP($B45,'Round Five'!$C:$J,6,0)),0,IF(AND(LEN($C45)<>0,$D45=\"Yes\"),VLOOKUP($B45,'Round Five'!$C:$J,6,0),\"\"))","v":0},{"$f":"IF(ISERROR(VLOOKUP($B45,'Round Five'!$C:$J,7,0)),0,IF(LEN($C45)<>0,VLOOKUP($B45,'Round Five'!$C:$J,7,0)+1E-24,0))","v":0},{"$f":"IF(ISERROR(VLOOKUP($B45,'Round Six'!$C:$J,8,0)),0,IF(AND(LEN($C45)<>0,$D45=\"Yes\"),VLOOKUP($B45,'Round Six'!$C:$J,8,0),\"\"))","v":0},{"$f":"IF(ISERROR(VLOOKUP(AD45,'Round Six'!$C:$J,7,0)),0,IF(AND(LEN($C45)<>0,$D45=\"Yes\"),VLOOKUP(AD45,'Round Six'!$C:$J,7,0)+1E-24,0))","v":0},0,{"$f":"IF(ISERROR(VLOOKUP($B45,'Round Six'!$C:$J,6,0)),0,IF(AND(LEN($C45)<>0,$D45=\"Yes\"),VLOOKUP($B45,'Round Six'!$C:$J,6,0),\"\"))","v":0},{"$f":"IF(ISERROR(VLOOKUP($B45,'Round Six'!$C:$J,7,0)),0,IF(LEN($C45)<>0,VLOOKUP($B45,'Round Six'!$C:$J,7,0)+1E-24,0))","v":0},{"$f":"IF(ISERROR(VLOOKUP($B45,'Round Seven'!$C:$J,8,0)),0,IF(AND(LEN($C45)<>0,$D45=\"Yes\"),VLOOKUP($B45,'Round Seven'!$C:$J,8,0),\"\"))","v":0},{"$f":"IF(ISERROR(VLOOKUP(AI45,'Round Seven'!$C:$J,7,0)),0,IF(AND(LEN($C45)<>0,$D45=\"Yes\"),VLOOKUP(AI45,'Round Seven'!$C:$J,7,0)+1E-24,0))","v":0},0,{"$f":"IF(ISERROR(VLOOKUP($B45,'Round Seven'!$C:$J,6,0)),0,IF(AND(LEN($C45)<>0,$D45=\"Yes\"),VLOOKUP($B45,'Round Seven'!$C:$J,6,0),\"\"))","v":0},{"$f":"IF(ISERROR(VLOOKUP($B45,'Round Seven'!$C:$J,7,0)),0,IF(LEN($C45)<>0,VLOOKUP($B45,'Round Seven'!$C:$J,7,0)+1E-24,0))","v":0},{"$f":"IF(ISERROR(VLOOKUP($B45,'Round Eight'!$C:$J,8,0)),0,IF(AND(LEN($C45)<>0,$D45=\"Yes\"),VLOOKUP($B45,'Round Eight'!$C:$J,8,0),\"\"))","v":0},{"$f":"IF(ISERROR(VLOOKUP(AN45,'Round Eight'!$C:$J,7,0)),0,IF(AND(LEN($C45)<>0,$D45=\"Yes\"),VLOOKUP(AN45,'Round Eight'!$C:$J,7,0)+1E-24,0))","v":0},0,{"$f":"IF(ISERROR(VLOOKUP($B45,'Round Eight'!$C:$J,6,0)),0,IF(AND(LEN($C45)<>0,$D45=\"Yes\"),VLOOKUP($B45,'Round Eight'!$C:$J,6,0),\"\"))","v":0},{"$f":"IF(ISERROR(VLOOKUP($B45,'Round Eight'!$C:$J,7,0)),0,IF(LEN($C45)<>0,VLOOKUP($B45,'Round Eight'!$C:$J,7,0)+1E-24,0))","v":0},{"$f":"IF(ISERROR(VLOOKUP($B45,'Round Nine'!$C:$J,8,0)),0,IF(AND(LEN($C45)<>0,$D45=\"Yes\"),VLOOKUP($B45,'Round Nine'!$C:$J,8,0),\"\"))","v":0},{"$f":"IF(ISERROR(VLOOKUP(AS45,'Round Nine'!$C:$J,7,0)),0,IF(AND(LEN($C45)<>0,$D45=\"Yes\"),VLOOKUP(AS45,'Round Nine'!$C:$J,7,0)+1E-24,0))","v":0},0,{"$f":"IF(ISERROR(VLOOKUP($B45,'Round Nine'!$C:$J,6,0)),0,IF(AND(LEN($C45)<>0,$D45=\"Yes\"),VLOOKUP($B45,'Round Nine'!$C:$J,6,0),\"\"))","v":0},{"$f":"IF(ISERROR(VLOOKUP($B45,'Round Nine'!$C:$J,7,0)),0,IF(LEN($C45)<>0,VLOOKUP($B45,'Round Nine'!$C:$J,7,0)+1E-24,0))","v":0},null,0,0,0,{"$f":"IF(D45<>\"Yes\",A45*-10,AY45*1000000+AZ45*10000+BA45+(A45/100000))+IF(OR(Accel_Pairing_2!$B$4=\"no\",D45<>\"Yes\",ISERROR(VLOOKUP(C45,PowerRanking!A:B,2,0))),0,(VLOOKUP(C45,PowerRanking!A:D,4,0)*1000000)+VLOOKUP(C45,PowerRanking!A:D,2,0)/10)","v":-8.7617173553528502},56,"T42",0,""]
[8.1681920064603841E-2,"T43",null,null,{"$f":"IF(ISERROR(VLOOKUP($B46,'Round One'!$C:$J,8,0)),0,IF(AND(LEN($C46)<>0,$D46=\"Yes\"),VLOOKUP($B46,'Round One'!$C:$J,8,0),0))","v":0},{"$f":"IF(ISERROR(VLOOKUP(E46,'Round One'!$C:$J,7,0)),0,IF(AND(LEN($C46)<>0,$D46=\"Yes\"),VALUE(VLOOKUP(E46,'Round One'!$C:$J,7,0)+1E-24),0))","v":0},0,{"$f":"IF(ISERROR(VLOOKUP($B46,'Round One'!$C:$J,6,0)),0,IF(AND(LEN($C46)<>0,$D46=\"Yes\"),VLOOKUP($B46,'Round One'!$C:$J,6,0),\"\"))","v":0},{"$f":"IF(ISERROR(VLOOKUP($B46,'Round One'!$C:$J,7,0)),0,IF(LEN($C46)<>0,VLOOKUP($B46,'Round One'!$C:$J,7,0)+1E-24,0))","v":0},{"$f":"IF(ISERROR(VLOOKUP($B46,'Round Two'!$C:$J,8,0)),0,IF(AND(LEN($C46)<>0,$D46=\"Yes\"),VLOOKUP($B46,'Round Two'!$C:$J,8,0),\"\"))","v":0},{"$f":"IF(ISERROR(VLOOKUP(J46,'Round Two'!$C:$J,7,0)),0,IF(AND(LEN($C46)<>0,$D46=\"Yes\"),VLOOKUP(J46,'Round Two'!$C:$J,7,0)+1E-24,0))","v":0},0,{"$f":"IF(ISERROR(VLOOKUP($B46,'Round Two'!$C:$J,6,0)),0,IF(AND(LEN($C46)<>0,$D46=\"Yes\"),VLOOKUP($B46,'Round Two'!$C:$J,6,0),\"\"))","v":0},{"$f":"IF(ISERROR(VLOOKUP($B46,'Round Two'!$C:$J,7,0)),0,IF(LEN($C46)<>0,VLOOKUP($B46,'Round Two'!$C:$J,7,0)+1E-24,0))","v":0},{"$f":"IF(ISERROR(VLOOKUP($B46,'Round Three'!$C:$J,8,0)),0,IF(AND(LEN($C46)<>0,$D46=\"Yes\"),VLOOKUP($B46,'Round Three'!$C:$J,8,0),\"\"))","v":0},{"$f":"IF(ISERROR(VLOOKUP(O46,'Round Three'!$C:$J,7,0)),0,IF(AND(LEN($C46)<>0,$D46=\"Yes\"),VLOOKUP(O46,'Round Three'!$C:$J,7,0)+1E-24,0))","v":0},0,{"$f":"IF(ISERROR(VLOOKUP($B46,'Round Three'!$C:$J,6,0)),0,IF(AND(LEN($C46)<>0,$D46=\"Yes\"),VLOOKUP($B46,'Round Three'!$C:$J,6,0),\"\"))","v":0},{"$f":"IF(ISERROR(VLOOKUP($B46,'Round Three'!$C:$J,7,0)),0,IF(LEN($C46)<>0,VLOOKUP($B46,'Round Three'!$C:$J,7,0)+1E-24,0))","v":0},{"$f":"IF(ISERROR(VLOOKUP($B46,'Round Four'!$C:$J,8,0)),0,IF(AND(LEN($C46)<>0,$D46=\"Yes\"),VLOOKUP($B46,'Round Four'!$C:$J,8,0),\"\"))","v":0},{"$f":"IF(ISERROR(VLOOKUP(T46,'Round Four'!$C:$J,7,0)),0,IF(AND(LEN($C46)<>0,$D46=\"Yes\"),VLOOKUP(T46,'Round Four'!$C:$J,7,0)+1E-24,0))","v":0},0,{"$f":"IF(ISERROR(VLOOKUP($B46,'Round Four'!$C:$J,6,0)),0,IF(AND(LEN($C46)<>0,$D46=\"Yes\"),VLOOKUP($B46,'Round Four'!$C:$J,6,0),\"\"))","v":0},{"$f":"IF(ISERROR(VLOOKUP($B46,'Round Four'!$C:$J,7,0)),0,IF(LEN($C46)<>0,VLOOKUP($B46,'Round Four'!$C:$J,7,0)+1E-24,0))","v":0},{"$f":"IF(ISERROR(VLOOKUP($B46,'Round Five'!$C:$J,8,0)),0,IF(AND(LEN($C46)<>0,$D46=\"Yes\"),VLOOKUP($B46,'Round Five'!$C:$J,8,0),\"\"))","v":0},{"$f":"IF(ISERROR(VLOOKUP(Y46,'Round Five'!$C:$J,7,0)),0,IF(AND(LEN($C46)<>0,$D46=\"Yes\"),VLOOKUP(Y46,'Round Five'!$C:$J,7,0)+1E-24,0))","v":0},0,{"$f":"IF(ISERROR(VLOOKUP($B46,'Round Five'!$C:$J,6,0)),0,IF(AND(LEN($C46)<>0,$D46=\"Yes\"),VLOOKUP($B46,'Round Five'!$C:$J,6,0),\"\"))","v":0},{"$f":"IF(ISERROR(VLOOKUP($B46,'Round Five'!$C:$J,7,0)),0,IF(LEN($C46)<>0,VLOOKUP($B46,'Round Five'!$C:$J,7,0)+1E-24,0))","v":0},{"$f":"IF(ISERROR(VLOOKUP($B46,'Round Six'!$C:$J,8,0)),0,IF(AND(LEN($C46)<>0,$D46=\"Yes\"),VLOOKUP($B46,'Round Six'!$C:$J,8,0),\"\"))","v":0},{"$f":"IF(ISERROR(VLOOKUP(AD46,'Round Six'!$C:$J,7,0)),0,IF(AND(LEN($C46)<>0,$D46=\"Yes\"),VLOOKUP(AD46,'Round Six'!$C:$J,7,0)+1E-24,0))","v":0},0,{"$f":"IF(ISERROR(VLOOKUP($B46,'Round Six'!$C:$J,6,0)),0,IF(AND(LEN($C46)<>0,$D46=\"Yes\"),VLOOKUP($B46,'Round Six'!$C:$J,6,0),\"\"))","v":0},{"$f":"IF(ISERROR(VLOOKUP($B46,'Round Six'!$C:$J,7,0)),0,IF(LEN($C46)<>0,VLOOKUP($B46,'Round Six'!$C:$J,7,0)+1E-24,0))","v":0},{"$f":"IF(ISERROR(VLOOKUP($B46,'Round Seven'!$C:$J,8,0)),0,IF(AND(LEN($C46)<>0,$D46=\"Yes\"),VLOOKUP($B46,'Round Seven'!$C:$J,8,0),\"\"))","v":0},{"$f":"IF(ISERROR(VLOOKUP(AI46,'Round Seven'!$C:$J,7,0)),0,IF(AND(LEN($C46)<>0,$D46=\"Yes\"),VLOOKUP(AI46,'Round Seven'!$C:$J,7,0)+1E-24,0))","v":0},0,{"$f":"IF(ISERROR(VLOOKUP($B46,'Round Seven'!$C:$J,6,0)),0,IF(AND(LEN($C46)<>0,$D46=\"Yes\"),VLOOKUP($B46,'Round Seven'!$C:$J,6,0),\"\"))","v":0},{"$f":"IF(ISERROR(VLOOKUP($B46,'Round Seven'!$C:$J,7,0)),0,IF(LEN($C46)<>0,VLOOKUP($B46,'Round Seven'!$C:$J,7,0)+1E-24,0))","v":0},{"$f":"IF(ISERROR(VLOOKUP($B46,'Round Eight'!$C:$J,8,0)),0,IF(AND(LEN($C46)<>0,$D46=\"Yes\"),VLOOKUP($B46,'Round Eight'!$C:$J,8,0),\"\"))","v":0},{"$f":"IF(ISERROR(VLOOKUP(AN46,'Round Eight'!$C:$J,7,0)),0,IF(AND(LEN($C46)<>0,$D46=\"Yes\"),VLOOKUP(AN46,'Round Eight'!$C:$J,7,0)+1E-24,0))","v":0},0,{"$f":"IF(ISERROR(VLOOKUP($B46,'Round Eight'!$C:$J,6,0)),0,IF(AND(LEN($C46)<>0,$D46=\"Yes\"),VLOOKUP($B46,'Round Eight'!$C:$J,6,0),\"\"))","v":0},{"$f":"IF(ISERROR(VLOOKUP($B46,'Round Eight'!$C:$J,7,0)),0,IF(LEN($C46)<>0,VLOOKUP($B46,'Round Eight'!$C:$J,7,0)+1E-24,0))","v":0},{"$f":"IF(ISERROR(VLOOKUP($B46,'Round Nine'!$C:$J,8,0)),0,IF(AND(LEN($C46)<>0,$D46=\"Yes\"),VLOOKUP($B46,'Round Nine'!$C:$J,8,0),\"\"))","v":0},{"$f":"IF(ISERROR(VLOOKUP(AS46,'Round Nine'!$C:$J,7,0)),0,IF(AND(LEN($C46)<>0,$D46=\"Yes\"),VLOOKUP(AS46,'Round Nine'!$C:$J,7,0)+1E-24,0))","v":0},0,{"$f":"IF(ISERROR(VLOOKUP($B46,'Round Nine'!$C:$J,6,0)),0,IF(AND(LEN($C46)<>0,$D46=\"Yes\"),VLOOKUP($B46,'Round Nine'!$C:$J,6,0),\"\"))","v":0},{"$f":"IF(ISERROR(VLOOKUP($B46,'Round Nine'!$C:$J,7,0)),0,IF(LEN($C46)<>0,VLOOKUP($B46,'Round Nine'!$C:$J,7,0)+1E-24,0))","v":0},null,0,0,0,{"$f":"IF(D46<>\"Yes\",A46*-10,AY46*1000000+AZ46*10000+BA46+(A46/100000))+IF(OR(Accel_Pairing_2!$B$4=\"no\",D46<>\"Yes\",ISERROR(VLOOKUP(C46,PowerRanking!A:B,2,0))),0,(VLOOKUP(C46,PowerRanking!A:D,4,0)*1000000)+VLOOKUP(C46,PowerRanking!A:D,2,0)/10)","v":-0.81681920064603841},5,"T43",0,""]
[0.98600470851827049,"T44",null,null,{"$f":"IF(ISERROR(VLOOKUP($B47,'Round One'!$C:$J,8,0)),0,IF(AND(LEN($C47)<>0,$D47=\"Yes\"),VLOOKUP($B47,'Round One'!$C:$J,8,0),0))","v":0},{"$f":"IF(ISERROR(VLOOKUP(E47,'Round One'!$C:$J,7,0)),0,IF(AND(LEN($C47)<>0,$D47=\"Yes\"),VALUE(VLOOKUP(E47,'Round One'!$C:$J,7,0)+1E-24),0))","v":0},0,{"$f":"IF(ISERROR(VLOOKUP($B47,'Round One'!$C:$J,6,0)),0,IF(AND(LEN($C47)<>0,$D47=\"Yes\"),VLOOKUP($B47,'Round One'!$C:$J,6,0),\"\"))","v":0},{"$f":"IF(ISERROR(VLOOKUP($B47,'Round One'!$C:$J,7,0)),0,IF(LEN($C47)<>0,VLOOKUP($B47,'Round One'!$C:$J,7,0)+1E-24,0))","v":0},{"$f":"IF(ISERROR(VLOOKUP($B47,'Round Two'!$C:$J,8,0)),0,IF(AND(LEN($C47)<>0,$D47=\"Yes\"),VLOOKUP($B47,'Round Two'!$C:$J,8,0),\"\"))","v":0},{"$f":"IF(ISERROR(VLOOKUP(J47,'Round Two'!$C:$J,7,0)),0,IF(AND(LEN($C47)<>0,$D47=\"Yes\"),VLOOKUP(J47,'Round Two'!$C:$J,7,0)+1E-24,0))","v":0},0,{"$f":"IF(ISERROR(VLOOKUP($B47,'Round Two'!$C:$J,6,0)),0,IF(AND(LEN($C47)<>0,$D47=\"Yes\"),VLOOKUP($B47,'Round Two'!$C:$J,6,0),\"\"))","v":0},{"$f":"IF(ISERROR(VLOOKUP($B47,'Round Two'!$C:$J,7,0)),0,IF(LEN($C47)<>0,VLOOKUP($B47,'Round Two'!$C:$J,7,0)+1E-24,0))","v":0},{"$f":"IF(ISERROR(VLOOKUP($B47,'Round Three'!$C:$J,8,0)),0,IF(AND(LEN($C47)<>0,$D47=\"Yes\"),VLOOKUP($B47,'Round Three'!$C:$J,8,0),\"\"))","v":0},{"$f":"IF(ISERROR(VLOOKUP(O47,'Round Three'!$C:$J,7,0)),0,IF(AND(LEN($C47)<>0,$D47=\"Yes\"),VLOOKUP(O47,'Round Three'!$C:$J,7,0)+1E-24,0))","v":0},0,{"$f":"IF(ISERROR(VLOOKUP($B47,'Round Three'!$C:$J,6,0)),0,IF(AND(LEN($C47)<>0,$D47=\"Yes\"),VLOOKUP($B47,'Round Three'!$C:$J,6,0),\"\"))","v":0},{"$f":"IF(ISERROR(VLOOKUP($B47,'Round Three'!$C:$J,7,0)),0,IF(LEN($C47)<>0,VLOOKUP($B47,'Round Three'!$C:$J,7,0)+1E-24,0))","v":0},{"$f":"IF(ISERROR(VLOOKUP($B47,'Round Four'!$C:$J,8,0)),0,IF(AND(LEN($C47)<>0,$D47=\"Yes\"),VLOOKUP($B47,'Round Four'!$C:$J,8,0),\"\"))","v":0},{"$f":"IF(ISERROR(VLOOKUP(T47,'Round Four'!$C:$J,7,0)),0,IF(AND(LEN($C47)<>0,$D47=\"Yes\"),VLOOKUP(T47,'Round Four'!$C:$J,7,0)+1E-24,0))","v":0},0,{"$f":"IF(ISERROR(VLOOKUP($B47,'Round Four'!$C:$J,6,0)),0,IF(AND(LEN($C47)<>0,$D47=\"Yes\"),VLOOKUP($B47,'Round Four'!$C:$J,6,0),\"\"))","v":0},{"$f":"IF(ISERROR(VLOOKUP($B47,'Round Four'!$C:$J,7,0)),0,IF(LEN($C47)<>0,VLOOKUP($B47,'Round Four'!$C:$J,7,0)+1E-24,0))","v":0},{"$f":"IF(ISERROR(VLOOKUP($B47,'Round Five'!$C:$J,8,0)),0,IF(AND(LEN($C47)<>0,$D47=\"Yes\"),VLOOKUP($B47,'Round Five'!$C:$J,8,0),\"\"))","v":0},{"$f":"IF(ISERROR(VLOOKUP(Y47,'Round Five'!$C:$J,7,0)),0,IF(AND(LEN($C47)<>0,$D47=\"Yes\"),VLOOKUP(Y47,'Round Five'!$C:$J,7,0)+1E-24,0))","v":0},0,{"$f":"IF(ISERROR(VLOOKUP($B47,'Round Five'!$C:$J,6,0)),0,IF(AND(LEN($C47)<>0,$D47=\"Yes\"),VLOOKUP($B47,'Round Five'!$C:$J,6,0),\"\"))","v":0},{"$f":"IF(ISERROR(VLOOKUP($B47,'Round Five'!$C:$J,7,0)),0,IF(LEN($C47)<>0,VLOOKUP($B47,'Round Five'!$C:$J,7,0)+1E-24,0))","v":0},{"$f":"IF(ISERROR(VLOOKUP($B47,'Round Six'!$C:$J,8,0)),0,IF(AND(LEN($C47)<>0,$D47=\"Yes\"),VLOOKUP($B47,'Round Six'!$C:$J,8,0),\"\"))","v":0},{"$f":"IF(ISERROR(VLOOKUP(AD47,'Round Six'!$C:$J,7,0)),0,IF(AND(LEN($C47)<>0,$D47=\"Yes\"),VLOOKUP(AD47,'Round Six'!$C:$J,7,0)+1E-24,0))","v":0},0,{"$f":"IF(ISERROR(VLOOKUP($B47,'Round Six'!$C:$J,6,0)),0,IF(AND(LEN($C47)<>0,$D47=\"Yes\"),VLOOKUP($B47,'Round Six'!$C:$J,6,0),\"\"))","v":0},{"$f":"IF(ISERROR(VLOOKUP($B47,'Round Six'!$C:$J,7,0)),0,IF(LEN($C47)<>0,VLOOKUP($B47,'Round Six'!$C:$J,7,0)+1E-24,0))","v":0},{"$f":"IF(ISERROR(VLOOKUP($B47,'Round Seven'!$C:$J,8,0)),0,IF(AND(LEN($C47)<>0,$D47=\"Yes\"),VLOOKUP($B47,'Round Seven'!$C:$J,8,0),\"\"))","v":0},{"$f":"IF(ISERROR(VLOOKUP(AI47,'Round Seven'!$C:$J,7,0)),0,IF(AND(LEN($C47)<>0,$D47=\"Yes\"),VLOOKUP(AI47,'Round Seven'!$C:$J,7,0)+1E-24,0))","v":0},0,{"$f":"IF(ISERROR(VLOOKUP($B47,'Round Seven'!$C:$J,6,0)),0,IF(AND(LEN($C47)<>0,$D47=\"Yes\"),VLOOKUP($B47,'Round Seven'!$C:$J,6,0),\"\"))","v":0},{"$f":"IF(ISERROR(VLOOKUP($B47,'Round Seven'!$C:$J,7,0)),0,IF(LEN($C47)<>0,VLOOKUP($B47,'Round Seven'!$C:$J,7,0)+1E-24,0))","v":0},{"$f":"IF(ISERROR(VLOOKUP($B47,'Round Eight'!$C:$J,8,0)),0,IF(AND(LEN($C47)<>0,$D47=\"Yes\"),VLOOKUP($B47,'Round Eight'!$C:$J,8,0),\"\"))","v":0},{"$f":"IF(ISERROR(VLOOKUP(AN47,'Round Eight'!$C:$J,7,0)),0,IF(AND(LEN($C47)<>0,$D47=\"Yes\"),VLOOKUP(AN47,'Round Eight'!$C:$J,7,0)+1E-24,0))","v":0},0,{"$f":"IF(ISERROR(VLOOKUP($B47,'Round Eight'!$C:$J,6,0)),0,IF(AND(LEN($C47)<>0,$D47=\"Yes\"),VLOOKUP($B47,'Round Eight'!$C:$J,6,0),\"\"))","v":0},{"$f":"IF(ISERROR(VLOOKUP($B47,'Round Eight'!$C:$J,7,0)),0,IF(LEN($C47)<>0,VLOOKUP($B47,'Round Eight'!$C:$J,7,0)+1E-24,0))","v":0},{"$f":"IF(ISERROR(VLOOKUP($B47,'Round Nine'!$C:$J,8,0)),0,IF(AND(LEN($C47)<>0,$D47=\"Yes\"),VLOOKUP($B47,'Round Nine'!$C:$J,8,0),\"\"))","v":0},{"$f":"IF(ISERROR(VLOOKUP(AS47,'Round Nine'!$C:$J,7,0)),0,IF(AND(LEN($C47)<>0,$D47=\"Yes\"),VLOOKUP(AS47,'Round Nine'!$C:$J,7,0)+1E-24,0))","v":0},0,{"$f":"IF(ISERROR(VLOOKUP($B47,'Round Nine'!$C:$J,6,0)),0,IF(AND(LEN($C47)<>0,$D47=\"Yes\"),VLOOKUP($B47,'Round Nine'!$C:$J,6,0),\"\"))","v":0},{"$f":"IF(ISERROR(VLOOKUP($B47,'Round Nine'!$C:$J,7,0)),0,IF(LEN($C47)<>0,VLOOKUP($B47,'Round Nine'!$C:$J,7,0)+1E-24,0))","v":0},null,0,0,0,{"$f":"IF(D47<>\"Yes\",A47*-10,AY47*1000000+AZ47*10000+BA47+(A47/100000))+IF(OR(Accel_Pairing_2!$B$4=\"no\",D47<>\"Yes\",ISERROR(VLOOKUP(C47,PowerRanking!A:B,2,0))),0,(VLOOKUP(C47,PowerRanking!A:D,4,0)*1000000)+VLOOKUP(C47,PowerRanking!A:D,2,0)/10)","v":-9.8600470851827051},63,"T44",0,""]
[0.97818147891937823,"T45",null,null,{"$f":"IF(ISERROR(VLOOKUP($B48,'Round One'!$C:$J,8,0)),0,IF(AND(LEN($C48)<>0,$D48=\"Yes\"),VLOOKUP($B48,'Round One'!$C:$J,8,0),0))","v":0},{"$f":"IF(ISERROR(VLOOKUP(E48,'Round One'!$C:$J,7,0)),0,IF(AND(LEN($C48)<>0,$D48=\"Yes\"),VALUE(VLOOKUP(E48,'Round One'!$C:$J,7,0)+1E-24),0))","v":0},0,{"$f":"IF(ISERROR(VLOOKUP($B48,'Round One'!$C:$J,6,0)),0,IF(AND(LEN($C48)<>0,$D48=\"Yes\"),VLOOKUP($B48,'Round One'!$C:$J,6,0),\"\"))","v":0},{"$f":"IF(ISERROR(VLOOKUP($B48,'Round One'!$C:$J,7,0)),0,IF(LEN($C48)<>0,VLOOKUP($B48,'Round One'!$C:$J,7,0)+1E-24,0))","v":0},{"$f":"IF(ISERROR(VLOOKUP($B48,'Round Two'!$C:$J,8,0)),0,IF(AND(LEN($C48)<>0,$D48=\"Yes\"),VLOOKUP($B48,'Round Two'!$C:$J,8,0),\"\"))","v":0},{"$f":"IF(ISERROR(VLOOKUP(J48,'Round Two'!$C:$J,7,0)),0,IF(AND(LEN($C48)<>0,$D48=\"Yes\"),VLOOKUP(J48,'Round Two'!$C:$J,7,0)+1E-24,0))","v":0},0,{"$f":"IF(ISERROR(VLOOKUP($B48,'Round Two'!$C:$J,6,0)),0,IF(AND(LEN($C48)<>0,$D48=\"Yes\"),VLOOKUP($B48,'Round Two'!$C:$J,6,0),\"\"))","v":0},{"$f":"IF(ISERROR(VLOOKUP($B48,'Round Two'!$C:$J,7,0)),0,IF(LEN($C48)<>0,VLOOKUP($B48,'Round Two'!$C:$J,7,0)+1E-24,0))","v":0},{"$f":"IF(ISERROR(VLOOKUP($B48,'Round Three'!$C:$J,8,0)),0,IF(AND(LEN($C48)<>0,$D48=\"Yes\"),VLOOKUP($B48,'Round Three'!$C:$J,8,0),\"\"))","v":0},{"$f":"IF(ISERROR(VLOOKUP(O48,'Round Three'!$C:$J,7,0)),0,IF(AND(LEN($C48)<>0,$D48=\"Yes\"),VLOOKUP(O48,'Round Three'!$C:$J,7,0)+1E-24,0))","v":0},0,{"$f":"IF(ISERROR(VLOOKUP($B48,'Round Three'!$C:$J,6,0)),0,IF(AND(LEN($C48)<>0,$D48=\"Yes\"),VLOOKUP($B48,'Round Three'!$C:$J,6,0),\"\"))","v":0},{"$f":"IF(ISERROR(VLOOKUP($B48,'Round Three'!$C:$J,7,0)),0,IF(LEN($C48)<>0,VLOOKUP($B48,'Round Three'!$C:$J,7,0)+1E-24,0))","v":0},{"$f":"IF(ISERROR(VLOOKUP($B48,'Round Four'!$C:$J,8,0)),0,IF(AND(LEN($C48)<>0,$D48=\"Yes\"),VLOOKUP($B48,'Round Four'!$C:$J,8,0),\"\"))","v":0},{"$f":"IF(ISERROR(VLOOKUP(T48,'Round Four'!$C:$J,7,0)),0,IF(AND(LEN($C48)<>0,$D48=\"Yes\"),VLOOKUP(T48,'Round Four'!$C:$J,7,0)+1E-24,0))","v":0},0,{"$f":"IF(ISERROR(VLOOKUP($B48,'Round Four'!$C:$J,6,0)),0,IF(AND(LEN($C48)<>0,$D48=\"Yes\"),VLOOKUP($B48,'Round Four'!$C:$J,6,0),\"\"))","v":0},{"$f":"IF(ISERROR(VLOOKUP($B48,'Round Four'!$C:$J,7,0)),0,IF(LEN($C48)<>0,VLOOKUP($B48,'Round Four'!$C:$J,7,0)+1E-24,0))","v":0},{"$f":"IF(ISERROR(VLOOKUP($B48,'Round Five'!$C:$J,8,0)),0,IF(AND(LEN($C48)<>0,$D48=\"Yes\"),VLOOKUP($B48,'Round Five'!$C:$J,8,0),\"\"))","v":0},{"$f":"IF(ISERROR(VLOOKUP(Y48,'Round Five'!$C:$J,7,0)),0,IF(AND(LEN($C48)<>0,$D48=\"Yes\"),VLOOKUP(Y48,'Round Five'!$C:$J,7,0)+1E-24,0))","v":0},0,{"$f":"IF(ISERROR(VLOOKUP($B48,'Round Five'!$C:$J,6,0)),0,IF(AND(LEN($C48)<>0,$D48=\"Yes\"),VLOOKUP($B48,'Round Five'!$C:$J,6,0),\"\"))","v":0},{"$f":"IF(ISERROR(VLOOKUP($B48,'Round Five'!$C:$J,7,0)),0,IF(LEN($C48)<>0,VLOOKUP($B48,'Round Five'!$C:$J,7,0)+1E-24,0))","v":0},{"$f":"IF(ISERROR(VLOOKUP($B48,'Round Six'!$C:$J,8,0)),0,IF(AND(LEN($C48)<>0,$D48=\"Yes\"),VLOOKUP($B48,'Round Six'!$C:$J,8,0),\"\"))","v":0},{"$f":"IF(ISERROR(VLOOKUP(AD48,'Round Six'!$C:$J,7,0)),0,IF(AND(LEN($C48)<>0,$D48=\"Yes\"),VLOOKUP(AD48,'Round Six'!$C:$J,7,0)+1E-24,0))","v":0},0,{"$f":"IF(ISERROR(VLOOKUP($B48,'Round Six'!$C:$J,6,0)),0,IF(AND(LEN($C48)<>0,$D48=\"Yes\"),VLOOKUP($B48,'Round Six'!$C:$J,6,0),\"\"))","v":0},{"$f":"IF(ISERROR(VLOOKUP($B48,'Round Six'!$C:$J,7,0)),0,IF(LEN($C48)<>0,VLOOKUP($B48,'Round Six'!$C:$J,7,0)+1E-24,0))","v":0},{"$f":"IF(ISERROR(VLOOKUP($B48,'Round Seven'!$C:$J,8,0)),0,IF(AND(LEN($C48)<>0,$D48=\"Yes\"),VLOOKUP($B48,'Round Seven'!$C:$J,8,0),\"\"))","v":0},{"$f":"IF(ISERROR(VLOOKUP(AI48,'Round Seven'!$C:$J,7,0)),0,IF(AND(LEN($C48)<>0,$D48=\"Yes\"),VLOOKUP(AI48,'Round Seven'!$C:$J,7,0)+1E-24,0))","v":0},0,{"$f":"IF(ISERROR(VLOOKUP($B48,'Round Seven'!$C:$J,6,0)),0,IF(AND(LEN($C48)<>0,$D48=\"Yes\"),VLOOKUP($B48,'Round Seven'!$C:$J,6,0),\"\"))","v":0},{"$f":"IF(ISERROR(VLOOKUP($B48,'Round Seven'!$C:$J,7,0)),0,IF(LEN($C48)<>0,VLOOKUP($B48,'Round Seven'!$C:$J,7,0)+1E-24,0))","v":0},{"$f":"IF(ISERROR(VLOOKUP($B48,'Round Eight'!$C:$J,8,0)),0,IF(AND(LEN($C48)<>0,$D48=\"Yes\"),VLOOKUP($B48,'Round Eight'!$C:$J,8,0),\"\"))","v":0},{"$f":"IF(ISERROR(VLOOKUP(AN48,'Round Eight'!$C:$J,7,0)),0,IF(AND(LEN($C48)<>0,$D48=\"Yes\"),VLOOKUP(AN48,'Round Eight'!$C:$J,7,0)+1E-24,0))","v":0},0,{"$f":"IF(ISERROR(VLOOKUP($B48,'Round Eight'!$C:$J,6,0)),0,IF(AND(LEN($C48)<>0,$D48=\"Yes\"),VLOOKUP($B48,'Round Eight'!$C:$J,6,0),\"\"))","v":0},{"$f":"IF(ISERROR(VLOOKUP($B48,'Round Eight'!$C:$J,7,0)),0,IF(LEN($C48)<>0,VLOOKUP($B48,'Round Eight'!$C:$J,7,0)+1E-24,0))","v":0},{"$f":"IF(ISERROR(VLOOKUP($B48,'Round Nine'!$C:$J,8,0)),0,IF(AND(LEN($C48)<>0,$D48=\"Yes\"),VLOOKUP($B48,'Round Nine'!$C:$J,8,0),\"\"))","v":0},{"$f":"IF(ISERROR(VLOOKUP(AS48,'Round Nine'!$C:$J,7,0)),0,IF(AND(LEN($C48)<>0,$D48=\"Yes\"),VLOOKUP(AS48,'Round Nine'!$C:$J,7,0)+1E-24,0))","v":0},0,{"$f":"IF(ISERROR(VLOOKUP($B48,'Round Nine'!$C:$J,6,0)),0,IF(AND(LEN($C48)<>0,$D48=\"Yes\"),VLOOKUP($B48,'Round Nine'!$C:$J,6,0),\"\"))","v":0},{"$f":"IF(ISERROR(VLOOKUP($B48,'Round Nine'!$C:$J,7,0)),0,IF(LEN($C48)<>0,VLOOKUP($B48,'Round Nine'!$C:$J,7,0)+1E-24,0))","v":0},null,0,0,0,{"$f":"IF(D48<>\"Yes\",A48*-10,AY48*1000000+AZ48*10000+BA48+(A48/100000))+IF(OR(Accel_Pairing_2!$B$4=\"no\",D48<>\"Yes\",ISERROR(VLOOKUP(C48,PowerRanking!A:B,2,0))),0,(VLOOKUP(C48,PowerRanking!A:D,4,0)*1000000)+VLOOKUP(C48,PowerRanking!A:D,2,0)/10)","v":-9.781814789193783},62,"T45",0,""]
[0.78585281206504631,"T46",null,null,{"$f":"IF(ISERROR(VLOOKUP($B49,'Round One'!$C:$J,8,0)),0,IF(AND(LEN($C49)<>0,$D49=\"Yes\"),VLOOKUP($B49,'Round One'!$C:$J,8,0),0))","v":0},{"$f":"IF(ISERROR(VLOOKUP(E49,'Round One'!$C:$J,7,0)),0,IF(AND(LEN($C49)<>0,$D49=\"Yes\"),VALUE(VLOOKUP(E49,'Round One'!$C:$J,7,0)+1E-24),0))","v":0},0,{"$f":"IF(ISERROR(VLOOKUP($B49,'Round One'!$C:$J,6,0)),0,IF(AND(LEN($C49)<>0,$D49=\"Yes\"),VLOOKUP($B49,'Round One'!$C:$J,6,0),\"\"))","v":0},{"$f":"IF(ISERROR(VLOOKUP($B49,'Round One'!$C:$J,7,0)),0,IF(LEN($C49)<>0,VLOOKUP($B49,'Round One'!$C:$J,7,0)+1E-24,0))","v":0},{"$f":"IF(ISERROR(VLOOKUP($B49,'Round Two'!$C:$J,8,0)),0,IF(AND(LEN($C49)<>0,$D49=\"Yes\"),VLOOKUP($B49,'Round Two'!$C:$J,8,0),\"\"))","v":0},{"$f":"IF(ISERROR(VLOOKUP(J49,'Round Two'!$C:$J,7,0)),0,IF(AND(LEN($C49)<>0,$D49=\"Yes\"),VLOOKUP(J49,'Round Two'!$C:$J,7,0)+1E-24,0))","v":0},0,{"$f":"IF(ISERROR(VLOOKUP($B49,'Round Two'!$C:$J,6,0)),0,IF(AND(LEN($C49)<>0,$D49=\"Yes\"),VLOOKUP($B49,'Round Two'!$C:$J,6,0),\"\"))","v":0},{"$f":"IF(ISERROR(VLOOKUP($B49,'Round Two'!$C:$J,7,0)),0,IF(LEN($C49)<>0,VLOOKUP($B49,'Round Two'!$C:$J,7,0)+1E-24,0))","v":0},{"$f":"IF(ISERROR(VLOOKUP($B49,'Round Three'!$C:$J,8,0)),0,IF(AND(LEN($C49)<>0,$D49=\"Yes\"),VLOOKUP($B49,'Round Three'!$C:$J,8,0),\"\"))","v":0},{"$f":"IF(ISERROR(VLOOKUP(O49,'Round Three'!$C:$J,7,0)),0,IF(AND(LEN($C49)<>0,$D49=\"Yes\"),VLOOKUP(O49,'Round Three'!$C:$J,7,0)+1E-24,0))","v":0},0,{"$f":"IF(ISERROR(VLOOKUP($B49,'Round Three'!$C:$J,6,0)),0,IF(AND(LEN($C49)<>0,$D49=\"Yes\"),VLOOKUP($B49,'Round Three'!$C:$J,6,0),\"\"))","v":0},{"$f":"IF(ISERROR(VLOOKUP($B49,'Round Three'!$C:$J,7,0)),0,IF(LEN($C49)<>0,VLOOKUP($B49,'Round Three'!$C:$J,7,0)+1E-24,0))","v":0},{"$f":"IF(ISERROR(VLOOKUP($B49,'Round Four'!$C:$J,8,0)),0,IF(AND(LEN($C49)<>0,$D49=\"Yes\"),VLOOKUP($B49,'Round Four'!$C:$J,8,0),\"\"))","v":0},{"$f":"IF(ISERROR(VLOOKUP(T49,'Round Four'!$C:$J,7,0)),0,IF(AND(LEN($C49)<>0,$D49=\"Yes\"),VLOOKUP(T49,'Round Four'!$C:$J,7,0)+1E-24,0))","v":0},0,{"$f":"IF(ISERROR(VLOOKUP($B49,'Round Four'!$C:$J,6,0)),0,IF(AND(LEN($C49)<>0,$D49=\"Yes\"),VLOOKUP($B49,'Round Four'!$C:$J,6,0),\"\"))","v":0},{"$f":"IF(ISERROR(VLOOKUP($B49,'Round Four'!$C:$J,7,0)),0,IF(LEN($C49)<>0,VLOOKUP($B49,'Round Four'!$C:$J,7,0)+1E-24,0))","v":0},{"$f":"IF(ISERROR(VLOOKUP($B49,'Round Five'!$C:$J,8,0)),0,IF(AND(LEN($C49)<>0,$D49=\"Yes\"),VLOOKUP($B49,'Round Five'!$C:$J,8,0),\"\"))","v":0},{"$f":"IF(ISERROR(VLOOKUP(Y49,'Round Five'!$C:$J,7,0)),0,IF(AND(LEN($C49)<>0,$D49=\"Yes\"),VLOOKUP(Y49,'Round Five'!$C:$J,7,0)+1E-24,0))","v":0},0,{"$f":"IF(ISERROR(VLOOKUP($B49,'Round Five'!$C:$J,6,0)),0,IF(AND(LEN($C49)<>0,$D49=\"Yes\"),VLOOKUP($B49,'Round Five'!$C:$J,6,0),\"\"))","v":0},{"$f":"IF(ISERROR(VLOOKUP($B49,'Round Five'!$C:$J,7,0)),0,IF(LEN($C49)<>0,VLOOKUP($B49,'Round Five'!$C:$J,7,0)+1E-24,0))","v":0},{"$f":"IF(ISERROR(VLOOKUP($B49,'Round Six'!$C:$J,8,0)),0,IF(AND(LEN($C49)<>0,$D49=\"Yes\"),VLOOKUP($B49,'Round Six'!$C:$J,8,0),\"\"))","v":0},{"$f":"IF(ISERROR(VLOOKUP(AD49,'Round Six'!$C:$J,7,0)),0,IF(AND(LEN($C49)<>0,$D49=\"Yes\"),VLOOKUP(AD49,'Round Six'!$C:$J,7,0)+1E-24,0))","v":0},0,{"$f":"IF(ISERROR(VLOOKUP($B49,'Round Six'!$C:$J,6,0)),0,IF(AND(LEN($C49)<>0,$D49=\"Yes\"),VLOOKUP($B49,'Round Six'!$C:$J,6,0),\"\"))","v":0},{"$f":"IF(ISERROR(VLOOKUP($B49,'Round Six'!$C:$J,7,0)),0,IF(LEN($C49)<>0,VLOOKUP($B49,'Round Six'!$C:$J,7,0)+1E-24,0))","v":0},{"$f":"IF(ISERROR(VLOOKUP($B49,'Round Seven'!$C:$J,8,0)),0,IF(AND(LEN($C49)<>0,$D49=\"Yes\"),VLOOKUP($B49,'Round Seven'!$C:$J,8,0),\"\"))","v":0},{"$f":"IF(ISERROR(VLOOKUP(AI49,'Round Seven'!$C:$J,7,0)),0,IF(AND(LEN($C49)<>0,$D49=\"Yes\"),VLOOKUP(AI49,'Round Seven'!$C:$J,7,0)+1E-24,0))","v":0},0,{"$f":"IF(ISERROR(VLOOKUP($B49,'Round Seven'!$C:$J,6,0)),0,IF(AND(LEN($C49)<>0,$D49=\"Yes\"),VLOOKUP($B49,'Round Seven'!$C:$J,6,0),\"\"))","v":0},{"$f":"IF(ISERROR(VLOOKUP($B49,'Round Seven'!$C:$J,7,0)),0,IF(LEN($C49)<>0,VLOOKUP($B49,'Round Seven'!$C:$J,7,0)+1E-24,0))","v":0},{"$f":"IF(ISERROR(VLOOKUP($B49,'Round Eight'!$C:$J,8,0)),0,IF(AND(LEN($C49)<>0,$D49=\"Yes\"),VLOOKUP($B49,'Round Eight'!$C:$J,8,0),\"\"))","v":0},{"$f":"IF(ISERROR(VLOOKUP(AN49,'Round Eight'!$C:$J,7,0)),0,IF(AND(LEN($C49)<>0,$D49=\"Yes\"),VLOOKUP(AN49,'Round Eight'!$C:$J,7,0)+1E-24,0))","v":0},0,{"$f":"IF(ISERROR(VLOOKUP($B49,'Round Eight'!$C:$J,6,0)),0,IF(AND(LEN($C49)<>0,$D49=\"Yes\"),VLOOKUP($B49,'Round Eight'!$C:$J,6,0),\"\"))","v":0},{"$f":"IF(ISERROR(VLOOKUP($B49,'Round Eight'!$C:$J,7,0)),0,IF(LEN($C49)<>0,VLOOKUP($B49,'Round Eight'!$C:$J,7,0)+1E-24,0))","v":0},{"$f":"IF(ISERROR(VLOOKUP($B49,'Round Nine'!$C:$J,8,0)),0,IF(AND(LEN($C49)<>0,$D49=\"Yes\"),VLOOKUP($B49,'Round Nine'!$C:$J,8,0),\"\"))","v":0},{"$f":"IF(ISERROR(VLOOKUP(AS49,'Round Nine'!$C:$J,7,0)),0,IF(AND(LEN($C49)<>0,$D49=\"Yes\"),VLOOKUP(AS49,'Round Nine'!$C:$J,7,0)+1E-24,0))","v":0},0,{"$f":"IF(ISERROR(VLOOKUP($B49,'Round Nine'!$C:$J,6,0)),0,IF(AND(LEN($C49)<>0,$D49=\"Yes\"),VLOOKUP($B49,'Round Nine'!$C:$J,6,0),\"\"))","v":0},{"$f":"IF(ISERROR(VLOOKUP($B49,'Round Nine'!$C:$J,7,0)),0,IF(LEN($C49)<>0,VLOOKUP($B49,'Round Nine'!$C:$J,7,0)+1E-24,0))","v":0},null,0,0,0,{"$f":"IF(D49<>\"Yes\",A49*-10,AY49*1000000+AZ49*10000+BA49+(A49/100000))+IF(OR(Accel_Pairing_2!$B$4=\"no\",D49<>\"Yes\",ISERROR(VLOOKUP(C49,PowerRanking!A:B,2,0))),0,(VLOOKUP(C49,PowerRanking!A:D,4,0)*1000000)+VLOOKUP(C49,PowerRanking!A:D,2,0)/10)","v":-7.8585281206504636},{"$f":"IF(E49=\"\",\"\",RANK(BB49,$BB$4:$BB$68,0))","v":53},"T46",{"$f":"IF(D49<>\"Yes\",0,AY49*1000000+AZ49*10000+BA49+0.0000001)","v":0},{"$f":"IF(D49<>\"Yes\",\"\",RANK(BE49,$BE$4:$BE$67,0))","v":""}]
[6.5151126675429549E-2,"T47",null,null,{"$f":"IF(ISERROR(VLOOKUP($B50,'Round One'!$C:$J,8,0)),0,IF(AND(LEN($C50)<>0,$D50=\"Yes\"),VLOOKUP($B50,'Round One'!$C:$J,8,0),0))","v":0},{"$f":"IF(ISERROR(VLOOKUP(E50,'Round One'!$C:$J,7,0)),0,IF(AND(LEN($C50)<>0,$D50=\"Yes\"),VALUE(VLOOKUP(E50,'Round One'!$C:$J,7,0)+1E-24),0))","v":0},0,{"$f":"IF(ISERROR(VLOOKUP($B50,'Round One'!$C:$J,6,0)),0,IF(AND(LEN($C50)<>0,$D50=\"Yes\"),VLOOKUP($B50,'Round One'!$C:$J,6,0),\"\"))","v":0},{"$f":"IF(ISERROR(VLOOKUP($B50,'Round One'!$C:$J,7,0)),0,IF(LEN($C50)<>0,VLOOKUP($B50,'Round One'!$C:$J,7,0)+1E-24,0))","v":0},{"$f":"IF(ISERROR(VLOOKUP($B50,'Round Two'!$C:$J,8,0)),0,IF(AND(LEN($C50)<>0,$D50=\"Yes\"),VLOOKUP($B50,'Round Two'!$C:$J,8,0),\"\"))","v":0},{"$f":"IF(ISERROR(VLOOKUP(J50,'Round Two'!$C:$J,7,0)),0,IF(AND(LEN($C50)<>0,$D50=\"Yes\"),VLOOKUP(J50,'Round Two'!$C:$J,7,0)+1E-24,0))","v":0},0,{"$f":"IF(ISERROR(VLOOKUP($B50,'Round Two'!$C:$J,6,0)),0,IF(AND(LEN($C50)<>0,$D50=\"Yes\"),VLOOKUP($B50,'Round Two'!$C:$J,6,0),\"\"))","v":0},{"$f":"IF(ISERROR(VLOOKUP($B50,'Round Two'!$C:$J,7,0)),0,IF(LEN($C50)<>0,VLOOKUP($B50,'Round Two'!$C:$J,7,0)+1E-24,0))","v":0},{"$f":"IF(ISERROR(VLOOKUP($B50,'Round Three'!$C:$J,8,0)),0,IF(AND(LEN($C50)<>0,$D50=\"Yes\"),VLOOKUP($B50,'Round Three'!$C:$J,8,0),\"\"))","v":0},{"$f":"IF(ISERROR(VLOOKUP(O50,'Round Three'!$C:$J,7,0)),0,IF(AND(LEN($C50)<>0,$D50=\"Yes\"),VLOOKUP(O50,'Round Three'!$C:$J,7,0)+1E-24,0))","v":0},0,{"$f":"IF(ISERROR(VLOOKUP($B50,'Round Three'!$C:$J,6,0)),0,IF(AND(LEN($C50)<>0,$D50=\"Yes\"),VLOOKUP($B50,'Round Three'!$C:$J,6,0),\"\"))","v":0},{"$f":"IF(ISERROR(VLOOKUP($B50,'Round Three'!$C:$J,7,0)),0,IF(LEN($C50)<>0,VLOOKUP($B50,'Round Three'!$C:$J,7,0)+1E-24,0))","v":0},{"$f":"IF(ISERROR(VLOOKUP($B50,'Round Four'!$C:$J,8,0)),0,IF(AND(LEN($C50)<>0,$D50=\"Yes\"),VLOOKUP($B50,'Round Four'!$C:$J,8,0),\"\"))","v":0},{"$f":"IF(ISERROR(VLOOKUP(T50,'Round Four'!$C:$J,7,0)),0,IF(AND(LEN($C50)<>0,$D50=\"Yes\"),VLOOKUP(T50,'Round Four'!$C:$J,7,0)+1E-24,0))","v":0},0,{"$f":"IF(ISERROR(VLOOKUP($B50,'Round Four'!$C:$J,6,0)),0,IF(AND(LEN($C50)<>0,$D50=\"Yes\"),VLOOKUP($B50,'Round Four'!$C:$J,6,0),\"\"))","v":0},{"$f":"IF(ISERROR(VLOOKUP($B50,'Round Four'!$C:$J,7,0)),0,IF(LEN($C50)<>0,VLOOKUP($B50,'Round Four'!$C:$J,7,0)+1E-24,0))","v":0},{"$f":"IF(ISERROR(VLOOKUP($B50,'Round Five'!$C:$J,8,0)),0,IF(AND(LEN($C50)<>0,$D50=\"Yes\"),VLOOKUP($B50,'Round Five'!$C:$J,8,0),\"\"))","v":0},{"$f":"IF(ISERROR(VLOOKUP(Y50,'Round Five'!$C:$J,7,0)),0,IF(AND(LEN($C50)<>0,$D50=\"Yes\"),VLOOKUP(Y50,'Round Five'!$C:$J,7,0)+1E-24,0))","v":0},0,{"$f":"IF(ISERROR(VLOOKUP($B50,'Round Five'!$C:$J,6,0)),0,IF(AND(LEN($C50)<>0,$D50=\"Yes\"),VLOOKUP($B50,'Round Five'!$C:$J,6,0),\"\"))","v":0},{"$f":"IF(ISERROR(VLOOKUP($B50,'Round Five'!$C:$J,7,0)),0,IF(LEN($C50)<>0,VLOOKUP($B50,'Round Five'!$C:$J,7,0)+1E-24,0))","v":0},{"$f":"IF(ISERROR(VLOOKUP($B50,'Round Six'!$C:$J,8,0)),0,IF(AND(LEN($C50)<>0,$D50=\"Yes\"),VLOOKUP($B50,'Round Six'!$C:$J,8,0),\"\"))","v":0},{"$f":"IF(ISERROR(VLOOKUP(AD50,'Round Six'!$C:$J,7,0)),0,IF(AND(LEN($C50)<>0,$D50=\"Yes\"),VLOOKUP(AD50,'Round Six'!$C:$J,7,0)+1E-24,0))","v":0},0,{"$f":"IF(ISERROR(VLOOKUP($B50,'Round Six'!$C:$J,6,0)),0,IF(AND(LEN($C50)<>0,$D50=\"Yes\"),VLOOKUP($B50,'Round Six'!$C:$J,6,0),\"\"))","v":0},{"$f":"IF(ISERROR(VLOOKUP($B50,'Round Six'!$C:$J,7,0)),0,IF(LEN($C50)<>0,VLOOKUP($B50,'Round Six'!$C:$J,7,0)+1E-24,0))","v":0},{"$f":"IF(ISERROR(VLOOKUP($B50,'Round Seven'!$C:$J,8,0)),0,IF(AND(LEN($C50)<>0,$D50=\"Yes\"),VLOOKUP($B50,'Round Seven'!$C:$J,8,0),\"\"))","v":0},{"$f":"IF(ISERROR(VLOOKUP(AI50,'Round Seven'!$C:$J,7,0)),0,IF(AND(LEN($C50)<>0,$D50=\"Yes\"),VLOOKUP(AI50,'Round Seven'!$C:$J,7,0)+1E-24,0))","v":0},0,{"$f":"IF(ISERROR(VLOOKUP($B50,'Round Seven'!$C:$J,6,0)),0,IF(AND(LEN($C50)<>0,$D50=\"Yes\"),VLOOKUP($B50,'Round Seven'!$C:$J,6,0),\"\"))","v":0},{"$f":"IF(ISERROR(VLOOKUP($B50,'Round Seven'!$C:$J,7,0)),0,IF(LEN($C50)<>0,VLOOKUP($B50,'Round Seven'!$C:$J,7,0)+1E-24,0))","v":0},{"$f":"IF(ISERROR(VLOOKUP($B50,'Round Eight'!$C:$J,8,0)),0,IF(AND(LEN($C50)<>0,$D50=\"Yes\"),VLOOKUP($B50,'Round Eight'!$C:$J,8,0),\"\"))","v":0},{"$f":"IF(ISERROR(VLOOKUP(AN50,'Round Eight'!$C:$J,7,0)),0,IF(AND(LEN($C50)<>0,$D50=\"Yes\"),VLOOKUP(AN50,'Round Eight'!$C:$J,7,0)+1E-24,0))","v":0},0,{"$f":"IF(ISERROR(VLOOKUP($B50,'Round Eight'!$C:$J,6,0)),0,IF(AND(LEN($C50)<>0,$D50=\"Yes\"),VLOOKUP($B50,'Round Eight'!$C:$J,6,0),\"\"))","v":0},{"$f":"IF(ISERROR(VLOOKUP($B50,'Round Eight'!$C:$J,7,0)),0,IF(LEN($C50)<>0,VLOOKUP($B50,'Round Eight'!$C:$J,7,0)+1E-24,0))","v":0},{"$f":"IF(ISERROR(VLOOKUP($B50,'Round Nine'!$C:$J,8,0)),0,IF(AND(LEN($C50)<>0,$D50=\"Yes\"),VLOOKUP($B50,'Round Nine'!$C:$J,8,0),\"\"))","v":0},{"$f":"IF(ISERROR(VLOOKUP(AS50,'Round Nine'!$C:$J,7,0)),0,IF(AND(LEN($C50)<>0,$D50=\"Yes\"),VLOOKUP(AS50,'Round Nine'!$C:$J,7,0)+1E-24,0))","v":0},0,{"$f":"IF(ISERROR(VLOOKUP($B50,'Round Nine'!$C:$J,6,0)),0,IF(AND(LEN($C50)<>0,$D50=\"Yes\"),VLOOKUP($B50,'Round Nine'!$C:$J,6,0),\"\"))","v":0},{"$f":"IF(ISERROR(VLOOKUP($B50,'Round Nine'!$C:$J,7,0)),0,IF(LEN($C50)<>0,VLOOKUP($B50,'Round Nine'!$C:$J,7,0)+1E-24,0))","v":0},null,0,0,0,{"$f":"IF(D50<>\"Yes\",A50*-10,AY50*1000000+AZ50*10000+BA50+(A50/100000))+IF(OR(Accel_Pairing_2!$B$4=\"no\",D50<>\"Yes\",ISERROR(VLOOKUP(C50,PowerRanking!A:B,2,0))),0,(VLOOKUP(C50,PowerRanking!A:D,4,0)*1000000)+VLOOKUP(C50,PowerRanking!A:D,2,0)/10)","v":-0.65151126675429549},4,"T47",0,""]
[0.62760731997446251,"T48",null,null,{"$f":"IF(ISERROR(VLOOKUP($B51,'Round One'!$C:$J,8,0)),0,IF(AND(LEN($C51)<>0,$D51=\"Yes\"),VLOOKUP($B51,'Round One'!$C:$J,8,0),0))","v":0},{"$f":"IF(ISERROR(VLOOKUP(E51,'Round One'!$C:$J,7,0)),0,IF(AND(LEN($C51)<>0,$D51=\"Yes\"),VALUE(VLOOKUP(E51,'Round One'!$C:$J,7,0)+1E-24),0))","v":0},0,{"$f":"IF(ISERROR(VLOOKUP($B51,'Round One'!$C:$J,6,0)),0,IF(AND(LEN($C51)<>0,$D51=\"Yes\"),VLOOKUP($B51,'Round One'!$C:$J,6,0),\"\"))","v":0},{"$f":"IF(ISERROR(VLOOKUP($B51,'Round One'!$C:$J,7,0)),0,IF(LEN($C51)<>0,VLOOKUP($B51,'Round One'!$C:$J,7,0)+1E-24,0))","v":0},{"$f":"IF(ISERROR(VLOOKUP($B51,'Round Two'!$C:$J,8,0)),0,IF(AND(LEN($C51)<>0,$D51=\"Yes\"),VLOOKUP($B51,'Round Two'!$C:$J,8,0),\"\"))","v":0},{"$f":"IF(ISERROR(VLOOKUP(J51,'Round Two'!$C:$J,7,0)),0,IF(AND(LEN($C51)<>0,$D51=\"Yes\"),VLOOKUP(J51,'Round Two'!$C:$J,7,0)+1E-24,0))","v":0},0,{"$f":"IF(ISERROR(VLOOKUP($B51,'Round Two'!$C:$J,6,0)),0,IF(AND(LEN($C51)<>0,$D51=\"Yes\"),VLOOKUP($B51,'Round Two'!$C:$J,6,0),\"\"))","v":0},{"$f":"IF(ISERROR(VLOOKUP($B51,'Round Two'!$C:$J,7,0)),0,IF(LEN($C51)<>0,VLOOKUP($B51,'Round Two'!$C:$J,7,0)+1E-24,0))","v":0},{"$f":"IF(ISERROR(VLOOKUP($B51,'Round Three'!$C:$J,8,0)),0,IF(AND(LEN($C51)<>0,$D51=\"Yes\"),VLOOKUP($B51,'Round Three'!$C:$J,8,0),\"\"))","v":0},{"$f":"IF(ISERROR(VLOOKUP(O51,'Round Three'!$C:$J,7,0)),0,IF(AND(LEN($C51)<>0,$D51=\"Yes\"),VLOOKUP(O51,'Round Three'!$C:$J,7,0)+1E-24,0))","v":0},0,{"$f":"IF(ISERROR(VLOOKUP($B51,'Round Three'!$C:$J,6,0)),0,IF(AND(LEN($C51)<>0,$D51=\"Yes\"),VLOOKUP($B51,'Round Three'!$C:$J,6,0),\"\"))","v":0},{"$f":"IF(ISERROR(VLOOKUP($B51,'Round Three'!$C:$J,7,0)),0,IF(LEN($C51)<>0,VLOOKUP($B51,'Round Three'!$C:$J,7,0)+1E-24,0))","v":0},{"$f":"IF(ISERROR(VLOOKUP($B51,'Round Four'!$C:$J,8,0)),0,IF(AND(LEN($C51)<>0,$D51=\"Yes\"),VLOOKUP($B51,'Round Four'!$C:$J,8,0),\"\"))","v":0},{"$f":"IF(ISERROR(VLOOKUP(T51,'Round Four'!$C:$J,7,0)),0,IF(AND(LEN($C51)<>0,$D51=\"Yes\"),VLOOKUP(T51,'Round Four'!$C:$J,7,0)+1E-24,0))","v":0},0,{"$f":"IF(ISERROR(VLOOKUP($B51,'Round Four'!$C:$J,6,0)),0,IF(AND(LEN($C51)<>0,$D51=\"Yes\"),VLOOKUP($B51,'Round Four'!$C:$J,6,0),\"\"))","v":0},{"$f":"IF(ISERROR(VLOOKUP($B51,'Round Four'!$C:$J,7,0)),0,IF(LEN($C51)<>0,VLOOKUP($B51,'Round Four'!$C:$J,7,0)+1E-24,0))","v":0},{"$f":"IF(ISERROR(VLOOKUP($B51,'Round Five'!$C:$J,8,0)),0,IF(AND(LEN($C51)<>0,$D51=\"Yes\"),VLOOKUP($B51,'Round Five'!$C:$J,8,0),\"\"))","v":0},{"$f":"IF(ISERROR(VLOOKUP(Y51,'Round Five'!$C:$J,7,0)),0,IF(AND(LEN($C51)<>0,$D51=\"Yes\"),VLOOKUP(Y51,'Round Five'!$C:$J,7,0)+1E-24,0))","v":0},0,{"$f":"IF(ISERROR(VLOOKUP($B51,'Round Five'!$C:$J,6,0)),0,IF(AND(LEN($C51)<>0,$D51=\"Yes\"),VLOOKUP($B51,'Round Five'!$C:$J,6,0),\"\"))","v":0},{"$f":"IF(ISERROR(VLOOKUP($B51,'Round Five'!$C:$J,7,0)),0,IF(LEN($C51)<>0,VLOOKUP($B51,'Round Five'!$C:$J,7,0)+1E-24,0))","v":0},{"$f":"IF(ISERROR(VLOOKUP($B51,'Round Six'!$C:$J,8,0)),0,IF(AND(LEN($C51)<>0,$D51=\"Yes\"),VLOOKUP($B51,'Round Six'!$C:$J,8,0),\"\"))","v":0},{"$f":"IF(ISERROR(VLOOKUP(AD51,'Round Six'!$C:$J,7,0)),0,IF(AND(LEN($C51)<>0,$D51=\"Yes\"),VLOOKUP(AD51,'Round Six'!$C:$J,7,0)+1E-24,0))","v":0},0,{"$f":"IF(ISERROR(VLOOKUP($B51,'Round Six'!$C:$J,6,0)),0,IF(AND(LEN($C51)<>0,$D51=\"Yes\"),VLOOKUP($B51,'Round Six'!$C:$J,6,0),\"\"))","v":0},{"$f":"IF(ISERROR(VLOOKUP($B51,'Round Six'!$C:$J,7,0)),0,IF(LEN($C51)<>0,VLOOKUP($B51,'Round Six'!$C:$J,7,0)+1E-24,0))","v":0},{"$f":"IF(ISERROR(VLOOKUP($B51,'Round Seven'!$C:$J,8,0)),0,IF(AND(LEN($C51)<>0,$D51=\"Yes\"),VLOOKUP($B51,'Round Seven'!$C:$J,8,0),\"\"))","v":0},{"$f":"IF(ISERROR(VLOOKUP(AI51,'Round Seven'!$C:$J,7,0)),0,IF(AND(LEN($C51)<>0,$D51=\"Yes\"),VLOOKUP(AI51,'Round Seven'!$C:$J,7,0)+1E-24,0))","v":0},0,{"$f":"IF(ISERROR(VLOOKUP($B51,'Round Seven'!$C:$J,6,0)),0,IF(AND(LEN($C51)<>0,$D51=\"Yes\"),VLOOKUP($B51,'Round Seven'!$C:$J,6,0),\"\"))","v":0},{"$f":"IF(ISERROR(VLOOKUP($B51,'Round Seven'!$C:$J,7,0)),0,IF(LEN($C51)<>0,VLOOKUP($B51,'Round Seven'!$C:$J,7,0)+1E-24,0))","v":0},{"$f":"IF(ISERROR(VLOOKUP($B51,'Round Eight'!$C:$J,8,0)),0,IF(AND(LEN($C51)<>0,$D51=\"Yes\"),VLOOKUP($B51,'Round Eight'!$C:$J,8,0),\"\"))","v":0},{"$f":"IF(ISERROR(VLOOKUP(AN51,'Round Eight'!$C:$J,7,0)),0,IF(AND(LEN($C51)<>0,$D51=\"Yes\"),VLOOKUP(AN51,'Round Eight'!$C:$J,7,0)+1E-24,0))","v":0},0,{"$f":"IF(ISERROR(VLOOKUP($B51,'Round Eight'!$C:$J,6,0)),0,IF(AND(LEN($C51)<>0,$D51=\"Yes\"),VLOOKUP($B51,'Round Eight'!$C:$J,6,0),\"\"))","v":0},{"$f":"IF(ISERROR(VLOOKUP($B51,'Round Eight'!$C:$J,7,0)),0,IF(LEN($C51)<>0,VLOOKUP($B51,'Round Eight'!$C:$J,7,0)+1E-24,0))","v":0},{"$f":"IF(ISERROR(VLOOKUP($B51,'Round Nine'!$C:$J,8,0)),0,IF(AND(LEN($C51)<>0,$D51=\"Yes\"),VLOOKUP($B51,'Round Nine'!$C:$J,8,0),\"\"))","v":0},{"$f":"IF(ISERROR(VLOOKUP(AS51,'Round Nine'!$C:$J,7,0)),0,IF(AND(LEN($C51)<>0,$D51=\"Yes\"),VLOOKUP(AS51,'Round Nine'!$C:$J,7,0)+1E-24,0))","v":0},0,{"$f":"IF(ISERROR(VLOOKUP($B51,'Round Nine'!$C:$J,6,0)),0,IF(AND(LEN($C51)<>0,$D51=\"Yes\"),VLOOKUP($B51,'Round Nine'!$C:$J,6,0),\"\"))","v":0},{"$f":"IF(ISERROR(VLOOKUP($B51,'Round Nine'!$C:$J,7,0)),0,IF(LEN($C51)<>0,VLOOKUP($B51,'Round Nine'!$C:$J,7,0)+1E-24,0))","v":0},null,0,0,0,{"$f":"IF(D51<>\"Yes\",A51*-10,AY51*1000000+AZ51*10000+BA51+(A51/100000))+IF(OR(Accel_Pairing_2!$B$4=\"no\",D51<>\"Yes\",ISERROR(VLOOKUP(C51,PowerRanking!A:B,2,0))),0,(VLOOKUP(C51,PowerRanking!A:D,4,0)*1000000)+VLOOKUP(C51,PowerRanking!A:D,2,0)/10)","v":-6.2760731997446246},41,"T48",0,""]
[0.4413061753676859,"T49",null,null,{"$f":"IF(ISERROR(VLOOKUP($B52,'Round One'!$C:$J,8,0)),0,IF(AND(LEN($C52)<>0,$D52=\"Yes\"),VLOOKUP($B52,'Round One'!$C:$J,8,0),0))","v":0},{"$f":"IF(ISERROR(VLOOKUP(E52,'Round One'!$C:$J,7,0)),0,IF(AND(LEN($C52)<>0,$D52=\"Yes\"),VALUE(VLOOKUP(E52,'Round One'!$C:$J,7,0)+1E-24),0))","v":0},0,{"$f":"IF(ISERROR(VLOOKUP($B52,'Round One'!$C:$J,6,0)),0,IF(AND(LEN($C52)<>0,$D52=\"Yes\"),VLOOKUP($B52,'Round One'!$C:$J,6,0),\"\"))","v":0},{"$f":"IF(ISERROR(VLOOKUP($B52,'Round One'!$C:$J,7,0)),0,IF(LEN($C52)<>0,VLOOKUP($B52,'Round One'!$C:$J,7,0)+1E-24,0))","v":0},{"$f":"IF(ISERROR(VLOOKUP($B52,'Round Two'!$C:$J,8,0)),0,IF(AND(LEN($C52)<>0,$D52=\"Yes\"),VLOOKUP($B52,'Round Two'!$C:$J,8,0),\"\"))","v":0},{"$f":"IF(ISERROR(VLOOKUP(J52,'Round Two'!$C:$J,7,0)),0,IF(AND(LEN($C52)<>0,$D52=\"Yes\"),VLOOKUP(J52,'Round Two'!$C:$J,7,0)+1E-24,0))","v":0},0,{"$f":"IF(ISERROR(VLOOKUP($B52,'Round Two'!$C:$J,6,0)),0,IF(AND(LEN($C52)<>0,$D52=\"Yes\"),VLOOKUP($B52,'Round Two'!$C:$J,6,0),\"\"))","v":0},{"$f":"IF(ISERROR(VLOOKUP($B52,'Round Two'!$C:$J,7,0)),0,IF(LEN($C52)<>0,VLOOKUP($B52,'Round Two'!$C:$J,7,0)+1E-24,0))","v":0},{"$f":"IF(ISERROR(VLOOKUP($B52,'Round Three'!$C:$J,8,0)),0,IF(AND(LEN($C52)<>0,$D52=\"Yes\"),VLOOKUP($B52,'Round Three'!$C:$J,8,0),\"\"))","v":0},{"$f":"IF(ISERROR(VLOOKUP(O52,'Round Three'!$C:$J,7,0)),0,IF(AND(LEN($C52)<>0,$D52=\"Yes\"),VLOOKUP(O52,'Round Three'!$C:$J,7,0)+1E-24,0))","v":0},0,{"$f":"IF(ISERROR(VLOOKUP($B52,'Round Three'!$C:$J,6,0)),0,IF(AND(LEN($C52)<>0,$D52=\"Yes\"),VLOOKUP($B52,'Round Three'!$C:$J,6,0),\"\"))","v":0},{"$f":"IF(ISERROR(VLOOKUP($B52,'Round Three'!$C:$J,7,0)),0,IF(LEN($C52)<>0,VLOOKUP($B52,'Round Three'!$C:$J,7,0)+1E-24,0))","v":0},{"$f":"IF(ISERROR(VLOOKUP($B52,'Round Four'!$C:$J,8,0)),0,IF(AND(LEN($C52)<>0,$D52=\"Yes\"),VLOOKUP($B52,'Round Four'!$C:$J,8,0),\"\"))","v":0},{"$f":"IF(ISERROR(VLOOKUP(T52,'Round Four'!$C:$J,7,0)),0,IF(AND(LEN($C52)<>0,$D52=\"Yes\"),VLOOKUP(T52,'Round Four'!$C:$J,7,0)+1E-24,0))","v":0},0,{"$f":"IF(ISERROR(VLOOKUP($B52,'Round Four'!$C:$J,6,0)),0,IF(AND(LEN($C52)<>0,$D52=\"Yes\"),VLOOKUP($B52,'Round Four'!$C:$J,6,0),\"\"))","v":0},{"$f":"IF(ISERROR(VLOOKUP($B52,'Round Four'!$C:$J,7,0)),0,IF(LEN($C52)<>0,VLOOKUP($B52,'Round Four'!$C:$J,7,0)+1E-24,0))","v":0},{"$f":"IF(ISERROR(VLOOKUP($B52,'Round Five'!$C:$J,8,0)),0,IF(AND(LEN($C52)<>0,$D52=\"Yes\"),VLOOKUP($B52,'Round Five'!$C:$J,8,0),\"\"))","v":0},{"$f":"IF(ISERROR(VLOOKUP(Y52,'Round Five'!$C:$J,7,0)),0,IF(AND(LEN($C52)<>0,$D52=\"Yes\"),VLOOKUP(Y52,'Round Five'!$C:$J,7,0)+1E-24,0))","v":0},0,{"$f":"IF(ISERROR(VLOOKUP($B52,'Round Five'!$C:$J,6,0)),0,IF(AND(LEN($C52)<>0,$D52=\"Yes\"),VLOOKUP($B52,'Round Five'!$C:$J,6,0),\"\"))","v":0},{"$f":"IF(ISERROR(VLOOKUP($B52,'Round Five'!$C:$J,7,0)),0,IF(LEN($C52)<>0,VLOOKUP($B52,'Round Five'!$C:$J,7,0)+1E-24,0))","v":0},{"$f":"IF(ISERROR(VLOOKUP($B52,'Round Six'!$C:$J,8,0)),0,IF(AND(LEN($C52)<>0,$D52=\"Yes\"),VLOOKUP($B52,'Round Six'!$C:$J,8,0),\"\"))","v":0},{"$f":"IF(ISERROR(VLOOKUP(AD52,'Round Six'!$C:$J,7,0)),0,IF(AND(LEN($C52)<>0,$D52=\"Yes\"),VLOOKUP(AD52,'Round Six'!$C:$J,7,0)+1E-24,0))","v":0},0,{"$f":"IF(ISERROR(VLOOKUP($B52,'Round Six'!$C:$J,6,0)),0,IF(AND(LEN($C52)<>0,$D52=\"Yes\"),VLOOKUP($B52,'Round Six'!$C:$J,6,0),\"\"))","v":0},{"$f":"IF(ISERROR(VLOOKUP($B52,'Round Six'!$C:$J,7,0)),0,IF(LEN($C52)<>0,VLOOKUP($B52,'Round Six'!$C:$J,7,0)+1E-24,0))","v":0},{"$f":"IF(ISERROR(VLOOKUP($B52,'Round Seven'!$C:$J,8,0)),0,IF(AND(LEN($C52)<>0,$D52=\"Yes\"),VLOOKUP($B52,'Round Seven'!$C:$J,8,0),\"\"))","v":0},{"$f":"IF(ISERROR(VLOOKUP(AI52,'Round Seven'!$C:$J,7,0)),0,IF(AND(LEN($C52)<>0,$D52=\"Yes\"),VLOOKUP(AI52,'Round Seven'!$C:$J,7,0)+1E-24,0))","v":0},0,{"$f":"IF(ISERROR(VLOOKUP($B52,'Round Seven'!$C:$J,6,0)),0,IF(AND(LEN($C52)<>0,$D52=\"Yes\"),VLOOKUP($B52,'Round Seven'!$C:$J,6,0),\"\"))","v":0},{"$f":"IF(ISERROR(VLOOKUP($B52,'Round Seven'!$C:$J,7,0)),0,IF(LEN($C52)<>0,VLOOKUP($B52,'Round Seven'!$C:$J,7,0)+1E-24,0))","v":0},{"$f":"IF(ISERROR(VLOOKUP($B52,'Round Eight'!$C:$J,8,0)),0,IF(AND(LEN($C52)<>0,$D52=\"Yes\"),VLOOKUP($B52,'Round Eight'!$C:$J,8,0),\"\"))","v":0},{"$f":"IF(ISERROR(VLOOKUP(AN52,'Round Eight'!$C:$J,7,0)),0,IF(AND(LEN($C52)<>0,$D52=\"Yes\"),VLOOKUP(AN52,'Round Eight'!$C:$J,7,0)+1E-24,0))","v":0},0,{"$f":"IF(ISERROR(VLOOKUP($B52,'Round Eight'!$C:$J,6,0)),0,IF(AND(LEN($C52)<>0,$D52=\"Yes\"),VLOOKUP($B52,'Round Eight'!$C:$J,6,0),\"\"))","v":0},{"$f":"IF(ISERROR(VLOOKUP($B52,'Round Eight'!$C:$J,7,0)),0,IF(LEN($C52)<>0,VLOOKUP($B52,'Round Eight'!$C:$J,7,0)+1E-24,0))","v":0},{"$f":"IF(ISERROR(VLOOKUP($B52,'Round Nine'!$C:$J,8,0)),0,IF(AND(LEN($C52)<>0,$D52=\"Yes\"),VLOOKUP($B52,'Round Nine'!$C:$J,8,0),\"\"))","v":0},{"$f":"IF(ISERROR(VLOOKUP(AS52,'Round Nine'!$C:$J,7,0)),0,IF(AND(LEN($C52)<>0,$D52=\"Yes\"),VLOOKUP(AS52,'Round Nine'!$C:$J,7,0)+1E-24,0))","v":0},0,{"$f":"IF(ISERROR(VLOOKUP($B52,'Round Nine'!$C:$J,6,0)),0,IF(AND(LEN($C52)<>0,$D52=\"Yes\"),VLOOKUP($B52,'Round Nine'!$C:$J,6,0),\"\"))","v":0},{"$f":"IF(ISERROR(VLOOKUP($B52,'Round Nine'!$C:$J,7,0)),0,IF(LEN($C52)<>0,VLOOKUP($B52,'Round Nine'!$C:$J,7,0)+1E-24,0))","v":0},null,0,0,0,{"$f":"IF(D52<>\"Yes\",A52*-10,AY52*1000000+AZ52*10000+BA52+(A52/100000))+IF(OR(Accel_Pairing_2!$B$4=\"no\",D52<>\"Yes\",ISERROR(VLOOKUP(C52,PowerRanking!A:B,2,0))),0,(VLOOKUP(C52,PowerRanking!A:D,4,0)*1000000)+VLOOKUP(C52,PowerRanking!A:D,2,0)/10)","v":-4.4130617536768586},32,"T49",0,""]
[0.69577778781812782,"T50",null,null,{"$f":"IF(ISERROR(VLOOKUP($B53,'Round One'!$C:$J,8,0)),0,IF(AND(LEN($C53)<>0,$D53=\"Yes\"),VLOOKUP($B53,'Round One'!$C:$J,8,0),0))","v":0},{"$f":"IF(ISERROR(VLOOKUP(E53,'Round One'!$C:$J,7,0)),0,IF(AND(LEN($C53)<>0,$D53=\"Yes\"),VALUE(VLOOKUP(E53,'Round One'!$C:$J,7,0)+1E-24),0))","v":0},0,{"$f":"IF(ISERROR(VLOOKUP($B53,'Round One'!$C:$J,6,0)),0,IF(AND(LEN($C53)<>0,$D53=\"Yes\"),VLOOKUP($B53,'Round One'!$C:$J,6,0),\"\"))","v":0},{"$f":"IF(ISERROR(VLOOKUP($B53,'Round One'!$C:$J,7,0)),0,IF(LEN($C53)<>0,VLOOKUP($B53,'Round One'!$C:$J,7,0)+1E-24,0))","v":0},{"$f":"IF(ISERROR(VLOOKUP($B53,'Round Two'!$C:$J,8,0)),0,IF(AND(LEN($C53)<>0,$D53=\"Yes\"),VLOOKUP($B53,'Round Two'!$C:$J,8,0),\"\"))","v":0},{"$f":"IF(ISERROR(VLOOKUP(J53,'Round Two'!$C:$J,7,0)),0,IF(AND(LEN($C53)<>0,$D53=\"Yes\"),VLOOKUP(J53,'Round Two'!$C:$J,7,0)+1E-24,0))","v":0},0,{"$f":"IF(ISERROR(VLOOKUP($B53,'Round Two'!$C:$J,6,0)),0,IF(AND(LEN($C53)<>0,$D53=\"Yes\"),VLOOKUP($B53,'Round Two'!$C:$J,6,0),\"\"))","v":0},{"$f":"IF(ISERROR(VLOOKUP($B53,'Round Two'!$C:$J,7,0)),0,IF(LEN($C53)<>0,VLOOKUP($B53,'Round Two'!$C:$J,7,0)+1E-24,0))","v":0},{"$f":"IF(ISERROR(VLOOKUP($B53,'Round Three'!$C:$J,8,0)),0,IF(AND(LEN($C53)<>0,$D53=\"Yes\"),VLOOKUP($B53,'Round Three'!$C:$J,8,0),\"\"))","v":0},{"$f":"IF(ISERROR(VLOOKUP(O53,'Round Three'!$C:$J,7,0)),0,IF(AND(LEN($C53)<>0,$D53=\"Yes\"),VLOOKUP(O53,'Round Three'!$C:$J,7,0)+1E-24,0))","v":0},0,{"$f":"IF(ISERROR(VLOOKUP($B53,'Round Three'!$C:$J,6,0)),0,IF(AND(LEN($C53)<>0,$D53=\"Yes\"),VLOOKUP($B53,'Round Three'!$C:$J,6,0),\"\"))","v":0},{"$f":"IF(ISERROR(VLOOKUP($B53,'Round Three'!$C:$J,7,0)),0,IF(LEN($C53)<>0,VLOOKUP($B53,'Round Three'!$C:$J,7,0)+1E-24,0))","v":0},{"$f":"IF(ISERROR(VLOOKUP($B53,'Round Four'!$C:$J,8,0)),0,IF(AND(LEN($C53)<>0,$D53=\"Yes\"),VLOOKUP($B53,'Round Four'!$C:$J,8,0),\"\"))","v":0},{"$f":"IF(ISERROR(VLOOKUP(T53,'Round Four'!$C:$J,7,0)),0,IF(AND(LEN($C53)<>0,$D53=\"Yes\"),VLOOKUP(T53,'Round Four'!$C:$J,7,0)+1E-24,0))","v":0},0,{"$f":"IF(ISERROR(VLOOKUP($B53,'Round Four'!$C:$J,6,0)),0,IF(AND(LEN($C53)<>0,$D53=\"Yes\"),VLOOKUP($B53,'Round Four'!$C:$J,6,0),\"\"))","v":0},{"$f":"IF(ISERROR(VLOOKUP($B53,'Round Four'!$C:$J,7,0)),0,IF(LEN($C53)<>0,VLOOKUP($B53,'Round Four'!$C:$J,7,0)+1E-24,0))","v":0},{"$f":"IF(ISERROR(VLOOKUP($B53,'Round Five'!$C:$J,8,0)),0,IF(AND(LEN($C53)<>0,$D53=\"Yes\"),VLOOKUP($B53,'Round Five'!$C:$J,8,0),\"\"))","v":0},{"$f":"IF(ISERROR(VLOOKUP(Y53,'Round Five'!$C:$J,7,0)),0,IF(AND(LEN($C53)<>0,$D53=\"Yes\"),VLOOKUP(Y53,'Round Five'!$C:$J,7,0)+1E-24,0))","v":0},0,{"$f":"IF(ISERROR(VLOOKUP($B53,'Round Five'!$C:$J,6,0)),0,IF(AND(LEN($C53)<>0,$D53=\"Yes\"),VLOOKUP($B53,'Round Five'!$C:$J,6,0),\"\"))","v":0},{"$f":"IF(ISERROR(VLOOKUP($B53,'Round Five'!$C:$J,7,0)),0,IF(LEN($C53)<>0,VLOOKUP($B53,'Round Five'!$C:$J,7,0)+1E-24,0))","v":0},{"$f":"IF(ISERROR(VLOOKUP($B53,'Round Six'!$C:$J,8,0)),0,IF(AND(LEN($C53)<>0,$D53=\"Yes\"),VLOOKUP($B53,'Round Six'!$C:$J,8,0),\"\"))","v":0},{"$f":"IF(ISERROR(VLOOKUP(AD53,'Round Six'!$C:$J,7,0)),0,IF(AND(LEN($C53)<>0,$D53=\"Yes\"),VLOOKUP(AD53,'Round Six'!$C:$J,7,0)+1E-24,0))","v":0},0,{"$f":"IF(ISERROR(VLOOKUP($B53,'Round Six'!$C:$J,6,0)),0,IF(AND(LEN($C53)<>0,$D53=\"Yes\"),VLOOKUP($B53,'Round Six'!$C:$J,6,0),\"\"))","v":0},{"$f":"IF(ISERROR(VLOOKUP($B53,'Round Six'!$C:$J,7,0)),0,IF(LEN($C53)<>0,VLOOKUP($B53,'Round Six'!$C:$J,7,0)+1E-24,0))","v":0},{"$f":"IF(ISERROR(VLOOKUP($B53,'Round Seven'!$C:$J,8,0)),0,IF(AND(LEN($C53)<>0,$D53=\"Yes\"),VLOOKUP($B53,'Round Seven'!$C:$J,8,0),\"\"))","v":0},{"$f":"IF(ISERROR(VLOOKUP(AI53,'Round Seven'!$C:$J,7,0)),0,IF(AND(LEN($C53)<>0,$D53=\"Yes\"),VLOOKUP(AI53,'Round Seven'!$C:$J,7,0)+1E-24,0))","v":0},0,{"$f":"IF(ISERROR(VLOOKUP($B53,'Round Seven'!$C:$J,6,0)),0,IF(AND(LEN($C53)<>0,$D53=\"Yes\"),VLOOKUP($B53,'Round Seven'!$C:$J,6,0),\"\"))","v":0},{"$f":"IF(ISERROR(VLOOKUP($B53,'Round Seven'!$C:$J,7,0)),0,IF(LEN($C53)<>0,VLOOKUP($B53,'Round Seven'!$C:$J,7,0)+1E-24,0))","v":0},{"$f":"IF(ISERROR(VLOOKUP($B53,'Round Eight'!$C:$J,8,0)),0,IF(AND(LEN($C53)<>0,$D53=\"Yes\"),VLOOKUP($B53,'Round Eight'!$C:$J,8,0),\"\"))","v":0},{"$f":"IF(ISERROR(VLOOKUP(AN53,'Round Eight'!$C:$J,7,0)),0,IF(AND(LEN($C53)<>0,$D53=\"Yes\"),VLOOKUP(AN53,'Round Eight'!$C:$J,7,0)+1E-24,0))","v":0},0,{"$f":"IF(ISERROR(VLOOKUP($B53,'Round Eight'!$C:$J,6,0)),0,IF(AND(LEN($C53)<>0,$D53=\"Yes\"),VLOOKUP($B53,'Round Eight'!$C:$J,6,0),\"\"))","v":0},{"$f":"IF(ISERROR(VLOOKUP($B53,'Round Eight'!$C:$J,7,0)),0,IF(LEN($C53)<>0,VLOOKUP($B53,'Round Eight'!$C:$J,7,0)+1E-24,0))","v":0},{"$f":"IF(ISERROR(VLOOKUP($B53,'Round Nine'!$C:$J,8,0)),0,IF(AND(LEN($C53)<>0,$D53=\"Yes\"),VLOOKUP($B53,'Round Nine'!$C:$J,8,0),\"\"))","v":0},{"$f":"IF(ISERROR(VLOOKUP(AS53,'Round Nine'!$C:$J,7,0)),0,IF(AND(LEN($C53)<>0,$D53=\"Yes\"),VLOOKUP(AS53,'Round Nine'!$C:$J,7,0)+1E-24,0))","v":0},0,{"$f":"IF(ISERROR(VLOOKUP($B53,'Round Nine'!$C:$J,6,0)),0,IF(AND(LEN($C53)<>0,$D53=\"Yes\"),VLOOKUP($B53,'Round Nine'!$C:$J,6,0),\"\"))","v":0},{"$f":"IF(ISERROR(VLOOKUP($B53,'Round Nine'!$C:$J,7,0)),0,IF(LEN($C53)<>0,VLOOKUP($B53,'Round Nine'!$C:$J,7,0)+1E-24,0))","v":0},null,0,0,0,{"$f":"IF(D53<>\"Yes\",A53*-10,AY53*1000000+AZ53*10000+BA53+(A53/100000))+IF(OR(Accel_Pairing_2!$B$4=\"no\",D53<>\"Yes\",ISERROR(VLOOKUP(C53,PowerRanking!A:B,2,0))),0,(VLOOKUP(C53,PowerRanking!A:D,4,0)*1000000)+VLOOKUP(C53,PowerRanking!A:D,2,0)/10)","v":-6.957777878181278},46,"T50",0,""]
[0.80364082475459186,"T51",null,null,{"$f":"IF(ISERROR(VLOOKUP($B54,'Round One'!$C:$J,8,0)),0,IF(AND(LEN($C54)<>0,$D54=\"Yes\"),VLOOKUP($B54,'Round One'!$C:$J,8,0),0))","v":0},{"$f":"IF(ISERROR(VLOOKUP(E54,'Round One'!$C:$J,7,0)),0,IF(AND(LEN($C54)<>0,$D54=\"Yes\"),VALUE(VLOOKUP(E54,'Round One'!$C:$J,7,0)+1E-24),0))","v":0},0,{"$f":"IF(ISERROR(VLOOKUP($B54,'Round One'!$C:$J,6,0)),0,IF(AND(LEN($C54)<>0,$D54=\"Yes\"),VLOOKUP($B54,'Round One'!$C:$J,6,0),\"\"))","v":0},{"$f":"IF(ISERROR(VLOOKUP($B54,'Round One'!$C:$J,7,0)),0,IF(LEN($C54)<>0,VLOOKUP($B54,'Round One'!$C:$J,7,0)+1E-24,0))","v":0},{"$f":"IF(ISERROR(VLOOKUP($B54,'Round Two'!$C:$J,8,0)),0,IF(AND(LEN($C54)<>0,$D54=\"Yes\"),VLOOKUP($B54,'Round Two'!$C:$J,8,0),\"\"))","v":0},{"$f":"IF(ISERROR(VLOOKUP(J54,'Round Two'!$C:$J,7,0)),0,IF(AND(LEN($C54)<>0,$D54=\"Yes\"),VLOOKUP(J54,'Round Two'!$C:$J,7,0)+1E-24,0))","v":0},0,{"$f":"IF(ISERROR(VLOOKUP($B54,'Round Two'!$C:$J,6,0)),0,IF(AND(LEN($C54)<>0,$D54=\"Yes\"),VLOOKUP($B54,'Round Two'!$C:$J,6,0),\"\"))","v":0},{"$f":"IF(ISERROR(VLOOKUP($B54,'Round Two'!$C:$J,7,0)),0,IF(LEN($C54)<>0,VLOOKUP($B54,'Round Two'!$C:$J,7,0)+1E-24,0))","v":0},{"$f":"IF(ISERROR(VLOOKUP($B54,'Round Three'!$C:$J,8,0)),0,IF(AND(LEN($C54)<>0,$D54=\"Yes\"),VLOOKUP($B54,'Round Three'!$C:$J,8,0),\"\"))","v":0},{"$f":"IF(ISERROR(VLOOKUP(O54,'Round Three'!$C:$J,7,0)),0,IF(AND(LEN($C54)<>0,$D54=\"Yes\"),VLOOKUP(O54,'Round Three'!$C:$J,7,0)+1E-24,0))","v":0},0,{"$f":"IF(ISERROR(VLOOKUP($B54,'Round Three'!$C:$J,6,0)),0,IF(AND(LEN($C54)<>0,$D54=\"Yes\"),VLOOKUP($B54,'Round Three'!$C:$J,6,0),\"\"))","v":0},{"$f":"IF(ISERROR(VLOOKUP($B54,'Round Three'!$C:$J,7,0)),0,IF(LEN($C54)<>0,VLOOKUP($B54,'Round Three'!$C:$J,7,0)+1E-24,0))","v":0},{"$f":"IF(ISERROR(VLOOKUP($B54,'Round Four'!$C:$J,8,0)),0,IF(AND(LEN($C54)<>0,$D54=\"Yes\"),VLOOKUP($B54,'Round Four'!$C:$J,8,0),\"\"))","v":0},{"$f":"IF(ISERROR(VLOOKUP(T54,'Round Four'!$C:$J,7,0)),0,IF(AND(LEN($C54)<>0,$D54=\"Yes\"),VLOOKUP(T54,'Round Four'!$C:$J,7,0)+1E-24,0))","v":0},0,{"$f":"IF(ISERROR(VLOOKUP($B54,'Round Four'!$C:$J,6,0)),0,IF(AND(LEN($C54)<>0,$D54=\"Yes\"),VLOOKUP($B54,'Round Four'!$C:$J,6,0),\"\"))","v":0},{"$f":"IF(ISERROR(VLOOKUP($B54,'Round Four'!$C:$J,7,0)),0,IF(LEN($C54)<>0,VLOOKUP($B54,'Round Four'!$C:$J,7,0)+1E-24,0))","v":0},{"$f":"IF(ISERROR(VLOOKUP($B54,'Round Five'!$C:$J,8,0)),0,IF(AND(LEN($C54)<>0,$D54=\"Yes\"),VLOOKUP($B54,'Round Five'!$C:$J,8,0),\"\"))","v":0},{"$f":"IF(ISERROR(VLOOKUP(Y54,'Round Five'!$C:$J,7,0)),0,IF(AND(LEN($C54)<>0,$D54=\"Yes\"),VLOOKUP(Y54,'Round Five'!$C:$J,7,0)+1E-24,0))","v":0},0,{"$f":"IF(ISERROR(VLOOKUP($B54,'Round Five'!$C:$J,6,0)),0,IF(AND(LEN($C54)<>0,$D54=\"Yes\"),VLOOKUP($B54,'Round Five'!$C:$J,6,0),\"\"))","v":0},{"$f":"IF(ISERROR(VLOOKUP($B54,'Round Five'!$C:$J,7,0)),0,IF(LEN($C54)<>0,VLOOKUP($B54,'Round Five'!$C:$J,7,0)+1E-24,0))","v":0},{"$f":"IF(ISERROR(VLOOKUP($B54,'Round Six'!$C:$J,8,0)),0,IF(AND(LEN($C54)<>0,$D54=\"Yes\"),VLOOKUP($B54,'Round Six'!$C:$J,8,0),\"\"))","v":0},{"$f":"IF(ISERROR(VLOOKUP(AD54,'Round Six'!$C:$J,7,0)),0,IF(AND(LEN($C54)<>0,$D54=\"Yes\"),VLOOKUP(AD54,'Round Six'!$C:$J,7,0)+1E-24,0))","v":0},0,{"$f":"IF(ISERROR(VLOOKUP($B54,'Round Six'!$C:$J,6,0)),0,IF(AND(LEN($C54)<>0,$D54=\"Yes\"),VLOOKUP($B54,'Round Six'!$C:$J,6,0),\"\"))","v":0},{"$f":"IF(ISERROR(VLOOKUP($B54,'Round Six'!$C:$J,7,0)),0,IF(LEN($C54)<>0,VLOOKUP($B54,'Round Six'!$C:$J,7,0)+1E-24,0))","v":0},{"$f":"IF(ISERROR(VLOOKUP($B54,'Round Seven'!$C:$J,8,0)),0,IF(AND(LEN($C54)<>0,$D54=\"Yes\"),VLOOKUP($B54,'Round Seven'!$C:$J,8,0),\"\"))","v":0},{"$f":"IF(ISERROR(VLOOKUP(AI54,'Round Seven'!$C:$J,7,0)),0,IF(AND(LEN($C54)<>0,$D54=\"Yes\"),VLOOKUP(AI54,'Round Seven'!$C:$J,7,0)+1E-24,0))","v":0},0,{"$f":"IF(ISERROR(VLOOKUP($B54,'Round Seven'!$C:$J,6,0)),0,IF(AND(LEN($C54)<>0,$D54=\"Yes\"),VLOOKUP($B54,'Round Seven'!$C:$J,6,0),\"\"))","v":0},{"$f":"IF(ISERROR(VLOOKUP($B54,'Round Seven'!$C:$J,7,0)),0,IF(LEN($C54)<>0,VLOOKUP($B54,'Round Seven'!$C:$J,7,0)+1E-24,0))","v":0},{"$f":"IF(ISERROR(VLOOKUP($B54,'Round Eight'!$C:$J,8,0)),0,IF(AND(LEN($C54)<>0,$D54=\"Yes\"),VLOOKUP($B54,'Round Eight'!$C:$J,8,0),\"\"))","v":0},{"$f":"IF(ISERROR(VLOOKUP(AN54,'Round Eight'!$C:$J,7,0)),0,IF(AND(LEN($C54)<>0,$D54=\"Yes\"),VLOOKUP(AN54,'Round Eight'!$C:$J,7,0)+1E-24,0))","v":0},0,{"$f":"IF(ISERROR(VLOOKUP($B54,'Round Eight'!$C:$J,6,0)),0,IF(AND(LEN($C54)<>0,$D54=\"Yes\"),VLOOKUP($B54,'Round Eight'!$C:$J,6,0),\"\"))","v":0},{"$f":"IF(ISERROR(VLOOKUP($B54,'Round Eight'!$C:$J,7,0)),0,IF(LEN($C54)<>0,VLOOKUP($B54,'Round Eight'!$C:$J,7,0)+1E-24,0))","v":0},{"$f":"IF(ISERROR(VLOOKUP($B54,'Round Nine'!$C:$J,8,0)),0,IF(AND(LEN($C54)<>0,$D54=\"Yes\"),VLOOKUP($B54,'Round Nine'!$C:$J,8,0),\"\"))","v":0},{"$f":"IF(ISERROR(VLOOKUP(AS54,'Round Nine'!$C:$J,7,0)),0,IF(AND(LEN($C54)<>0,$D54=\"Yes\"),VLOOKUP(AS54,'Round Nine'!$C:$J,7,0)+1E-24,0))","v":0},0,{"$f":"IF(ISERROR(VLOOKUP($B54,'Round Nine'!$C:$J,6,0)),0,IF(AND(LEN($C54)<>0,$D54=\"Yes\"),VLOOKUP($B54,'Round Nine'!$C:$J,6,0),\"\"))","v":0},{"$f":"IF(ISERROR(VLOOKUP($B54,'Round Nine'!$C:$J,7,0)),0,IF(LEN($C54)<>0,VLOOKUP($B54,'Round Nine'!$C:$J,7,0)+1E-24,0))","v":0},null,0,0,0,{"$f":"IF(D54<>\"Yes\",A54*-10,AY54*1000000+AZ54*10000+BA54+(A54/100000))+IF(OR(Accel_Pairing_2!$B$4=\"no\",D54<>\"Yes\",ISERROR(VLOOKUP(C54,PowerRanking!A:B,2,0))),0,(VLOOKUP(C54,PowerRanking!A:D,4,0)*1000000)+VLOOKUP(C54,PowerRanking!A:D,2,0)/10)","v":-8.0364082475459178},54,"T51",0,""]
[0.73348555353907152,"T52",null,null,{"$f":"IF(ISERROR(VLOOKUP($B55,'Round One'!$C:$J,8,0)),0,IF(AND(LEN($C55)<>0,$D55=\"Yes\"),VLOOKUP($B55,'Round One'!$C:$J,8,0),0))","v":0},{"$f":"IF(ISERROR(VLOOKUP(E55,'Round One'!$C:$J,7,0)),0,IF(AND(LEN($C55)<>0,$D55=\"Yes\"),VALUE(VLOOKUP(E55,'Round One'!$C:$J,7,0)+1E-24),0))","v":0},0,{"$f":"IF(ISERROR(VLOOKUP($B55,'Round One'!$C:$J,6,0)),0,IF(AND(LEN($C55)<>0,$D55=\"Yes\"),VLOOKUP($B55,'Round One'!$C:$J,6,0),\"\"))","v":0},{"$f":"IF(ISERROR(VLOOKUP($B55,'Round One'!$C:$J,7,0)),0,IF(LEN($C55)<>0,VLOOKUP($B55,'Round One'!$C:$J,7,0)+1E-24,0))","v":0},{"$f":"IF(ISERROR(VLOOKUP($B55,'Round Two'!$C:$J,8,0)),0,IF(AND(LEN($C55)<>0,$D55=\"Yes\"),VLOOKUP($B55,'Round Two'!$C:$J,8,0),\"\"))","v":0},{"$f":"IF(ISERROR(VLOOKUP(J55,'Round Two'!$C:$J,7,0)),0,IF(AND(LEN($C55)<>0,$D55=\"Yes\"),VLOOKUP(J55,'Round Two'!$C:$J,7,0)+1E-24,0))","v":0},0,{"$f":"IF(ISERROR(VLOOKUP($B55,'Round Two'!$C:$J,6,0)),0,IF(AND(LEN($C55)<>0,$D55=\"Yes\"),VLOOKUP($B55,'Round Two'!$C:$J,6,0),\"\"))","v":0},{"$f":"IF(ISERROR(VLOOKUP($B55,'Round Two'!$C:$J,7,0)),0,IF(LEN($C55)<>0,VLOOKUP($B55,'Round Two'!$C:$J,7,0)+1E-24,0))","v":0},{"$f":"IF(ISERROR(VLOOKUP($B55,'Round Three'!$C:$J,8,0)),0,IF(AND(LEN($C55)<>0,$D55=\"Yes\"),VLOOKUP($B55,'Round Three'!$C:$J,8,0),\"\"))","v":0},{"$f":"IF(ISERROR(VLOOKUP(O55,'Round Three'!$C:$J,7,0)),0,IF(AND(LEN($C55)<>0,$D55=\"Yes\"),VLOOKUP(O55,'Round Three'!$C:$J,7,0)+1E-24,0))","v":0},0,{"$f":"IF(ISERROR(VLOOKUP($B55,'Round Three'!$C:$J,6,0)),0,IF(AND(LEN($C55)<>0,$D55=\"Yes\"),VLOOKUP($B55,'Round Three'!$C:$J,6,0),\"\"))","v":0},{"$f":"IF(ISERROR(VLOOKUP($B55,'Round Three'!$C:$J,7,0)),0,IF(LEN($C55)<>0,VLOOKUP($B55,'Round Three'!$C:$J,7,0)+1E-24,0))","v":0},{"$f":"IF(ISERROR(VLOOKUP($B55,'Round Four'!$C:$J,8,0)),0,IF(AND(LEN($C55)<>0,$D55=\"Yes\"),VLOOKUP($B55,'Round Four'!$C:$J,8,0),\"\"))","v":0},{"$f":"IF(ISERROR(VLOOKUP(T55,'Round Four'!$C:$J,7,0)),0,IF(AND(LEN($C55)<>0,$D55=\"Yes\"),VLOOKUP(T55,'Round Four'!$C:$J,7,0)+1E-24,0))","v":0},0,{"$f":"IF(ISERROR(VLOOKUP($B55,'Round Four'!$C:$J,6,0)),0,IF(AND(LEN($C55)<>0,$D55=\"Yes\"),VLOOKUP($B55,'Round Four'!$C:$J,6,0),\"\"))","v":0},{"$f":"IF(ISERROR(VLOOKUP($B55,'Round Four'!$C:$J,7,0)),0,IF(LEN($C55)<>0,VLOOKUP($B55,'Round Four'!$C:$J,7,0)+1E-24,0))","v":0},{"$f":"IF(ISERROR(VLOOKUP($B55,'Round Five'!$C:$J,8,0)),0,IF(AND(LEN($C55)<>0,$D55=\"Yes\"),VLOOKUP($B55,'Round Five'!$C:$J,8,0),\"\"))","v":0},{"$f":"IF(ISERROR(VLOOKUP(Y55,'Round Five'!$C:$J,7,0)),0,IF(AND(LEN($C55)<>0,$D55=\"Yes\"),VLOOKUP(Y55,'Round Five'!$C:$J,7,0)+1E-24,0))","v":0},0,{"$f":"IF(ISERROR(VLOOKUP($B55,'Round Five'!$C:$J,6,0)),0,IF(AND(LEN($C55)<>0,$D55=\"Yes\"),VLOOKUP($B55,'Round Five'!$C:$J,6,0),\"\"))","v":0},{"$f":"IF(ISERROR(VLOOKUP($B55,'Round Five'!$C:$J,7,0)),0,IF(LEN($C55)<>0,VLOOKUP($B55,'Round Five'!$C:$J,7,0)+1E-24,0))","v":0},{"$f":"IF(ISERROR(VLOOKUP($B55,'Round Six'!$C:$J,8,0)),0,IF(AND(LEN($C55)<>0,$D55=\"Yes\"),VLOOKUP($B55,'Round Six'!$C:$J,8,0),\"\"))","v":0},{"$f":"IF(ISERROR(VLOOKUP(AD55,'Round Six'!$C:$J,7,0)),0,IF(AND(LEN($C55)<>0,$D55=\"Yes\"),VLOOKUP(AD55,'Round Six'!$C:$J,7,0)+1E-24,0))","v":0},0,{"$f":"IF(ISERROR(VLOOKUP($B55,'Round Six'!$C:$J,6,0)),0,IF(AND(LEN($C55)<>0,$D55=\"Yes\"),VLOOKUP($B55,'Round Six'!$C:$J,6,0),\"\"))","v":0},{"$f":"IF(ISERROR(VLOOKUP($B55,'Round Six'!$C:$J,7,0)),0,IF(LEN($C55)<>0,VLOOKUP($B55,'Round Six'!$C:$J,7,0)+1E-24,0))","v":0},{"$f":"IF(ISERROR(VLOOKUP($B55,'Round Seven'!$C:$J,8,0)),0,IF(AND(LEN($C55)<>0,$D55=\"Yes\"),VLOOKUP($B55,'Round Seven'!$C:$J,8,0),\"\"))","v":0},{"$f":"IF(ISERROR(VLOOKUP(AI55,'Round Seven'!$C:$J,7,0)),0,IF(AND(LEN($C55)<>0,$D55=\"Yes\"),VLOOKUP(AI55,'Round Seven'!$C:$J,7,0)+1E-24,0))","v":0},0,{"$f":"IF(ISERROR(VLOOKUP($B55,'Round Seven'!$C:$J,6,0)),0,IF(AND(LEN($C55)<>0,$D55=\"Yes\"),VLOOKUP($B55,'Round Seven'!$C:$J,6,0),\"\"))","v":0},{"$f":"IF(ISERROR(VLOOKUP($B55,'Round Seven'!$C:$J,7,0)),0,IF(LEN($C55)<>0,VLOOKUP($B55,'Round Seven'!$C:$J,7,0)+1E-24,0))","v":0},{"$f":"IF(ISERROR(VLOOKUP($B55,'Round Eight'!$C:$J,8,0)),0,IF(AND(LEN($C55)<>0,$D55=\"Yes\"),VLOOKUP($B55,'Round Eight'!$C:$J,8,0),\"\"))","v":0},{"$f":"IF(ISERROR(VLOOKUP(AN55,'Round Eight'!$C:$J,7,0)),0,IF(AND(LEN($C55)<>0,$D55=\"Yes\"),VLOOKUP(AN55,'Round Eight'!$C:$J,7,0)+1E-24,0))","v":0},0,{"$f":"IF(ISERROR(VLOOKUP($B55,'Round Eight'!$C:$J,6,0)),0,IF(AND(LEN($C55)<>0,$D55=\"Yes\"),VLOOKUP($B55,'Round Eight'!$C:$J,6,0),\"\"))","v":0},{"$f":"IF(ISERROR(VLOOKUP($B55,'Round Eight'!$C:$J,7,0)),0,IF(LEN($C55)<>0,VLOOKUP($B55,'Round Eight'!$C:$J,7,0)+1E-24,0))","v":0},{"$f":"IF(ISERROR(VLOOKUP($B55,'Round Nine'!$C:$J,8,0)),0,IF(AND(LEN($C55)<>0,$D55=\"Yes\"),VLOOKUP($B55,'Round Nine'!$C:$J,8,0),\"\"))","v":0},{"$f":"IF(ISERROR(VLOOKUP(AS55,'Round Nine'!$C:$J,7,0)),0,IF(AND(LEN($C55)<>0,$D55=\"Yes\"),VLOOKUP(AS55,'Round Nine'!$C:$J,7,0)+1E-24,0))","v":0},0,{"$f":"IF(ISERROR(VLOOKUP($B55,'Round Nine'!$C:$J,6,0)),0,IF(AND(LEN($C55)<>0,$D55=\"Yes\"),VLOOKUP($B55,'Round Nine'!$C:$J,6,0),\"\"))","v":0},{"$f":"IF(ISERROR(VLOOKUP($B55,'Round Nine'!$C:$J,7,0)),0,IF(LEN($C55)<>0,VLOOKUP($B55,'Round Nine'!$C:$J,7,0)+1E-24,0))","v":0},null,0,0,0,{"$f":"IF(D55<>\"Yes\",A55*-10,AY55*1000000+AZ55*10000+BA55+(A55/100000))+IF(OR(Accel_Pairing_2!$B$4=\"no\",D55<>\"Yes\",ISERROR(VLOOKUP(C55,PowerRanking!A:B,2,0))),0,(VLOOKUP(C55,PowerRanking!A:D,4,0)*1000000)+VLOOKUP(C55,PowerRanking!A:D,2,0)/10)","v":-7.334855535390715},47,"T52",0,""]
[0.27029642896201533,"T53",null,null,{"$f":"IF(ISERROR(VLOOKUP($B56,'Round One'!$C:$J,8,0)),0,IF(AND(LEN($C56)<>0,$D56=\"Yes\"),VLOOKUP($B56,'Round One'!$C:$J,8,0),0))","v":0},{"$f":"IF(ISERROR(VLOOKUP(E56,'Round One'!$C:$J,7,0)),0,IF(AND(LEN($C56)<>0,$D56=\"Yes\"),VALUE(VLOOKUP(E56,'Round One'!$C:$J,7,0)+1E-24),0))","v":0},0,{"$f":"IF(ISERROR(VLOOKUP($B56,'Round One'!$C:$J,6,0)),0,IF(AND(LEN($C56)<>0,$D56=\"Yes\"),VLOOKUP($B56,'Round One'!$C:$J,6,0),\"\"))","v":0},{"$f":"IF(ISERROR(VLOOKUP($B56,'Round One'!$C:$J,7,0)),0,IF(LEN($C56)<>0,VLOOKUP($B56,'Round One'!$C:$J,7,0)+1E-24,0))","v":0},{"$f":"IF(ISERROR(VLOOKUP($B56,'Round Two'!$C:$J,8,0)),0,IF(AND(LEN($C56)<>0,$D56=\"Yes\"),VLOOKUP($B56,'Round Two'!$C:$J,8,0),\"\"))","v":0},{"$f":"IF(ISERROR(VLOOKUP(J56,'Round Two'!$C:$J,7,0)),0,IF(AND(LEN($C56)<>0,$D56=\"Yes\"),VLOOKUP(J56,'Round Two'!$C:$J,7,0)+1E-24,0))","v":0},0,{"$f":"IF(ISERROR(VLOOKUP($B56,'Round Two'!$C:$J,6,0)),0,IF(AND(LEN($C56)<>0,$D56=\"Yes\"),VLOOKUP($B56,'Round Two'!$C:$J,6,0),\"\"))","v":0},{"$f":"IF(ISERROR(VLOOKUP($B56,'Round Two'!$C:$J,7,0)),0,IF(LEN($C56)<>0,VLOOKUP($B56,'Round Two'!$C:$J,7,0)+1E-24,0))","v":0},{"$f":"IF(ISERROR(VLOOKUP($B56,'Round Three'!$C:$J,8,0)),0,IF(AND(LEN($C56)<>0,$D56=\"Yes\"),VLOOKUP($B56,'Round Three'!$C:$J,8,0),\"\"))","v":0},{"$f":"IF(ISERROR(VLOOKUP(O56,'Round Three'!$C:$J,7,0)),0,IF(AND(LEN($C56)<>0,$D56=\"Yes\"),VLOOKUP(O56,'Round Three'!$C:$J,7,0)+1E-24,0))","v":0},0,{"$f":"IF(ISERROR(VLOOKUP($B56,'Round Three'!$C:$J,6,0)),0,IF(AND(LEN($C56)<>0,$D56=\"Yes\"),VLOOKUP($B56,'Round Three'!$C:$J,6,0),\"\"))","v":0},{"$f":"IF(ISERROR(VLOOKUP($B56,'Round Three'!$C:$J,7,0)),0,IF(LEN($C56)<>0,VLOOKUP($B56,'Round Three'!$C:$J,7,0)+1E-24,0))","v":0},{"$f":"IF(ISERROR(VLOOKUP($B56,'Round Four'!$C:$J,8,0)),0,IF(AND(LEN($C56)<>0,$D56=\"Yes\"),VLOOKUP($B56,'Round Four'!$C:$J,8,0),\"\"))","v":0},{"$f":"IF(ISERROR(VLOOKUP(T56,'Round Four'!$C:$J,7,0)),0,IF(AND(LEN($C56)<>0,$D56=\"Yes\"),VLOOKUP(T56,'Round Four'!$C:$J,7,0)+1E-24,0))","v":0},0,{"$f":"IF(ISERROR(VLOOKUP($B56,'Round Four'!$C:$J,6,0)),0,IF(AND(LEN($C56)<>0,$D56=\"Yes\"),VLOOKUP($B56,'Round Four'!$C:$J,6,0),\"\"))","v":0},{"$f":"IF(ISERROR(VLOOKUP($B56,'Round Four'!$C:$J,7,0)),0,IF(LEN($C56)<>0,VLOOKUP($B56,'Round Four'!$C:$J,7,0)+1E-24,0))","v":0},{"$f":"IF(ISERROR(VLOOKUP($B56,'Round Five'!$C:$J,8,0)),0,IF(AND(LEN($C56)<>0,$D56=\"Yes\"),VLOOKUP($B56,'Round Five'!$C:$J,8,0),\"\"))","v":0},{"$f":"IF(ISERROR(VLOOKUP(Y56,'Round Five'!$C:$J,7,0)),0,IF(AND(LEN($C56)<>0,$D56=\"Yes\"),VLOOKUP(Y56,'Round Five'!$C:$J,7,0)+1E-24,0))","v":0},0,{"$f":"IF(ISERROR(VLOOKUP($B56,'Round Five'!$C:$J,6,0)),0,IF(AND(LEN($C56)<>0,$D56=\"Yes\"),VLOOKUP($B56,'Round Five'!$C:$J,6,0),\"\"))","v":0},{"$f":"IF(ISERROR(VLOOKUP($B56,'Round Five'!$C:$J,7,0)),0,IF(LEN($C56)<>0,VLOOKUP($B56,'Round Five'!$C:$J,7,0)+1E-24,0))","v":0},{"$f":"IF(ISERROR(VLOOKUP($B56,'Round Six'!$C:$J,8,0)),0,IF(AND(LEN($C56)<>0,$D56=\"Yes\"),VLOOKUP($B56,'Round Six'!$C:$J,8,0),\"\"))","v":0},{"$f":"IF(ISERROR(VLOOKUP(AD56,'Round Six'!$C:$J,7,0)),0,IF(AND(LEN($C56)<>0,$D56=\"Yes\"),VLOOKUP(AD56,'Round Six'!$C:$J,7,0)+1E-24,0))","v":0},0,{"$f":"IF(ISERROR(VLOOKUP($B56,'Round Six'!$C:$J,6,0)),0,IF(AND(LEN($C56)<>0,$D56=\"Yes\"),VLOOKUP($B56,'Round Six'!$C:$J,6,0),\"\"))","v":0},{"$f":"IF(ISERROR(VLOOKUP($B56,'Round Six'!$C:$J,7,0)),0,IF(LEN($C56)<>0,VLOOKUP($B56,'Round Six'!$C:$J,7,0)+1E-24,0))","v":0},{"$f":"IF(ISERROR(VLOOKUP($B56,'Round Seven'!$C:$J,8,0)),0,IF(AND(LEN($C56)<>0,$D56=\"Yes\"),VLOOKUP($B56,'Round Seven'!$C:$J,8,0),\"\"))","v":0},{"$f":"IF(ISERROR(VLOOKUP(AI56,'Round Seven'!$C:$J,7,0)),0,IF(AND(LEN($C56)<>0,$D56=\"Yes\"),VLOOKUP(AI56,'Round Seven'!$C:$J,7,0)+1E-24,0))","v":0},0,{"$f":"IF(ISERROR(VLOOKUP($B56,'Round Seven'!$C:$J,6,0)),0,IF(AND(LEN($C56)<>0,$D56=\"Yes\"),VLOOKUP($B56,'Round Seven'!$C:$J,6,0),\"\"))","v":0},{"$f":"IF(ISERROR(VLOOKUP($B56,'Round Seven'!$C:$J,7,0)),0,IF(LEN($C56)<>0,VLOOKUP($B56,'Round Seven'!$C:$J,7,0)+1E-24,0))","v":0},{"$f":"IF(ISERROR(VLOOKUP($B56,'Round Eight'!$C:$J,8,0)),0,IF(AND(LEN($C56)<>0,$D56=\"Yes\"),VLOOKUP($B56,'Round Eight'!$C:$J,8,0),\"\"))","v":0},{"$f":"IF(ISERROR(VLOOKUP(AN56,'Round Eight'!$C:$J,7,0)),0,IF(AND(LEN($C56)<>0,$D56=\"Yes\"),VLOOKUP(AN56,'Round Eight'!$C:$J,7,0)+1E-24,0))","v":0},0,{"$f":"IF(ISERROR(VLOOKUP($B56,'Round Eight'!$C:$J,6,0)),0,IF(AND(LEN($C56)<>0,$D56=\"Yes\"),VLOOKUP($B56,'Round Eight'!$C:$J,6,0),\"\"))","v":0},{"$f":"IF(ISERROR(VLOOKUP($B56,'Round Eight'!$C:$J,7,0)),0,IF(LEN($C56)<>0,VLOOKUP($B56,'Round Eight'!$C:$J,7,0)+1E-24,0))","v":0},{"$f":"IF(ISERROR(VLOOKUP($B56,'Round Nine'!$C:$J,8,0)),0,IF(AND(LEN($C56)<>0,$D56=\"Yes\"),VLOOKUP($B56,'Round Nine'!$C:$J,8,0),\"\"))","v":0},{"$f":"IF(ISERROR(VLOOKUP(AS56,'Round Nine'!$C:$J,7,0)),0,IF(AND(LEN($C56)<>0,$D56=\"Yes\"),VLOOKUP(AS56,'Round Nine'!$C:$J,7,0)+1E-24,0))","v":0},0,{"$f":"IF(ISERROR(VLOOKUP($B56,'Round Nine'!$C:$J,6,0)),0,IF(AND(LEN($C56)<>0,$D56=\"Yes\"),VLOOKUP($B56,'Round Nine'!$C:$J,6,0),\"\"))","v":0},{"$f":"IF(ISERROR(VLOOKUP($B56,'Round Nine'!$C:$J,7,0)),0,IF(LEN($C56)<>0,VLOOKUP($B56,'Round Nine'!$C:$J,7,0)+1E-24,0))","v":0},null,0,0,0,{"$f":"IF(D56<>\"Yes\",A56*-10,AY56*1000000+AZ56*10000+BA56+(A56/100000))+IF(OR(Accel_Pairing_2!$B$4=\"no\",D56<>\"Yes\",ISERROR(VLOOKUP(C56,PowerRanking!A:B,2,0))),0,(VLOOKUP(C56,PowerRanking!A:D,4,0)*1000000)+VLOOKUP(C56,PowerRanking!A:D,2,0)/10)","v":-2.7029642896201533},16,"T53",0,""]
[0.68689816830439965,"T54",null,null,{"$f":"IF(ISERROR(VLOOKUP($B57,'Round One'!$C:$J,8,0)),0,IF(AND(LEN($C57)<>0,$D57=\"Yes\"),VLOOKUP($B57,'Round One'!$C:$J,8,0),0))","v":0},{"$f":"IF(ISERROR(VLOOKUP(E57,'Round One'!$C:$J,7,0)),0,IF(AND(LEN($C57)<>0,$D57=\"Yes\"),VALUE(VLOOKUP(E57,'Round One'!$C:$J,7,0)+1E-24),0))","v":0},0,{"$f":"IF(ISERROR(VLOOKUP($B57,'Round One'!$C:$J,6,0)),0,IF(AND(LEN($C57)<>0,$D57=\"Yes\"),VLOOKUP($B57,'Round One'!$C:$J,6,0),\"\"))","v":0},{"$f":"IF(ISERROR(VLOOKUP($B57,'Round One'!$C:$J,7,0)),0,IF(LEN($C57)<>0,VLOOKUP($B57,'Round One'!$C:$J,7,0)+1E-24,0))","v":0},{"$f":"IF(ISERROR(VLOOKUP($B57,'Round Two'!$C:$J,8,0)),0,IF(AND(LEN($C57)<>0,$D57=\"Yes\"),VLOOKUP($B57,'Round Two'!$C:$J,8,0),\"\"))","v":0},{"$f":"IF(ISERROR(VLOOKUP(J57,'Round Two'!$C:$J,7,0)),0,IF(AND(LEN($C57)<>0,$D57=\"Yes\"),VLOOKUP(J57,'Round Two'!$C:$J,7,0)+1E-24,0))","v":0},0,{"$f":"IF(ISERROR(VLOOKUP($B57,'Round Two'!$C:$J,6,0)),0,IF(AND(LEN($C57)<>0,$D57=\"Yes\"),VLOOKUP($B57,'Round Two'!$C:$J,6,0),\"\"))","v":0},{"$f":"IF(ISERROR(VLOOKUP($B57,'Round Two'!$C:$J,7,0)),0,IF(LEN($C57)<>0,VLOOKUP($B57,'Round Two'!$C:$J,7,0)+1E-24,0))","v":0},{"$f":"IF(ISERROR(VLOOKUP($B57,'Round Three'!$C:$J,8,0)),0,IF(AND(LEN($C57)<>0,$D57=\"Yes\"),VLOOKUP($B57,'Round Three'!$C:$J,8,0),\"\"))","v":0},{"$f":"IF(ISERROR(VLOOKUP(O57,'Round Three'!$C:$J,7,0)),0,IF(AND(LEN($C57)<>0,$D57=\"Yes\"),VLOOKUP(O57,'Round Three'!$C:$J,7,0)+1E-24,0))","v":0},0,{"$f":"IF(ISERROR(VLOOKUP($B57,'Round Three'!$C:$J,6,0)),0,IF(AND(LEN($C57)<>0,$D57=\"Yes\"),VLOOKUP($B57,'Round Three'!$C:$J,6,0),\"\"))","v":0},{"$f":"IF(ISERROR(VLOOKUP($B57,'Round Three'!$C:$J,7,0)),0,IF(LEN($C57)<>0,VLOOKUP($B57,'Round Three'!$C:$J,7,0)+1E-24,0))","v":0},{"$f":"IF(ISERROR(VLOOKUP($B57,'Round Four'!$C:$J,8,0)),0,IF(AND(LEN($C57)<>0,$D57=\"Yes\"),VLOOKUP($B57,'Round Four'!$C:$J,8,0),\"\"))","v":0},{"$f":"IF(ISERROR(VLOOKUP(T57,'Round Four'!$C:$J,7,0)),0,IF(AND(LEN($C57)<>0,$D57=\"Yes\"),VLOOKUP(T57,'Round Four'!$C:$J,7,0)+1E-24,0))","v":0},0,{"$f":"IF(ISERROR(VLOOKUP($B57,'Round Four'!$C:$J,6,0)),0,IF(AND(LEN($C57)<>0,$D57=\"Yes\"),VLOOKUP($B57,'Round Four'!$C:$J,6,0),\"\"))","v":0},{"$f":"IF(ISERROR(VLOOKUP($B57,'Round Four'!$C:$J,7,0)),0,IF(LEN($C57)<>0,VLOOKUP($B57,'Round Four'!$C:$J,7,0)+1E-24,0))","v":0},{"$f":"IF(ISERROR(VLOOKUP($B57,'Round Five'!$C:$J,8,0)),0,IF(AND(LEN($C57)<>0,$D57=\"Yes\"),VLOOKUP($B57,'Round Five'!$C:$J,8,0),\"\"))","v":0},{"$f":"IF(ISERROR(VLOOKUP(Y57,'Round Five'!$C:$J,7,0)),0,IF(AND(LEN($C57)<>0,$D57=\"Yes\"),VLOOKUP(Y57,'Round Five'!$C:$J,7,0)+1E-24,0))","v":0},0,{"$f":"IF(ISERROR(VLOOKUP($B57,'Round Five'!$C:$J,6,0)),0,IF(AND(LEN($C57)<>0,$D57=\"Yes\"),VLOOKUP($B57,'Round Five'!$C:$J,6,0),\"\"))","v":0},{"$f":"IF(ISERROR(VLOOKUP($B57,'Round Five'!$C:$J,7,0)),0,IF(LEN($C57)<>0,VLOOKUP($B57,'Round Five'!$C:$J,7,0)+1E-24,0))","v":0},{"$f":"IF(ISERROR(VLOOKUP($B57,'Round Six'!$C:$J,8,0)),0,IF(AND(LEN($C57)<>0,$D57=\"Yes\"),VLOOKUP($B57,'Round Six'!$C:$J,8,0),\"\"))","v":0},{"$f":"IF(ISERROR(VLOOKUP(AD57,'Round Six'!$C:$J,7,0)),0,IF(AND(LEN($C57)<>0,$D57=\"Yes\"),VLOOKUP(AD57,'Round Six'!$C:$J,7,0)+1E-24,0))","v":0},0,{"$f":"IF(ISERROR(VLOOKUP($B57,'Round Six'!$C:$J,6,0)),0,IF(AND(LEN($C57)<>0,$D57=\"Yes\"),VLOOKUP($B57,'Round Six'!$C:$J,6,0),\"\"))","v":0},{"$f":"IF(ISERROR(VLOOKUP($B57,'Round Six'!$C:$J,7,0)),0,IF(LEN($C57)<>0,VLOOKUP($B57,'Round Six'!$C:$J,7,0)+1E-24,0))","v":0},{"$f":"IF(ISERROR(VLOOKUP($B57,'Round Seven'!$C:$J,8,0)),0,IF(AND(LEN($C57)<>0,$D57=\"Yes\"),VLOOKUP($B57,'Round Seven'!$C:$J,8,0),\"\"))","v":0},{"$f":"IF(ISERROR(VLOOKUP(AI57,'Round Seven'!$C:$J,7,0)),0,IF(AND(LEN($C57)<>0,$D57=\"Yes\"),VLOOKUP(AI57,'Round Seven'!$C:$J,7,0)+1E-24,0))","v":0},0,{"$f":"IF(ISERROR(VLOOKUP($B57,'Round Seven'!$C:$J,6,0)),0,IF(AND(LEN($C57)<>0,$D57=\"Yes\"),VLOOKUP($B57,'Round Seven'!$C:$J,6,0),\"\"))","v":0},{"$f":"IF(ISERROR(VLOOKUP($B57,'Round Seven'!$C:$J,7,0)),0,IF(LEN($C57)<>0,VLOOKUP($B57,'Round Seven'!$C:$J,7,0)+1E-24,0))","v":0},{"$f":"IF(ISERROR(VLOOKUP($B57,'Round Eight'!$C:$J,8,0)),0,IF(AND(LEN($C57)<>0,$D57=\"Yes\"),VLOOKUP($B57,'Round Eight'!$C:$J,8,0),\"\"))","v":0},{"$f":"IF(ISERROR(VLOOKUP(AN57,'Round Eight'!$C:$J,7,0)),0,IF(AND(LEN($C57)<>0,$D57=\"Yes\"),VLOOKUP(AN57,'Round Eight'!$C:$J,7,0)+1E-24,0))","v":0},0,{"$f":"IF(ISERROR(VLOOKUP($B57,'Round Eight'!$C:$J,6,0)),0,IF(AND(LEN($C57)<>0,$D57=\"Yes\"),VLOOKUP($B57,'Round Eight'!$C:$J,6,0),\"\"))","v":0},{"$f":"IF(ISERROR(VLOOKUP($B57,'Round Eight'!$C:$J,7,0)),0,IF(LEN($C57)<>0,VLOOKUP($B57,'Round Eight'!$C:$J,7,0)+1E-24,0))","v":0},{"$f":"IF(ISERROR(VLOOKUP($B57,'Round Nine'!$C:$J,8,0)),0,IF(AND(LEN($C57)<>0,$D57=\"Yes\"),VLOOKUP($B57,'Round Nine'!$C:$J,8,0),\"\"))","v":0},{"$f":"IF(ISERROR(VLOOKUP(AS57,'Round Nine'!$C:$J,7,0)),0,IF(AND(LEN($C57)<>0,$D57=\"Yes\"),VLOOKUP(AS57,'Round Nine'!$C:$J,7,0)+1E-24,0))","v":0},0,{"$f":"IF(ISERROR(VLOOKUP($B57,'Round Nine'!$C:$J,6,0)),0,IF(AND(LEN($C57)<>0,$D57=\"Yes\"),VLOOKUP($B57,'Round Nine'!$C:$J,6,0),\"\"))","v":0},{"$f":"IF(ISERROR(VLOOKUP($B57,'Round Nine'!$C:$J,7,0)),0,IF(LEN($C57)<>0,VLOOKUP($B57,'Round Nine'!$C:$J,7,0)+1E-24,0))","v":0},null,0,0,0,{"$f":"IF(D57<>\"Yes\",A57*-10,AY57*1000000+AZ57*10000+BA57+(A57/100000))+IF(OR(Accel_Pairing_2!$B$4=\"no\",D57<>\"Yes\",ISERROR(VLOOKUP(C57,PowerRanking!A:B,2,0))),0,(VLOOKUP(C57,PowerRanking!A:D,4,0)*1000000)+VLOOKUP(C57,PowerRanking!A:D,2,0)/10)","v":-6.8689816830439963},44,"T54",0,""]
[0.90724456813311827,"T55",null,null,{"$f":"IF(ISERROR(VLOOKUP($B58,'Round One'!$C:$J,8,0)),0,IF(AND(LEN($C58)<>0,$D58=\"Yes\"),VLOOKUP($B58,'Round One'!$C:$J,8,0),0))","v":0},{"$f":"IF(ISERROR(VLOOKUP(E58,'Round One'!$C:$J,7,0)),0,IF(AND(LEN($C58)<>0,$D58=\"Yes\"),VALUE(VLOOKUP(E58,'Round One'!$C:$J,7,0)+1E-24),0))","v":0},0,{"$f":"IF(ISERROR(VLOOKUP($B58,'Round One'!$C:$J,6,0)),0,IF(AND(LEN($C58)<>0,$D58=\"Yes\"),VLOOKUP($B58,'Round One'!$C:$J,6,0),\"\"))","v":0},{"$f":"IF(ISERROR(VLOOKUP($B58,'Round One'!$C:$J,7,0)),0,IF(LEN($C58)<>0,VLOOKUP($B58,'Round One'!$C:$J,7,0)+1E-24,0))","v":0},{"$f":"IF(ISERROR(VLOOKUP($B58,'Round Two'!$C:$J,8,0)),0,IF(AND(LEN($C58)<>0,$D58=\"Yes\"),VLOOKUP($B58,'Round Two'!$C:$J,8,0),\"\"))","v":0},{"$f":"IF(ISERROR(VLOOKUP(J58,'Round Two'!$C:$J,7,0)),0,IF(AND(LEN($C58)<>0,$D58=\"Yes\"),VLOOKUP(J58,'Round Two'!$C:$J,7,0)+1E-24,0))","v":0},0,{"$f":"IF(ISERROR(VLOOKUP($B58,'Round Two'!$C:$J,6,0)),0,IF(AND(LEN($C58)<>0,$D58=\"Yes\"),VLOOKUP($B58,'Round Two'!$C:$J,6,0),\"\"))","v":0},{"$f":"IF(ISERROR(VLOOKUP($B58,'Round Two'!$C:$J,7,0)),0,IF(LEN($C58)<>0,VLOOKUP($B58,'Round Two'!$C:$J,7,0)+1E-24,0))","v":0},{"$f":"IF(ISERROR(VLOOKUP($B58,'Round Three'!$C:$J,8,0)),0,IF(AND(LEN($C58)<>0,$D58=\"Yes\"),VLOOKUP($B58,'Round Three'!$C:$J,8,0),\"\"))","v":0},{"$f":"IF(ISERROR(VLOOKUP(O58,'Round Three'!$C:$J,7,0)),0,IF(AND(LEN($C58)<>0,$D58=\"Yes\"),VLOOKUP(O58,'Round Three'!$C:$J,7,0)+1E-24,0))","v":0},0,{"$f":"IF(ISERROR(VLOOKUP($B58,'Round Three'!$C:$J,6,0)),0,IF(AND(LEN($C58)<>0,$D58=\"Yes\"),VLOOKUP($B58,'Round Three'!$C:$J,6,0),\"\"))","v":0},{"$f":"IF(ISERROR(VLOOKUP($B58,'Round Three'!$C:$J,7,0)),0,IF(LEN($C58)<>0,VLOOKUP($B58,'Round Three'!$C:$J,7,0)+1E-24,0))","v":0},{"$f":"IF(ISERROR(VLOOKUP($B58,'Round Four'!$C:$J,8,0)),0,IF(AND(LEN($C58)<>0,$D58=\"Yes\"),VLOOKUP($B58,'Round Four'!$C:$J,8,0),\"\"))","v":0},{"$f":"IF(ISERROR(VLOOKUP(T58,'Round Four'!$C:$J,7,0)),0,IF(AND(LEN($C58)<>0,$D58=\"Yes\"),VLOOKUP(T58,'Round Four'!$C:$J,7,0)+1E-24,0))","v":0},0,{"$f":"IF(ISERROR(VLOOKUP($B58,'Round Four'!$C:$J,6,0)),0,IF(AND(LEN($C58)<>0,$D58=\"Yes\"),VLOOKUP($B58,'Round Four'!$C:$J,6,0),\"\"))","v":0},{"$f":"IF(ISERROR(VLOOKUP($B58,'Round Four'!$C:$J,7,0)),0,IF(LEN($C58)<>0,VLOOKUP($B58,'Round Four'!$C:$J,7,0)+1E-24,0))","v":0},{"$f":"IF(ISERROR(VLOOKUP($B58,'Round Five'!$C:$J,8,0)),0,IF(AND(LEN($C58)<>0,$D58=\"Yes\"),VLOOKUP($B58,'Round Five'!$C:$J,8,0),\"\"))","v":0},{"$f":"IF(ISERROR(VLOOKUP(Y58,'Round Five'!$C:$J,7,0)),0,IF(AND(LEN($C58)<>0,$D58=\"Yes\"),VLOOKUP(Y58,'Round Five'!$C:$J,7,0)+1E-24,0))","v":0},0,{"$f":"IF(ISERROR(VLOOKUP($B58,'Round Five'!$C:$J,6,0)),0,IF(AND(LEN($C58)<>0,$D58=\"Yes\"),VLOOKUP($B58,'Round Five'!$C:$J,6,0),\"\"))","v":0},{"$f":"IF(ISERROR(VLOOKUP($B58,'Round Five'!$C:$J,7,0)),0,IF(LEN($C58)<>0,VLOOKUP($B58,'Round Five'!$C:$J,7,0)+1E-24,0))","v":0},{"$f":"IF(ISERROR(VLOOKUP($B58,'Round Six'!$C:$J,8,0)),0,IF(AND(LEN($C58)<>0,$D58=\"Yes\"),VLOOKUP($B58,'Round Six'!$C:$J,8,0),\"\"))","v":0},{"$f":"IF(ISERROR(VLOOKUP(AD58,'Round Six'!$C:$J,7,0)),0,IF(AND(LEN($C58)<>0,$D58=\"Yes\"),VLOOKUP(AD58,'Round Six'!$C:$J,7,0)+1E-24,0))","v":0},0,{"$f":"IF(ISERROR(VLOOKUP($B58,'Round Six'!$C:$J,6,0)),0,IF(AND(LEN($C58)<>0,$D58=\"Yes\"),VLOOKUP($B58,'Round Six'!$C:$J,6,0),\"\"))","v":0},{"$f":"IF(ISERROR(VLOOKUP($B58,'Round Six'!$C:$J,7,0)),0,IF(LEN($C58)<>0,VLOOKUP($B58,'Round Six'!$C:$J,7,0)+1E-24,0))","v":0},{"$f":"IF(ISERROR(VLOOKUP($B58,'Round Seven'!$C:$J,8,0)),0,IF(AND(LEN($C58)<>0,$D58=\"Yes\"),VLOOKUP($B58,'Round Seven'!$C:$J,8,0),\"\"))","v":0},{"$f":"IF(ISERROR(VLOOKUP(AI58,'Round Seven'!$C:$J,7,0)),0,IF(AND(LEN($C58)<>0,$D58=\"Yes\"),VLOOKUP(AI58,'Round Seven'!$C:$J,7,0)+1E-24,0))","v":0},0,{"$f":"IF(ISERROR(VLOOKUP($B58,'Round Seven'!$C:$J,6,0)),0,IF(AND(LEN($C58)<>0,$D58=\"Yes\"),VLOOKUP($B58,'Round Seven'!$C:$J,6,0),\"\"))","v":0},{"$f":"IF(ISERROR(VLOOKUP($B58,'Round Seven'!$C:$J,7,0)),0,IF(LEN($C58)<>0,VLOOKUP($B58,'Round Seven'!$C:$J,7,0)+1E-24,0))","v":0},{"$f":"IF(ISERROR(VLOOKUP($B58,'Round Eight'!$C:$J,8,0)),0,IF(AND(LEN($C58)<>0,$D58=\"Yes\"),VLOOKUP($B58,'Round Eight'!$C:$J,8,0),\"\"))","v":0},{"$f":"IF(ISERROR(VLOOKUP(AN58,'Round Eight'!$C:$J,7,0)),0,IF(AND(LEN($C58)<>0,$D58=\"Yes\"),VLOOKUP(AN58,'Round Eight'!$C:$J,7,0)+1E-24,0))","v":0},0,{"$f":"IF(ISERROR(VLOOKUP($B58,'Round Eight'!$C:$J,6,0)),0,IF(AND(LEN($C58)<>0,$D58=\"Yes\"),VLOOKUP($B58,'Round Eight'!$C:$J,6,0),\"\"))","v":0},{"$f":"IF(ISERROR(VLOOKUP($B58,'Round Eight'!$C:$J,7,0)),0,IF(LEN($C58)<>0,VLOOKUP($B58,'Round Eight'!$C:$J,7,0)+1E-24,0))","v":0},{"$f":"IF(ISERROR(VLOOKUP($B58,'Round Nine'!$C:$J,8,0)),0,IF(AND(LEN($C58)<>0,$D58=\"Yes\"),VLOOKUP($B58,'Round Nine'!$C:$J,8,0),\"\"))","v":0},{"$f":"IF(ISERROR(VLOOKUP(AS58,'Round Nine'!$C:$J,7,0)),0,IF(AND(LEN($C58)<>0,$D58=\"Yes\"),VLOOKUP(AS58,'Round Nine'!$C:$J,7,0)+1E-24,0))","v":0},0,{"$f":"IF(ISERROR(VLOOKUP($B58,'Round Nine'!$C:$J,6,0)),0,IF(AND(LEN($C58)<>0,$D58=\"Yes\"),VLOOKUP($B58,'Round Nine'!$C:$J,6,0),\"\"))","v":0},{"$f":"IF(ISERROR(VLOOKUP($B58,'Round Nine'!$C:$J,7,0)),0,IF(LEN($C58)<>0,VLOOKUP($B58,'Round Nine'!$C:$J,7,0)+1E-24,0))","v":0},null,0,0,0,{"$f":"IF(D58<>\"Yes\",A58*-10,AY58*1000000+AZ58*10000+BA58+(A58/100000))+IF(OR(Accel_Pairing_2!$B$4=\"no\",D58<>\"Yes\",ISERROR(VLOOKUP(C58,PowerRanking!A:B,2,0))),0,(VLOOKUP(C58,PowerRanking!A:D,4,0)*1000000)+VLOOKUP(C58,PowerRanking!A:D,2,0)/10)","v":-9.0724456813311818},59,"T55",0,""]
[0.64106346761399824,"T56",null,null,{"$f":"IF(ISERROR(VLOOKUP($B59,'Round One'!$C:$J,8,0)),0,IF(AND(LEN($C59)<>0,$D59=\"Yes\"),VLOOKUP($B59,'Round One'!$C:$J,8,0),0))","v":0},{"$f":"IF(ISERROR(VLOOKUP(E59,'Round One'!$C:$J,7,0)),0,IF(AND(LEN($C59)<>0,$D59=\"Yes\"),VALUE(VLOOKUP(E59,'Round One'!$C:$J,7,0)+1E-24),0))","v":0},0,{"$f":"IF(ISERROR(VLOOKUP($B59,'Round One'!$C:$J,6,0)),0,IF(AND(LEN($C59)<>0,$D59=\"Yes\"),VLOOKUP($B59,'Round One'!$C:$J,6,0),\"\"))","v":0},{"$f":"IF(ISERROR(VLOOKUP($B59,'Round One'!$C:$J,7,0)),0,IF(LEN($C59)<>0,VLOOKUP($B59,'Round One'!$C:$J,7,0)+1E-24,0))","v":0},{"$f":"IF(ISERROR(VLOOKUP($B59,'Round Two'!$C:$J,8,0)),0,IF(AND(LEN($C59)<>0,$D59=\"Yes\"),VLOOKUP($B59,'Round Two'!$C:$J,8,0),\"\"))","v":0},{"$f":"IF(ISERROR(VLOOKUP(J59,'Round Two'!$C:$J,7,0)),0,IF(AND(LEN($C59)<>0,$D59=\"Yes\"),VLOOKUP(J59,'Round Two'!$C:$J,7,0)+1E-24,0))","v":0},0,{"$f":"IF(ISERROR(VLOOKUP($B59,'Round Two'!$C:$J,6,0)),0,IF(AND(LEN($C59)<>0,$D59=\"Yes\"),VLOOKUP($B59,'Round Two'!$C:$J,6,0),\"\"))","v":0},{"$f":"IF(ISERROR(VLOOKUP($B59,'Round Two'!$C:$J,7,0)),0,IF(LEN($C59)<>0,VLOOKUP($B59,'Round Two'!$C:$J,7,0)+1E-24,0))","v":0},{"$f":"IF(ISERROR(VLOOKUP($B59,'Round Three'!$C:$J,8,0)),0,IF(AND(LEN($C59)<>0,$D59=\"Yes\"),VLOOKUP($B59,'Round Three'!$C:$J,8,0),\"\"))","v":0},{"$f":"IF(ISERROR(VLOOKUP(O59,'Round Three'!$C:$J,7,0)),0,IF(AND(LEN($C59)<>0,$D59=\"Yes\"),VLOOKUP(O59,'Round Three'!$C:$J,7,0)+1E-24,0))","v":0},0,{"$f":"IF(ISERROR(VLOOKUP($B59,'Round Three'!$C:$J,6,0)),0,IF(AND(LEN($C59)<>0,$D59=\"Yes\"),VLOOKUP($B59,'Round Three'!$C:$J,6,0),\"\"))","v":0},{"$f":"IF(ISERROR(VLOOKUP($B59,'Round Three'!$C:$J,7,0)),0,IF(LEN($C59)<>0,VLOOKUP($B59,'Round Three'!$C:$J,7,0)+1E-24,0))","v":0},{"$f":"IF(ISERROR(VLOOKUP($B59,'Round Four'!$C:$J,8,0)),0,IF(AND(LEN($C59)<>0,$D59=\"Yes\"),VLOOKUP($B59,'Round Four'!$C:$J,8,0),\"\"))","v":0},{"$f":"IF(ISERROR(VLOOKUP(T59,'Round Four'!$C:$J,7,0)),0,IF(AND(LEN($C59)<>0,$D59=\"Yes\"),VLOOKUP(T59,'Round Four'!$C:$J,7,0)+1E-24,0))","v":0},0,{"$f":"IF(ISERROR(VLOOKUP($B59,'Round Four'!$C:$J,6,0)),0,IF(AND(LEN($C59)<>0,$D59=\"Yes\"),VLOOKUP($B59,'Round Four'!$C:$J,6,0),\"\"))","v":0},{"$f":"IF(ISERROR(VLOOKUP($B59,'Round Four'!$C:$J,7,0)),0,IF(LEN($C59)<>0,VLOOKUP($B59,'Round Four'!$C:$J,7,0)+1E-24,0))","v":0},{"$f":"IF(ISERROR(VLOOKUP($B59,'Round Five'!$C:$J,8,0)),0,IF(AND(LEN($C59)<>0,$D59=\"Yes\"),VLOOKUP($B59,'Round Five'!$C:$J,8,0),\"\"))","v":0},{"$f":"IF(ISERROR(VLOOKUP(Y59,'Round Five'!$C:$J,7,0)),0,IF(AND(LEN($C59)<>0,$D59=\"Yes\"),VLOOKUP(Y59,'Round Five'!$C:$J,7,0)+1E-24,0))","v":0},0,{"$f":"IF(ISERROR(VLOOKUP($B59,'Round Five'!$C:$J,6,0)),0,IF(AND(LEN($C59)<>0,$D59=\"Yes\"),VLOOKUP($B59,'Round Five'!$C:$J,6,0),\"\"))","v":0},{"$f":"IF(ISERROR(VLOOKUP($B59,'Round Five'!$C:$J,7,0)),0,IF(LEN($C59)<>0,VLOOKUP($B59,'Round Five'!$C:$J,7,0)+1E-24,0))","v":0},{"$f":"IF(ISERROR(VLOOKUP($B59,'Round Six'!$C:$J,8,0)),0,IF(AND(LEN($C59)<>0,$D59=\"Yes\"),VLOOKUP($B59,'Round Six'!$C:$J,8,0),\"\"))","v":0},{"$f":"IF(ISERROR(VLOOKUP(AD59,'Round Six'!$C:$J,7,0)),0,IF(AND(LEN($C59)<>0,$D59=\"Yes\"),VLOOKUP(AD59,'Round Six'!$C:$J,7,0)+1E-24,0))","v":0},0,{"$f":"IF(ISERROR(VLOOKUP($B59,'Round Six'!$C:$J,6,0)),0,IF(AND(LEN($C59)<>0,$D59=\"Yes\"),VLOOKUP($B59,'Round Six'!$C:$J,6,0),\"\"))","v":0},{"$f":"IF(ISERROR(VLOOKUP($B59,'Round Six'!$C:$J,7,0)),0,IF(LEN($C59)<>0,VLOOKUP($B59,'Round Six'!$C:$J,7,0)+1E-24,0))","v":0},{"$f":"IF(ISERROR(VLOOKUP($B59,'Round Seven'!$C:$J,8,0)),0,IF(AND(LEN($C59)<>0,$D59=\"Yes\"),VLOOKUP($B59,'Round Seven'!$C:$J,8,0),\"\"))","v":0},{"$f":"IF(ISERROR(VLOOKUP(AI59,'Round Seven'!$C:$J,7,0)),0,IF(AND(LEN($C59)<>0,$D59=\"Yes\"),VLOOKUP(AI59,'Round Seven'!$C:$J,7,0)+1E-24,0))","v":0},0,{"$f":"IF(ISERROR(VLOOKUP($B59,'Round Seven'!$C:$J,6,0)),0,IF(AND(LEN($C59)<>0,$D59=\"Yes\"),VLOOKUP($B59,'Round Seven'!$C:$J,6,0),\"\"))","v":0},{"$f":"IF(ISERROR(VLOOKUP($B59,'Round Seven'!$C:$J,7,0)),0,IF(LEN($C59)<>0,VLOOKUP($B59,'Round Seven'!$C:$J,7,0)+1E-24,0))","v":0},{"$f":"IF(ISERROR(VLOOKUP($B59,'Round Eight'!$C:$J,8,0)),0,IF(AND(LEN($C59)<>0,$D59=\"Yes\"),VLOOKUP($B59,'Round Eight'!$C:$J,8,0),\"\"))","v":0},{"$f":"IF(ISERROR(VLOOKUP(AN59,'Round Eight'!$C:$J,7,0)),0,IF(AND(LEN($C59)<>0,$D59=\"Yes\"),VLOOKUP(AN59,'Round Eight'!$C:$J,7,0)+1E-24,0))","v":0},0,{"$f":"IF(ISERROR(VLOOKUP($B59,'Round Eight'!$C:$J,6,0)),0,IF(AND(LEN($C59)<>0,$D59=\"Yes\"),VLOOKUP($B59,'Round Eight'!$C:$J,6,0),\"\"))","v":0},{"$f":"IF(ISERROR(VLOOKUP($B59,'Round Eight'!$C:$J,7,0)),0,IF(LEN($C59)<>0,VLOOKUP($B59,'Round Eight'!$C:$J,7,0)+1E-24,0))","v":0},{"$f":"IF(ISERROR(VLOOKUP($B59,'Round Nine'!$C:$J,8,0)),0,IF(AND(LEN($C59)<>0,$D59=\"Yes\"),VLOOKUP($B59,'Round Nine'!$C:$J,8,0),\"\"))","v":0},{"$f":"IF(ISERROR(VLOOKUP(AS59,'Round Nine'!$C:$J,7,0)),0,IF(AND(LEN($C59)<>0,$D59=\"Yes\"),VLOOKUP(AS59,'Round Nine'!$C:$J,7,0)+1E-24,0))","v":0},0,{"$f":"IF(ISERROR(VLOOKUP($B59,'Round Nine'!$C:$J,6,0)),0,IF(AND(LEN($C59)<>0,$D59=\"Yes\"),VLOOKUP($B59,'Round Nine'!$C:$J,6,0),\"\"))","v":0},{"$f":"IF(ISERROR(VLOOKUP($B59,'Round Nine'!$C:$J,7,0)),0,IF(LEN($C59)<>0,VLOOKUP($B59,'Round Nine'!$C:$J,7,0)+1E-24,0))","v":0},null,0,0,0,{"$f":"IF(D59<>\"Yes\",A59*-10,AY59*1000000+AZ59*10000+BA59+(A59/100000))+IF(OR(Accel_Pairing_2!$B$4=\"no\",D59<>\"Yes\",ISERROR(VLOOKUP(C59,PowerRanking!A:B,2,0))),0,(VLOOKUP(C59,PowerRanking!A:D,4,0)*1000000)+VLOOKUP(C59,PowerRanking!A:D,2,0)/10)","v":-6.4106346761399822},42,"T56",0,""]
[0.98973788232179549,"T57",null,null,{"$f":"IF(ISERROR(VLOOKUP($B60,'Round One'!$C:$J,8,0)),0,IF(AND(LEN($C60)<>0,$D60=\"Yes\"),VLOOKUP($B60,'Round One'!$C:$J,8,0),0))","v":0},{"$f":"IF(ISERROR(VLOOKUP(E60,'Round One'!$C:$J,7,0)),0,IF(AND(LEN($C60)<>0,$D60=\"Yes\"),VALUE(VLOOKUP(E60,'Round One'!$C:$J,7,0)+1E-24),0))","v":0},0,{"$f":"IF(ISERROR(VLOOKUP($B60,'Round One'!$C:$J,6,0)),0,IF(AND(LEN($C60)<>0,$D60=\"Yes\"),VLOOKUP($B60,'Round One'!$C:$J,6,0),\"\"))","v":0},{"$f":"IF(ISERROR(VLOOKUP($B60,'Round One'!$C:$J,7,0)),0,IF(LEN($C60)<>0,VLOOKUP($B60,'Round One'!$C:$J,7,0)+1E-24,0))","v":0},{"$f":"IF(ISERROR(VLOOKUP($B60,'Round Two'!$C:$J,8,0)),0,IF(AND(LEN($C60)<>0,$D60=\"Yes\"),VLOOKUP($B60,'Round Two'!$C:$J,8,0),\"\"))","v":0},{"$f":"IF(ISERROR(VLOOKUP(J60,'Round Two'!$C:$J,7,0)),0,IF(AND(LEN($C60)<>0,$D60=\"Yes\"),VLOOKUP(J60,'Round Two'!$C:$J,7,0)+1E-24,0))","v":0},0,{"$f":"IF(ISERROR(VLOOKUP($B60,'Round Two'!$C:$J,6,0)),0,IF(AND(LEN($C60)<>0,$D60=\"Yes\"),VLOOKUP($B60,'Round Two'!$C:$J,6,0),\"\"))","v":0},{"$f":"IF(ISERROR(VLOOKUP($B60,'Round Two'!$C:$J,7,0)),0,IF(LEN($C60)<>0,VLOOKUP($B60,'Round Two'!$C:$J,7,0)+1E-24,0))","v":0},{"$f":"IF(ISERROR(VLOOKUP($B60,'Round Three'!$C:$J,8,0)),0,IF(AND(LEN($C60)<>0,$D60=\"Yes\"),VLOOKUP($B60,'Round Three'!$C:$J,8,0),\"\"))","v":0},{"$f":"IF(ISERROR(VLOOKUP(O60,'Round Three'!$C:$J,7,0)),0,IF(AND(LEN($C60)<>0,$D60=\"Yes\"),VLOOKUP(O60,'Round Three'!$C:$J,7,0)+1E-24,0))","v":0},0,{"$f":"IF(ISERROR(VLOOKUP($B60,'Round Three'!$C:$J,6,0)),0,IF(AND(LEN($C60)<>0,$D60=\"Yes\"),VLOOKUP($B60,'Round Three'!$C:$J,6,0),\"\"))","v":0},{"$f":"IF(ISERROR(VLOOKUP($B60,'Round Three'!$C:$J,7,0)),0,IF(LEN($C60)<>0,VLOOKUP($B60,'Round Three'!$C:$J,7,0)+1E-24,0))","v":0},{"$f":"IF(ISERROR(VLOOKUP($B60,'Round Four'!$C:$J,8,0)),0,IF(AND(LEN($C60)<>0,$D60=\"Yes\"),VLOOKUP($B60,'Round Four'!$C:$J,8,0),\"\"))","v":0},{"$f":"IF(ISERROR(VLOOKUP(T60,'Round Four'!$C:$J,7,0)),0,IF(AND(LEN($C60)<>0,$D60=\"Yes\"),VLOOKUP(T60,'Round Four'!$C:$J,7,0)+1E-24,0))","v":0},0,{"$f":"IF(ISERROR(VLOOKUP($B60,'Round Four'!$C:$J,6,0)),0,IF(AND(LEN($C60)<>0,$D60=\"Yes\"),VLOOKUP($B60,'Round Four'!$C:$J,6,0),\"\"))","v":0},{"$f":"IF(ISERROR(VLOOKUP($B60,'Round Four'!$C:$J,7,0)),0,IF(LEN($C60)<>0,VLOOKUP($B60,'Round Four'!$C:$J,7,0)+1E-24,0))","v":0},{"$f":"IF(ISERROR(VLOOKUP($B60,'Round Five'!$C:$J,8,0)),0,IF(AND(LEN($C60)<>0,$D60=\"Yes\"),VLOOKUP($B60,'Round Five'!$C:$J,8,0),\"\"))","v":0},{"$f":"IF(ISERROR(VLOOKUP(Y60,'Round Five'!$C:$J,7,0)),0,IF(AND(LEN($C60)<>0,$D60=\"Yes\"),VLOOKUP(Y60,'Round Five'!$C:$J,7,0)+1E-24,0))","v":0},0,{"$f":"IF(ISERROR(VLOOKUP($B60,'Round Five'!$C:$J,6,0)),0,IF(AND(LEN($C60)<>0,$D60=\"Yes\"),VLOOKUP($B60,'Round Five'!$C:$J,6,0),\"\"))","v":0},{"$f":"IF(ISERROR(VLOOKUP($B60,'Round Five'!$C:$J,7,0)),0,IF(LEN($C60)<>0,VLOOKUP($B60,'Round Five'!$C:$J,7,0)+1E-24,0))","v":0},{"$f":"IF(ISERROR(VLOOKUP($B60,'Round Six'!$C:$J,8,0)),0,IF(AND(LEN($C60)<>0,$D60=\"Yes\"),VLOOKUP($B60,'Round Six'!$C:$J,8,0),\"\"))","v":0},{"$f":"IF(ISERROR(VLOOKUP(AD60,'Round Six'!$C:$J,7,0)),0,IF(AND(LEN($C60)<>0,$D60=\"Yes\"),VLOOKUP(AD60,'Round Six'!$C:$J,7,0)+1E-24,0))","v":0},0,{"$f":"IF(ISERROR(VLOOKUP($B60,'Round Six'!$C:$J,6,0)),0,IF(AND(LEN($C60)<>0,$D60=\"Yes\"),VLOOKUP($B60,'Round Six'!$C:$J,6,0),\"\"))","v":0},{"$f":"IF(ISERROR(VLOOKUP($B60,'Round Six'!$C:$J,7,0)),0,IF(LEN($C60)<>0,VLOOKUP($B60,'Round Six'!$C:$J,7,0)+1E-24,0))","v":0},{"$f":"IF(ISERROR(VLOOKUP($B60,'Round Seven'!$C:$J,8,0)),0,IF(AND(LEN($C60)<>0,$D60=\"Yes\"),VLOOKUP($B60,'Round Seven'!$C:$J,8,0),\"\"))","v":0},{"$f":"IF(ISERROR(VLOOKUP(AI60,'Round Seven'!$C:$J,7,0)),0,IF(AND(LEN($C60)<>0,$D60=\"Yes\"),VLOOKUP(AI60,'Round Seven'!$C:$J,7,0)+1E-24,0))","v":0},0,{"$f":"IF(ISERROR(VLOOKUP($B60,'Round Seven'!$C:$J,6,0)),0,IF(AND(LEN($C60)<>0,$D60=\"Yes\"),VLOOKUP($B60,'Round Seven'!$C:$J,6,0),\"\"))","v":0},{"$f":"IF(ISERROR(VLOOKUP($B60,'Round Seven'!$C:$J,7,0)),0,IF(LEN($C60)<>0,VLOOKUP($B60,'Round Seven'!$C:$J,7,0)+1E-24,0))","v":0},{"$f":"IF(ISERROR(VLOOKUP($B60,'Round Eight'!$C:$J,8,0)),0,IF(AND(LEN($C60)<>0,$D60=\"Yes\"),VLOOKUP($B60,'Round Eight'!$C:$J,8,0),\"\"))","v":0},{"$f":"IF(ISERROR(VLOOKUP(AN60,'Round Eight'!$C:$J,7,0)),0,IF(AND(LEN($C60)<>0,$D60=\"Yes\"),VLOOKUP(AN60,'Round Eight'!$C:$J,7,0)+1E-24,0))","v":0},0,{"$f":"IF(ISERROR(VLOOKUP($B60,'Round Eight'!$C:$J,6,0)),0,IF(AND(LEN($C60)<>0,$D60=\"Yes\"),VLOOKUP($B60,'Round Eight'!$C:$J,6,0),\"\"))","v":0},{"$f":"IF(ISERROR(VLOOKUP($B60,'Round Eight'!$C:$J,7,0)),0,IF(LEN($C60)<>0,VLOOKUP($B60,'Round Eight'!$C:$J,7,0)+1E-24,0))","v":0},{"$f":"IF(ISERROR(VLOOKUP($B60,'Round Nine'!$C:$J,8,0)),0,IF(AND(LEN($C60)<>0,$D60=\"Yes\"),VLOOKUP($B60,'Round Nine'!$C:$J,8,0),\"\"))","v":0},{"$f":"IF(ISERROR(VLOOKUP(AS60,'Round Nine'!$C:$J,7,0)),0,IF(AND(LEN($C60)<>0,$D60=\"Yes\"),VLOOKUP(AS60,'Round Nine'!$C:$J,7,0)+1E-24,0))","v":0},0,{"$f":"IF(ISERROR(VLOOKUP($B60,'Round Nine'!$C:$J,6,0)),0,IF(AND(LEN($C60)<>0,$D60=\"Yes\"),VLOOKUP($B60,'Round Nine'!$C:$J,6,0),\"\"))","v":0},{"$f":"IF(ISERROR(VLOOKUP($B60,'Round Nine'!$C:$J,7,0)),0,IF(LEN($C60)<>0,VLOOKUP($B60,'Round Nine'!$C:$J,7,0)+1E-24,0))","v":0},null,0,0,0,{"$f":"IF(D60<>\"Yes\",A60*-10,AY60*1000000+AZ60*10000+BA60+(A60/100000))+IF(OR(Accel_Pairing_2!$B$4=\"no\",D60<>\"Yes\",ISERROR(VLOOKUP(C60,PowerRanking!A:B,2,0))),0,(VLOOKUP(C60,PowerRanking!A:D,4,0)*1000000)+VLOOKUP(C60,PowerRanking!A:D,2,0)/10)","v":-9.8973788232179558},65,"T57",0,""]
[0.95550917137701008,"T58",null,null,{"$f":"IF(ISERROR(VLOOKUP($B61,'Round One'!$C:$J,8,0)),0,IF(AND(LEN($C61)<>0,$D61=\"Yes\"),VLOOKUP($B61,'Round One'!$C:$J,8,0),0))","v":0},{"$f":"IF(ISERROR(VLOOKUP(E61,'Round One'!$C:$J,7,0)),0,IF(AND(LEN($C61)<>0,$D61=\"Yes\"),VALUE(VLOOKUP(E61,'Round One'!$C:$J,7,0)+1E-24),0))","v":0},0,{"$f":"IF(ISERROR(VLOOKUP($B61,'Round One'!$C:$J,6,0)),0,IF(AND(LEN($C61)<>0,$D61=\"Yes\"),VLOOKUP($B61,'Round One'!$C:$J,6,0),\"\"))","v":0},{"$f":"IF(ISERROR(VLOOKUP($B61,'Round One'!$C:$J,7,0)),0,IF(LEN($C61)<>0,VLOOKUP($B61,'Round One'!$C:$J,7,0)+1E-24,0))","v":0},{"$f":"IF(ISERROR(VLOOKUP($B61,'Round Two'!$C:$J,8,0)),0,IF(AND(LEN($C61)<>0,$D61=\"Yes\"),VLOOKUP($B61,'Round Two'!$C:$J,8,0),\"\"))","v":0},{"$f":"IF(ISERROR(VLOOKUP(J61,'Round Two'!$C:$J,7,0)),0,IF(AND(LEN($C61)<>0,$D61=\"Yes\"),VLOOKUP(J61,'Round Two'!$C:$J,7,0)+1E-24,0))","v":0},0,{"$f":"IF(ISERROR(VLOOKUP($B61,'Round Two'!$C:$J,6,0)),0,IF(AND(LEN($C61)<>0,$D61=\"Yes\"),VLOOKUP($B61,'Round Two'!$C:$J,6,0),\"\"))","v":0},{"$f":"IF(ISERROR(VLOOKUP($B61,'Round Two'!$C:$J,7,0)),0,IF(LEN($C61)<>0,VLOOKUP($B61,'Round Two'!$C:$J,7,0)+1E-24,0))","v":0},{"$f":"IF(ISERROR(VLOOKUP($B61,'Round Three'!$C:$J,8,0)),0,IF(AND(LEN($C61)<>0,$D61=\"Yes\"),VLOOKUP($B61,'Round Three'!$C:$J,8,0),\"\"))","v":0},{"$f":"IF(ISERROR(VLOOKUP(O61,'Round Three'!$C:$J,7,0)),0,IF(AND(LEN($C61)<>0,$D61=\"Yes\"),VLOOKUP(O61,'Round Three'!$C:$J,7,0)+1E-24,0))","v":0},0,{"$f":"IF(ISERROR(VLOOKUP($B61,'Round Three'!$C:$J,6,0)),0,IF(AND(LEN($C61)<>0,$D61=\"Yes\"),VLOOKUP($B61,'Round Three'!$C:$J,6,0),\"\"))","v":0},{"$f":"IF(ISERROR(VLOOKUP($B61,'Round Three'!$C:$J,7,0)),0,IF(LEN($C61)<>0,VLOOKUP($B61,'Round Three'!$C:$J,7,0)+1E-24,0))","v":0},{"$f":"IF(ISERROR(VLOOKUP($B61,'Round Four'!$C:$J,8,0)),0,IF(AND(LEN($C61)<>0,$D61=\"Yes\"),VLOOKUP($B61,'Round Four'!$C:$J,8,0),\"\"))","v":0},{"$f":"IF(ISERROR(VLOOKUP(T61,'Round Four'!$C:$J,7,0)),0,IF(AND(LEN($C61)<>0,$D61=\"Yes\"),VLOOKUP(T61,'Round Four'!$C:$J,7,0)+1E-24,0))","v":0},0,{"$f":"IF(ISERROR(VLOOKUP($B61,'Round Four'!$C:$J,6,0)),0,IF(AND(LEN($C61)<>0,$D61=\"Yes\"),VLOOKUP($B61,'Round Four'!$C:$J,6,0),\"\"))","v":0},{"$f":"IF(ISERROR(VLOOKUP($B61,'Round Four'!$C:$J,7,0)),0,IF(LEN($C61)<>0,VLOOKUP($B61,'Round Four'!$C:$J,7,0)+1E-24,0))","v":0},{"$f":"IF(ISERROR(VLOOKUP($B61,'Round Five'!$C:$J,8,0)),0,IF(AND(LEN($C61)<>0,$D61=\"Yes\"),VLOOKUP($B61,'Round Five'!$C:$J,8,0),\"\"))","v":0},{"$f":"IF(ISERROR(VLOOKUP(Y61,'Round Five'!$C:$J,7,0)),0,IF(AND(LEN($C61)<>0,$D61=\"Yes\"),VLOOKUP(Y61,'Round Five'!$C:$J,7,0)+1E-24,0))","v":0},0,{"$f":"IF(ISERROR(VLOOKUP($B61,'Round Five'!$C:$J,6,0)),0,IF(AND(LEN($C61)<>0,$D61=\"Yes\"),VLOOKUP($B61,'Round Five'!$C:$J,6,0),\"\"))","v":0},{"$f":"IF(ISERROR(VLOOKUP($B61,'Round Five'!$C:$J,7,0)),0,IF(LEN($C61)<>0,VLOOKUP($B61,'Round Five'!$C:$J,7,0)+1E-24,0))","v":0},{"$f":"IF(ISERROR(VLOOKUP($B61,'Round Six'!$C:$J,8,0)),0,IF(AND(LEN($C61)<>0,$D61=\"Yes\"),VLOOKUP($B61,'Round Six'!$C:$J,8,0),\"\"))","v":0},{"$f":"IF(ISERROR(VLOOKUP(AD61,'Round Six'!$C:$J,7,0)),0,IF(AND(LEN($C61)<>0,$D61=\"Yes\"),VLOOKUP(AD61,'Round Six'!$C:$J,7,0)+1E-24,0))","v":0},0,{"$f":"IF(ISERROR(VLOOKUP($B61,'Round Six'!$C:$J,6,0)),0,IF(AND(LEN($C61)<>0,$D61=\"Yes\"),VLOOKUP($B61,'Round Six'!$C:$J,6,0),\"\"))","v":0},{"$f":"IF(ISERROR(VLOOKUP($B61,'Round Six'!$C:$J,7,0)),0,IF(LEN($C61)<>0,VLOOKUP($B61,'Round Six'!$C:$J,7,0)+1E-24,0))","v":0},{"$f":"IF(ISERROR(VLOOKUP($B61,'Round Seven'!$C:$J,8,0)),0,IF(AND(LEN($C61)<>0,$D61=\"Yes\"),VLOOKUP($B61,'Round Seven'!$C:$J,8,0),\"\"))","v":0},{"$f":"IF(ISERROR(VLOOKUP(AI61,'Round Seven'!$C:$J,7,0)),0,IF(AND(LEN($C61)<>0,$D61=\"Yes\"),VLOOKUP(AI61,'Round Seven'!$C:$J,7,0)+1E-24,0))","v":0},0,{"$f":"IF(ISERROR(VLOOKUP($B61,'Round Seven'!$C:$J,6,0)),0,IF(AND(LEN($C61)<>0,$D61=\"Yes\"),VLOOKUP($B61,'Round Seven'!$C:$J,6,0),\"\"))","v":0},{"$f":"IF(ISERROR(VLOOKUP($B61,'Round Seven'!$C:$J,7,0)),0,IF(LEN($C61)<>0,VLOOKUP($B61,'Round Seven'!$C:$J,7,0)+1E-24,0))","v":0},{"$f":"IF(ISERROR(VLOOKUP($B61,'Round Eight'!$C:$J,8,0)),0,IF(AND(LEN($C61)<>0,$D61=\"Yes\"),VLOOKUP($B61,'Round Eight'!$C:$J,8,0),\"\"))","v":0},{"$f":"IF(ISERROR(VLOOKUP(AN61,'Round Eight'!$C:$J,7,0)),0,IF(AND(LEN($C61)<>0,$D61=\"Yes\"),VLOOKUP(AN61,'Round Eight'!$C:$J,7,0)+1E-24,0))","v":0},0,{"$f":"IF(ISERROR(VLOOKUP($B61,'Round Eight'!$C:$J,6,0)),0,IF(AND(LEN($C61)<>0,$D61=\"Yes\"),VLOOKUP($B61,'Round Eight'!$C:$J,6,0),\"\"))","v":0},{"$f":"IF(ISERROR(VLOOKUP($B61,'Round Eight'!$C:$J,7,0)),0,IF(LEN($C61)<>0,VLOOKUP($B61,'Round Eight'!$C:$J,7,0)+1E-24,0))","v":0},{"$f":"IF(ISERROR(VLOOKUP($B61,'Round Nine'!$C:$J,8,0)),0,IF(AND(LEN($C61)<>0,$D61=\"Yes\"),VLOOKUP($B61,'Round Nine'!$C:$J,8,0),\"\"))","v":0},{"$f":"IF(ISERROR(VLOOKUP(AS61,'Round Nine'!$C:$J,7,0)),0,IF(AND(LEN($C61)<>0,$D61=\"Yes\"),VLOOKUP(AS61,'Round Nine'!$C:$J,7,0)+1E-24,0))","v":0},0,{"$f":"IF(ISERROR(VLOOKUP($B61,'Round Nine'!$C:$J,6,0)),0,IF(AND(LEN($C61)<>0,$D61=\"Yes\"),VLOOKUP($B61,'Round Nine'!$C:$J,6,0),\"\"))","v":0},{"$f":"IF(ISERROR(VLOOKUP($B61,'Round Nine'!$C:$J,7,0)),0,IF(LEN($C61)<>0,VLOOKUP($B61,'Round Nine'!$C:$J,7,0)+1E-24,0))","v":0},null,0,0,0,{"$f":"IF(D61<>\"Yes\",A61*-10,AY61*1000000+AZ61*10000+BA61+(A61/100000))+IF(OR(Accel_Pairing_2!$B$4=\"no\",D61<>\"Yes\",ISERROR(VLOOKUP(C61,PowerRanking!A:B,2,0))),0,(VLOOKUP(C61,PowerRanking!A:D,4,0)*1000000)+VLOOKUP(C61,PowerRanking!A:D,2,0)/10)","v":-9.5550917137700999},61,"T58",0,""]
[0.53421088644971226,"T59",null,null,{"$f":"IF(ISERROR(VLOOKUP($B62,'Round One'!$C:$J,8,0)),0,IF(AND(LEN($C62)<>0,$D62=\"Yes\"),VLOOKUP($B62,'Round One'!$C:$J,8,0),0))","v":0},{"$f":"IF(ISERROR(VLOOKUP(E62,'Round One'!$C:$J,7,0)),0,IF(AND(LEN($C62)<>0,$D62=\"Yes\"),VALUE(VLOOKUP(E62,'Round One'!$C:$J,7,0)+1E-24),0))","v":0},0,{"$f":"IF(ISERROR(VLOOKUP($B62,'Round One'!$C:$J,6,0)),0,IF(AND(LEN($C62)<>0,$D62=\"Yes\"),VLOOKUP($B62,'Round One'!$C:$J,6,0),\"\"))","v":0},{"$f":"IF(ISERROR(VLOOKUP($B62,'Round One'!$C:$J,7,0)),0,IF(LEN($C62)<>0,VLOOKUP($B62,'Round One'!$C:$J,7,0)+1E-24,0))","v":0},{"$f":"IF(ISERROR(VLOOKUP($B62,'Round Two'!$C:$J,8,0)),0,IF(AND(LEN($C62)<>0,$D62=\"Yes\"),VLOOKUP($B62,'Round Two'!$C:$J,8,0),\"\"))","v":0},{"$f":"IF(ISERROR(VLOOKUP(J62,'Round Two'!$C:$J,7,0)),0,IF(AND(LEN($C62)<>0,$D62=\"Yes\"),VLOOKUP(J62,'Round Two'!$C:$J,7,0)+1E-24,0))","v":0},0,{"$f":"IF(ISERROR(VLOOKUP($B62,'Round Two'!$C:$J,6,0)),0,IF(AND(LEN($C62)<>0,$D62=\"Yes\"),VLOOKUP($B62,'Round Two'!$C:$J,6,0),\"\"))","v":0},{"$f":"IF(ISERROR(VLOOKUP($B62,'Round Two'!$C:$J,7,0)),0,IF(LEN($C62)<>0,VLOOKUP($B62,'Round Two'!$C:$J,7,0)+1E-24,0))","v":0},{"$f":"IF(ISERROR(VLOOKUP($B62,'Round Three'!$C:$J,8,0)),0,IF(AND(LEN($C62)<>0,$D62=\"Yes\"),VLOOKUP($B62,'Round Three'!$C:$J,8,0),\"\"))","v":0},{"$f":"IF(ISERROR(VLOOKUP(O62,'Round Three'!$C:$J,7,0)),0,IF(AND(LEN($C62)<>0,$D62=\"Yes\"),VLOOKUP(O62,'Round Three'!$C:$J,7,0)+1E-24,0))","v":0},0,{"$f":"IF(ISERROR(VLOOKUP($B62,'Round Three'!$C:$J,6,0)),0,IF(AND(LEN($C62)<>0,$D62=\"Yes\"),VLOOKUP($B62,'Round Three'!$C:$J,6,0),\"\"))","v":0},{"$f":"IF(ISERROR(VLOOKUP($B62,'Round Three'!$C:$J,7,0)),0,IF(LEN($C62)<>0,VLOOKUP($B62,'Round Three'!$C:$J,7,0)+1E-24,0))","v":0},{"$f":"IF(ISERROR(VLOOKUP($B62,'Round Four'!$C:$J,8,0)),0,IF(AND(LEN($C62)<>0,$D62=\"Yes\"),VLOOKUP($B62,'Round Four'!$C:$J,8,0),\"\"))","v":0},{"$f":"IF(ISERROR(VLOOKUP(T62,'Round Four'!$C:$J,7,0)),0,IF(AND(LEN($C62)<>0,$D62=\"Yes\"),VLOOKUP(T62,'Round Four'!$C:$J,7,0)+1E-24,0))","v":0},0,{"$f":"IF(ISERROR(VLOOKUP($B62,'Round Four'!$C:$J,6,0)),0,IF(AND(LEN($C62)<>0,$D62=\"Yes\"),VLOOKUP($B62,'Round Four'!$C:$J,6,0),\"\"))","v":0},{"$f":"IF(ISERROR(VLOOKUP($B62,'Round Four'!$C:$J,7,0)),0,IF(LEN($C62)<>0,VLOOKUP($B62,'Round Four'!$C:$J,7,0)+1E-24,0))","v":0},{"$f":"IF(ISERROR(VLOOKUP($B62,'Round Five'!$C:$J,8,0)),0,IF(AND(LEN($C62)<>0,$D62=\"Yes\"),VLOOKUP($B62,'Round Five'!$C:$J,8,0),\"\"))","v":0},{"$f":"IF(ISERROR(VLOOKUP(Y62,'Round Five'!$C:$J,7,0)),0,IF(AND(LEN($C62)<>0,$D62=\"Yes\"),VLOOKUP(Y62,'Round Five'!$C:$J,7,0)+1E-24,0))","v":0},0,{"$f":"IF(ISERROR(VLOOKUP($B62,'Round Five'!$C:$J,6,0)),0,IF(AND(LEN($C62)<>0,$D62=\"Yes\"),VLOOKUP($B62,'Round Five'!$C:$J,6,0),\"\"))","v":0},{"$f":"IF(ISERROR(VLOOKUP($B62,'Round Five'!$C:$J,7,0)),0,IF(LEN($C62)<>0,VLOOKUP($B62,'Round Five'!$C:$J,7,0)+1E-24,0))","v":0},{"$f":"IF(ISERROR(VLOOKUP($B62,'Round Six'!$C:$J,8,0)),0,IF(AND(LEN($C62)<>0,$D62=\"Yes\"),VLOOKUP($B62,'Round Six'!$C:$J,8,0),\"\"))","v":0},{"$f":"IF(ISERROR(VLOOKUP(AD62,'Round Six'!$C:$J,7,0)),0,IF(AND(LEN($C62)<>0,$D62=\"Yes\"),VLOOKUP(AD62,'Round Six'!$C:$J,7,0)+1E-24,0))","v":0},0,{"$f":"IF(ISERROR(VLOOKUP($B62,'Round Six'!$C:$J,6,0)),0,IF(AND(LEN($C62)<>0,$D62=\"Yes\"),VLOOKUP($B62,'Round Six'!$C:$J,6,0),\"\"))","v":0},{"$f":"IF(ISERROR(VLOOKUP($B62,'Round Six'!$C:$J,7,0)),0,IF(LEN($C62)<>0,VLOOKUP($B62,'Round Six'!$C:$J,7,0)+1E-24,0))","v":0},{"$f":"IF(ISERROR(VLOOKUP($B62,'Round Seven'!$C:$J,8,0)),0,IF(AND(LEN($C62)<>0,$D62=\"Yes\"),VLOOKUP($B62,'Round Seven'!$C:$J,8,0),\"\"))","v":0},{"$f":"IF(ISERROR(VLOOKUP(AI62,'Round Seven'!$C:$J,7,0)),0,IF(AND(LEN($C62)<>0,$D62=\"Yes\"),VLOOKUP(AI62,'Round Seven'!$C:$J,7,0)+1E-24,0))","v":0},0,{"$f":"IF(ISERROR(VLOOKUP($B62,'Round Seven'!$C:$J,6,0)),0,IF(AND(LEN($C62)<>0,$D62=\"Yes\"),VLOOKUP($B62,'Round Seven'!$C:$J,6,0),\"\"))","v":0},{"$f":"IF(ISERROR(VLOOKUP($B62,'Round Seven'!$C:$J,7,0)),0,IF(LEN($C62)<>0,VLOOKUP($B62,'Round Seven'!$C:$J,7,0)+1E-24,0))","v":0},{"$f":"IF(ISERROR(VLOOKUP($B62,'Round Eight'!$C:$J,8,0)),0,IF(AND(LEN($C62)<>0,$D62=\"Yes\"),VLOOKUP($B62,'Round Eight'!$C:$J,8,0),\"\"))","v":0},{"$f":"IF(ISERROR(VLOOKUP(AN62,'Round Eight'!$C:$J,7,0)),0,IF(AND(LEN($C62)<>0,$D62=\"Yes\"),VLOOKUP(AN62,'Round Eight'!$C:$J,7,0)+1E-24,0))","v":0},0,{"$f":"IF(ISERROR(VLOOKUP($B62,'Round Eight'!$C:$J,6,0)),0,IF(AND(LEN($C62)<>0,$D62=\"Yes\"),VLOOKUP($B62,'Round Eight'!$C:$J,6,0),\"\"))","v":0},{"$f":"IF(ISERROR(VLOOKUP($B62,'Round Eight'!$C:$J,7,0)),0,IF(LEN($C62)<>0,VLOOKUP($B62,'Round Eight'!$C:$J,7,0)+1E-24,0))","v":0},{"$f":"IF(ISERROR(VLOOKUP($B62,'Round Nine'!$C:$J,8,0)),0,IF(AND(LEN($C62)<>0,$D62=\"Yes\"),VLOOKUP($B62,'Round Nine'!$C:$J,8,0),\"\"))","v":0},{"$f":"IF(ISERROR(VLOOKUP(AS62,'Round Nine'!$C:$J,7,0)),0,IF(AND(LEN($C62)<>0,$D62=\"Yes\"),VLOOKUP(AS62,'Round Nine'!$C:$J,7,0)+1E-24,0))","v":0},0,{"$f":"IF(ISERROR(VLOOKUP($B62,'Round Nine'!$C:$J,6,0)),0,IF(AND(LEN($C62)<>0,$D62=\"Yes\"),VLOOKUP($B62,'Round Nine'!$C:$J,6,0),\"\"))","v":0},{"$f":"IF(ISERROR(VLOOKUP($B62,'Round Nine'!$C:$J,7,0)),0,IF(LEN($C62)<>0,VLOOKUP($B62,'Round Nine'!$C:$J,7,0)+1E-24,0))","v":0},null,0,0,0,{"$f":"IF(D62<>\"Yes\",A62*-10,AY62*1000000+AZ62*10000+BA62+(A62/100000))+IF(OR(Accel_Pairing_2!$B$4=\"no\",D62<>\"Yes\",ISERROR(VLOOKUP(C62,PowerRanking!A:B,2,0))),0,(VLOOKUP(C62,PowerRanking!A:D,4,0)*1000000)+VLOOKUP(C62,PowerRanking!A:D,2,0)/10)","v":-5.3421088644971224},38,"T59",0,""]
[0.6131408754727089,"T60",null,null,{"$f":"IF(ISERROR(VLOOKUP($B63,'Round One'!$C:$J,8,0)),0,IF(AND(LEN($C63)<>0,$D63=\"Yes\"),VLOOKUP($B63,'Round One'!$C:$J,8,0),0))","v":0},{"$f":"IF(ISERROR(VLOOKUP(E63,'Round One'!$C:$J,7,0)),0,IF(AND(LEN($C63)<>0,$D63=\"Yes\"),VALUE(VLOOKUP(E63,'Round One'!$C:$J,7,0)+1E-24),0))","v":0},0,{"$f":"IF(ISERROR(VLOOKUP($B63,'Round One'!$C:$J,6,0)),0,IF(AND(LEN($C63)<>0,$D63=\"Yes\"),VLOOKUP($B63,'Round One'!$C:$J,6,0),\"\"))","v":0},{"$f":"IF(ISERROR(VLOOKUP($B63,'Round One'!$C:$J,7,0)),0,IF(LEN($C63)<>0,VLOOKUP($B63,'Round One'!$C:$J,7,0)+1E-24,0))","v":0},{"$f":"IF(ISERROR(VLOOKUP($B63,'Round Two'!$C:$J,8,0)),0,IF(AND(LEN($C63)<>0,$D63=\"Yes\"),VLOOKUP($B63,'Round Two'!$C:$J,8,0),\"\"))","v":0},{"$f":"IF(ISERROR(VLOOKUP(J63,'Round Two'!$C:$J,7,0)),0,IF(AND(LEN($C63)<>0,$D63=\"Yes\"),VLOOKUP(J63,'Round Two'!$C:$J,7,0)+1E-24,0))","v":0},0,{"$f":"IF(ISERROR(VLOOKUP($B63,'Round Two'!$C:$J,6,0)),0,IF(AND(LEN($C63)<>0,$D63=\"Yes\"),VLOOKUP($B63,'Round Two'!$C:$J,6,0),\"\"))","v":0},{"$f":"IF(ISERROR(VLOOKUP($B63,'Round Two'!$C:$J,7,0)),0,IF(LEN($C63)<>0,VLOOKUP($B63,'Round Two'!$C:$J,7,0)+1E-24,0))","v":0},{"$f":"IF(ISERROR(VLOOKUP($B63,'Round Three'!$C:$J,8,0)),0,IF(AND(LEN($C63)<>0,$D63=\"Yes\"),VLOOKUP($B63,'Round Three'!$C:$J,8,0),\"\"))","v":0},{"$f":"IF(ISERROR(VLOOKUP(O63,'Round Three'!$C:$J,7,0)),0,IF(AND(LEN($C63)<>0,$D63=\"Yes\"),VLOOKUP(O63,'Round Three'!$C:$J,7,0)+1E-24,0))","v":0},0,{"$f":"IF(ISERROR(VLOOKUP($B63,'Round Three'!$C:$J,6,0)),0,IF(AND(LEN($C63)<>0,$D63=\"Yes\"),VLOOKUP($B63,'Round Three'!$C:$J,6,0),\"\"))","v":0},{"$f":"IF(ISERROR(VLOOKUP($B63,'Round Three'!$C:$J,7,0)),0,IF(LEN($C63)<>0,VLOOKUP($B63,'Round Three'!$C:$J,7,0)+1E-24,0))","v":0},{"$f":"IF(ISERROR(VLOOKUP($B63,'Round Four'!$C:$J,8,0)),0,IF(AND(LEN($C63)<>0,$D63=\"Yes\"),VLOOKUP($B63,'Round Four'!$C:$J,8,0),\"\"))","v":0},{"$f":"IF(ISERROR(VLOOKUP(T63,'Round Four'!$C:$J,7,0)),0,IF(AND(LEN($C63)<>0,$D63=\"Yes\"),VLOOKUP(T63,'Round Four'!$C:$J,7,0)+1E-24,0))","v":0},0,{"$f":"IF(ISERROR(VLOOKUP($B63,'Round Four'!$C:$J,6,0)),0,IF(AND(LEN($C63)<>0,$D63=\"Yes\"),VLOOKUP($B63,'Round Four'!$C:$J,6,0),\"\"))","v":0},{"$f":"IF(ISERROR(VLOOKUP($B63,'Round Four'!$C:$J,7,0)),0,IF(LEN($C63)<>0,VLOOKUP($B63,'Round Four'!$C:$J,7,0)+1E-24,0))","v":0},{"$f":"IF(ISERROR(VLOOKUP($B63,'Round Five'!$C:$J,8,0)),0,IF(AND(LEN($C63)<>0,$D63=\"Yes\"),VLOOKUP($B63,'Round Five'!$C:$J,8,0),\"\"))","v":0},{"$f":"IF(ISERROR(VLOOKUP(Y63,'Round Five'!$C:$J,7,0)),0,IF(AND(LEN($C63)<>0,$D63=\"Yes\"),VLOOKUP(Y63,'Round Five'!$C:$J,7,0)+1E-24,0))","v":0},0,{"$f":"IF(ISERROR(VLOOKUP($B63,'Round Five'!$C:$J,6,0)),0,IF(AND(LEN($C63)<>0,$D63=\"Yes\"),VLOOKUP($B63,'Round Five'!$C:$J,6,0),\"\"))","v":0},{"$f":"IF(ISERROR(VLOOKUP($B63,'Round Five'!$C:$J,7,0)),0,IF(LEN($C63)<>0,VLOOKUP($B63,'Round Five'!$C:$J,7,0)+1E-24,0))","v":0},{"$f":"IF(ISERROR(VLOOKUP($B63,'Round Six'!$C:$J,8,0)),0,IF(AND(LEN($C63)<>0,$D63=\"Yes\"),VLOOKUP($B63,'Round Six'!$C:$J,8,0),\"\"))","v":0},{"$f":"IF(ISERROR(VLOOKUP(AD63,'Round Six'!$C:$J,7,0)),0,IF(AND(LEN($C63)<>0,$D63=\"Yes\"),VLOOKUP(AD63,'Round Six'!$C:$J,7,0)+1E-24,0))","v":0},0,{"$f":"IF(ISERROR(VLOOKUP($B63,'Round Six'!$C:$J,6,0)),0,IF(AND(LEN($C63)<>0,$D63=\"Yes\"),VLOOKUP($B63,'Round Six'!$C:$J,6,0),\"\"))","v":0},{"$f":"IF(ISERROR(VLOOKUP($B63,'Round Six'!$C:$J,7,0)),0,IF(LEN($C63)<>0,VLOOKUP($B63,'Round Six'!$C:$J,7,0)+1E-24,0))","v":0},{"$f":"IF(ISERROR(VLOOKUP($B63,'Round Seven'!$C:$J,8,0)),0,IF(AND(LEN($C63)<>0,$D63=\"Yes\"),VLOOKUP($B63,'Round Seven'!$C:$J,8,0),\"\"))","v":0},{"$f":"IF(ISERROR(VLOOKUP(AI63,'Round Seven'!$C:$J,7,0)),0,IF(AND(LEN($C63)<>0,$D63=\"Yes\"),VLOOKUP(AI63,'Round Seven'!$C:$J,7,0)+1E-24,0))","v":0},0,{"$f":"IF(ISERROR(VLOOKUP($B63,'Round Seven'!$C:$J,6,0)),0,IF(AND(LEN($C63)<>0,$D63=\"Yes\"),VLOOKUP($B63,'Round Seven'!$C:$J,6,0),\"\"))","v":0},{"$f":"IF(ISERROR(VLOOKUP($B63,'Round Seven'!$C:$J,7,0)),0,IF(LEN($C63)<>0,VLOOKUP($B63,'Round Seven'!$C:$J,7,0)+1E-24,0))","v":0},{"$f":"IF(ISERROR(VLOOKUP($B63,'Round Eight'!$C:$J,8,0)),0,IF(AND(LEN($C63)<>0,$D63=\"Yes\"),VLOOKUP($B63,'Round Eight'!$C:$J,8,0),\"\"))","v":0},{"$f":"IF(ISERROR(VLOOKUP(AN63,'Round Eight'!$C:$J,7,0)),0,IF(AND(LEN($C63)<>0,$D63=\"Yes\"),VLOOKUP(AN63,'Round Eight'!$C:$J,7,0)+1E-24,0))","v":0},0,{"$f":"IF(ISERROR(VLOOKUP($B63,'Round Eight'!$C:$J,6,0)),0,IF(AND(LEN($C63)<>0,$D63=\"Yes\"),VLOOKUP($B63,'Round Eight'!$C:$J,6,0),\"\"))","v":0},{"$f":"IF(ISERROR(VLOOKUP($B63,'Round Eight'!$C:$J,7,0)),0,IF(LEN($C63)<>0,VLOOKUP($B63,'Round Eight'!$C:$J,7,0)+1E-24,0))","v":0},{"$f":"IF(ISERROR(VLOOKUP($B63,'Round Nine'!$C:$J,8,0)),0,IF(AND(LEN($C63)<>0,$D63=\"Yes\"),VLOOKUP($B63,'Round Nine'!$C:$J,8,0),\"\"))","v":0},{"$f":"IF(ISERROR(VLOOKUP(AS63,'Round Nine'!$C:$J,7,0)),0,IF(AND(LEN($C63)<>0,$D63=\"Yes\"),VLOOKUP(AS63,'Round Nine'!$C:$J,7,0)+1E-24,0))","v":0},0,{"$f":"IF(ISERROR(VLOOKUP($B63,'Round Nine'!$C:$J,6,0)),0,IF(AND(LEN($C63)<>0,$D63=\"Yes\"),VLOOKUP($B63,'Round Nine'!$C:$J,6,0),\"\"))","v":0},{"$f":"IF(ISERROR(VLOOKUP($B63,'Round Nine'!$C:$J,7,0)),0,IF(LEN($C63)<>0,VLOOKUP($B63,'Round Nine'!$C:$J,7,0)+1E-24,0))","v":0},null,0,0,0,{"$f":"IF(D63<>\"Yes\",A63*-10,AY63*1000000+AZ63*10000+BA63+(A63/100000))+IF(OR(Accel_Pairing_2!$B$4=\"no\",D63<>\"Yes\",ISERROR(VLOOKUP(C63,PowerRanking!A:B,2,0))),0,(VLOOKUP(C63,PowerRanking!A:D,4,0)*1000000)+VLOOKUP(C63,PowerRanking!A:D,2,0)/10)","v":-6.1314087547270892},40,"T60",0,""]
[0.90350298210666535,"T61",null,null,{"$f":"IF(ISERROR(VLOOKUP($B64,'Round One'!$C:$J,8,0)),0,IF(AND(LEN($C64)<>0,$D64=\"Yes\"),VLOOKUP($B64,'Round One'!$C:$J,8,0),0))","v":0},{"$f":"IF(ISERROR(VLOOKUP(E64,'Round One'!$C:$J,7,0)),0,IF(AND(LEN($C64)<>0,$D64=\"Yes\"),VALUE(VLOOKUP(E64,'Round One'!$C:$J,7,0)+1E-24),0))","v":0},0,{"$f":"IF(ISERROR(VLOOKUP($B64,'Round One'!$C:$J,6,0)),0,IF(AND(LEN($C64)<>0,$D64=\"Yes\"),VLOOKUP($B64,'Round One'!$C:$J,6,0),\"\"))","v":0},{"$f":"IF(ISERROR(VLOOKUP($B64,'Round One'!$C:$J,7,0)),0,IF(LEN($C64)<>0,VLOOKUP($B64,'Round One'!$C:$J,7,0)+1E-24,0))","v":0},{"$f":"IF(ISERROR(VLOOKUP($B64,'Round Two'!$C:$J,8,0)),0,IF(AND(LEN($C64)<>0,$D64=\"Yes\"),VLOOKUP($B64,'Round Two'!$C:$J,8,0),\"\"))","v":0},{"$f":"IF(ISERROR(VLOOKUP(J64,'Round Two'!$C:$J,7,0)),0,IF(AND(LEN($C64)<>0,$D64=\"Yes\"),VLOOKUP(J64,'Round Two'!$C:$J,7,0)+1E-24,0))","v":0},0,{"$f":"IF(ISERROR(VLOOKUP($B64,'Round Two'!$C:$J,6,0)),0,IF(AND(LEN($C64)<>0,$D64=\"Yes\"),VLOOKUP($B64,'Round Two'!$C:$J,6,0),\"\"))","v":0},{"$f":"IF(ISERROR(VLOOKUP($B64,'Round Two'!$C:$J,7,0)),0,IF(LEN($C64)<>0,VLOOKUP($B64,'Round Two'!$C:$J,7,0)+1E-24,0))","v":0},{"$f":"IF(ISERROR(VLOOKUP($B64,'Round Three'!$C:$J,8,0)),0,IF(AND(LEN($C64)<>0,$D64=\"Yes\"),VLOOKUP($B64,'Round Three'!$C:$J,8,0),\"\"))","v":0},{"$f":"IF(ISERROR(VLOOKUP(O64,'Round Three'!$C:$J,7,0)),0,IF(AND(LEN($C64)<>0,$D64=\"Yes\"),VLOOKUP(O64,'Round Three'!$C:$J,7,0)+1E-24,0))","v":0},0,{"$f":"IF(ISERROR(VLOOKUP($B64,'Round Three'!$C:$J,6,0)),0,IF(AND(LEN($C64)<>0,$D64=\"Yes\"),VLOOKUP($B64,'Round Three'!$C:$J,6,0),\"\"))","v":0},{"$f":"IF(ISERROR(VLOOKUP($B64,'Round Three'!$C:$J,7,0)),0,IF(LEN($C64)<>0,VLOOKUP($B64,'Round Three'!$C:$J,7,0)+1E-24,0))","v":0},{"$f":"IF(ISERROR(VLOOKUP($B64,'Round Four'!$C:$J,8,0)),0,IF(AND(LEN($C64)<>0,$D64=\"Yes\"),VLOOKUP($B64,'Round Four'!$C:$J,8,0),\"\"))","v":0},{"$f":"IF(ISERROR(VLOOKUP(T64,'Round Four'!$C:$J,7,0)),0,IF(AND(LEN($C64)<>0,$D64=\"Yes\"),VLOOKUP(T64,'Round Four'!$C:$J,7,0)+1E-24,0))","v":0},0,{"$f":"IF(ISERROR(VLOOKUP($B64,'Round Four'!$C:$J,6,0)),0,IF(AND(LEN($C64)<>0,$D64=\"Yes\"),VLOOKUP($B64,'Round Four'!$C:$J,6,0),\"\"))","v":0},{"$f":"IF(ISERROR(VLOOKUP($B64,'Round Four'!$C:$J,7,0)),0,IF(LEN($C64)<>0,VLOOKUP($B64,'Round Four'!$C:$J,7,0)+1E-24,0))","v":0},{"$f":"IF(ISERROR(VLOOKUP($B64,'Round Five'!$C:$J,8,0)),0,IF(AND(LEN($C64)<>0,$D64=\"Yes\"),VLOOKUP($B64,'Round Five'!$C:$J,8,0),\"\"))","v":0},{"$f":"IF(ISERROR(VLOOKUP(Y64,'Round Five'!$C:$J,7,0)),0,IF(AND(LEN($C64)<>0,$D64=\"Yes\"),VLOOKUP(Y64,'Round Five'!$C:$J,7,0)+1E-24,0))","v":0},0,{"$f":"IF(ISERROR(VLOOKUP($B64,'Round Five'!$C:$J,6,0)),0,IF(AND(LEN($C64)<>0,$D64=\"Yes\"),VLOOKUP($B64,'Round Five'!$C:$J,6,0),\"\"))","v":0},{"$f":"IF(ISERROR(VLOOKUP($B64,'Round Five'!$C:$J,7,0)),0,IF(LEN($C64)<>0,VLOOKUP($B64,'Round Five'!$C:$J,7,0)+1E-24,0))","v":0},{"$f":"IF(ISERROR(VLOOKUP($B64,'Round Six'!$C:$J,8,0)),0,IF(AND(LEN($C64)<>0,$D64=\"Yes\"),VLOOKUP($B64,'Round Six'!$C:$J,8,0),\"\"))","v":0},{"$f":"IF(ISERROR(VLOOKUP(AD64,'Round Six'!$C:$J,7,0)),0,IF(AND(LEN($C64)<>0,$D64=\"Yes\"),VLOOKUP(AD64,'Round Six'!$C:$J,7,0)+1E-24,0))","v":0},0,{"$f":"IF(ISERROR(VLOOKUP($B64,'Round Six'!$C:$J,6,0)),0,IF(AND(LEN($C64)<>0,$D64=\"Yes\"),VLOOKUP($B64,'Round Six'!$C:$J,6,0),\"\"))","v":0},{"$f":"IF(ISERROR(VLOOKUP($B64,'Round Six'!$C:$J,7,0)),0,IF(LEN($C64)<>0,VLOOKUP($B64,'Round Six'!$C:$J,7,0)+1E-24,0))","v":0},{"$f":"IF(ISERROR(VLOOKUP($B64,'Round Seven'!$C:$J,8,0)),0,IF(AND(LEN($C64)<>0,$D64=\"Yes\"),VLOOKUP($B64,'Round Seven'!$C:$J,8,0),\"\"))","v":0},{"$f":"IF(ISERROR(VLOOKUP(AI64,'Round Seven'!$C:$J,7,0)),0,IF(AND(LEN($C64)<>0,$D64=\"Yes\"),VLOOKUP(AI64,'Round Seven'!$C:$J,7,0)+1E-24,0))","v":0},0,{"$f":"IF(ISERROR(VLOOKUP($B64,'Round Seven'!$C:$J,6,0)),0,IF(AND(LEN($C64)<>0,$D64=\"Yes\"),VLOOKUP($B64,'Round Seven'!$C:$J,6,0),\"\"))","v":0},{"$f":"IF(ISERROR(VLOOKUP($B64,'Round Seven'!$C:$J,7,0)),0,IF(LEN($C64)<>0,VLOOKUP($B64,'Round Seven'!$C:$J,7,0)+1E-24,0))","v":0},{"$f":"IF(ISERROR(VLOOKUP($B64,'Round Eight'!$C:$J,8,0)),0,IF(AND(LEN($C64)<>0,$D64=\"Yes\"),VLOOKUP($B64,'Round Eight'!$C:$J,8,0),\"\"))","v":0},{"$f":"IF(ISERROR(VLOOKUP(AN64,'Round Eight'!$C:$J,7,0)),0,IF(AND(LEN($C64)<>0,$D64=\"Yes\"),VLOOKUP(AN64,'Round Eight'!$C:$J,7,0)+1E-24,0))","v":0},0,{"$f":"IF(ISERROR(VLOOKUP($B64,'Round Eight'!$C:$J,6,0)),0,IF(AND(LEN($C64)<>0,$D64=\"Yes\"),VLOOKUP($B64,'Round Eight'!$C:$J,6,0),\"\"))","v":0},{"$f":"IF(ISERROR(VLOOKUP($B64,'Round Eight'!$C:$J,7,0)),0,IF(LEN($C64)<>0,VLOOKUP($B64,'Round Eight'!$C:$J,7,0)+1E-24,0))","v":0},{"$f":"IF(ISERROR(VLOOKUP($B64,'Round Nine'!$C:$J,8,0)),0,IF(AND(LEN($C64)<>0,$D64=\"Yes\"),VLOOKUP($B64,'Round Nine'!$C:$J,8,0),\"\"))","v":0},{"$f":"IF(ISERROR(VLOOKUP(AS64,'Round Nine'!$C:$J,7,0)),0,IF(AND(LEN($C64)<>0,$D64=\"Yes\"),VLOOKUP(AS64,'Round Nine'!$C:$J,7,0)+1E-24,0))","v":0},0,{"$f":"IF(ISERROR(VLOOKUP($B64,'Round Nine'!$C:$J,6,0)),0,IF(AND(LEN($C64)<>0,$D64=\"Yes\"),VLOOKUP($B64,'Round Nine'!$C:$J,6,0),\"\"))","v":0},{"$f":"IF(ISERROR(VLOOKUP($B64,'Round Nine'!$C:$J,7,0)),0,IF(LEN($C64)<>0,VLOOKUP($B64,'Round Nine'!$C:$J,7,0)+1E-24,0))","v":0},null,0,0,0,{"$f":"IF(D64<>\"Yes\",A64*-10,AY64*1000000+AZ64*10000+BA64+(A64/100000))+IF(OR(Accel_Pairing_2!$B$4=\"no\",D64<>\"Yes\",ISERROR(VLOOKUP(C64,PowerRanking!A:B,2,0))),0,(VLOOKUP(C64,PowerRanking!A:D,4,0)*1000000)+VLOOKUP(C64,PowerRanking!A:D,2,0)/10)","v":-9.0350298210666544},58,"T61",0,""]
[0.18122358725703436,"T62",null,null,{"$f":"IF(ISERROR(VLOOKUP($B65,'Round One'!$C:$J,8,0)),0,IF(AND(LEN($C65)<>0,$D65=\"Yes\"),VLOOKUP($B65,'Round One'!$C:$J,8,0),0))","v":0},{"$f":"IF(ISERROR(VLOOKUP(E65,'Round One'!$C:$J,7,0)),0,IF(AND(LEN($C65)<>0,$D65=\"Yes\"),VALUE(VLOOKUP(E65,'Round One'!$C:$J,7,0)+1E-24),0))","v":0},0,{"$f":"IF(ISERROR(VLOOKUP($B65,'Round One'!$C:$J,6,0)),0,IF(AND(LEN($C65)<>0,$D65=\"Yes\"),VLOOKUP($B65,'Round One'!$C:$J,6,0),\"\"))","v":0},{"$f":"IF(ISERROR(VLOOKUP($B65,'Round One'!$C:$J,7,0)),0,IF(LEN($C65)<>0,VLOOKUP($B65,'Round One'!$C:$J,7,0)+1E-24,0))","v":0},{"$f":"IF(ISERROR(VLOOKUP($B65,'Round Two'!$C:$J,8,0)),0,IF(AND(LEN($C65)<>0,$D65=\"Yes\"),VLOOKUP($B65,'Round Two'!$C:$J,8,0),\"\"))","v":0},{"$f":"IF(ISERROR(VLOOKUP(J65,'Round Two'!$C:$J,7,0)),0,IF(AND(LEN($C65)<>0,$D65=\"Yes\"),VLOOKUP(J65,'Round Two'!$C:$J,7,0)+1E-24,0))","v":0},0,{"$f":"IF(ISERROR(VLOOKUP($B65,'Round Two'!$C:$J,6,0)),0,IF(AND(LEN($C65)<>0,$D65=\"Yes\"),VLOOKUP($B65,'Round Two'!$C:$J,6,0),\"\"))","v":0},{"$f":"IF(ISERROR(VLOOKUP($B65,'Round Two'!$C:$J,7,0)),0,IF(LEN($C65)<>0,VLOOKUP($B65,'Round Two'!$C:$J,7,0)+1E-24,0))","v":0},{"$f":"IF(ISERROR(VLOOKUP($B65,'Round Three'!$C:$J,8,0)),0,IF(AND(LEN($C65)<>0,$D65=\"Yes\"),VLOOKUP($B65,'Round Three'!$C:$J,8,0),\"\"))","v":0},{"$f":"IF(ISERROR(VLOOKUP(O65,'Round Three'!$C:$J,7,0)),0,IF(AND(LEN($C65)<>0,$D65=\"Yes\"),VLOOKUP(O65,'Round Three'!$C:$J,7,0)+1E-24,0))","v":0},0,{"$f":"IF(ISERROR(VLOOKUP($B65,'Round Three'!$C:$J,6,0)),0,IF(AND(LEN($C65)<>0,$D65=\"Yes\"),VLOOKUP($B65,'Round Three'!$C:$J,6,0),\"\"))","v":0},{"$f":"IF(ISERROR(VLOOKUP($B65,'Round Three'!$C:$J,7,0)),0,IF(LEN($C65)<>0,VLOOKUP($B65,'Round Three'!$C:$J,7,0)+1E-24,0))","v":0},{"$f":"IF(ISERROR(VLOOKUP($B65,'Round Four'!$C:$J,8,0)),0,IF(AND(LEN($C65)<>0,$D65=\"Yes\"),VLOOKUP($B65,'Round Four'!$C:$J,8,0),\"\"))","v":0},{"$f":"IF(ISERROR(VLOOKUP(T65,'Round Four'!$C:$J,7,0)),0,IF(AND(LEN($C65)<>0,$D65=\"Yes\"),VLOOKUP(T65,'Round Four'!$C:$J,7,0)+1E-24,0))","v":0},0,{"$f":"IF(ISERROR(VLOOKUP($B65,'Round Four'!$C:$J,6,0)),0,IF(AND(LEN($C65)<>0,$D65=\"Yes\"),VLOOKUP($B65,'Round Four'!$C:$J,6,0),\"\"))","v":0},{"$f":"IF(ISERROR(VLOOKUP($B65,'Round Four'!$C:$J,7,0)),0,IF(LEN($C65)<>0,VLOOKUP($B65,'Round Four'!$C:$J,7,0)+1E-24,0))","v":0},{"$f":"IF(ISERROR(VLOOKUP($B65,'Round Five'!$C:$J,8,0)),0,IF(AND(LEN($C65)<>0,$D65=\"Yes\"),VLOOKUP($B65,'Round Five'!$C:$J,8,0),\"\"))","v":0},{"$f":"IF(ISERROR(VLOOKUP(Y65,'Round Five'!$C:$J,7,0)),0,IF(AND(LEN($C65)<>0,$D65=\"Yes\"),VLOOKUP(Y65,'Round Five'!$C:$J,7,0)+1E-24,0))","v":0},0,{"$f":"IF(ISERROR(VLOOKUP($B65,'Round Five'!$C:$J,6,0)),0,IF(AND(LEN($C65)<>0,$D65=\"Yes\"),VLOOKUP($B65,'Round Five'!$C:$J,6,0),\"\"))","v":0},{"$f":"IF(ISERROR(VLOOKUP($B65,'Round Five'!$C:$J,7,0)),0,IF(LEN($C65)<>0,VLOOKUP($B65,'Round Five'!$C:$J,7,0)+1E-24,0))","v":0},{"$f":"IF(ISERROR(VLOOKUP($B65,'Round Six'!$C:$J,8,0)),0,IF(AND(LEN($C65)<>0,$D65=\"Yes\"),VLOOKUP($B65,'Round Six'!$C:$J,8,0),\"\"))","v":0},{"$f":"IF(ISERROR(VLOOKUP(AD65,'Round Six'!$C:$J,7,0)),0,IF(AND(LEN($C65)<>0,$D65=\"Yes\"),VLOOKUP(AD65,'Round Six'!$C:$J,7,0)+1E-24,0))","v":0},0,{"$f":"IF(ISERROR(VLOOKUP($B65,'Round Six'!$C:$J,6,0)),0,IF(AND(LEN($C65)<>0,$D65=\"Yes\"),VLOOKUP($B65,'Round Six'!$C:$J,6,0),\"\"))","v":0},{"$f":"IF(ISERROR(VLOOKUP($B65,'Round Six'!$C:$J,7,0)),0,IF(LEN($C65)<>0,VLOOKUP($B65,'Round Six'!$C:$J,7,0)+1E-24,0))","v":0},{"$f":"IF(ISERROR(VLOOKUP($B65,'Round Seven'!$C:$J,8,0)),0,IF(AND(LEN($C65)<>0,$D65=\"Yes\"),VLOOKUP($B65,'Round Seven'!$C:$J,8,0),\"\"))","v":0},{"$f":"IF(ISERROR(VLOOKUP(AI65,'Round Seven'!$C:$J,7,0)),0,IF(AND(LEN($C65)<>0,$D65=\"Yes\"),VLOOKUP(AI65,'Round Seven'!$C:$J,7,0)+1E-24,0))","v":0},0,{"$f":"IF(ISERROR(VLOOKUP($B65,'Round Seven'!$C:$J,6,0)),0,IF(AND(LEN($C65)<>0,$D65=\"Yes\"),VLOOKUP($B65,'Round Seven'!$C:$J,6,0),\"\"))","v":0},{"$f":"IF(ISERROR(VLOOKUP($B65,'Round Seven'!$C:$J,7,0)),0,IF(LEN($C65)<>0,VLOOKUP($B65,'Round Seven'!$C:$J,7,0)+1E-24,0))","v":0},{"$f":"IF(ISERROR(VLOOKUP($B65,'Round Eight'!$C:$J,8,0)),0,IF(AND(LEN($C65)<>0,$D65=\"Yes\"),VLOOKUP($B65,'Round Eight'!$C:$J,8,0),\"\"))","v":0},{"$f":"IF(ISERROR(VLOOKUP(AN65,'Round Eight'!$C:$J,7,0)),0,IF(AND(LEN($C65)<>0,$D65=\"Yes\"),VLOOKUP(AN65,'Round Eight'!$C:$J,7,0)+1E-24,0))","v":0},0,{"$f":"IF(ISERROR(VLOOKUP($B65,'Round Eight'!$C:$J,6,0)),0,IF(AND(LEN($C65)<>0,$D65=\"Yes\"),VLOOKUP($B65,'Round Eight'!$C:$J,6,0),\"\"))","v":0},{"$f":"IF(ISERROR(VLOOKUP($B65,'Round Eight'!$C:$J,7,0)),0,IF(LEN($C65)<>0,VLOOKUP($B65,'Round Eight'!$C:$J,7,0)+1E-24,0))","v":0},{"$f":"IF(ISERROR(VLOOKUP($B65,'Round Nine'!$C:$J,8,0)),0,IF(AND(LEN($C65)<>0,$D65=\"Yes\"),VLOOKUP($B65,'Round Nine'!$C:$J,8,0),\"\"))","v":0},{"$f":"IF(ISERROR(VLOOKUP(AS65,'Round Nine'!$C:$J,7,0)),0,IF(AND(LEN($C65)<>0,$D65=\"Yes\"),VLOOKUP(AS65,'Round Nine'!$C:$J,7,0)+1E-24,0))","v":0},0,{"$f":"IF(ISERROR(VLOOKUP($B65,'Round Nine'!$C:$J,6,0)),0,IF(AND(LEN($C65)<>0,$D65=\"Yes\"),VLOOKUP($B65,'Round Nine'!$C:$J,6,0),\"\"))","v":0},{"$f":"IF(ISERROR(VLOOKUP($B65,'Round Nine'!$C:$J,7,0)),0,IF(LEN($C65)<>0,VLOOKUP($B65,'Round Nine'!$C:$J,7,0)+1E-24,0))","v":0},null,0,0,0,{"$f":"IF(D65<>\"Yes\",A65*-10,AY65*1000000+AZ65*10000+BA65+(A65/100000))+IF(OR(Accel_Pairing_2!$B$4=\"no\",D65<>\"Yes\",ISERROR(VLOOKUP(C65,PowerRanking!A:B,2,0))),0,(VLOOKUP(C65,PowerRanking!A:D,4,0)*1000000)+VLOOKUP(C65,PowerRanking!A:D,2,0)/10)","v":-1.8122358725703436},9,"T62",0,""]
[0.64833869602721927,"T63",null,null,{"$f":"IF(ISERROR(VLOOKUP($B66,'Round One'!$C:$J,8,0)),0,IF(AND(LEN($C66)<>0,$D66=\"Yes\"),VLOOKUP($B66,'Round One'!$C:$J,8,0),0))","v":0},{"$f":"IF(ISERROR(VLOOKUP(E66,'Round One'!$C:$J,7,0)),0,IF(AND(LEN($C66)<>0,$D66=\"Yes\"),VALUE(VLOOKUP(E66,'Round One'!$C:$J,7,0)+1E-24),0))","v":0},0,{"$f":"IF(ISERROR(VLOOKUP($B66,'Round One'!$C:$J,6,0)),0,IF(AND(LEN($C66)<>0,$D66=\"Yes\"),VLOOKUP($B66,'Round One'!$C:$J,6,0),\"\"))","v":0},{"$f":"IF(ISERROR(VLOOKUP($B66,'Round One'!$C:$J,7,0)),0,IF(LEN($C66)<>0,VLOOKUP($B66,'Round One'!$C:$J,7,0)+1E-24,0))","v":0},{"$f":"IF(ISERROR(VLOOKUP($B66,'Round Two'!$C:$J,8,0)),0,IF(AND(LEN($C66)<>0,$D66=\"Yes\"),VLOOKUP($B66,'Round Two'!$C:$J,8,0),\"\"))","v":0},{"$f":"IF(ISERROR(VLOOKUP(J66,'Round Two'!$C:$J,7,0)),0,IF(AND(LEN($C66)<>0,$D66=\"Yes\"),VLOOKUP(J66,'Round Two'!$C:$J,7,0)+1E-24,0))","v":0},0,{"$f":"IF(ISERROR(VLOOKUP($B66,'Round Two'!$C:$J,6,0)),0,IF(AND(LEN($C66)<>0,$D66=\"Yes\"),VLOOKUP($B66,'Round Two'!$C:$J,6,0),\"\"))","v":0},{"$f":"IF(ISERROR(VLOOKUP($B66,'Round Two'!$C:$J,7,0)),0,IF(LEN($C66)<>0,VLOOKUP($B66,'Round Two'!$C:$J,7,0)+1E-24,0))","v":0},{"$f":"IF(ISERROR(VLOOKUP($B66,'Round Three'!$C:$J,8,0)),0,IF(AND(LEN($C66)<>0,$D66=\"Yes\"),VLOOKUP($B66,'Round Three'!$C:$J,8,0),\"\"))","v":0},{"$f":"IF(ISERROR(VLOOKUP(O66,'Round Three'!$C:$J,7,0)),0,IF(AND(LEN($C66)<>0,$D66=\"Yes\"),VLOOKUP(O66,'Round Three'!$C:$J,7,0)+1E-24,0))","v":0},0,{"$f":"IF(ISERROR(VLOOKUP($B66,'Round Three'!$C:$J,6,0)),0,IF(AND(LEN($C66)<>0,$D66=\"Yes\"),VLOOKUP($B66,'Round Three'!$C:$J,6,0),\"\"))","v":0},{"$f":"IF(ISERROR(VLOOKUP($B66,'Round Three'!$C:$J,7,0)),0,IF(LEN($C66)<>0,VLOOKUP($B66,'Round Three'!$C:$J,7,0)+1E-24,0))","v":0},{"$f":"IF(ISERROR(VLOOKUP($B66,'Round Four'!$C:$J,8,0)),0,IF(AND(LEN($C66)<>0,$D66=\"Yes\"),VLOOKUP($B66,'Round Four'!$C:$J,8,0),\"\"))","v":0},{"$f":"IF(ISERROR(VLOOKUP(T66,'Round Four'!$C:$J,7,0)),0,IF(AND(LEN($C66)<>0,$D66=\"Yes\"),VLOOKUP(T66,'Round Four'!$C:$J,7,0)+1E-24,0))","v":0},0,{"$f":"IF(ISERROR(VLOOKUP($B66,'Round Four'!$C:$J,6,0)),0,IF(AND(LEN($C66)<>0,$D66=\"Yes\"),VLOOKUP($B66,'Round Four'!$C:$J,6,0),\"\"))","v":0},{"$f":"IF(ISERROR(VLOOKUP($B66,'Round Four'!$C:$J,7,0)),0,IF(LEN($C66)<>0,VLOOKUP($B66,'Round Four'!$C:$J,7,0)+1E-24,0))","v":0},{"$f":"IF(ISERROR(VLOOKUP($B66,'Round Five'!$C:$J,8,0)),0,IF(AND(LEN($C66)<>0,$D66=\"Yes\"),VLOOKUP($B66,'Round Five'!$C:$J,8,0),\"\"))","v":0},{"$f":"IF(ISERROR(VLOOKUP(Y66,'Round Five'!$C:$J,7,0)),0,IF(AND(LEN($C66)<>0,$D66=\"Yes\"),VLOOKUP(Y66,'Round Five'!$C:$J,7,0)+1E-24,0))","v":0},0,{"$f":"IF(ISERROR(VLOOKUP($B66,'Round Five'!$C:$J,6,0)),0,IF(AND(LEN($C66)<>0,$D66=\"Yes\"),VLOOKUP($B66,'Round Five'!$C:$J,6,0),\"\"))","v":0},{"$f":"IF(ISERROR(VLOOKUP($B66,'Round Five'!$C:$J,7,0)),0,IF(LEN($C66)<>0,VLOOKUP($B66,'Round Five'!$C:$J,7,0)+1E-24,0))","v":0},{"$f":"IF(ISERROR(VLOOKUP($B66,'Round Six'!$C:$J,8,0)),0,IF(AND(LEN($C66)<>0,$D66=\"Yes\"),VLOOKUP($B66,'Round Six'!$C:$J,8,0),\"\"))","v":0},{"$f":"IF(ISERROR(VLOOKUP(AD66,'Round Six'!$C:$J,7,0)),0,IF(AND(LEN($C66)<>0,$D66=\"Yes\"),VLOOKUP(AD66,'Round Six'!$C:$J,7,0)+1E-24,0))","v":0},0,{"$f":"IF(ISERROR(VLOOKUP($B66,'Round Six'!$C:$J,6,0)),0,IF(AND(LEN($C66)<>0,$D66=\"Yes\"),VLOOKUP($B66,'Round Six'!$C:$J,6,0),\"\"))","v":0},{"$f":"IF(ISERROR(VLOOKUP($B66,'Round Six'!$C:$J,7,0)),0,IF(LEN($C66)<>0,VLOOKUP($B66,'Round Six'!$C:$J,7,0)+1E-24,0))","v":0},{"$f":"IF(ISERROR(VLOOKUP($B66,'Round Seven'!$C:$J,8,0)),0,IF(AND(LEN($C66)<>0,$D66=\"Yes\"),VLOOKUP($B66,'Round Seven'!$C:$J,8,0),\"\"))","v":0},{"$f":"IF(ISERROR(VLOOKUP(AI66,'Round Seven'!$C:$J,7,0)),0,IF(AND(LEN($C66)<>0,$D66=\"Yes\"),VLOOKUP(AI66,'Round Seven'!$C:$J,7,0)+1E-24,0))","v":0},0,{"$f":"IF(ISERROR(VLOOKUP($B66,'Round Seven'!$C:$J,6,0)),0,IF(AND(LEN($C66)<>0,$D66=\"Yes\"),VLOOKUP($B66,'Round Seven'!$C:$J,6,0),\"\"))","v":0},{"$f":"IF(ISERROR(VLOOKUP($B66,'Round Seven'!$C:$J,7,0)),0,IF(LEN($C66)<>0,VLOOKUP($B66,'Round Seven'!$C:$J,7,0)+1E-24,0))","v":0},{"$f":"IF(ISERROR(VLOOKUP($B66,'Round Eight'!$C:$J,8,0)),0,IF(AND(LEN($C66)<>0,$D66=\"Yes\"),VLOOKUP($B66,'Round Eight'!$C:$J,8,0),\"\"))","v":0},{"$f":"IF(ISERROR(VLOOKUP(AN66,'Round Eight'!$C:$J,7,0)),0,IF(AND(LEN($C66)<>0,$D66=\"Yes\"),VLOOKUP(AN66,'Round Eight'!$C:$J,7,0)+1E-24,0))","v":0},0,{"$f":"IF(ISERROR(VLOOKUP($B66,'Round Eight'!$C:$J,6,0)),0,IF(AND(LEN($C66)<>0,$D66=\"Yes\"),VLOOKUP($B66,'Round Eight'!$C:$J,6,0),\"\"))","v":0},{"$f":"IF(ISERROR(VLOOKUP($B66,'Round Eight'!$C:$J,7,0)),0,IF(LEN($C66)<>0,VLOOKUP($B66,'Round Eight'!$C:$J,7,0)+1E-24,0))","v":0},{"$f":"IF(ISERROR(VLOOKUP($B66,'Round Nine'!$C:$J,8,0)),0,IF(AND(LEN($C66)<>0,$D66=\"Yes\"),VLOOKUP($B66,'Round Nine'!$C:$J,8,0),\"\"))","v":0},{"$f":"IF(ISERROR(VLOOKUP(AS66,'Round Nine'!$C:$J,7,0)),0,IF(AND(LEN($C66)<>0,$D66=\"Yes\"),VLOOKUP(AS66,'Round Nine'!$C:$J,7,0)+1E-24,0))","v":0},0,{"$f":"IF(ISERROR(VLOOKUP($B66,'Round Nine'!$C:$J,6,0)),0,IF(AND(LEN($C66)<>0,$D66=\"Yes\"),VLOOKUP($B66,'Round Nine'!$C:$J,6,0),\"\"))","v":0},{"$f":"IF(ISERROR(VLOOKUP($B66,'Round Nine'!$C:$J,7,0)),0,IF(LEN($C66)<>0,VLOOKUP($B66,'Round Nine'!$C:$J,7,0)+1E-24,0))","v":0},null,0,0,0,{"$f":"IF(D66<>\"Yes\",A66*-10,AY66*1000000+AZ66*10000+BA66+(A66/100000))+IF(OR(Accel_Pairing_2!$B$4=\"no\",D66<>\"Yes\",ISERROR(VLOOKUP(C66,PowerRanking!A:B,2,0))),0,(VLOOKUP(C66,PowerRanking!A:D,4,0)*1000000)+VLOOKUP(C66,PowerRanking!A:D,2,0)/10)","v":-6.4833869602721927},43,"T63",0,""]
[0.44216171595895215,"T64",null,null,{"$f":"IF(ISERROR(VLOOKUP($B67,'Round One'!$C:$J,8,0)),0,IF(AND(LEN($C67)<>0,$D67=\"Yes\"),VLOOKUP($B67,'Round One'!$C:$J,8,0),0))","v":0},{"$f":"IF(ISERROR(VLOOKUP(E67,'Round One'!$C:$J,7,0)),0,IF(AND(LEN($C67)<>0,$D67=\"Yes\"),VALUE(VLOOKUP(E67,'Round One'!$C:$J,7,0)+1E-24),0))","v":0},0,{"$f":"IF(ISERROR(VLOOKUP($B67,'Round One'!$C:$J,6,0)),0,IF(AND(LEN($C67)<>0,$D67=\"Yes\"),VLOOKUP($B67,'Round One'!$C:$J,6,0),\"\"))","v":0},{"$f":"IF(ISERROR(VLOOKUP($B67,'Round One'!$C:$J,7,0)),0,IF(LEN($C67)<>0,VLOOKUP($B67,'Round One'!$C:$J,7,0)+1E-24,0))","v":0},{"$f":"IF(ISERROR(VLOOKUP($B67,'Round Two'!$C:$J,8,0)),0,IF(AND(LEN($C67)<>0,$D67=\"Yes\"),VLOOKUP($B67,'Round Two'!$C:$J,8,0),\"\"))","v":0},{"$f":"IF(ISERROR(VLOOKUP(J67,'Round Two'!$C:$J,7,0)),0,IF(AND(LEN($C67)<>0,$D67=\"Yes\"),VLOOKUP(J67,'Round Two'!$C:$J,7,0)+1E-24,0))","v":0},0,{"$f":"IF(ISERROR(VLOOKUP($B67,'Round Two'!$C:$J,6,0)),0,IF(AND(LEN($C67)<>0,$D67=\"Yes\"),VLOOKUP($B67,'Round Two'!$C:$J,6,0),\"\"))","v":0},{"$f":"IF(ISERROR(VLOOKUP($B67,'Round Two'!$C:$J,7,0)),0,IF(LEN($C67)<>0,VLOOKUP($B67,'Round Two'!$C:$J,7,0)+1E-24,0))","v":0},{"$f":"IF(ISERROR(VLOOKUP($B67,'Round Three'!$C:$J,8,0)),0,IF(AND(LEN($C67)<>0,$D67=\"Yes\"),VLOOKUP($B67,'Round Three'!$C:$J,8,0),\"\"))","v":0},{"$f":"IF(ISERROR(VLOOKUP(O67,'Round Three'!$C:$J,7,0)),0,IF(AND(LEN($C67)<>0,$D67=\"Yes\"),VLOOKUP(O67,'Round Three'!$C:$J,7,0)+1E-24,0))","v":0},0,{"$f":"IF(ISERROR(VLOOKUP($B67,'Round Three'!$C:$J,6,0)),0,IF(AND(LEN($C67)<>0,$D67=\"Yes\"),VLOOKUP($B67,'Round Three'!$C:$J,6,0),\"\"))","v":0},{"$f":"IF(ISERROR(VLOOKUP($B67,'Round Three'!$C:$J,7,0)),0,IF(LEN($C67)<>0,VLOOKUP($B67,'Round Three'!$C:$J,7,0)+1E-24,0))","v":0},{"$f":"IF(ISERROR(VLOOKUP($B67,'Round Four'!$C:$J,8,0)),0,IF(AND(LEN($C67)<>0,$D67=\"Yes\"),VLOOKUP($B67,'Round Four'!$C:$J,8,0),\"\"))","v":0},{"$f":"IF(ISERROR(VLOOKUP(T67,'Round Four'!$C:$J,7,0)),0,IF(AND(LEN($C67)<>0,$D67=\"Yes\"),VLOOKUP(T67,'Round Four'!$C:$J,7,0)+1E-24,0))","v":0},0,{"$f":"IF(ISERROR(VLOOKUP($B67,'Round Four'!$C:$J,6,0)),0,IF(AND(LEN($C67)<>0,$D67=\"Yes\"),VLOOKUP($B67,'Round Four'!$C:$J,6,0),\"\"))","v":0},{"$f":"IF(ISERROR(VLOOKUP($B67,'Round Four'!$C:$J,7,0)),0,IF(LEN($C67)<>0,VLOOKUP($B67,'Round Four'!$C:$J,7,0)+1E-24,0))","v":0},{"$f":"IF(ISERROR(VLOOKUP($B67,'Round Five'!$C:$J,8,0)),0,IF(AND(LEN($C67)<>0,$D67=\"Yes\"),VLOOKUP($B67,'Round Five'!$C:$J,8,0),\"\"))","v":0},{"$f":"IF(ISERROR(VLOOKUP(Y67,'Round Five'!$C:$J,7,0)),0,IF(AND(LEN($C67)<>0,$D67=\"Yes\"),VLOOKUP(Y67,'Round Five'!$C:$J,7,0)+1E-24,0))","v":0},0,{"$f":"IF(ISERROR(VLOOKUP($B67,'Round Five'!$C:$J,6,0)),0,IF(AND(LEN($C67)<>0,$D67=\"Yes\"),VLOOKUP($B67,'Round Five'!$C:$J,6,0),\"\"))","v":0},{"$f":"IF(ISERROR(VLOOKUP($B67,'Round Five'!$C:$J,7,0)),0,IF(LEN($C67)<>0,VLOOKUP($B67,'Round Five'!$C:$J,7,0)+1E-24,0))","v":0},{"$f":"IF(ISERROR(VLOOKUP($B67,'Round Six'!$C:$J,8,0)),0,IF(AND(LEN($C67)<>0,$D67=\"Yes\"),VLOOKUP($B67,'Round Six'!$C:$J,8,0),\"\"))","v":0},{"$f":"IF(ISERROR(VLOOKUP(AD67,'Round Six'!$C:$J,7,0)),0,IF(AND(LEN($C67)<>0,$D67=\"Yes\"),VLOOKUP(AD67,'Round Six'!$C:$J,7,0)+1E-24,0))","v":0},0,{"$f":"IF(ISERROR(VLOOKUP($B67,'Round Six'!$C:$J,6,0)),0,IF(AND(LEN($C67)<>0,$D67=\"Yes\"),VLOOKUP($B67,'Round Six'!$C:$J,6,0),\"\"))","v":0},{"$f":"IF(ISERROR(VLOOKUP($B67,'Round Six'!$C:$J,7,0)),0,IF(LEN($C67)<>0,VLOOKUP($B67,'Round Six'!$C:$J,7,0)+1E-24,0))","v":0},{"$f":"IF(ISERROR(VLOOKUP($B67,'Round Seven'!$C:$J,8,0)),0,IF(AND(LEN($C67)<>0,$D67=\"Yes\"),VLOOKUP($B67,'Round Seven'!$C:$J,8,0),\"\"))","v":0},{"$f":"IF(ISERROR(VLOOKUP(AI67,'Round Seven'!$C:$J,7,0)),0,IF(AND(LEN($C67)<>0,$D67=\"Yes\"),VLOOKUP(AI67,'Round Seven'!$C:$J,7,0)+1E-24,0))","v":0},0,{"$f":"IF(ISERROR(VLOOKUP($B67,'Round Seven'!$C:$J,6,0)),0,IF(AND(LEN($C67)<>0,$D67=\"Yes\"),VLOOKUP($B67,'Round Seven'!$C:$J,6,0),\"\"))","v":0},{"$f":"IF(ISERROR(VLOOKUP($B67,'Round Seven'!$C:$J,7,0)),0,IF(LEN($C67)<>0,VLOOKUP($B67,'Round Seven'!$C:$J,7,0)+1E-24,0))","v":0},{"$f":"IF(ISERROR(VLOOKUP($B67,'Round Eight'!$C:$J,8,0)),0,IF(AND(LEN($C67)<>0,$D67=\"Yes\"),VLOOKUP($B67,'Round Eight'!$C:$J,8,0),\"\"))","v":0},{"$f":"IF(ISERROR(VLOOKUP(AN67,'Round Eight'!$C:$J,7,0)),0,IF(AND(LEN($C67)<>0,$D67=\"Yes\"),VLOOKUP(AN67,'Round Eight'!$C:$J,7,0)+1E-24,0))","v":0},0,{"$f":"IF(ISERROR(VLOOKUP($B67,'Round Eight'!$C:$J,6,0)),0,IF(AND(LEN($C67)<>0,$D67=\"Yes\"),VLOOKUP($B67,'Round Eight'!$C:$J,6,0),\"\"))","v":0},{"$f":"IF(ISERROR(VLOOKUP($B67,'Round Eight'!$C:$J,7,0)),0,IF(LEN($C67)<>0,VLOOKUP($B67,'Round Eight'!$C:$J,7,0)+1E-24,0))","v":0},{"$f":"IF(ISERROR(VLOOKUP($B67,'Round Nine'!$C:$J,8,0)),0,IF(AND(LEN($C67)<>0,$D67=\"Yes\"),VLOOKUP($B67,'Round Nine'!$C:$J,8,0),\"\"))","v":0},{"$f":"IF(ISERROR(VLOOKUP(AS67,'Round Nine'!$C:$J,7,0)),0,IF(AND(LEN($C67)<>0,$D67=\"Yes\"),VLOOKUP(AS67,'Round Nine'!$C:$J,7,0)+1E-24,0))","v":0},0,{"$f":"IF(ISERROR(VLOOKUP($B67,'Round Nine'!$C:$J,6,0)),0,IF(AND(LEN($C67)<>0,$D67=\"Yes\"),VLOOKUP($B67,'Round Nine'!$C:$J,6,0),\"\"))","v":0},{"$f":"IF(ISERROR(VLOOKUP($B67,'Round Nine'!$C:$J,7,0)),0,IF(LEN($C67)<>0,VLOOKUP($B67,'Round Nine'!$C:$J,7,0)+1E-24,0))","v":0},null,0,0,0,{"$f":"IF(D67<>\"Yes\",A67*-10,AY67*1000000+AZ67*10000+BA67+(A67/100000))+IF(OR(Accel_Pairing_2!$B$4=\"no\",D67<>\"Yes\",ISERROR(VLOOKUP(C67,PowerRanking!A:B,2,0))),0,(VLOOKUP(C67,PowerRanking!A:D,4,0)*1000000)+VLOOKUP(C67,PowerRanking!A:D,2,0)/10)","v":-4.4216171595895215},33,"T64",0,""]
[0,"T00","Bye",{"$f":"Pairing!B3","v":"No"},0,0,0,0,0,0,0,0,0,0,0,0,0,0,0,0,0,0,0,0,0,0,0,0,0,0,0,0,0,0,0,0,0,0,0,0,0,0,0,0,0,0,0,0,0,null,0,0,0,{"$f":"IF(D68<>\"Yes\",A68*-1,AY68*1000000+AZ68*10000+BA68+(A68/100000))+IF(OR(Accel_Pairing_2!$B$4=\"no\",ISERROR(VLOOKUP(C68,PowerRanking!A:B,2,0))),0,(VLOOKUP(C68,PowerRanking!A:D,4,0)*1000000)+VLOOKUP(C68,PowerRanking!A:D,2,0)/10)","v":0},1,"T00",{"$f":"IF(E68=\"\",0,AY68*10000+AZ68*100+BA68)","v":0},{"$f":"IF(D68=\"\",\"\",RANK(BE68,$BE$4:$BE$67,0))","v":1}]

{"sheet":"Round One","index":5,"n_rows":66,"n_cols":10,"rows_kept":66,"cut":false,"hidden":false,"merged":[[0,0,0,5],[44,0,45,0],[16,0,17,0],[38,0,39,0],[18,0,19,0],[20,0,21,0],[22,0,23,0],[24,0,25,0],[40,0,41,0],[42,0,43,0],[30,0,31,0],[32,0,33,0],[34,0,35,0],[36,0,37,0],[62,0,63,0],[64,0,65,0],[50,0,51,0],[52,0,53,0],[54,0,55,0],[56,0,57,0],[58,0,59,0],[60,0,61,0],[46,0,47,0],[2,0,3,0],[12,0,13,0],[14,0,15,0],[48,0,49,0],[26,0,27,0],[28,0,29,0],[4,0,5,0],[6,0,7,0],[8,0,9,0],[10,0,11,0]]}
["Round One"]
["Pitch #","Rank","Team Number","Team Name","Game One","Game Two","Game Three","Match","Score"]
[1,null,null,{"$f":"IF(ISERROR(VLOOKUP(C3,'Team List'!B:D,3,0)),\"\",VLOOKUP(C3,'Team List'!B:D,2,0))","v":""},null,null,null,{"$f":"IF(COUNTIF(E3:G3,\"Won\")=2,\"Won\",IF(COUNTIF(E3:G3,\"Lost\")=2,\"Lost\",IF(AND((E3=\"Won\"),OR(F3=\"DNF (Leading)\",F3=\"DNF (Tied)\",F3=\"DNF (Trailing)\")),\"Won\",IF(AND(COUNTIF(E3:F3,\"Won\")=1,OR(G3=\"DNF (Leading)\",G3=\"DNF (Tied)\",G3=\"DNF (Trailing)\")),\"Tied\",IF(OR(E3=\"DNF (Leading)\",E3=\"DNF (Tied)\",E3=\"DNF (Trailing)\"),\"Tied\",IF(AND((E3=\"Lost\"),OR(F3=\"DNF (Leading)\",F3=\"DNF (Tied)\",F3=\"DNF (Trailing)\")),\"Lost\",IF(C4=\"Bye\",\"Bye\",\"\")))))))","v":""},{"$f":"IF(C4=\"Bye\",1,IF(LEN(E3&F3&G3)=0,0,COUNTIF(E3:G3,\"Won\")*1+COUNTIF(E3:G3,\"DNF (Leading)\")*0.67+COUNTIF(E3:G3,\"DNF (Tied)\")*0.5+COUNTIF(E3:G3,\"DNF (Trailing)\")*0.33))","v":0},{"$f":"C4","v":0}]
[null,null,null,{"$f":"IF(ISERROR(VLOOKUP(C4,'Team List'!B:D,3,0)),\"\",VLOOKUP(C4,'Team List'!B:D,2,0))","v":""},{"$f":"IF(E3=\"\",\"\",IF(E3=\"Won\",\"Lost\",IF(E3=\"DNF (Leading)\",\"DNF (Trailing)\",IF(E3=\"DNF (Trailing)\",\"DNF (Leading)\",IF(E3=\"Lost\",\"Won\",E3)))))","v":""},{"$f":"IF(F3=\"\",\"\",IF(F3=\"Won\",\"Lost\",IF(F3=\"DNF (Leading)\",\"DNF (Trailing)\",IF(F3=\"DNF (Trailing)\",\"DNF (Leading)\",IF(F3=\"Lost\",\"Won\",F3)))))","v":""},{"$f":"IF(G3=\"\",\"\",IF(G3=\"Won\",\"Lost\",IF(G3=\"DNF (Leading)\",\"DNF (Trailing)\",IF(G3=\"DNF (Trailing)\",\"DNF (Leading)\",IF(G3=\"Lost\",\"Won\",G3)))))","v":""},{"$f":"IF(H3=\"Won\",\"Lost\",IF(H3=\"Lost\",\"Won\",H3))","v":""},{"$f":"IF(C3=\"Bye\",1,IF(LEN(E4&F4&G4)=0,0,COUNTIF(E4:G4,\"Won\")*1+COUNTIF(E4:G4,\"DNF (Leading)\")*0.67+COUNTIF(E4:G4,\"DNF (Tied)\")*0.5+COUNTIF(E4:G4,\"DNF (Trailing)\")*0.33))","v":0},{"$f":"C3","v":0}]
[2,null,null,{"$f":"IF(ISERROR(VLOOKUP(C5,'Team List'!B:D,3,0)),\"\",VLOOKUP(C5,'Team List'!B:D,2,0))","v":""},null,null,null,{"$f":"IF(COUNTIF(E5:G5,\"Won\")=2,\"Won\",IF(COUNTIF(E5:G5,\"Lost\")=2,\"Lost\",IF(AND((E5=\"Won\"),OR(F5=\"DNF (Leading)\",F5=\"DNF (Tied)\",F5=\"DNF (Trailing)\")),\"Won\",IF(AND(COUNTIF(E5:F5,\"Won\")=1,OR(G5=\"DNF (Leading)\",G5=\"DNF (Tied)\",G5=\"DNF (Trailing)\")),\"Tied\",IF(OR(E5=\"DNF (Leading)\",E5=\"DNF (Tied)\",E5=\"DNF (Trailing)\"),\"Tied\",IF(AND((E5=\"Lost\"),OR(F5=\"DNF (Leading)\",F5=\"DNF (Tied)\",F5=\"DNF (Trailing)\")),\"Lost\",IF(C6=\"Bye\",\"Bye\",\"\")))))))","v":""},{"$f":"IF(C6=\"Bye\",1,IF(LEN(E5&F5&G5)=0,0,COUNTIF(E5:G5,\"Won\")*1+COUNTIF(E5:G5,\"DNF (Leading)\")*0.67+COUNTIF(E5:G5,\"DNF (Tied)\")*0.5+COUNTIF(E5:G5,\"DNF (Trailing)\")*0.33))","v":0},{"$f":"C6","v":0}]
[null,null,null,{"$f":"IF(ISERROR(VLOOKUP(C6,'Team List'!B:D,3,0)),\"\",VLOOKUP(C6,'Team List'!B:D,2,0))","v":""},{"$f":"IF(E5=\"\",\"\",IF(E5=\"Won\",\"Lost\",IF(E5=\"DNF (Leading)\",\"DNF (Trailing)\",IF(E5=\"DNF (Trailing)\",\"DNF (Leading)\",IF(E5=\"Lost\",\"Won\",E5)))))","v":""},{"$f":"IF(F5=\"\",\"\",IF(F5=\"Won\",\"Lost\",IF(F5=\"DNF (Leading)\",\"DNF (Trailing)\",IF(F5=\"DNF (Trailing)\",\"DNF (Leading)\",IF(F5=\"Lost\",\"Won\",F5)))))","v":""},{"$f":"IF(G5=\"\",\"\",IF(G5=\"Won\",\"Lost\",IF(G5=\"DNF (Leading)\",\"DNF (Trailing)\",IF(G5=\"DNF (Trailing)\",\"DNF (Leading)\",IF(G5=\"Lost\",\"Won\",G5)))))","v":""},{"$f":"IF(H5=\"Won\",\"Lost\",IF(H5=\"Lost\",\"Won\",H5))","v":""},{"$f":"IF(C5=\"Bye\",1,IF(LEN(E6&F6&G6)=0,0,COUNTIF(E6:G6,\"Won\")*1+COUNTIF(E6:G6,\"DNF (Leading)\")*0.67+COUNTIF(E6:G6,\"DNF (Tied)\")*0.5+COUNTIF(E6:G6,\"DNF (Trailing)\")*0.33))","v":0},{"$f":"C5","v":0}]
[3,null,null,{"$f":"IF(ISERROR(VLOOKUP(C7,'Team List'!B:D,3,0)),\"\",VLOOKUP(C7,'Team List'!B:D,2,0))","v":""},null,null,null,{"$f":"IF(COUNTIF(E7:G7,\"Won\")=2,\"Won\",IF(COUNTIF(E7:G7,\"Lost\")=2,\"Lost\",IF(AND((E7=\"Won\"),OR(F7=\"DNF (Leading)\",F7=\"DNF (Tied)\",F7=\"DNF (Trailing)\")),\"Won\",IF(AND(COUNTIF(E7:F7,\"Won\")=1,OR(G7=\"DNF (Leading)\",G7=\"DNF (Tied)\",G7=\"DNF (Trailing)\")),\"Tied\",IF(OR(E7=\"DNF (Leading)\",E7=\"DNF (Tied)\",E7=\"DNF (Trailing)\"),\"Tied\",IF(AND((E7=\"Lost\"),OR(F7=\"DNF (Leading)\",F7=\"DNF (Tied)\",F7=\"DNF (Trailing)\")),\"Lost\",IF(C8=\"Bye\",\"Bye\",\"\")))))))","v":""},{"$f":"IF(C8=\"Bye\",1,IF(LEN(E7&F7&G7)=0,0,COUNTIF(E7:G7,\"Won\")*1+COUNTIF(E7:G7,\"DNF (Leading)\")*0.67+COUNTIF(E7:G7,\"DNF (Tied)\")*0.5+COUNTIF(E7:G7,\"DNF (Trailing)\")*0.33))","v":0},{"$f":"C8","v":0}]
[null,null,null,{"$f":"IF(ISERROR(VLOOKUP(C8,'Team List'!B:D,3,0)),\"\",VLOOKUP(C8,'Team List'!B:D,2,0))","v":""},{"$f":"IF(E7=\"\",\"\",IF(E7=\"Won\",\"Lost\",IF(E7=\"DNF (Leading)\",\"DNF (Trailing)\",IF(E7=\"DNF (Trailing)\",\"DNF (Leading)\",IF(E7=\"Lost\",\"Won\",E7)))))","v":""},{"$f":"IF(F7=\"\",\"\",IF(F7=\"Won\",\"Lost\",IF(F7=\"DNF (Leading)\",\"DNF (Trailing)\",IF(F7=\"DNF (Trailing)\",\"DNF (Leading)\",IF(F7=\"Lost\",\"Won\",F7)))))","v":""},{"$f":"IF(G7=\"\",\"\",IF(G7=\"Won\",\"Lost\",IF(G7=\"DNF (Leading)\",\"DNF (Trailing)\",IF(G7=\"DNF (Trailing)\",\"DNF (Leading)\",IF(G7=\"Lost\",\"Won\",G7)))))","v":""},{"$f":"IF(H7=\"Won\",\"Lost\",IF(H7=\"Lost\",\"Won\",H7))","v":""},{"$f":"IF(C7=\"Bye\",1,IF(LEN(E8&F8&G8)=0,0,COUNTIF(E8:G8,\"Won\")*1+COUNTIF(E8:G8,\"DNF (Leading)\")*0.67+COUNTIF(E8:G8,\"DNF (Tied)\")*0.5+COUNTIF(E8:G8,\"DNF (Trailing)\")*0.33))","v":0},{"$f":"C7","v":0}]
[4,null,null,{"$f":"IF(ISERROR(VLOOKUP(C9,'Team List'!B:D,3,0)),\"\",VLOOKUP(C9,'Team List'!B:D,2,0))","v":""},null,null,null,{"$f":"IF(COUNTIF(E9:G9,\"Won\")=2,\"Won\",IF(COUNTIF(E9:G9,\"Lost\")=2,\"Lost\",IF(AND((E9=\"Won\"),OR(F9=\"DNF (Leading)\",F9=\"DNF (Tied)\",F9=\"DNF (Trailing)\")),\"Won\",IF(AND(COUNTIF(E9:F9,\"Won\")=1,OR(G9=\"DNF (Leading)\",G9=\"DNF (Tied)\",G9=\"DNF (Trailing)\")),\"Tied\",IF(OR(E9=\"DNF (Leading)\",E9=\"DNF (Tied)\",E9=\"DNF (Trailing)\"),\"Tied\",IF(AND((E9=\"Lost\"),OR(F9=\"DNF (Leading)\",F9=\"DNF (Tied)\",F9=\"DNF (Trailing)\")),\"Lost\",IF(C10=\"Bye\",\"Bye\",\"\")))))))","v":""},{"$f":"IF(C10=\"Bye\",1,IF(LEN(E9&F9&G9)=0,0,COUNTIF(E9:G9,\"Won\")*1+COUNTIF(E9:G9,\"DNF (Leading)\")*0.67+COUNTIF(E9:G9,\"DNF (Tied)\")*0.5+COUNTIF(E9:G9,\"DNF (Trailing)\")*0.33))","v":0},{"$f":"C10","v":0}]
[null,null,null,{"$f":"IF(ISERROR(VLOOKUP(C10,'Team List'!B:D,3,0)),\"\",VLOOKUP(C10,'Team List'!B:D,2,0))","v":""},{"$f":"IF(E9=\"\",\"\",IF(E9=\"Won\",\"Lost\",IF(E9=\"DNF (Leading)\",\"DNF (Trailing)\",IF(E9=\"DNF (Trailing)\",\"DNF (Leading)\",IF(E9=\"Lost\",\"Won\",E9)))))","v":""},{"$f":"IF(F9=\"\",\"\",IF(F9=\"Won\",\"Lost\",IF(F9=\"DNF (Leading)\",\"DNF (Trailing)\",IF(F9=\"DNF (Trailing)\",\"DNF (Leading)\",IF(F9=\"Lost\",\"Won\",F9)))))","v":""},{"$f":"IF(G9=\"\",\"\",IF(G9=\"Won\",\"Lost\",IF(G9=\"DNF (Leading)\",\"DNF (Trailing)\",IF(G9=\"DNF (Trailing)\",\"DNF (Leading)\",IF(G9=\"Lost\",\"Won\",G9)))))","v":""},{"$f":"IF(H9=\"Won\",\"Lost\",IF(H9=\"Lost\",\"Won\",H9))","v":""},{"$f":"IF(C9=\"Bye\",1,IF(LEN(E10&F10&G10)=0,0,COUNTIF(E10:G10,\"Won\")*1+COUNTIF(E10:G10,\"DNF (Leading)\")*0.67+COUNTIF(E10:G10,\"DNF (Tied)\")*0.5+COUNTIF(E10:G10,\"DNF (Trailing)\")*0.33))","v":0},{"$f":"C9","v":0}]
[5,null,null,{"$f":"IF(ISERROR(VLOOKUP(C11,'Team List'!B:D,3,0)),\"\",VLOOKUP(C11,'Team List'!B:D,2,0))","v":""},null,null,null,{"$f":"IF(COUNTIF(E11:G11,\"Won\")=2,\"Won\",IF(COUNTIF(E11:G11,\"Lost\")=2,\"Lost\",IF(AND((E11=\"Won\"),OR(F11=\"DNF (Leading)\",F11=\"DNF (Tied)\",F11=\"DNF (Trailing)\")),\"Won\",IF(AND(COUNTIF(E11:F11,\"Won\")=1,OR(G11=\"DNF (Leading)\",G11=\"DNF (Tied)\",G11=\"DNF (Trailing)\")),\"Tied\",IF(OR(E11=\"DNF (Leading)\",E11=\"DNF (Tied)\",E11=\"DNF (Trailing)\"),\"Tied\",IF(AND((E11=\"Lost\"),OR(F11=\"DNF (Leading)\",F11=\"DNF (Tied)\",F11=\"DNF (Trailing)\")),\"Lost\",IF(C12=\"Bye\",\"Bye\",\"\")))))))","v":""},{"$f":"IF(C12=\"Bye\",1,IF(LEN(E11&F11&G11)=0,0,COUNTIF(E11:G11,\"Won\")*1+COUNTIF(E11:G11,\"DNF (Leading)\")*0.67+COUNTIF(E11:G11,\"DNF (Tied)\")*0.5+COUNTIF(E11:G11,\"DNF (Trailing)\")*0.33))","v":0},{"$f":"C12","v":0}]
[null,null,null,{"$f":"IF(ISERROR(VLOOKUP(C12,'Team List'!B:D,3,0)),\"\",VLOOKUP(C12,'Team List'!B:D,2,0))","v":""},{"$f":"IF(E11=\"\",\"\",IF(E11=\"Won\",\"Lost\",IF(E11=\"DNF (Leading)\",\"DNF (Trailing)\",IF(E11=\"DNF (Trailing)\",\"DNF (Leading)\",IF(E11=\"Lost\",\"Won\",E11)))))","v":""},{"$f":"IF(F11=\"\",\"\",IF(F11=\"Won\",\"Lost\",IF(F11=\"DNF (Leading)\",\"DNF (Trailing)\",IF(F11=\"DNF (Trailing)\",\"DNF (Leading)\",IF(F11=\"Lost\",\"Won\",F11)))))","v":""},{"$f":"IF(G11=\"\",\"\",IF(G11=\"Won\",\"Lost\",IF(G11=\"DNF (Leading)\",\"DNF (Trailing)\",IF(G11=\"DNF (Trailing)\",\"DNF (Leading)\",IF(G11=\"Lost\",\"Won\",G11)))))","v":""},{"$f":"IF(H11=\"Won\",\"Lost\",IF(H11=\"Lost\",\"Won\",H11))","v":""},{"$f":"IF(C11=\"Bye\",1,IF(LEN(E12&F12&G12)=0,0,COUNTIF(E12:G12,\"Won\")*1+COUNTIF(E12:G12,\"DNF (Leading)\")*0.67+COUNTIF(E12:G12,\"DNF (Tied)\")*0.5+COUNTIF(E12:G12,\"DNF (Trailing)\")*0.33))","v":0},{"$f":"C11","v":0}]
[6,null,null,{"$f":"IF(ISERROR(VLOOKUP(C13,'Team List'!B:D,3,0)),\"\",VLOOKUP(C13,'Team List'!B:D,2,0))","v":""},null,null,null,{"$f":"IF(COUNTIF(E13:G13,\"Won\")=2,\"Won\",IF(COUNTIF(E13:G13,\"Lost\")=2,\"Lost\",IF(AND((E13=\"Won\"),OR(F13=\"DNF (Leading)\",F13=\"DNF (Tied)\",F13=\"DNF (Trailing)\")),\"Won\",IF(AND(COUNTIF(E13:F13,\"Won\")=1,OR(G13=\"DNF (Leading)\",G13=\"DNF (Tied)\",G13=\"DNF (Trailing)\")),\"Tied\",IF(OR(E13=\"DNF (Leading)\",E13=\"DNF (Tied)\",E13=\"DNF (Trailing)\"),\"Tied\",IF(AND((E13=\"Lost\"),OR(F13=\"DNF (Leading)\",F13=\"DNF (Tied)\",F13=\"DNF (Trailing)\")),\"Lost\",IF(C14=\"Bye\",\"Bye\",\"\")))))))","v":""},{"$f":"IF(C14=\"Bye\",1,IF(LEN(E13&F13&G13)=0,0,COUNTIF(E13:G13,\"Won\")*1+COUNTIF(E13:G13,\"DNF (Leading)\")*0.67+COUNTIF(E13:G13,\"DNF (Tied)\")*0.5+COUNTIF(E13:G13,\"DNF (Trailing)\")*0.33))","v":0},{"$f":"C14","v":0}]
[null,null,null,{"$f":"IF(ISERROR(VLOOKUP(C14,'Team List'!B:D,3,0)),\"\",VLOOKUP(C14,'Team List'!B:D,2,0))","v":""},{"$f":"IF(E13=\"\",\"\",IF(E13=\"Won\",\"Lost\",IF(E13=\"DNF (Leading)\",\"DNF (Trailing)\",IF(E13=\"DNF (Trailing)\",\"DNF (Leading)\",IF(E13=\"Lost\",\"Won\",E13)))))","v":""},{"$f":"IF(F13=\"\",\"\",IF(F13=\"Won\",\"Lost\",IF(F13=\"DNF (Leading)\",\"DNF (Trailing)\",IF(F13=\"DNF (Trailing)\",\"DNF (Leading)\",IF(F13=\"Lost\",\"Won\",F13)))))","v":""},{"$f":"IF(G13=\"\",\"\",IF(G13=\"Won\",\"Lost\",IF(G13=\"DNF (Leading)\",\"DNF (Trailing)\",IF(G13=\"DNF (Trailing)\",\"DNF (Leading)\",IF(G13=\"Lost\",\"Won\",G13)))))","v":""},{"$f":"IF(H13=\"Won\",\"Lost\",IF(H13=\"Lost\",\"Won\",H13))","v":""},{"$f":"IF(C13=\"Bye\",1,IF(LEN(E14&F14&G14)=0,0,COUNTIF(E14:G14,\"Won\")*1+COUNTIF(E14:G14,\"DNF (Leading)\")*0.67+COUNTIF(E14:G14,\"DNF (Tied)\")*0.5+COUNTIF(E14:G14,\"DNF (Trailing)\")*0.33))","v":0},{"$f":"C13","v":0}]
[7,null,null,{"$f":"IF(ISERROR(VLOOKUP(C15,'Team List'!B:D,3,0)),\"\",VLOOKUP(C15,'Team List'!B:D,2,0))","v":""},null,null,null,{"$f":"IF(COUNTIF(E15:G15,\"Won\")=2,\"Won\",IF(COUNTIF(E15:G15,\"Lost\")=2,\"Lost\",IF(AND((E15=\"Won\"),OR(F15=\"DNF (Leading)\",F15=\"DNF (Tied)\",F15=\"DNF (Trailing)\")),\"Won\",IF(AND(COUNTIF(E15:F15,\"Won\")=1,OR(G15=\"DNF (Leading)\",G15=\"DNF (Tied)\",G15=\"DNF (Trailing)\")),\"Tied\",IF(OR(E15=\"DNF (Leading)\",E15=\"DNF (Tied)\",E15=\"DNF (Trailing)\"),\"Tied\",IF(AND((E15=\"Lost\"),OR(F15=\"DNF (Leading)\",F15=\"DNF (Tied)\",F15=\"DNF (Trailing)\")),\"Lost\",IF(C16=\"Bye\",\"Bye\",\"\")))))))","v":""},{"$f":"IF(C16=\"Bye\",1,IF(LEN(E15&F15&G15)=0,0,COUNTIF(E15:G15,\"Won\")*1+COUNTIF(E15:G15,\"DNF (Leading)\")*0.67+COUNTIF(E15:G15,\"DNF (Tied)\")*0.5+COUNTIF(E15:G15,\"DNF (Trailing)\")*0.33))","v":0},{"$f":"C16","v":0}]
[null,null,null,{"$f":"IF(ISERROR(VLOOKUP(C16,'Team List'!B:D,3,0)),\"\",VLOOKUP(C16,'Team List'!B:D,2,0))","v":""},{"$f":"IF(E15=\"\",\"\",IF(E15=\"Won\",\"Lost\",IF(E15=\"DNF (Leading)\",\"DNF (Trailing)\",IF(E15=\"DNF (Trailing)\",\"DNF (Leading)\",IF(E15=\"Lost\",\"Won\",E15)))))","v":""},{"$f":"IF(F15=\"\",\"\",IF(F15=\"Won\",\"Lost\",IF(F15=\"DNF (Leading)\",\"DNF (Trailing)\",IF(F15=\"DNF (Trailing)\",\"DNF (Leading)\",IF(F15=\"Lost\",\"Won\",F15)))))","v":""},{"$f":"IF(G15=\"\",\"\",IF(G15=\"Won\",\"Lost\",IF(G15=\"DNF (Leading)\",\"DNF (Trailing)\",IF(G15=\"DNF (Trailing)\",\"DNF (Leading)\",IF(G15=\"Lost\",\"Won\",G15)))))","v":""},{"$f":"IF(H15=\"Won\",\"Lost\",IF(H15=\"Lost\",\"Won\",H15))","v":""},{"$f":"IF(C15=\"Bye\",1,IF(LEN(E16&F16&G16)=0,0,COUNTIF(E16:G16,\"Won\")*1+COUNTIF(E16:G16,\"DNF (Leading)\")*0.67+COUNTIF(E16:G16,\"DNF (Tied)\")*0.5+COUNTIF(E16:G16,\"DNF (Trailing)\")*0.33))","v":0},{"$f":"C15","v":0}]
[8,null,null,{"$f":"IF(ISERROR(VLOOKUP(C17,'Team List'!B:D,3,0)),\"\",VLOOKUP(C17,'Team List'!B:D,2,0))","v":""},null,null,null,{"$f":"IF(COUNTIF(E17:G17,\"Won\")=2,\"Won\",IF(COUNTIF(E17:G17,\"Lost\")=2,\"Lost\",IF(AND((E17=\"Won\"),OR(F17=\"DNF (Leading)\",F17=\"DNF (Tied)\",F17=\"DNF (Trailing)\")),\"Won\",IF(AND(COUNTIF(E17:F17,\"Won\")=1,OR(G17=\"DNF (Leading)\",G17=\"DNF (Tied)\",G17=\"DNF (Trailing)\")),\"Tied\",IF(OR(E17=\"DNF (Leading)\",E17=\"DNF (Tied)\",E17=\"DNF (Trailing)\"),\"Tied\",IF(AND((E17=\"Lost\"),OR(F17=\"DNF (Leading)\",F17=\"DNF (Tied)\",F17=\"DNF (Trailing)\")),\"Lost\",IF(C18=\"Bye\",\"Bye\",\"\")))))))","v":""},{"$f":"IF(C18=\"Bye\",1,IF(LEN(E17&F17&G17)=0,0,COUNTIF(E17:G17,\"Won\")*1+COUNTIF(E17:G17,\"DNF (Leading)\")*0.67+COUNTIF(E17:G17,\"DNF (Tied)\")*0.5+COUNTIF(E17:G17,\"DNF (Trailing)\")*0.33))","v":0},{"$f":"C18","v":0}]
[null,null,null,{"$f":"IF(ISERROR(VLOOKUP(C18,'Team List'!B:D,3,0)),\"\",VLOOKUP(C18,'Team List'!B:D,2,0))","v":""},{"$f":"IF(E17=\"\",\"\",IF(E17=\"Won\",\"Lost\",IF(E17=\"DNF (Leading)\",\"DNF (Trailing)\",IF(E17=\"DNF (Trailing)\",\"DNF (Leading)\",IF(E17=\"Lost\",\"Won\",E17)))))","v":""},{"$f":"IF(F17=\"\",\"\",IF(F17=\"Won\",\"Lost\",IF(F17=\"DNF (Leading)\",\"DNF (Trailing)\",IF(F17=\"DNF (Trailing)\",\"DNF (Leading)\",IF(F17=\"Lost\",\"Won\",F17)))))","v":""},{"$f":"IF(G17=\"\",\"\",IF(G17=\"Won\",\"Lost\",IF(G17=\"DNF (Leading)\",\"DNF (Trailing)\",IF(G17=\"DNF (Trailing)\",\"DNF (Leading)\",IF(G17=\"Lost\",\"Won\",G17)))))","v":""},{"$f":"IF(H17=\"Won\",\"Lost\",IF(H17=\"Lost\",\"Won\",H17))","v":""},{"$f":"IF(C17=\"Bye\",1,IF(LEN(E18&F18&G18)=0,0,COUNTIF(E18:G18,\"Won\")*1+COUNTIF(E18:G18,\"DNF (Leading)\")*0.67+COUNTIF(E18:G18,\"DNF (Tied)\")*0.5+COUNTIF(E18:G18,\"DNF (Trailing)\")*0.33))","v":0},{"$f":"C17","v":0}]
[9,null,null,{"$f":"IF(ISERROR(VLOOKUP(C19,'Team List'!B:D,3,0)),\"\",VLOOKUP(C19,'Team List'!B:D,2,0))","v":""},null,null,null,{"$f":"IF(COUNTIF(E19:G19,\"Won\")=2,\"Won\",IF(COUNTIF(E19:G19,\"Lost\")=2,\"Lost\",IF(AND((E19=\"Won\"),OR(F19=\"DNF (Leading)\",F19=\"DNF (Tied)\",F19=\"DNF (Trailing)\")),\"Won\",IF(AND(COUNTIF(E19:F19,\"Won\")=1,OR(G19=\"DNF (Leading)\",G19=\"DNF (Tied)\",G19=\"DNF (Trailing)\")),\"Tied\",IF(OR(E19=\"DNF (Leading)\",E19=\"DNF (Tied)\",E19=\"DNF (Trailing)\"),\"Tied\",IF(AND((E19=\"Lost\"),OR(F19=\"DNF (Leading)\",F19=\"DNF (Tied)\",F19=\"DNF (Trailing)\")),\"Lost\",IF(C20=\"Bye\",\"Bye\",\"\")))))))","v":""},{"$f":"IF(C20=\"Bye\",1,IF(LEN(E19&F19&G19)=0,0,COUNTIF(E19:G19,\"Won\")*1+COUNTIF(E19:G19,\"DNF (Leading)\")*0.67+COUNTIF(E19:G19,\"DNF (Tied)\")*0.5+COUNTIF(E19:G19,\"DNF (Trailing)\")*0.33))","v":0},{"$f":"C20","v":0}]
[null,null,null,{"$f":"IF(ISERROR(VLOOKUP(C20,'Team List'!B:D,3,0)),\"\",VLOOKUP(C20,'Team List'!B:D,2,0))","v":""},{"$f":"IF(E19=\"\",\"\",IF(E19=\"Won\",\"Lost\",IF(E19=\"DNF (Leading)\",\"DNF (Trailing)\",IF(E19=\"DNF (Trailing)\",\"DNF (Leading)\",IF(E19=\"Lost\",\"Won\",E19)))))","v":""},{"$f":"IF(F19=\"\",\"\",IF(F19=\"Won\",\"Lost\",IF(F19=\"DNF (Leading)\",\"DNF (Trailing)\",IF(F19=\"DNF (Trailing)\",\"DNF (Leading)\",IF(F19=\"Lost\",\"Won\",F19)))))","v":""},{"$f":"IF(G19=\"\",\"\",IF(G19=\"Won\",\"Lost\",IF(G19=\"DNF (Leading)\",\"DNF (Trailing)\",IF(G19=\"DNF (Trailing)\",\"DNF (Leading)\",IF(G19=\"Lost\",\"Won\",G19)))))","v":""},{"$f":"IF(H19=\"Won\",\"Lost\",IF(H19=\"Lost\",\"Won\",H19))","v":""},{"$f":"IF(C19=\"Bye\",1,IF(LEN(E20&F20&G20)=0,0,COUNTIF(E20:G20,\"Won\")*1+COUNTIF(E20:G20,\"DNF (Leading)\")*0.67+COUNTIF(E20:G20,\"DNF (Tied)\")*0.5+COUNTIF(E20:G20,\"DNF (Trailing)\")*0.33))","v":0},{"$f":"C19","v":0}]
[10,null,null,{"$f":"IF(ISERROR(VLOOKUP(C21,'Team List'!B:D,3,0)),\"\",VLOOKUP(C21,'Team List'!B:D,2,0))","v":""},null,null,null,{"$f":"IF(COUNTIF(E21:G21,\"Won\")=2,\"Won\",IF(COUNTIF(E21:G21,\"Lost\")=2,\"Lost\",IF(AND((E21=\"Won\"),OR(F21=\"DNF (Leading)\",F21=\"DNF (Tied)\",F21=\"DNF (Trailing)\")),\"Won\",IF(AND(COUNTIF(E21:F21,\"Won\")=1,OR(G21=\"DNF (Leading)\",G21=\"DNF (Tied)\",G21=\"DNF (Trailing)\")),\"Tied\",IF(OR(E21=\"DNF (Leading)\",E21=\"DNF (Tied)\",E21=\"DNF (Trailing)\"),\"Tied\",IF(AND((E21=\"Lost\"),OR(F21=\"DNF (Leading)\",F21=\"DNF (Tied)\",F21=\"DNF (Trailing)\")),\"Lost\",IF(C22=\"Bye\",\"Bye\",\"\")))))))","v":""},{"$f":"IF(C22=\"Bye\",1,IF(LEN(E21&F21&G21)=0,0,COUNTIF(E21:G21,\"Won\")*1+COUNTIF(E21:G21,\"DNF (Leading)\")*0.67+COUNTIF(E21:G21,\"DNF (Tied)\")*0.5+COUNTIF(E21:G21,\"DNF (Trailing)\")*0.33))","v":0},{"$f":"C22","v":0}]
[null,null,null,{"$f":"IF(ISERROR(VLOOKUP(C22,'Team List'!B:D,3,0)),\"\",VLOOKUP(C22,'Team List'!B:D,2,0))","v":""},{"$f":"IF(E21=\"\",\"\",IF(E21=\"Won\",\"Lost\",IF(E21=\"DNF (Leading)\",\"DNF (Trailing)\",IF(E21=\"DNF (Trailing)\",\"DNF (Leading)\",IF(E21=\"Lost\",\"Won\",E21)))))","v":""},{"$f":"IF(F21=\"\",\"\",IF(F21=\"Won\",\"Lost\",IF(F21=\"DNF (Leading)\",\"DNF (Trailing)\",IF(F21=\"DNF (Trailing)\",\"DNF (Leading)\",IF(F21=\"Lost\",\"Won\",F21)))))","v":""},{"$f":"IF(G21=\"\",\"\",IF(G21=\"Won\",\"Lost\",IF(G21=\"DNF (Leading)\",\"DNF (Trailing)\",IF(G21=\"DNF (Trailing)\",\"DNF (Leading)\",IF(G21=\"Lost\",\"Won\",G21)))))","v":""},{"$f":"IF(H21=\"Won\",\"Lost\",IF(H21=\"Lost\",\"Won\",H21))","v":""},{"$f":"IF(C21=\"Bye\",1,IF(LEN(E22&F22&G22)=0,0,COUNTIF(E22:G22,\"Won\")*1+COUNTIF(E22:G22,\"DNF (Leading)\")*0.67+COUNTIF(E22:G22,\"DNF (Tied)\")*0.5+COUNTIF(E22:G22,\"DNF (Trailing)\")*0.33))","v":0},{"$f":"C21","v":0}]
[11,null,null,{"$f":"IF(ISERROR(VLOOKUP(C23,'Team List'!B:D,3,0)),\"\",VLOOKUP(C23,'Team List'!B:D,2,0))","v":""},null,null,null,{"$f":"IF(COUNTIF(E23:G23,\"Won\")=2,\"Won\",IF(COUNTIF(E23:G23,\"Lost\")=2,\"Lost\",IF(AND((E23=\"Won\"),OR(F23=\"DNF (Leading)\",F23=\"DNF (Tied)\",F23=\"DNF (Trailing)\")),\"Won\",IF(AND(COUNTIF(E23:F23,\"Won\")=1,OR(G23=\"DNF (Leading)\",G23=\"DNF (Tied)\",G23=\"DNF (Trailing)\")),\"Tied\",IF(OR(E23=\"DNF (Leading)\",E23=\"DNF (Tied)\",E23=\"DNF (Trailing)\"),\"Tied\",IF(AND((E23=\"Lost\"),OR(F23=\"DNF (Leading)\",F23=\"DNF (Tied)\",F23=\"DNF (Trailing)\")),\"Lost\",IF(C24=\"Bye\",\"Bye\",\"\")))))))","v":""},{"$f":"IF(C24=\"Bye\",1,IF(LEN(E23&F23&G23)=0,0,COUNTIF(E23:G23,\"Won\")*1+COUNTIF(E23:G23,\"DNF (Leading)\")*0.67+COUNTIF(E23:G23,\"DNF (Tied)\")*0.5+COUNTIF(E23:G23,\"DNF (Trailing)\")*0.33))","v":0},{"$f":"C24","v":0}]
[null,null,null,{"$f":"IF(ISERROR(VLOOKUP(C24,'Team List'!B:D,3,0)),\"\",VLOOKUP(C24,'Team List'!B:D,2,0))","v":""},{"$f":"IF(E23=\"\",\"\",IF(E23=\"Won\",\"Lost\",IF(E23=\"DNF (Leading)\",\"DNF (Trailing)\",IF(E23=\"DNF (Trailing)\",\"DNF (Leading)\",IF(E23=\"Lost\",\"Won\",E23)))))","v":""},{"$f":"IF(F23=\"\",\"\",IF(F23=\"Won\",\"Lost\",IF(F23=\"DNF (Leading)\",\"DNF (Trailing)\",IF(F23=\"DNF (Trailing)\",\"DNF (Leading)\",IF(F23=\"Lost\",\"Won\",F23)))))","v":""},{"$f":"IF(G23=\"\",\"\",IF(G23=\"Won\",\"Lost\",IF(G23=\"DNF (Leading)\",\"DNF (Trailing)\",IF(G23=\"DNF (Trailing)\",\"DNF (Leading)\",IF(G23=\"Lost\",\"Won\",G23)))))","v":""},{"$f":"IF(H23=\"Won\",\"Lost\",IF(H23=\"Lost\",\"Won\",H23))","v":""},{"$f":"IF(C23=\"Bye\",1,IF(LEN(E24&F24&G24)=0,0,COUNTIF(E24:G24,\"Won\")*1+COUNTIF(E24:G24,\"DNF (Leading)\")*0.67+COUNTIF(E24:G24,\"DNF (Tied)\")*0.5+COUNTIF(E24:G24,\"DNF (Trailing)\")*0.33))","v":0},{"$f":"C23","v":0}]
[12,null,null,{"$f":"IF(ISERROR(VLOOKUP(C25,'Team List'!B:D,3,0)),\"\",VLOOKUP(C25,'Team List'!B:D,2,0))","v":""},null,null,null,{"$f":"IF(COUNTIF(E25:G25,\"Won\")=2,\"Won\",IF(COUNTIF(E25:G25,\"Lost\")=2,\"Lost\",IF(AND((E25=\"Won\"),OR(F25=\"DNF (Leading)\",F25=\"DNF (Tied)\",F25=\"DNF (Trailing)\")),\"Won\",IF(AND(COUNTIF(E25:F25,\"Won\")=1,OR(G25=\"DNF (Leading)\",G25=\"DNF (Tied)\",G25=\"DNF (Trailing)\")),\"Tied\",IF(OR(E25=\"DNF (Leading)\",E25=\"DNF (Tied)\",E25=\"DNF (Trailing)\"),\"Tied\",IF(AND((E25=\"Lost\"),OR(F25=\"DNF (Leading)\",F25=\"DNF (Tied)\",F25=\"DNF (Trailing)\")),\"Lost\",IF(C26=\"Bye\",\"Bye\",\"\")))))))","v":""},{"$f":"IF(C26=\"Bye\",1,IF(LEN(E25&F25&G25)=0,0,COUNTIF(E25:G25,\"Won\")*1+COUNTIF(E25:G25,\"DNF (Leading)\")*0.67+COUNTIF(E25:G25,\"DNF (Tied)\")*0.5+COUNTIF(E25:G25,\"DNF (Trailing)\")*0.33))","v":0},{"$f":"C26","v":0}]
[null,null,null,{"$f":"IF(ISERROR(VLOOKUP(C26,'Team List'!B:D,3,0)),\"\",VLOOKUP(C26,'Team List'!B:D,2,0))","v":""},{"$f":"IF(E25=\"\",\"\",IF(E25=\"Won\",\"Lost\",IF(E25=\"DNF (Leading)\",\"DNF (Trailing)\",IF(E25=\"DNF (Trailing)\",\"DNF (Leading)\",IF(E25=\"Lost\",\"Won\",E25)))))","v":""},{"$f":"IF(F25=\"\",\"\",IF(F25=\"Won\",\"Lost\",IF(F25=\"DNF (Leading)\",\"DNF (Trailing)\",IF(F25=\"DNF (Trailing)\",\"DNF (Leading)\",IF(F25=\"Lost\",\"Won\",F25)))))","v":""},{"$f":"IF(G25=\"\",\"\",IF(G25=\"Won\",\"Lost\",IF(G25=\"DNF (Leading)\",\"DNF (Trailing)\",IF(G25=\"DNF (Trailing)\",\"DNF (Leading)\",IF(G25=\"Lost\",\"Won\",G25)))))","v":""},{"$f":"IF(H25=\"Won\",\"Lost\",IF(H25=\"Lost\",\"Won\",H25))","v":""},{"$f":"IF(C25=\"Bye\",1,IF(LEN(E26&F26&G26)=0,0,COUNTIF(E26:G26,\"Won\")*1+COUNTIF(E26:G26,\"DNF (Leading)\")*0.67+COUNTIF(E26:G26,\"DNF (Tied)\")*0.5+COUNTIF(E26:G26,\"DNF (Trailing)\")*0.33))","v":0},{"$f":"C25","v":0}]
[13,null,null,{"$f":"IF(ISERROR(VLOOKUP(C27,'Team List'!B:D,3,0)),\"\",VLOOKUP(C27,'Team List'!B:D,2,0))","v":""},null,null,null,{"$f":"IF(COUNTIF(E27:G27,\"Won\")=2,\"Won\",IF(COUNTIF(E27:G27,\"Lost\")=2,\"Lost\",IF(AND((E27=\"Won\"),OR(F27=\"DNF (Leading)\",F27=\"DNF (Tied)\",F27=\"DNF (Trailing)\")),\"Won\",IF(AND(COUNTIF(E27:F27,\"Won\")=1,OR(G27=\"DNF (Leading)\",G27=\"DNF (Tied)\",G27=\"DNF (Trailing)\")),\"Tied\",IF(OR(E27=\"DNF (Leading)\",E27=\"DNF (Tied)\",E27=\"DNF (Trailing)\"),\"Tied\",IF(AND((E27=\"Lost\"),OR(F27=\"DNF (Leading)\",F27=\"DNF (Tied)\",F27=\"DNF (Trailing)\")),\"Lost\",IF(C28=\"Bye\",\"Bye\",\"\")))))))","v":""},{"$f":"IF(C28=\"Bye\",1,IF(LEN(E27&F27&G27)=0,0,COUNTIF(E27:G27,\"Won\")*1+COUNTIF(E27:G27,\"DNF (Leading)\")*0.67+COUNTIF(E27:G27,\"DNF (Tied)\")*0.5+COUNTIF(E27:G27,\"DNF (Trailing)\")*0.33))","v":0},{"$f":"C28","v":0}]
[null,null,null,{"$f":"IF(ISERROR(VLOOKUP(C28,'Team List'!B:D,3,0)),\"\",VLOOKUP(C28,'Team List'!B:D,2,0))","v":""},{"$f":"IF(E27=\"\",\"\",IF(E27=\"Won\",\"Lost\",IF(E27=\"DNF (Leading)\",\"DNF (Trailing)\",IF(E27=\"DNF (Trailing)\",\"DNF (Leading)\",IF(E27=\"Lost\",\"Won\",E27)))))","v":""},{"$f":"IF(F27=\"\",\"\",IF(F27=\"Won\",\"Lost\",IF(F27=\"DNF (Leading)\",\"DNF (Trailing)\",IF(F27=\"DNF (Trailing)\",\"DNF (Leading)\",IF(F27=\"Lost\",\"Won\",F27)))))","v":""},{"$f":"IF(G27=\"\",\"\",IF(G27=\"Won\",\"Lost\",IF(G27=\"DNF (Leading)\",\"DNF (Trailing)\",IF(G27=\"DNF (Trailing)\",\"DNF (Leading)\",IF(G27=\"Lost\",\"Won\",G27)))))","v":""},{"$f":"IF(H27=\"Won\",\"Lost\",IF(H27=\"Lost\",\"Won\",H27))","v":""},{"$f":"IF(C27=\"Bye\",1,IF(LEN(E28&F28&G28)=0,0,COUNTIF(E28:G28,\"Won\")*1+COUNTIF(E28:G28,\"DNF (Leading)\")*0.67+COUNTIF(E28:G28,\"DNF (Tied)\")*0.5+COUNTIF(E28:G28,\"DNF (Trailing)\")*0.33))","v":0},{"$f":"C27","v":0}]
[14,null,null,{"$f":"IF(ISERROR(VLOOKUP(C29,'Team List'!B:D,3,0)),\"\",VLOOKUP(C29,'Team List'!B:D,2,0))","v":""},null,null,null,{"$f":"IF(COUNTIF(E29:G29,\"Won\")=2,\"Won\",IF(COUNTIF(E29:G29,\"Lost\")=2,\"Lost\",IF(AND((E29=\"Won\"),OR(F29=\"DNF (Leading)\",F29=\"DNF (Tied)\",F29=\"DNF (Trailing)\")),\"Won\",IF(AND(COUNTIF(E29:F29,\"Won\")=1,OR(G29=\"DNF (Leading)\",G29=\"DNF (Tied)\",G29=\"DNF (Trailing)\")),\"Tied\",IF(OR(E29=\"DNF (Leading)\",E29=\"DNF (Tied)\",E29=\"DNF (Trailing)\"),\"Tied\",IF(AND((E29=\"Lost\"),OR(F29=\"DNF (Leading)\",F29=\"DNF (Tied)\",F29=\"DNF (Trailing)\")),\"Lost\",IF(C30=\"Bye\",\"Bye\",\"\")))))))","v":""},{"$f":"IF(C30=\"Bye\",1,IF(LEN(E29&F29&G29)=0,0,COUNTIF(E29:G29,\"Won\")*1+COUNTIF(E29:G29,\"DNF (Leading)\")*0.67+COUNTIF(E29:G29,\"DNF (Tied)\")*0.5+COUNTIF(E29:G29,\"DNF (Trailing)\")*0.33))","v":0},{"$f":"C30","v":0}]
[null,null,null,{"$f":"IF(ISERROR(VLOOKUP(C30,'Team List'!B:D,3,0)),\"\",VLOOKUP(C30,'Team List'!B:D,2,0))","v":""},{"$f":"IF(E29=\"\",\"\",IF(E29=\"Won\",\"Lost\",IF(E29=\"DNF (Leading)\",\"DNF (Trailing)\",IF(E29=\"DNF (Trailing)\",\"DNF (Leading)\",IF(E29=\"Lost\",\"Won\",E29)))))","v":""},{"$f":"IF(F29=\"\",\"\",IF(F29=\"Won\",\"Lost\",IF(F29=\"DNF (Leading)\",\"DNF (Trailing)\",IF(F29=\"DNF (Trailing)\",\"DNF (Leading)\",IF(F29=\"Lost\",\"Won\",F29)))))","v":""},{"$f":"IF(G29=\"\",\"\",IF(G29=\"Won\",\"Lost\",IF(G29=\"DNF (Leading)\",\"DNF (Trailing)\",IF(G29=\"DNF (Trailing)\",\"DNF (Leading)\",IF(G29=\"Lost\",\"Won\",G29)))))","v":""},{"$f":"IF(H29=\"Won\",\"Lost\",IF(H29=\"Lost\",\"Won\",H29))","v":""},{"$f":"IF(C29=\"Bye\",1,IF(LEN(E30&F30&G30)=0,0,COUNTIF(E30:G30,\"Won\")*1+COUNTIF(E30:G30,\"DNF (Leading)\")*0.67+COUNTIF(E30:G30,\"DNF (Tied)\")*0.5+COUNTIF(E30:G30,\"DNF (Trailing)\")*0.33))","v":0},{"$f":"C29","v":0}]
[15,null,null,{"$f":"IF(ISERROR(VLOOKUP(C31,'Team List'!B:D,3,0)),\"\",VLOOKUP(C31,'Team List'!B:D,2,0))","v":""},null,null,null,{"$f":"IF(COUNTIF(E31:G31,\"Won\")=2,\"Won\",IF(COUNTIF(E31:G31,\"Lost\")=2,\"Lost\",IF(AND((E31=\"Won\"),OR(F31=\"DNF (Leading)\",F31=\"DNF (Tied)\",F31=\"DNF (Trailing)\")),\"Won\",IF(AND(COUNTIF(E31:F31,\"Won\")=1,OR(G31=\"DNF (Leading)\",G31=\"DNF (Tied)\",G31=\"DNF (Trailing)\")),\"Tied\",IF(OR(E31=\"DNF (Leading)\",E31=\"DNF (Tied)\",E31=\"DNF (Trailing)\"),\"Tied\",IF(AND((E31=\"Lost\"),OR(F31=\"DNF (Leading)\",F31=\"DNF (Tied)\",F31=\"DNF (Trailing)\")),\"Lost\",IF(C32=\"Bye\",\"Bye\",\"\")))))))","v":""},{"$f":"IF(C32=\"Bye\",1,IF(LEN(E31&F31&G31)=0,0,COUNTIF(E31:G31,\"Won\")*1+COUNTIF(E31:G31,\"DNF (Leading)\")*0.67+COUNTIF(E31:G31,\"DNF (Tied)\")*0.5+COUNTIF(E31:G31,\"DNF (Trailing)\")*0.33))","v":0},{"$f":"C32","v":0}]
[null,null,null,{"$f":"IF(ISERROR(VLOOKUP(C32,'Team List'!B:D,3,0)),\"\",VLOOKUP(C32,'Team List'!B:D,2,0))","v":""},{"$f":"IF(E31=\"\",\"\",IF(E31=\"Won\",\"Lost\",IF(E31=\"DNF (Leading)\",\"DNF (Trailing)\",IF(E31=\"DNF (Trailing)\",\"DNF (Leading)\",IF(E31=\"Lost\",\"Won\",E31)))))","v":""},{"$f":"IF(F31=\"\",\"\",IF(F31=\"Won\",\"Lost\",IF(F31=\"DNF (Leading)\",\"DNF (Trailing)\",IF(F31=\"DNF (Trailing)\",\"DNF (Leading)\",IF(F31=\"Lost\",\"Won\",F31)))))","v":""},{"$f":"IF(G31=\"\",\"\",IF(G31=\"Won\",\"Lost\",IF(G31=\"DNF (Leading)\",\"DNF (Trailing)\",IF(G31=\"DNF (Trailing)\",\"DNF (Leading)\",IF(G31=\"Lost\",\"Won\",G31)))))","v":""},{"$f":"IF(H31=\"Won\",\"Lost\",IF(H31=\"Lost\",\"Won\",H31))","v":""},{"$f":"IF(C31=\"Bye\",1,IF(LEN(E32&F32&G32)=0,0,COUNTIF(E32:G32,\"Won\")*1+COUNTIF(E32:G32,\"DNF (Leading)\")*0.67+COUNTIF(E32:G32,\"DNF (Tied)\")*0.5+COUNTIF(E32:G32,\"DNF (Trailing)\")*0.33))","v":0},{"$f":"C31","v":0}]
[16,null,null,{"$f":"IF(ISERROR(VLOOKUP(C33,'Team List'!B:D,3,0)),\"\",VLOOKUP(C33,'Team List'!B:D,2,0))","v":""},null,null,null,{"$f":"IF(COUNTIF(E33:G33,\"Won\")=2,\"Won\",IF(COUNTIF(E33:G33,\"Lost\")=2,\"Lost\",IF(AND((E33=\"Won\"),OR(F33=\"DNF (Leading)\",F33=\"DNF (Tied)\",F33=\"DNF (Trailing)\")),\"Won\",IF(AND(COUNTIF(E33:F33,\"Won\")=1,OR(G33=\"DNF (Leading)\",G33=\"DNF (Tied)\",G33=\"DNF (Trailing)\")),\"Tied\",IF(OR(E33=\"DNF (Leading)\",E33=\"DNF (Tied)\",E33=\"DNF (Trailing)\"),\"Tied\",IF(AND((E33=\"Lost\"),OR(F33=\"DNF (Leading)\",F33=\"DNF (Tied)\",F33=\"DNF (Trailing)\")),\"Lost\",IF(C34=\"Bye\",\"Bye\",\"\")))))))","v":""},{"$f":"IF(C34=\"Bye\",1,IF(LEN(E33&F33&G33)=0,0,COUNTIF(E33:G33,\"Won\")*1+COUNTIF(E33:G33,\"DNF (Leading)\")*0.67+COUNTIF(E33:G33,\"DNF (Tied)\")*0.5+COUNTIF(E33:G33,\"DNF (Trailing)\")*0.33))","v":0},{"$f":"C34","v":0}]
[null,null,null,{"$f":"IF(ISERROR(VLOOKUP(C34,'Team List'!B:D,3,0)),\"\",VLOOKUP(C34,'Team List'!B:D,2,0))","v":""},{"$f":"IF(E33=\"\",\"\",IF(E33=\"Won\",\"Lost\",IF(E33=\"DNF (Leading)\",\"DNF (Trailing)\",IF(E33=\"DNF (Trailing)\",\"DNF (Leading)\",IF(E33=\"Lost\",\"Won\",E33)))))","v":""},{"$f":"IF(F33=\"\",\"\",IF(F33=\"Won\",\"Lost\",IF(F33=\"DNF (Leading)\",\"DNF (Trailing)\",IF(F33=\"DNF (Trailing)\",\"DNF (Leading)\",IF(F33=\"Lost\",\"Won\",F33)))))","v":""},{"$f":"IF(G33=\"\",\"\",IF(G33=\"Won\",\"Lost\",IF(G33=\"DNF (Leading)\",\"DNF (Trailing)\",IF(G33=\"DNF (Trailing)\",\"DNF (Leading)\",IF(G33=\"Lost\",\"Won\",G33)))))","v":""},{"$f":"IF(H33=\"Won\",\"Lost\",IF(H33=\"Lost\",\"Won\",H33))","v":""},{"$f":"IF(C33=\"Bye\",1,IF(LEN(E34&F34&G34)=0,0,COUNTIF(E34:G34,\"Won\")*1+COUNTIF(E34:G34,\"DNF (Leading)\")*0.67+COUNTIF(E34:G34,\"DNF (Tied)\")*0.5+COUNTIF(E34:G34,\"DNF (Trailing)\")*0.33))","v":0},{"$f":"C33","v":0}]
[17,null,null,{"$f":"IF(ISERROR(VLOOKUP(C35,'Team List'!B:D,3,0)),\"\",VLOOKUP(C35,'Team List'!B:D,2,0))","v":""},null,null,null,{"$f":"IF(COUNTIF(E35:G35,\"Won\")=2,\"Won\",IF(COUNTIF(E35:G35,\"Lost\")=2,\"Lost\",IF(AND((E35=\"Won\"),OR(F35=\"DNF (Leading)\",F35=\"DNF (Tied)\",F35=\"DNF (Trailing)\")),\"Won\",IF(AND(COUNTIF(E35:F35,\"Won\")=1,OR(G35=\"DNF (Leading)\",G35=\"DNF (Tied)\",G35=\"DNF (Trailing)\")),\"Tied\",IF(OR(E35=\"DNF (Leading)\",E35=\"DNF (Tied)\",E35=\"DNF (Trailing)\"),\"Tied\",IF(AND((E35=\"Lost\"),OR(F35=\"DNF (Leading)\",F35=\"DNF (Tied)\",F35=\"DNF (Trailing)\")),\"Lost\",IF(C36=\"Bye\",\"Bye\",\"\")))))))","v":""},{"$f":"IF(C36=\"Bye\",0,IF(LEN(E35&F35&G35)=0,0,COUNTIF(E35:G35,\"Won\")*1+COUNTIF(E35:G35,\"DNF (Leading)\")*0.67+COUNTIF(E35:G35,\"DNF (Tied)\")*0.5+COUNTIF(E35:G35,\"DNF (Trailing)\")*0.33))","v":0},{"$f":"C36","v":0}]
[null,null,null,{"$f":"IF(ISERROR(VLOOKUP(C36,'Team List'!B:D,3,0)),\"\",VLOOKUP(C36,'Team List'!B:D,2,0))","v":""},{"$f":"IF(E35=\"\",\"\",IF(E35=\"Won\",\"Lost\",IF(E35=\"DNF (Leading)\",\"DNF (Trailing)\",IF(E35=\"DNF (Trailing)\",\"DNF (Leading)\",IF(E35=\"Lost\",\"Won\",E35)))))","v":""},{"$f":"IF(F35=\"\",\"\",IF(F35=\"Won\",\"Lost\",IF(F35=\"DNF (Leading)\",\"DNF (Trailing)\",IF(F35=\"DNF (Trailing)\",\"DNF (Leading)\",IF(F35=\"Lost\",\"Won\",F35)))))","v":""},{"$f":"IF(G35=\"\",\"\",IF(G35=\"Won\",\"Lost\",IF(G35=\"DNF (Leading)\",\"DNF (Trailing)\",IF(G35=\"DNF (Trailing)\",\"DNF (Leading)\",IF(G35=\"Lost\",\"Won\",G35)))))","v":""},{"$f":"IF(H35=\"Won\",\"Lost\",IF(H35=\"Lost\",\"Won\",H35))","v":""},{"$f":"IF(C35=\"Bye\",0,IF(LEN(E36&F36&G36)=0,0,COUNTIF(E36:G36,\"Won\")*1+COUNTIF(E36:G36,\"DNF (Leading)\")*0.67+COUNTIF(E36:G36,\"DNF (Tied)\")*0.5+COUNTIF(E36:G36,\"DNF (Trailing)\")*0.33))","v":0},{"$f":"C35","v":0}]
[18,null,null,{"$f":"IF(ISERROR(VLOOKUP(C37,'Team List'!B:D,3,0)),\"\",VLOOKUP(C37,'Team List'!B:D,2,0))","v":""},null,null,null,{"$f":"IF(COUNTIF(E37:G37,\"Won\")=2,\"Won\",IF(COUNTIF(E37:G37,\"Lost\")=2,\"Lost\",IF(AND((E37=\"Won\"),OR(F37=\"DNF (Leading)\",F37=\"DNF (Tied)\",F37=\"DNF (Trailing)\")),\"Won\",IF(AND(COUNTIF(E37:F37,\"Won\")=1,OR(G37=\"DNF (Leading)\",G37=\"DNF (Tied)\",G37=\"DNF (Trailing)\")),\"Tied\",IF(OR(E37=\"DNF (Leading)\",E37=\"DNF (Tied)\",E37=\"DNF (Trailing)\"),\"Tied\",IF(AND((E37=\"Lost\"),OR(F37=\"DNF (Leading)\",F37=\"DNF (Tied)\",F37=\"DNF (Trailing)\")),\"Lost\",IF(C38=\"Bye\",\"Bye\",\"\")))))))","v":""},{"$f":"IF(C38=\"Bye\",0,IF(LEN(E37&F37&G37)=0,0,COUNTIF(E37:G37,\"Won\")*1+COUNTIF(E37:G37,\"DNF (Leading)\")*0.67+COUNTIF(E37:G37,\"DNF (Tied)\")*0.5+COUNTIF(E37:G37,\"DNF (Trailing)\")*0.33))","v":0},{"$f":"C38","v":0}]
[null,null,null,{"$f":"IF(ISERROR(VLOOKUP(C38,'Team List'!B:D,3,0)),\"\",VLOOKUP(C38,'Team List'!B:D,2,0))","v":""},{"$f":"IF(E37=\"\",\"\",IF(E37=\"Won\",\"Lost\",IF(E37=\"DNF (Leading)\",\"DNF (Trailing)\",IF(E37=\"DNF (Trailing)\",\"DNF (Leading)\",IF(E37=\"Lost\",\"Won\",E37)))))","v":""},{"$f":"IF(F37=\"\",\"\",IF(F37=\"Won\",\"Lost\",IF(F37=\"DNF (Leading)\",\"DNF (Trailing)\",IF(F37=\"DNF (Trailing)\",\"DNF (Leading)\",IF(F37=\"Lost\",\"Won\",F37)))))","v":""},{"$f":"IF(G37=\"\",\"\",IF(G37=\"Won\",\"Lost\",IF(G37=\"DNF (Leading)\",\"DNF (Trailing)\",IF(G37=\"DNF (Trailing)\",\"DNF (Leading)\",IF(G37=\"Lost\",\"Won\",G37)))))","v":""},{"$f":"IF(H37=\"Won\",\"Lost\",IF(H37=\"Lost\",\"Won\",H37))","v":""},{"$f":"IF(C37=\"Bye\",0,IF(LEN(E38&F38&G38)=0,0,COUNTIF(E38:G38,\"Won\")*1+COUNTIF(E38:G38,\"DNF (Leading)\")*0.67+COUNTIF(E38:G38,\"DNF (Tied)\")*0.5+COUNTIF(E38:G38,\"DNF (Trailing)\")*0.33))","v":0},{"$f":"C37","v":0}]
[19,null,null,{"$f":"IF(ISERROR(VLOOKUP(C39,'Team List'!B:D,3,0)),\"\",VLOOKUP(C39,'Team List'!B:D,2,0))","v":""},null,null,null,{"$f":"IF(COUNTIF(E39:G39,\"Won\")=2,\"Won\",IF(COUNTIF(E39:G39,\"Lost\")=2,\"Lost\",IF(AND((E39=\"Won\"),OR(F39=\"DNF (Leading)\",F39=\"DNF (Tied)\",F39=\"DNF (Trailing)\")),\"Won\",IF(AND(COUNTIF(E39:F39,\"Won\")=1,OR(G39=\"DNF (Leading)\",G39=\"DNF (Tied)\",G39=\"DNF (Trailing)\")),\"Tied\",IF(OR(E39=\"DNF (Leading)\",E39=\"DNF (Tied)\",E39=\"DNF (Trailing)\"),\"Tied\",IF(AND((E39=\"Lost\"),OR(F39=\"DNF (Leading)\",F39=\"DNF (Tied)\",F39=\"DNF (Trailing)\")),\"Lost\",IF(C40=\"Bye\",\"Bye\",\"\")))))))","v":""},{"$f":"IF(C40=\"Bye\",0,IF(LEN(E39&F39&G39)=0,0,COUNTIF(E39:G39,\"Won\")*1+COUNTIF(E39:G39,\"DNF (Leading)\")*0.67+COUNTIF(E39:G39,\"DNF (Tied)\")*0.5+COUNTIF(E39:G39,\"DNF (Trailing)\")*0.33))","v":0},{"$f":"C40","v":0}]
[null,null,null,{"$f":"IF(ISERROR(VLOOKUP(C40,'Team List'!B:D,3,0)),\"\",VLOOKUP(C40,'Team List'!B:D,2,0))","v":""},{"$f":"IF(E39=\"\",\"\",IF(E39=\"Won\",\"Lost\",IF(E39=\"DNF (Leading)\",\"DNF (Trailing)\",IF(E39=\"DNF (Trailing)\",\"DNF (Leading)\",IF(E39=\"Lost\",\"Won\",E39)))))","v":""},{"$f":"IF(F39=\"\",\"\",IF(F39=\"Won\",\"Lost\",IF(F39=\"DNF (Leading)\",\"DNF (Trailing)\",IF(F39=\"DNF (Trailing)\",\"DNF (Leading)\",IF(F39=\"Lost\",\"Won\",F39)))))","v":""},{"$f":"IF(G39=\"\",\"\",IF(G39=\"Won\",\"Lost\",IF(G39=\"DNF (Leading)\",\"DNF (Trailing)\",IF(G39=\"DNF (Trailing)\",\"DNF (Leading)\",IF(G39=\"Lost\",\"Won\",G39)))))","v":""},{"$f":"IF(H39=\"Won\",\"Lost\",IF(H39=\"Lost\",\"Won\",H39))","v":""},{"$f":"IF(C39=\"Bye\",0,IF(LEN(E40&F40&G40)=0,0,COUNTIF(E40:G40,\"Won\")*1+COUNTIF(E40:G40,\"DNF (Leading)\")*0.67+COUNTIF(E40:G40,\"DNF (Tied)\")*0.5+COUNTIF(E40:G40,\"DNF (Trailing)\")*0.33))","v":0},{"$f":"C39","v":0}]
[20,null,null,{"$f":"IF(ISERROR(VLOOKUP(C41,'Team List'!B:D,3,0)),\"\",VLOOKUP(C41,'Team List'!B:D,2,0))","v":""},null,null,null,{"$f":"IF(COUNTIF(E41:G41,\"Won\")=2,\"Won\",IF(COUNTIF(E41:G41,\"Lost\")=2,\"Lost\",IF(AND((E41=\"Won\"),OR(F41=\"DNF (Leading)\",F41=\"DNF (Tied)\",F41=\"DNF (Trailing)\")),\"Won\",IF(AND(COUNTIF(E41:F41,\"Won\")=1,OR(G41=\"DNF (Leading)\",G41=\"DNF (Tied)\",G41=\"DNF (Trailing)\")),\"Tied\",IF(OR(E41=\"DNF (Leading)\",E41=\"DNF (Tied)\",E41=\"DNF (Trailing)\"),\"Tied\",IF(AND((E41=\"Lost\"),OR(F41=\"DNF (Leading)\",F41=\"DNF (Tied)\",F41=\"DNF (Trailing)\")),\"Lost\",IF(C42=\"Bye\",\"Bye\",\"\")))))))","v":""},{"$f":"IF(C42=\"Bye\",0,IF(LEN(E41&F41&G41)=0,0,COUNTIF(E41:G41,\"Won\")*1+COUNTIF(E41:G41,\"DNF (Leading)\")*0.67+COUNTIF(E41:G41,\"DNF (Tied)\")*0.5+COUNTIF(E41:G41,\"DNF (Trailing)\")*0.33))","v":0},{"$f":"C42","v":0}]
[null,null,null,{"$f":"IF(ISERROR(VLOOKUP(C42,'Team List'!B:D,3,0)),\"\",VLOOKUP(C42,'Team List'!B:D,2,0))","v":""},{"$f":"IF(E41=\"\",\"\",IF(E41=\"Won\",\"Lost\",IF(E41=\"DNF (Leading)\",\"DNF (Trailing)\",IF(E41=\"DNF (Trailing)\",\"DNF (Leading)\",IF(E41=\"Lost\",\"Won\",E41)))))","v":""},{"$f":"IF(F41=\"\",\"\",IF(F41=\"Won\",\"Lost\",IF(F41=\"DNF (Leading)\",\"DNF (Trailing)\",IF(F41=\"DNF (Trailing)\",\"DNF (Leading)\",IF(F41=\"Lost\",\"Won\",F41)))))","v":""},{"$f":"IF(G41=\"\",\"\",IF(G41=\"Won\",\"Lost\",IF(G41=\"DNF (Leading)\",\"DNF (Trailing)\",IF(G41=\"DNF (Trailing)\",\"DNF (Leading)\",IF(G41=\"Lost\",\"Won\",G41)))))","v":""},{"$f":"IF(H41=\"Won\",\"Lost\",IF(H41=\"Lost\",\"Won\",H41))","v":""},{"$f":"IF(C41=\"Bye\",0,IF(LEN(E42&F42&G42)=0,0,COUNTIF(E42:G42,\"Won\")*1+COUNTIF(E42:G42,\"DNF (Leading)\")*0.67+COUNTIF(E42:G42,\"DNF (Tied)\")*0.5+COUNTIF(E42:G42,\"DNF (Trailing)\")*0.33))","v":0},{"$f":"C41","v":0}]
[21,null,null,{"$f":"IF(ISERROR(VLOOKUP(C43,'Team List'!B:D,3,0)),\"\",VLOOKUP(C43,'Team List'!B:D,2,0))","v":""},null,null,null,{"$f":"IF(COUNTIF(E43:G43,\"Won\")=2,\"Won\",IF(COUNTIF(E43:G43,\"Lost\")=2,\"Lost\",IF(AND((E43=\"Won\"),OR(F43=\"DNF (Leading)\",F43=\"DNF (Tied)\",F43=\"DNF (Trailing)\")),\"Won\",IF(AND(COUNTIF(E43:F43,\"Won\")=1,OR(G43=\"DNF (Leading)\",G43=\"DNF (Tied)\",G43=\"DNF (Trailing)\")),\"Tied\",IF(OR(E43=\"DNF (Leading)\",E43=\"DNF (Tied)\",E43=\"DNF (Trailing)\"),\"Tied\",IF(AND((E43=\"Lost\"),OR(F43=\"DNF (Leading)\",F43=\"DNF (Tied)\",F43=\"DNF (Trailing)\")),\"Lost\",IF(C44=\"Bye\",\"Bye\",\"\")))))))","v":""},{"$f":"IF(C44=\"Bye\",0,IF(LEN(E43&F43&G43)=0,0,COUNTIF(E43:G43,\"Won\")*1+COUNTIF(E43:G43,\"DNF (Leading)\")*0.67+COUNTIF(E43:G43,\"DNF (Tied)\")*0.5+COUNTIF(E43:G43,\"DNF (Trailing)\")*0.33))","v":0},{"$f":"C44","v":0}]
[null,null,null,{"$f":"IF(ISERROR(VLOOKUP(C44,'Team List'!B:D,3,0)),\"\",VLOOKUP(C44,'Team List'!B:D,2,0))","v":""},{"$f":"IF(E43=\"\",\"\",IF(E43=\"Won\",\"Lost\",IF(E43=\"DNF (Leading)\",\"DNF (Trailing)\",IF(E43=\"DNF (Trailing)\",\"DNF (Leading)\",IF(E43=\"Lost\",\"Won\",E43)))))","v":""},{"$f":"IF(F43=\"\",\"\",IF(F43=\"Won\",\"Lost\",IF(F43=\"DNF (Leading)\",\"DNF (Trailing)\",IF(F43=\"DNF (Trailing)\",\"DNF (Leading)\",IF(F43=\"Lost\",\"Won\",F43)))))","v":""},{"$f":"IF(G43=\"\",\"\",IF(G43=\"Won\",\"Lost\",IF(G43=\"DNF (Leading)\",\"DNF (Trailing)\",IF(G43=\"DNF (Trailing)\",\"DNF (Leading)\",IF(G43=\"Lost\",\"Won\",G43)))))","v":""},{"$f":"IF(H43=\"Won\",\"Lost\",IF(H43=\"Lost\",\"Won\",H43))","v":""},{"$f":"IF(C43=\"Bye\",0,IF(LEN(E44&F44&G44)=0,0,COUNTIF(E44:G44,\"Won\")*1+COUNTIF(E44:G44,\"DNF (Leading)\")*0.67+COUNTIF(E44:G44,\"DNF (Tied)\")*0.5+COUNTIF(E44:G44,\"DNF (Trailing)\")*0.33))","v":0},{"$f":"C43","v":0}]
[22,null,null,{"$f":"IF(ISERROR(VLOOKUP(C45,'Team List'!B:D,3,0)),\"\",VLOOKUP(C45,'Team List'!B:D,2,0))","v":""},null,null,null,{"$f":"IF(COUNTIF(E45:G45,\"Won\")=2,\"Won\",IF(COUNTIF(E45:G45,\"Lost\")=2,\"Lost\",IF(AND((E45=\"Won\"),OR(F45=\"DNF (Leading)\",F45=\"DNF (Tied)\",F45=\"DNF (Trailing)\")),\"Won\",IF(AND(COUNTIF(E45:F45,\"Won\")=1,OR(G45=\"DNF (Leading)\",G45=\"DNF (Tied)\",G45=\"DNF (Trailing)\")),\"Tied\",IF(OR(E45=\"DNF (Leading)\",E45=\"DNF (Tied)\",E45=\"DNF (Trailing)\"),\"Tied\",IF(AND((E45=\"Lost\"),OR(F45=\"DNF (Leading)\",F45=\"DNF (Tied)\",F45=\"DNF (Trailing)\")),\"Lost\",IF(C46=\"Bye\",\"Bye\",\"\")))))))","v":""},{"$f":"IF(C46=\"Bye\",0,IF(LEN(E45&F45&G45)=0,0,COUNTIF(E45:G45,\"Won\")*1+COUNTIF(E45:G45,\"DNF (Leading)\")*0.67+COUNTIF(E45:G45,\"DNF (Tied)\")*0.5+COUNTIF(E45:G45,\"DNF (Trailing)\")*0.33))","v":0},{"$f":"C46","v":0}]
[null,null,null,{"$f":"IF(ISERROR(VLOOKUP(C46,'Team List'!B:D,3,0)),\"\",VLOOKUP(C46,'Team List'!B:D,2,0))","v":""},{"$f":"IF(E45=\"\",\"\",IF(E45=\"Won\",\"Lost\",IF(E45=\"DNF (Leading)\",\"DNF (Trailing)\",IF(E45=\"DNF (Trailing)\",\"DNF (Leading)\",IF(E45=\"Lost\",\"Won\",E45)))))","v":""},{"$f":"IF(F45=\"\",\"\",IF(F45=\"Won\",\"Lost\",IF(F45=\"DNF (Leading)\",\"DNF (Trailing)\",IF(F45=\"DNF (Trailing)\",\"DNF (Leading)\",IF(F45=\"Lost\",\"Won\",F45)))))","v":""},{"$f":"IF(G45=\"\",\"\",IF(G45=\"Won\",\"Lost\",IF(G45=\"DNF (Leading)\",\"DNF (Trailing)\",IF(G45=\"DNF (Trailing)\",\"DNF (Leading)\",IF(G45=\"Lost\",\"Won\",G45)))))","v":""},{"$f":"IF(H45=\"Won\",\"Lost\",IF(H45=\"Lost\",\"Won\",H45))","v":""},{"$f":"IF(C45=\"Bye\",0,IF(LEN(E46&F46&G46)=0,0,COUNTIF(E46:G46,\"Won\")*1+COUNTIF(E46:G46,\"DNF (Leading)\")*0.67+COUNTIF(E46:G46,\"DNF (Tied)\")*0.5+COUNTIF(E46:G46,\"DNF (Trailing)\")*0.33))","v":0},{"$f":"C45","v":0}]
[23,null,null,{"$f":"IF(ISERROR(VLOOKUP(C47,'Team List'!B:D,3,0)),\"\",VLOOKUP(C47,'Team List'!B:D,2,0))","v":""},null,null,null,{"$f":"IF(COUNTIF(E47:G47,\"Won\")=2,\"Won\",IF(COUNTIF(E47:G47,\"Lost\")=2,\"Lost\",IF(AND((E47=\"Won\"),OR(F47=\"DNF (Leading)\",F47=\"DNF (Tied)\",F47=\"DNF (Trailing)\")),\"Won\",IF(AND(COUNTIF(E47:F47,\"Won\")=1,OR(G47=\"DNF (Leading)\",G47=\"DNF (Tied)\",G47=\"DNF (Trailing)\")),\"Tied\",IF(OR(E47=\"DNF (Leading)\",E47=\"DNF (Tied)\",E47=\"DNF (Trailing)\"),\"Tied\",IF(AND((E47=\"Lost\"),OR(F47=\"DNF (Leading)\",F47=\"DNF (Tied)\",F47=\"DNF (Trailing)\")),\"Lost\",IF(C48=\"Bye\",\"Bye\",\"\")))))))","v":""},{"$f":"IF(C48=\"Bye\",0,IF(LEN(E47&F47&G47)=0,0,COUNTIF(E47:G47,\"Won\")*1+COUNTIF(E47:G47,\"DNF (Leading)\")*0.67+COUNTIF(E47:G47,\"DNF (Tied)\")*0.5+COUNTIF(E47:G47,\"DNF (Trailing)\")*0.33))","v":0},{"$f":"C48","v":0}]
[null,null,null,{"$f":"IF(ISERROR(VLOOKUP(C48,'Team List'!B:D,3,0)),\"\",VLOOKUP(C48,'Team List'!B:D,2,0))","v":""},{"$f":"IF(E47=\"\",\"\",IF(E47=\"Won\",\"Lost\",IF(E47=\"DNF (Leading)\",\"DNF (Trailing)\",IF(E47=\"DNF (Trailing)\",\"DNF (Leading)\",IF(E47=\"Lost\",\"Won\",E47)))))","v":""},{"$f":"IF(F47=\"\",\"\",IF(F47=\"Won\",\"Lost\",IF(F47=\"DNF (Leading)\",\"DNF (Trailing)\",IF(F47=\"DNF (Trailing)\",\"DNF (Leading)\",IF(F47=\"Lost\",\"Won\",F47)))))","v":""},{"$f":"IF(G47=\"\",\"\",IF(G47=\"Won\",\"Lost\",IF(G47=\"DNF (Leading)\",\"DNF (Trailing)\",IF(G47=\"DNF (Trailing)\",\"DNF (Leading)\",IF(G47=\"Lost\",\"Won\",G47)))))","v":""},{"$f":"IF(H47=\"Won\",\"Lost\",IF(H47=\"Lost\",\"Won\",H47))","v":""},{"$f":"IF(C47=\"Bye\",0,IF(LEN(E48&F48&G48)=0,0,COUNTIF(E48:G48,\"Won\")*1+COUNTIF(E48:G48,\"DNF (Leading)\")*0.67+COUNTIF(E48:G48,\"DNF (Tied)\")*0.5+COUNTIF(E48:G48,\"DNF (Trailing)\")*0.33))","v":0},{"$f":"C47","v":0}]
[24,null,null,{"$f":"IF(ISERROR(VLOOKUP(C49,'Team List'!B:D,3,0)),\"\",VLOOKUP(C49,'Team List'!B:D,2,0))","v":""},null,null,null,{"$f":"IF(COUNTIF(E49:G49,\"Won\")=2,\"Won\",IF(COUNTIF(E49:G49,\"Lost\")=2,\"Lost\",IF(AND((E49=\"Won\"),OR(F49=\"DNF (Leading)\",F49=\"DNF (Tied)\",F49=\"DNF (Trailing)\")),\"Won\",IF(AND(COUNTIF(E49:F49,\"Won\")=1,OR(G49=\"DNF (Leading)\",G49=\"DNF (Tied)\",G49=\"DNF (Trailing)\")),\"Tied\",IF(OR(E49=\"DNF (Leading)\",E49=\"DNF (Tied)\",E49=\"DNF (Trailing)\"),\"Tied\",IF(AND((E49=\"Lost\"),OR(F49=\"DNF (Leading)\",F49=\"DNF (Tied)\",F49=\"DNF (Trailing)\")),\"Lost\",IF(C50=\"Bye\",\"Bye\",\"\")))))))","v":""},{"$f":"IF(C50=\"Bye\",0,IF(LEN(E49&F49&G49)=0,0,COUNTIF(E49:G49,\"Won\")*1+COUNTIF(E49:G49,\"DNF (Leading)\")*0.67+COUNTIF(E49:G49,\"DNF (Tied)\")*0.5+COUNTIF(E49:G49,\"DNF (Trailing)\")*0.33))","v":0},{"$f":"C50","v":0}]
[null,null,null,{"$f":"IF(ISERROR(VLOOKUP(C50,'Team List'!B:D,3,0)),\"\",VLOOKUP(C50,'Team List'!B:D,2,0))","v":""},{"$f":"IF(E49=\"\",\"\",IF(E49=\"Won\",\"Lost\",IF(E49=\"DNF (Leading)\",\"DNF (Trailing)\",IF(E49=\"DNF (Trailing)\",\"DNF (Leading)\",IF(E49=\"Lost\",\"Won\",E49)))))","v":""},{"$f":"IF(F49=\"\",\"\",IF(F49=\"Won\",\"Lost\",IF(F49=\"DNF (Leading)\",\"DNF (Trailing)\",IF(F49=\"DNF (Trailing)\",\"DNF (Leading)\",IF(F49=\"Lost\",\"Won\",F49)))))","v":""},{"$f":"IF(G49=\"\",\"\",IF(G49=\"Won\",\"Lost\",IF(G49=\"DNF (Leading)\",\"DNF (Trailing)\",IF(G49=\"DNF (Trailing)\",\"DNF (Leading)\",IF(G49=\"Lost\",\"Won\",G49)))))","v":""},{"$f":"IF(H49=\"Won\",\"Lost\",IF(H49=\"Lost\",\"Won\",H49))","v":""},{"$f":"IF(C49=\"Bye\",0,IF(LEN(E50&F50&G50)=0,0,COUNTIF(E50:G50,\"Won\")*1+COUNTIF(E50:G50,\"DNF (Leading)\")*0.67+COUNTIF(E50:G50,\"DNF (Tied)\")*0.5+COUNTIF(E50:G50,\"DNF (Trailing)\")*0.33))","v":0},{"$f":"C49","v":0}]
[25,null,null,{"$f":"IF(ISERROR(VLOOKUP(C51,'Team List'!B:D,3,0)),\"\",VLOOKUP(C51,'Team List'!B:D,2,0))","v":""},null,null,null,{"$f":"IF(COUNTIF(E51:G51,\"Won\")=2,\"Won\",IF(COUNTIF(E51:G51,\"Lost\")=2,\"Lost\",IF(AND((E51=\"Won\"),OR(F51=\"DNF (Leading)\",F51=\"DNF (Tied)\",F51=\"DNF (Trailing)\")),\"Won\",IF(AND(COUNTIF(E51:F51,\"Won\")=1,OR(G51=\"DNF (Leading)\",G51=\"DNF (Tied)\",G51=\"DNF (Trailing)\")),\"Tied\",IF(OR(E51=\"DNF (Leading)\",E51=\"DNF (Tied)\",E51=\"DNF (Trailing)\"),\"Tied\",IF(AND((E51=\"Lost\"),OR(F51=\"DNF (Leading)\",F51=\"DNF (Tied)\",F51=\"DNF (Trailing)\")),\"Lost\",IF(C52=\"Bye\",\"Bye\",\"\")))))))","v":""},{"$f":"IF(C52=\"Bye\",0,IF(LEN(E51&F51&G51)=0,0,COUNTIF(E51:G51,\"Won\")*1+COUNTIF(E51:G51,\"DNF (Leading)\")*0.67+COUNTIF(E51:G51,\"DNF (Tied)\")*0.5+COUNTIF(E51:G51,\"DNF (Trailing)\")*0.33))","v":0},{"$f":"C52","v":0}]
[null,null,null,{"$f":"IF(ISERROR(VLOOKUP(C52,'Team List'!B:D,3,0)),\"\",VLOOKUP(C52,'Team List'!B:D,2,0))","v":""},{"$f":"IF(E51=\"\",\"\",IF(E51=\"Won\",\"Lost\",IF(E51=\"DNF (Leading)\",\"DNF (Trailing)\",IF(E51=\"DNF (Trailing)\",\"DNF (Leading)\",IF(E51=\"Lost\",\"Won\",E51)))))","v":""},{"$f":"IF(F51=\"\",\"\",IF(F51=\"Won\",\"Lost\",IF(F51=\"DNF (Leading)\",\"DNF (Trailing)\",IF(F51=\"DNF (Trailing)\",\"DNF (Leading)\",IF(F51=\"Lost\",\"Won\",F51)))))","v":""},{"$f":"IF(G51=\"\",\"\",IF(G51=\"Won\",\"Lost\",IF(G51=\"DNF (Leading)\",\"DNF (Trailing)\",IF(G51=\"DNF (Trailing)\",\"DNF (Leading)\",IF(G51=\"Lost\",\"Won\",G51)))))","v":""},{"$f":"IF(H51=\"Won\",\"Lost\",IF(H51=\"Lost\",\"Won\",H51))","v":""},{"$f":"IF(C51=\"Bye\",0,IF(LEN(E52&F52&G52)=0,0,COUNTIF(E52:G52,\"Won\")*1+COUNTIF(E52:G52,\"DNF (Leading)\")*0.67+COUNTIF(E52:G52,\"DNF (Tied)\")*0.5+COUNTIF(E52:G52,\"DNF (Trailing)\")*0.33))","v":0},{"$f":"C51","v":0}]
[26,null,null,{"$f":"IF(ISERROR(VLOOKUP(C53,'Team List'!B:D,3,0)),\"\",VLOOKUP(C53,'Team List'!B:D,2,0))","v":""},null,null,null,{"$f":"IF(COUNTIF(E53:G53,\"Won\")=2,\"Won\",IF(COUNTIF(E53:G53,\"Lost\")=2,\"Lost\",IF(AND((E53=\"Won\"),OR(F53=\"DNF (Leading)\",F53=\"DNF (Tied)\",F53=\"DNF (Trailing)\")),\"Won\",IF(AND(COUNTIF(E53:F53,\"Won\")=1,OR(G53=\"DNF (Leading)\",G53=\"DNF (Tied)\",G53=\"DNF (Trailing)\")),\"Tied\",IF(OR(E53=\"DNF (Leading)\",E53=\"DNF (Tied)\",E53=\"DNF (Trailing)\"),\"Tied\",IF(AND((E53=\"Lost\"),OR(F53=\"DNF (Leading)\",F53=\"DNF (Tied)\",F53=\"DNF (Trailing)\")),\"Lost\",IF(C54=\"Bye\",\"Bye\",\"\")))))))","v":""},{"$f":"IF(C54=\"Bye\",0,IF(LEN(E53&F53&G53)=0,0,COUNTIF(E53:G53,\"Won\")*1+COUNTIF(E53:G53,\"DNF (Leading)\")*0.67+COUNTIF(E53:G53,\"DNF (Tied)\")*0.5+COUNTIF(E53:G53,\"DNF (Trailing)\")*0.33))","v":0},{"$f":"C54","v":0}]
[null,null,null,{"$f":"IF(ISERROR(VLOOKUP(C54,'Team List'!B:D,3,0)),\"\",VLOOKUP(C54,'Team List'!B:D,2,0))","v":""},{"$f":"IF(E53=\"\",\"\",IF(E53=\"Won\",\"Lost\",IF(E53=\"DNF (Leading)\",\"DNF (Trailing)\",IF(E53=\"DNF (Trailing)\",\"DNF (Leading)\",IF(E53=\"Lost\",\"Won\",E53)))))","v":""},{"$f":"IF(F53=\"\",\"\",IF(F53=\"Won\",\"Lost\",IF(F53=\"DNF (Leading)\",\"DNF (Trailing)\",IF(F53=\"DNF (Trailing)\",\"DNF (Leading)\",IF(F53=\"Lost\",\"Won\",F53)))))","v":""},{"$f":"IF(G53=\"\",\"\",IF(G53=\"Won\",\"Lost\",IF(G53=\"DNF (Leading)\",\"DNF (Trailing)\",IF(G53=\"DNF (Trailing)\",\"DNF (Leading)\",IF(G53=\"Lost\",\"Won\",G53)))))","v":""},{"$f":"IF(H53=\"Won\",\"Lost\",IF(H53=\"Lost\",\"Won\",H53))","v":""},{"$f":"IF(C53=\"Bye\",0,IF(LEN(E54&F54&G54)=0,0,COUNTIF(E54:G54,\"Won\")*1+COUNTIF(E54:G54,\"DNF (Leading)\")*0.67+COUNTIF(E54:G54,\"DNF (Tied)\")*0.5+COUNTIF(E54:G54,\"DNF (Trailing)\")*0.33))","v":0},{"$f":"C53","v":0}]
[27,null,null,{"$f":"IF(ISERROR(VLOOKUP(C55,'Team List'!B:D,3,0)),\"\",VLOOKUP(C55,'Team List'!B:D,2,0))","v":""},null,null,null,{"$f":"IF(COUNTIF(E55:G55,\"Won\")=2,\"Won\",IF(COUNTIF(E55:G55,\"Lost\")=2,\"Lost\",IF(AND((E55=\"Won\"),OR(F55=\"DNF (Leading)\",F55=\"DNF (Tied)\",F55=\"DNF (Trailing)\")),\"Won\",IF(AND(COUNTIF(E55:F55,\"Won\")=1,OR(G55=\"DNF (Leading)\",G55=\"DNF (Tied)\",G55=\"DNF (Trailing)\")),\"Tied\",IF(OR(E55=\"DNF (Leading)\",E55=\"DNF (Tied)\",E55=\"DNF (Trailing)\"),\"Tied\",IF(AND((E55=\"Lost\"),OR(F55=\"DNF (Leading)\",F55=\"DNF (Tied)\",F55=\"DNF (Trailing)\")),\"Lost\",IF(C56=\"Bye\",\"Bye\",\"\")))))))","v":""},{"$f":"IF(C56=\"Bye\",0,IF(LEN(E55&F55&G55)=0,0,COUNTIF(E55:G55,\"Won\")*1+COUNTIF(E55:G55,\"DNF (Leading)\")*0.67+COUNTIF(E55:G55,\"DNF (Tied)\")*0.5+COUNTIF(E55:G55,\"DNF (Trailing)\")*0.33))","v":0},{"$f":"C56","v":0}]
[null,null,null,{"$f":"IF(ISERROR(VLOOKUP(C56,'Team List'!B:D,3,0)),\"\",VLOOKUP(C56,'Team List'!B:D,2,0))","v":""},{"$f":"IF(E55=\"\",\"\",IF(E55=\"Won\",\"Lost\",IF(E55=\"DNF (Leading)\",\"DNF (Trailing)\",IF(E55=\"DNF (Trailing)\",\"DNF (Leading)\",IF(E55=\"Lost\",\"Won\",E55)))))","v":""},{"$f":"IF(F55=\"\",\"\",IF(F55=\"Won\",\"Lost\",IF(F55=\"DNF (Leading)\",\"DNF (Trailing)\",IF(F55=\"DNF (Trailing)\",\"DNF (Leading)\",IF(F55=\"Lost\",\"Won\",F55)))))","v":""},{"$f":"IF(G55=\"\",\"\",IF(G55=\"Won\",\"Lost\",IF(G55=\"DNF (Leading)\",\"DNF (Trailing)\",IF(G55=\"DNF (Trailing)\",\"DNF (Leading)\",IF(G55=\"Lost\",\"Won\",G55)))))","v":""},{"$f":"IF(H55=\"Won\",\"Lost\",IF(H55=\"Lost\",\"Won\",H55))","v":""},{"$f":"IF(C55=\"Bye\",0,IF(LEN(E56&F56&G56)=0,0,COUNTIF(E56:G56,\"Won\")*1+COUNTIF(E56:G56,\"DNF (Leading)\")*0.67+COUNTIF(E56:G56,\"DNF (Tied)\")*0.5+COUNTIF(E56:G56,\"DNF (Trailing)\")*0.33))","v":0},{"$f":"C55","v":0}]
[28,null,null,{"$f":"IF(ISERROR(VLOOKUP(C57,'Team List'!B:D,3,0)),\"\",VLOOKUP(C57,'Team List'!B:D,2,0))","v":""},null,null,null,{"$f":"IF(COUNTIF(E57:G57,\"Won\")=2,\"Won\",IF(COUNTIF(E57:G57,\"Lost\")=2,\"Lost\",IF(AND((E57=\"Won\"),OR(F57=\"DNF (Leading)\",F57=\"DNF (Tied)\",F57=\"DNF (Trailing)\")),\"Won\",IF(AND(COUNTIF(E57:F57,\"Won\")=1,OR(G57=\"DNF (Leading)\",G57=\"DNF (Tied)\",G57=\"DNF (Trailing)\")),\"Tied\",IF(OR(E57=\"DNF (Leading)\",E57=\"DNF (Tied)\",E57=\"DNF (Trailing)\"),\"Tied\",IF(AND((E57=\"Lost\"),OR(F57=\"DNF (Leading)\",F57=\"DNF (Tied)\",F57=\"DNF (Trailing)\")),\"Lost\",IF(C58=\"Bye\",\"Bye\",\"\")))))))","v":""},{"$f":"IF(C58=\"Bye\",0,IF(LEN(E57&F57&G57)=0,0,COUNTIF(E57:G57,\"Won\")*1+COUNTIF(E57:G57,\"DNF (Leading)\")*0.67+COUNTIF(E57:G57,\"DNF (Tied)\")*0.5+COUNTIF(E57:G57,\"DNF (Trailing)\")*0.33))","v":0},{"$f":"C58","v":0}]
[null,null,null,{"$f":"IF(ISERROR(VLOOKUP(C58,'Team List'!B:D,3,0)),\"\",VLOOKUP(C58,'Team List'!B:D,2,0))","v":""},{"$f":"IF(E57=\"\",\"\",IF(E57=\"Won\",\"Lost\",IF(E57=\"DNF (Leading)\",\"DNF (Trailing)\",IF(E57=\"DNF (Trailing)\",\"DNF (Leading)\",IF(E57=\"Lost\",\"Won\",E57)))))","v":""},{"$f":"IF(F57=\"\",\"\",IF(F57=\"Won\",\"Lost\",IF(F57=\"DNF (Leading)\",\"DNF (Trailing)\",IF(F57=\"DNF (Trailing)\",\"DNF (Leading)\",IF(F57=\"Lost\",\"Won\",F57)))))","v":""},{"$f":"IF(G57=\"\",\"\",IF(G57=\"Won\",\"Lost\",IF(G57=\"DNF (Leading)\",\"DNF (Trailing)\",IF(G57=\"DNF (Trailing)\",\"DNF (Leading)\",IF(G57=\"Lost\",\"Won\",G57)))))","v":""},{"$f":"IF(H57=\"Won\",\"Lost\",IF(H57=\"Lost\",\"Won\",H57))","v":""},{"$f":"IF(C57=\"Bye\",0,IF(LEN(E58&F58&G58)=0,0,COUNTIF(E58:G58,\"Won\")*1+COUNTIF(E58:G58,\"DNF (Leading)\")*0.67+COUNTIF(E58:G58,\"DNF (Tied)\")*0.5+COUNTIF(E58:G58,\"DNF (Trailing)\")*0.33))","v":0},{"$f":"C57","v":0}]
[29,null,null,{"$f":"IF(ISERROR(VLOOKUP(C59,'Team List'!B:D,3,0)),\"\",VLOOKUP(C59,'Team List'!B:D,2,0))","v":""},null,null,null,{"$f":"IF(COUNTIF(E59:G59,\"Won\")=2,\"Won\",IF(COUNTIF(E59:G59,\"Lost\")=2,\"Lost\",IF(AND((E59=\"Won\"),OR(F59=\"DNF (Leading)\",F59=\"DNF (Tied)\",F59=\"DNF (Trailing)\")),\"Won\",IF(AND(COUNTIF(E59:F59,\"Won\")=1,OR(G59=\"DNF (Leading)\",G59=\"DNF (Tied)\",G59=\"DNF (Trailing)\")),\"Tied\",IF(OR(E59=\"DNF (Leading)\",E59=\"DNF (Tied)\",E59=\"DNF (Trailing)\"),\"Tied\",IF(AND((E59=\"Lost\"),OR(F59=\"DNF (Leading)\",F59=\"DNF (Tied)\",F59=\"DNF (Trailing)\")),\"Lost\",IF(C60=\"Bye\",\"Bye\",\"\")))))))","v":""},{"$f":"IF(C60=\"Bye\",0,IF(LEN(E59&F59&G59)=0,0,COUNTIF(E59:G59,\"Won\")*1+COUNTIF(E59:G59,\"DNF (Leading)\")*0.67+COUNTIF(E59:G59,\"DNF (Tied)\")*0.5+COUNTIF(E59:G59,\"DNF (Trailing)\")*0.33))","v":0},{"$f":"C60","v":0}]
[null,null,null,{"$f":"IF(ISERROR(VLOOKUP(C60,'Team List'!B:D,3,0)),\"\",VLOOKUP(C60,'Team List'!B:D,2,0))","v":""},{"$f":"IF(E59=\"\",\"\",IF(E59=\"Won\",\"Lost\",IF(E59=\"DNF (Leading)\",\"DNF (Trailing)\",IF(E59=\"DNF (Trailing)\",\"DNF (Leading)\",IF(E59=\"Lost\",\"Won\",E59)))))","v":""},{"$f":"IF(F59=\"\",\"\",IF(F59=\"Won\",\"Lost\",IF(F59=\"DNF (Leading)\",\"DNF (Trailing)\",IF(F59=\"DNF (Trailing)\",\"DNF (Leading)\",IF(F59=\"Lost\",\"Won\",F59)))))","v":""},{"$f":"IF(G59=\"\",\"\",IF(G59=\"Won\",\"Lost\",IF(G59=\"DNF (Leading)\",\"DNF (Trailing)\",IF(G59=\"DNF (Trailing)\",\"DNF (Leading)\",IF(G59=\"Lost\",\"Won\",G59)))))","v":""},{"$f":"IF(H59=\"Won\",\"Lost\",IF(H59=\"Lost\",\"Won\",H59))","v":""},{"$f":"IF(C59=\"Bye\",0,IF(LEN(E60&F60&G60)=0,0,COUNTIF(E60:G60,\"Won\")*1+COUNTIF(E60:G60,\"DNF (Leading)\")*0.67+COUNTIF(E60:G60,\"DNF (Tied)\")*0.5+COUNTIF(E60:G60,\"DNF (Trailing)\")*0.33))","v":0},{"$f":"C59","v":0}]
[30,null,null,{"$f":"IF(ISERROR(VLOOKUP(C61,'Team List'!B:D,3,0)),\"\",VLOOKUP(C61,'Team List'!B:D,2,0))","v":""},null,null,null,{"$f":"IF(COUNTIF(E61:G61,\"Won\")=2,\"Won\",IF(COUNTIF(E61:G61,\"Lost\")=2,\"Lost\",IF(AND((E61=\"Won\"),OR(F61=\"DNF (Leading)\",F61=\"DNF (Tied)\",F61=\"DNF (Trailing)\")),\"Won\",IF(AND(COUNTIF(E61:F61,\"Won\")=1,OR(G61=\"DNF (Leading)\",G61=\"DNF (Tied)\",G61=\"DNF (Trailing)\")),\"Tied\",IF(OR(E61=\"DNF (Leading)\",E61=\"DNF (Tied)\",E61=\"DNF (Trailing)\"),\"Tied\",IF(AND((E61=\"Lost\"),OR(F61=\"DNF (Leading)\",F61=\"DNF (Tied)\",F61=\"DNF (Trailing)\")),\"Lost\",IF(C62=\"Bye\",\"Bye\",\"\")))))))","v":""},{"$f":"IF(C62=\"Bye\",0,IF(LEN(E61&F61&G61)=0,0,COUNTIF(E61:G61,\"Won\")*1+COUNTIF(E61:G61,\"DNF (Leading)\")*0.67+COUNTIF(E61:G61,\"DNF (Tied)\")*0.5+COUNTIF(E61:G61,\"DNF (Trailing)\")*0.33))","v":0},{"$f":"C62","v":0}]
[null,null,null,{"$f":"IF(ISERROR(VLOOKUP(C62,'Team List'!B:D,3,0)),\"\",VLOOKUP(C62,'Team List'!B:D,2,0))","v":""},{"$f":"IF(E61=\"\",\"\",IF(E61=\"Won\",\"Lost\",IF(E61=\"DNF (Leading)\",\"DNF (Trailing)\",IF(E61=\"DNF (Trailing)\",\"DNF (Leading)\",IF(E61=\"Lost\",\"Won\",E61)))))","v":""},{"$f":"IF(F61=\"\",\"\",IF(F61=\"Won\",\"Lost\",IF(F61=\"DNF (Leading)\",\"DNF (Trailing)\",IF(F61=\"DNF (Trailing)\",\"DNF (Leading)\",IF(F61=\"Lost\",\"Won\",F61)))))","v":""},{"$f":"IF(G61=\"\",\"\",IF(G61=\"Won\",\"Lost\",IF(G61=\"DNF (Leading)\",\"DNF (Trailing)\",IF(G61=\"DNF (Trailing)\",\"DNF (Leading)\",IF(G61=\"Lost\",\"Won\",G61)))))","v":""},{"$f":"IF(H61=\"Won\",\"Lost\",IF(H61=\"Lost\",\"Won\",H61))","v":""},{"$f":"IF(C61=\"Bye\",0,IF(LEN(E62&F62&G62)=0,0,COUNTIF(E62:G62,\"Won\")*1+COUNTIF(E62:G62,\"DNF (Leading)\")*0.67+COUNTIF(E62:G62,\"DNF (Tied)\")*0.5+COUNTIF(E62:G62,\"DNF (Trailing)\")*0.33))","v":0},{"$f":"C61","v":0}]
[31,null,null,{"$f":"IF(ISERROR(VLOOKUP(C63,'Team List'!B:D,3,0)),\"\",VLOOKUP(C63,'Team List'!B:D,2,0))","v":""},null,null,null,{"$f":"IF(COUNTIF(E63:G63,\"Won\")=2,\"Won\",IF(COUNTIF(E63:G63,\"Lost\")=2,\"Lost\",IF(AND((E63=\"Won\"),OR(F63=\"DNF (Leading)\",F63=\"DNF (Tied)\",F63=\"DNF (Trailing)\")),\"Won\",IF(AND(COUNTIF(E63:F63,\"Won\")=1,OR(G63=\"DNF (Leading)\",G63=\"DNF (Tied)\",G63=\"DNF (Trailing)\")),\"Tied\",IF(OR(E63=\"DNF (Leading)\",E63=\"DNF (Tied)\",E63=\"DNF (Trailing)\"),\"Tied\",IF(AND((E63=\"Lost\"),OR(F63=\"DNF (Leading)\",F63=\"DNF (Tied)\",F63=\"DNF (Trailing)\")),\"Lost\",IF(C64=\"Bye\",\"Bye\",\"\")))))))","v":""},{"$f":"IF(C64=\"Bye\",0,IF(LEN(E63&F63&G63)=0,0,COUNTIF(E63:G63,\"Won\")*1+COUNTIF(E63:G63,\"DNF (Leading)\")*0.67+COUNTIF(E63:G63,\"DNF (Tied)\")*0.5+COUNTIF(E63:G63,\"DNF (Trailing)\")*0.33))","v":0},{"$f":"C64","v":0}]
[null,null,null,{"$f":"IF(ISERROR(VLOOKUP(C64,'Team List'!B:D,3,0)),\"\",VLOOKUP(C64,'Team List'!B:D,2,0))","v":""},{"$f":"IF(E63=\"\",\"\",IF(E63=\"Won\",\"Lost\",IF(E63=\"DNF (Leading)\",\"DNF (Trailing)\",IF(E63=\"DNF (Trailing)\",\"DNF (Leading)\",IF(E63=\"Lost\",\"Won\",E63)))))","v":""},{"$f":"IF(F63=\"\",\"\",IF(F63=\"Won\",\"Lost\",IF(F63=\"DNF (Leading)\",\"DNF (Trailing)\",IF(F63=\"DNF (Trailing)\",\"DNF (Leading)\",IF(F63=\"Lost\",\"Won\",F63)))))","v":""},{"$f":"IF(G63=\"\",\"\",IF(G63=\"Won\",\"Lost\",IF(G63=\"DNF (Leading)\",\"DNF (Trailing)\",IF(G63=\"DNF (Trailing)\",\"DNF (Leading)\",IF(G63=\"Lost\",\"Won\",G63)))))","v":""},{"$f":"IF(H63=\"Won\",\"Lost\",IF(H63=\"Lost\",\"Won\",H63))","v":""},{"$f":"IF(C63=\"Bye\",0,IF(LEN(E64&F64&G64)=0,0,COUNTIF(E64:G64,\"Won\")*1+COUNTIF(E64:G64,\"DNF (Leading)\")*0.67+COUNTIF(E64:G64,\"DNF (Tied)\")*0.5+COUNTIF(E64:G64,\"DNF (Trailing)\")*0.33))","v":0},{"$f":"C63","v":0}]
[32,null,null,{"$f":"IF(ISERROR(VLOOKUP(C65,'Team List'!B:D,3,0)),\"\",VLOOKUP(C65,'Team List'!B:D,2,0))","v":""},null,null,null,{"$f":"IF(COUNTIF(E65:G65,\"Won\")=2,\"Won\",IF(COUNTIF(E65:G65,\"Lost\")=2,\"Lost\",IF(AND((E65=\"Won\"),OR(F65=\"DNF (Leading)\",F65=\"DNF (Tied)\",F65=\"DNF (Trailing)\")),\"Won\",IF(AND(COUNTIF(E65:F65,\"Won\")=1,OR(G65=\"DNF (Leading)\",G65=\"DNF (Tied)\",G65=\"DNF (Trailing)\")),\"Tied\",IF(OR(E65=\"DNF (Leading)\",E65=\"DNF (Tied)\",E65=\"DNF (Trailing)\"),\"Tied\",IF(AND((E65=\"Lost\"),OR(F65=\"DNF (Leading)\",F65=\"DNF (Tied)\",F65=\"DNF (Trailing)\")),\"Lost\",IF(C66=\"Bye\",\"Bye\",\"\")))))))","v":""},{"$f":"IF(C66=\"Bye\",0,IF(LEN(E65&F65&G65)=0,0,COUNTIF(E65:G65,\"Won\")*1+COUNTIF(E65:G65,\"DNF (Leading)\")*0.67+COUNTIF(E65:G65,\"DNF (Tied)\")*0.5+COUNTIF(E65:G65,\"DNF (Trailing)\")*0.33))","v":0},{"$f":"C66","v":0}]
[null,null,null,{"$f":"IF(ISERROR(VLOOKUP(C66,'Team List'!B:D,3,0)),\"\",VLOOKUP(C66,'Team List'!B:D,2,0))","v":""},{"$f":"IF(E65=\"\",\"\",IF(E65=\"Won\",\"Lost\",IF(E65=\"DNF (Leading)\",\"DNF (Trailing)\",IF(E65=\"DNF (Trailing)\",\"DNF (Leading)\",IF(E65=\"Lost\",\"Won\",E65)))))","v":""},{"$f":"IF(F65=\"\",\"\",IF(F65=\"Won\",\"Lost\",IF(F65=\"DNF (Leading)\",\"DNF (Trailing)\",IF(F65=\"DNF (Trailing)\",\"DNF (Leading)\",IF(F65=\"Lost\",\"Won\",F65)))))","v":""},{"$f":"IF(G65=\"\",\"\",IF(G65=\"Won\",\"Lost\",IF(G65=\"DNF (Leading)\",\"DNF (Trailing)\",IF(G65=\"DNF (Trailing)\",\"DNF (Leading)\",IF(G65=\"Lost\",\"Won\",G65)))))","v":""},{"$f":"IF(H65=\"Won\",\"Lost\",IF(H65=\"Lost\",\"Won\",H65))","v":""},{"$f":"IF(C65=\"Bye\",0,IF(LEN(E66&F66&G66)=0,0,COUNTIF(E66:G66,\"Won\")*1+COUNTIF(E66:G66,\"DNF (Leading)\")*0.67+COUNTIF(E66:G66,\"DNF (Tied)\")*0.5+COUNTIF(E66:G66,\"DNF (Trailing)\")*0.33))","v":0},{"$f":"C65","v":0}]

{"sheet":"Round Two","index":6,"n_rows":66,"n_cols":10,"rows_kept":66,"cut":false,"hidden":false,"merged":[[48,0,49,0],[62,0,63,0],[64,0,65,0],[50,0,51,0],[52,0,53,0],[54,0,55,0],[56,0,57,0],[58,0,59,0],[60,0,61,0],[40,0,41,0],[42,0,43,0],[44,0,45,0],[46,0,47,0],[32,0,33,0],[34,0,35,0],[36,0,37,0],[38,0,39,0],[24,0,25,0],[26,0,27,0],[28,0,29,0],[30,0,31,0],[16,0,17,0],[18,0,19,0],[20,0,21,0],[22,0,23,0],[0,0,0,5],[8,0,9,0],[10,0,11,0],[12,0,13,0],[14,0,15,0],[2,0,3,0],[4,0,5,0],[6,0,7,0]]}
["Round Two"]
["Pitch #","Rank","Team Number","Team Name","Game One","Game Two","Game Three","Match","Score"]
[1,null,null,{"$f":"IF(ISERROR(VLOOKUP(C3,'Team List'!B:D,3,0)),\"\",VLOOKUP(C3,'Team List'!B:D,2,0))","v":""},null,null,null,{"$f":"IF(COUNTIF(E3:G3,\"Won\")=2,\"Won\",IF(COUNTIF(E3:G3,\"Lost\")=2,\"Lost\",IF(AND((E3=\"Won\"),OR(F3=\"DNF (Leading)\",F3=\"DNF (Tied)\",F3=\"DNF (Trailing)\")),\"Won\",IF(AND(COUNTIF(E3:F3,\"Won\")=1,OR(G3=\"DNF (Leading)\",G3=\"DNF (Tied)\",G3=\"DNF (Trailing)\")),\"Tied\",IF(OR(E3=\"DNF (Leading)\",E3=\"DNF (Tied)\",E3=\"DNF (Trailing)\"),\"Tied\",IF(AND((E3=\"Lost\"),OR(F3=\"DNF (Leading)\",F3=\"DNF (Tied)\",F3=\"DNF (Trailing)\")),\"Lost\",IF(C4=\"Bye\",\"Bye\",\"\")))))))","v":""},{"$f":"IF(C4=\"Bye\",1,IF(LEN(E3&F3&G3)=0,0,COUNTIF(E3:G3,\"Won\")*1+COUNTIF(E3:G3,\"DNF (Leading)\")*0.67+COUNTIF(E3:G3,\"DNF (Tied)\")*0.5+COUNTIF(E3:G3,\"DNF (Trailing)\")*0.33))","v":0},{"$f":"C4","v":0}]
[null,null,null,{"$f":"IF(ISERROR(VLOOKUP(C4,'Team List'!B:D,3,0)),\"\",VLOOKUP(C4,'Team List'!B:D,2,0))","v":""},{"$f":"IF(E3=\"\",\"\",IF(E3=\"Won\",\"Lost\",IF(E3=\"DNF (Leading)\",\"DNF (Trailing)\",IF(E3=\"DNF (Trailing)\",\"DNF (Leading)\",IF(E3=\"Lost\",\"Won\",E3)))))","v":""},{"$f":"IF(F3=\"\",\"\",IF(F3=\"Won\",\"Lost\",IF(F3=\"DNF (Leading)\",\"DNF (Trailing)\",IF(F3=\"DNF (Trailing)\",\"DNF (Leading)\",IF(F3=\"Lost\",\"Won\",F3)))))","v":""},{"$f":"IF(G3=\"\",\"\",IF(G3=\"Won\",\"Lost\",IF(G3=\"DNF (Leading)\",\"DNF (Trailing)\",IF(G3=\"DNF (Trailing)\",\"DNF (Leading)\",IF(G3=\"Lost\",\"Won\",G3)))))","v":""},{"$f":"IF(H3=\"Won\",\"Lost\",IF(H3=\"Lost\",\"Won\",H3))","v":""},{"$f":"IF(C3=\"Bye\",1,IF(LEN(E4&F4&G4)=0,0,COUNTIF(E4:G4,\"Won\")*1+COUNTIF(E4:G4,\"DNF (Leading)\")*0.67+COUNTIF(E4:G4,\"DNF (Tied)\")*0.5+COUNTIF(E4:G4,\"DNF (Trailing)\")*0.33))","v":0},{"$f":"C3","v":0}]
[2,null,null,{"$f":"IF(ISERROR(VLOOKUP(C5,'Team List'!B:D,3,0)),\"\",VLOOKUP(C5,'Team List'!B:D,2,0))","v":""},null,null,null,{"$f":"IF(COUNTIF(E5:G5,\"Won\")=2,\"Won\",IF(COUNTIF(E5:G5,\"Lost\")=2,\"Lost\",IF(AND((E5=\"Won\"),OR(F5=\"DNF (Leading)\",F5=\"DNF (Tied)\",F5=\"DNF (Trailing)\")),\"Won\",IF(AND(COUNTIF(E5:F5,\"Won\")=1,OR(G5=\"DNF (Leading)\",G5=\"DNF (Tied)\",G5=\"DNF (Trailing)\")),\"Tied\",IF(OR(E5=\"DNF (Leading)\",E5=\"DNF (Tied)\",E5=\"DNF (Trailing)\"),\"Tied\",IF(AND((E5=\"Lost\"),OR(F5=\"DNF (Leading)\",F5=\"DNF (Tied)\",F5=\"DNF (Trailing)\")),\"Lost\",IF(C6=\"Bye\",\"Bye\",\"\")))))))","v":""},{"$f":"IF(C6=\"Bye\",1,IF(LEN(E5&F5&G5)=0,0,COUNTIF(E5:G5,\"Won\")*1+COUNTIF(E5:G5,\"DNF (Leading)\")*0.67+COUNTIF(E5:G5,\"DNF (Tied)\")*0.5+COUNTIF(E5:G5,\"DNF (Trailing)\")*0.33))","v":0},{"$f":"C6","v":0}]
[null,null,null,{"$f":"IF(ISERROR(VLOOKUP(C6,'Team List'!B:D,3,0)),\"\",VLOOKUP(C6,'Team List'!B:D,2,0))","v":""},{"$f":"IF(E5=\"\",\"\",IF(E5=\"Won\",\"Lost\",IF(E5=\"DNF (Leading)\",\"DNF (Trailing)\",IF(E5=\"DNF (Trailing)\",\"DNF (Leading)\",IF(E5=\"Lost\",\"Won\",E5)))))","v":""},{"$f":"IF(F5=\"\",\"\",IF(F5=\"Won\",\"Lost\",IF(F5=\"DNF (Leading)\",\"DNF (Trailing)\",IF(F5=\"DNF (Trailing)\",\"DNF (Leading)\",IF(F5=\"Lost\",\"Won\",F5)))))","v":""},{"$f":"IF(G5=\"\",\"\",IF(G5=\"Won\",\"Lost\",IF(G5=\"DNF (Leading)\",\"DNF (Trailing)\",IF(G5=\"DNF (Trailing)\",\"DNF (Leading)\",IF(G5=\"Lost\",\"Won\",G5)))))","v":""},{"$f":"IF(H5=\"Won\",\"Lost\",IF(H5=\"Lost\",\"Won\",H5))","v":""},{"$f":"IF(C5=\"Bye\",1,IF(LEN(E6&F6&G6)=0,0,COUNTIF(E6:G6,\"Won\")*1+COUNTIF(E6:G6,\"DNF (Leading)\")*0.67+COUNTIF(E6:G6,\"DNF (Tied)\")*0.5+COUNTIF(E6:G6,\"DNF (Trailing)\")*0.33))","v":0},{"$f":"C5","v":0}]
[3,null,null,{"$f":"IF(ISERROR(VLOOKUP(C7,'Team List'!B:D,3,0)),\"\",VLOOKUP(C7,'Team List'!B:D,2,0))","v":""},null,null,null,{"$f":"IF(COUNTIF(E7:G7,\"Won\")=2,\"Won\",IF(COUNTIF(E7:G7,\"Lost\")=2,\"Lost\",IF(AND((E7=\"Won\"),OR(F7=\"DNF (Leading)\",F7=\"DNF (Tied)\",F7=\"DNF (Trailing)\")),\"Won\",IF(AND(COUNTIF(E7:F7,\"Won\")=1,OR(G7=\"DNF (Leading)\",G7=\"DNF (Tied)\",G7=\"DNF (Trailing)\")),\"Tied\",IF(OR(E7=\"DNF (Leading)\",E7=\"DNF (Tied)\",E7=\"DNF (Trailing)\"),\"Tied\",IF(AND((E7=\"Lost\"),OR(F7=\"DNF (Leading)\",F7=\"DNF (Tied)\",F7=\"DNF (Trailing)\")),\"Lost\",IF(C8=\"Bye\",\"Bye\",\"\")))))))","v":""},{"$f":"IF(C8=\"Bye\",1,IF(LEN(E7&F7&G7)=0,0,COUNTIF(E7:G7,\"Won\")*1+COUNTIF(E7:G7,\"DNF (Leading)\")*0.67+COUNTIF(E7:G7,\"DNF (Tied)\")*0.5+COUNTIF(E7:G7,\"DNF (Trailing)\")*0.33))","v":0},{"$f":"C8","v":0}]
[null,null,null,{"$f":"IF(ISERROR(VLOOKUP(C8,'Team List'!B:D,3,0)),\"\",VLOOKUP(C8,'Team List'!B:D,2,0))","v":""},{"$f":"IF(E7=\"\",\"\",IF(E7=\"Won\",\"Lost\",IF(E7=\"DNF (Leading)\",\"DNF (Trailing)\",IF(E7=\"DNF (Trailing)\",\"DNF (Leading)\",IF(E7=\"Lost\",\"Won\",E7)))))","v":""},{"$f":"IF(F7=\"\",\"\",IF(F7=\"Won\",\"Lost\",IF(F7=\"DNF (Leading)\",\"DNF (Trailing)\",IF(F7=\"DNF (Trailing)\",\"DNF (Leading)\",IF(F7=\"Lost\",\"Won\",F7)))))","v":""},{"$f":"IF(G7=\"\",\"\",IF(G7=\"Won\",\"Lost\",IF(G7=\"DNF (Leading)\",\"DNF (Trailing)\",IF(G7=\"DNF (Trailing)\",\"DNF (Leading)\",IF(G7=\"Lost\",\"Won\",G7)))))","v":""},{"$f":"IF(H7=\"Won\",\"Lost\",IF(H7=\"Lost\",\"Won\",H7))","v":""},{"$f":"IF(C7=\"Bye\",1,IF(LEN(E8&F8&G8)=0,0,COUNTIF(E8:G8,\"Won\")*1+COUNTIF(E8:G8,\"DNF (Leading)\")*0.67+COUNTIF(E8:G8,\"DNF (Tied)\")*0.5+COUNTIF(E8:G8,\"DNF (Trailing)\")*0.33))","v":0},{"$f":"C7","v":0}]
[4,null,null,{"$f":"IF(ISERROR(VLOOKUP(C9,'Team List'!B:D,3,0)),\"\",VLOOKUP(C9,'Team List'!B:D,2,0))","v":""},null,null,null,{"$f":"IF(COUNTIF(E9:G9,\"Won\")=2,\"Won\",IF(COUNTIF(E9:G9,\"Lost\")=2,\"Lost\",IF(AND((E9=\"Won\"),OR(F9=\"DNF (Leading)\",F9=\"DNF (Tied)\",F9=\"DNF (Trailing)\")),\"Won\",IF(AND(COUNTIF(E9:F9,\"Won\")=1,OR(G9=\"DNF (Leading)\",G9=\"DNF (Tied)\",G9=\"DNF (Trailing)\")),\"Tied\",IF(OR(E9=\"DNF (Leading)\",E9=\"DNF (Tied)\",E9=\"DNF (Trailing)\"),\"Tied\",IF(AND((E9=\"Lost\"),OR(F9=\"DNF (Leading)\",F9=\"DNF (Tied)\",F9=\"DNF (Trailing)\")),\"Lost\",IF(C10=\"Bye\",\"Bye\",\"\")))))))","v":""},{"$f":"IF(C10=\"Bye\",1,IF(LEN(E9&F9&G9)=0,0,COUNTIF(E9:G9,\"Won\")*1+COUNTIF(E9:G9,\"DNF (Leading)\")*0.67+COUNTIF(E9:G9,\"DNF (Tied)\")*0.5+COUNTIF(E9:G9,\"DNF (Trailing)\")*0.33))","v":0},{"$f":"C10","v":0}]
[null,null,null,{"$f":"IF(ISERROR(VLOOKUP(C10,'Team List'!B:D,3,0)),\"\",VLOOKUP(C10,'Team List'!B:D,2,0))","v":""},{"$f":"IF(E9=\"\",\"\",IF(E9=\"Won\",\"Lost\",IF(E9=\"DNF (Leading)\",\"DNF (Trailing)\",IF(E9=\"DNF (Trailing)\",\"DNF (Leading)\",IF(E9=\"Lost\",\"Won\",E9)))))","v":""},{"$f":"IF(F9=\"\",\"\",IF(F9=\"Won\",\"Lost\",IF(F9=\"DNF (Leading)\",\"DNF (Trailing)\",IF(F9=\"DNF (Trailing)\",\"DNF (Leading)\",IF(F9=\"Lost\",\"Won\",F9)))))","v":""},{"$f":"IF(G9=\"\",\"\",IF(G9=\"Won\",\"Lost\",IF(G9=\"DNF (Leading)\",\"DNF (Trailing)\",IF(G9=\"DNF (Trailing)\",\"DNF (Leading)\",IF(G9=\"Lost\",\"Won\",G9)))))","v":""},{"$f":"IF(H9=\"Won\",\"Lost\",IF(H9=\"Lost\",\"Won\",H9))","v":""},{"$f":"IF(C9=\"Bye\",1,IF(LEN(E10&F10&G10)=0,0,COUNTIF(E10:G10,\"Won\")*1+COUNTIF(E10:G10,\"DNF (Leading)\")*0.67+COUNTIF(E10:G10,\"DNF (Tied)\")*0.5+COUNTIF(E10:G10,\"DNF (Trailing)\")*0.33))","v":0},{"$f":"C9","v":0}]
[5,null,null,{"$f":"IF(ISERROR(VLOOKUP(C11,'Team List'!B:D,3,0)),\"\",VLOOKUP(C11,'Team List'!B:D,2,0))","v":""},null,null,null,{"$f":"IF(COUNTIF(E11:G11,\"Won\")=2,\"Won\",IF(COUNTIF(E11:G11,\"Lost\")=2,\"Lost\",IF(AND((E11=\"Won\"),OR(F11=\"DNF (Leading)\",F11=\"DNF (Tied)\",F11=\"DNF (Trailing)\")),\"Won\",IF(AND(COUNTIF(E11:F11,\"Won\")=1,OR(G11=\"DNF (Leading)\",G11=\"DNF (Tied)\",G11=\"DNF (Trailing)\")),\"Tied\",IF(OR(E11=\"DNF (Leading)\",E11=\"DNF (Tied)\",E11=\"DNF (Trailing)\"),\"Tied\",IF(AND((E11=\"Lost\"),OR(F11=\"DNF (Leading)\",F11=\"DNF (Tied)\",F11=\"DNF (Trailing)\")),\"Lost\",IF(C12=\"Bye\",\"Bye\",\"\")))))))","v":""},{"$f":"IF(C12=\"Bye\",1,IF(LEN(E11&F11&G11)=0,0,COUNTIF(E11:G11,\"Won\")*1+COUNTIF(E11:G11,\"DNF (Leading)\")*0.67+COUNTIF(E11:G11,\"DNF (Tied)\")*0.5+COUNTIF(E11:G11,\"DNF (Trailing)\")*0.33))","v":0},{"$f":"C12","v":0}]
[null,null,null,{"$f":"IF(ISERROR(VLOOKUP(C12,'Team List'!B:D,3,0)),\"\",VLOOKUP(C12,'Team List'!B:D,2,0))","v":""},{"$f":"IF(E11=\"\",\"\",IF(E11=\"Won\",\"Lost\",IF(E11=\"DNF (Leading)\",\"DNF (Trailing)\",IF(E11=\"DNF (Trailing)\",\"DNF (Leading)\",IF(E11=\"Lost\",\"Won\",E11)))))","v":""},{"$f":"IF(F11=\"\",\"\",IF(F11=\"Won\",\"Lost\",IF(F11=\"DNF (Leading)\",\"DNF (Trailing)\",IF(F11=\"DNF (Trailing)\",\"DNF (Leading)\",IF(F11=\"Lost\",\"Won\",F11)))))","v":""},{"$f":"IF(G11=\"\",\"\",IF(G11=\"Won\",\"Lost\",IF(G11=\"DNF (Leading)\",\"DNF (Trailing)\",IF(G11=\"DNF (Trailing)\",\"DNF (Leading)\",IF(G11=\"Lost\",\"Won\",G11)))))","v":""},{"$f":"IF(H11=\"Won\",\"Lost\",IF(H11=\"Lost\",\"Won\",H11))","v":""},{"$f":"IF(C11=\"Bye\",1,IF(LEN(E12&F12&G12)=0,0,COUNTIF(E12:G12,\"Won\")*1+COUNTIF(E12:G12,\"DNF (Leading)\")*0.67+COUNTIF(E12:G12,\"DNF (Tied)\")*0.5+COUNTIF(E12:G12,\"DNF (Trailing)\")*0.33))","v":0},{"$f":"C11","v":0}]
[6,null,null,{"$f":"IF(ISERROR(VLOOKUP(C13,'Team List'!B:D,3,0)),\"\",VLOOKUP(C13,'Team List'!B:D,2,0))","v":""},null,null,null,{"$f":"IF(COUNTIF(E13:G13,\"Won\")=2,\"Won\",IF(COUNTIF(E13:G13,\"Lost\")=2,\"Lost\",IF(AND((E13=\"Won\"),OR(F13=\"DNF (Leading)\",F13=\"DNF (Tied)\",F13=\"DNF (Trailing)\")),\"Won\",IF(AND(COUNTIF(E13:F13,\"Won\")=1,OR(G13=\"DNF (Leading)\",G13=\"DNF (Tied)\",G13=\"DNF (Trailing)\")),\"Tied\",IF(OR(E13=\"DNF (Leading)\",E13=\"DNF (Tied)\",E13=\"DNF (Trailing)\"),\"Tied\",IF(AND((E13=\"Lost\"),OR(F13=\"DNF (Leading)\",F13=\"DNF (Tied)\",F13=\"DNF (Trailing)\")),\"Lost\",IF(C14=\"Bye\",\"Bye\",\"\")))))))","v":""},{"$f":"IF(C14=\"Bye\",1,IF(LEN(E13&F13&G13)=0,0,COUNTIF(E13:G13,\"Won\")*1+COUNTIF(E13:G13,\"DNF (Leading)\")*0.67+COUNTIF(E13:G13,\"DNF (Tied)\")*0.5+COUNTIF(E13:G13,\"DNF (Trailing)\")*0.33))","v":0},{"$f":"C14","v":0}]
[null,null,null,{"$f":"IF(ISERROR(VLOOKUP(C14,'Team List'!B:D,3,0)),\"\",VLOOKUP(C14,'Team List'!B:D,2,0))","v":""},{"$f":"IF(E13=\"\",\"\",IF(E13=\"Won\",\"Lost\",IF(E13=\"DNF (Leading)\",\"DNF (Trailing)\",IF(E13=\"DNF (Trailing)\",\"DNF (Leading)\",IF(E13=\"Lost\",\"Won\",E13)))))","v":""},{"$f":"IF(F13=\"\",\"\",IF(F13=\"Won\",\"Lost\",IF(F13=\"DNF (Leading)\",\"DNF (Trailing)\",IF(F13=\"DNF (Trailing)\",\"DNF (Leading)\",IF(F13=\"Lost\",\"Won\",F13)))))","v":""},{"$f":"IF(G13=\"\",\"\",IF(G13=\"Won\",\"Lost\",IF(G13=\"DNF (Leading)\",\"DNF (Trailing)\",IF(G13=\"DNF (Trailing)\",\"DNF (Leading)\",IF(G13=\"Lost\",\"Won\",G13)))))","v":""},{"$f":"IF(H13=\"Won\",\"Lost\",IF(H13=\"Lost\",\"Won\",H13))","v":""},{"$f":"IF(C13=\"Bye\",1,IF(LEN(E14&F14&G14)=0,0,COUNTIF(E14:G14,\"Won\")*1+COUNTIF(E14:G14,\"DNF (Leading)\")*0.67+COUNTIF(E14:G14,\"DNF (Tied)\")*0.5+COUNTIF(E14:G14,\"DNF (Trailing)\")*0.33))","v":0},{"$f":"C13","v":0}]
[7,null,null,{"$f":"IF(ISERROR(VLOOKUP(C15,'Team List'!B:D,3,0)),\"\",VLOOKUP(C15,'Team List'!B:D,2,0))","v":""},null,null,null,{"$f":"IF(COUNTIF(E15:G15,\"Won\")=2,\"Won\",IF(COUNTIF(E15:G15,\"Lost\")=2,\"Lost\",IF(AND((E15=\"Won\"),OR(F15=\"DNF (Leading)\",F15=\"DNF (Tied)\",F15=\"DNF (Trailing)\")),\"Won\",IF(AND(COUNTIF(E15:F15,\"Won\")=1,OR(G15=\"DNF (Leading)\",G15=\"DNF (Tied)\",G15=\"DNF (Trailing)\")),\"Tied\",IF(OR(E15=\"DNF (Leading)\",E15=\"DNF (Tied)\",E15=\"DNF (Trailing)\"),\"Tied\",IF(AND((E15=\"Lost\"),OR(F15=\"DNF (Leading)\",F15=\"DNF (Tied)\",F15=\"DNF (Trailing)\")),\"Lost\",IF(C16=\"Bye\",\"Bye\",\"\")))))))","v":""},{"$f":"IF(C16=\"Bye\",1,IF(LEN(E15&F15&G15)=0,0,COUNTIF(E15:G15,\"Won\")*1+COUNTIF(E15:G15,\"DNF (Leading)\")*0.67+COUNTIF(E15:G15,\"DNF (Tied)\")*0.5+COUNTIF(E15:G15,\"DNF (Trailing)\")*0.33))","v":0},{"$f":"C16","v":0}]
[null,null,null,{"$f":"IF(ISERROR(VLOOKUP(C16,'Team List'!B:D,3,0)),\"\",VLOOKUP(C16,'Team List'!B:D,2,0))","v":""},{"$f":"IF(E15=\"\",\"\",IF(E15=\"Won\",\"Lost\",IF(E15=\"DNF (Leading)\",\"DNF (Trailing)\",IF(E15=\"DNF (Trailing)\",\"DNF (Leading)\",IF(E15=\"Lost\",\"Won\",E15)))))","v":""},{"$f":"IF(F15=\"\",\"\",IF(F15=\"Won\",\"Lost\",IF(F15=\"DNF (Leading)\",\"DNF (Trailing)\",IF(F15=\"DNF (Trailing)\",\"DNF (Leading)\",IF(F15=\"Lost\",\"Won\",F15)))))","v":""},{"$f":"IF(G15=\"\",\"\",IF(G15=\"Won\",\"Lost\",IF(G15=\"DNF (Leading)\",\"DNF (Trailing)\",IF(G15=\"DNF (Trailing)\",\"DNF (Leading)\",IF(G15=\"Lost\",\"Won\",G15)))))","v":""},{"$f":"IF(H15=\"Won\",\"Lost\",IF(H15=\"Lost\",\"Won\",H15))","v":""},{"$f":"IF(C15=\"Bye\",1,IF(LEN(E16&F16&G16)=0,0,COUNTIF(E16:G16,\"Won\")*1+COUNTIF(E16:G16,\"DNF (Leading)\")*0.67+COUNTIF(E16:G16,\"DNF (Tied)\")*0.5+COUNTIF(E16:G16,\"DNF (Trailing)\")*0.33))","v":0},{"$f":"C15","v":0}]
[8,null,null,{"$f":"IF(ISERROR(VLOOKUP(C17,'Team List'!B:D,3,0)),\"\",VLOOKUP(C17,'Team List'!B:D,2,0))","v":""},null,null,null,{"$f":"IF(COUNTIF(E17:G17,\"Won\")=2,\"Won\",IF(COUNTIF(E17:G17,\"Lost\")=2,\"Lost\",IF(AND((E17=\"Won\"),OR(F17=\"DNF (Leading)\",F17=\"DNF (Tied)\",F17=\"DNF (Trailing)\")),\"Won\",IF(AND(COUNTIF(E17:F17,\"Won\")=1,OR(G17=\"DNF (Leading)\",G17=\"DNF (Tied)\",G17=\"DNF (Trailing)\")),\"Tied\",IF(OR(E17=\"DNF (Leading)\",E17=\"DNF (Tied)\",E17=\"DNF (Trailing)\"),\"Tied\",IF(AND((E17=\"Lost\"),OR(F17=\"DNF (Leading)\",F17=\"DNF (Tied)\",F17=\"DNF (Trailing)\")),\"Lost\",IF(C18=\"Bye\",\"Bye\",\"\")))))))","v":""},{"$f":"IF(C18=\"Bye\",1,IF(LEN(E17&F17&G17)=0,0,COUNTIF(E17:G17,\"Won\")*1+COUNTIF(E17:G17,\"DNF (Leading)\")*0.67+COUNTIF(E17:G17,\"DNF (Tied)\")*0.5+COUNTIF(E17:G17,\"DNF (Trailing)\")*0.33))","v":0},{"$f":"C18","v":0}]
[null,null,null,{"$f":"IF(ISERROR(VLOOKUP(C18,'Team List'!B:D,3,0)),\"\",VLOOKUP(C18,'Team List'!B:D,2,0))","v":""},{"$f":"IF(E17=\"\",\"\",IF(E17=\"Won\",\"Lost\",IF(E17=\"DNF (Leading)\",\"DNF (Trailing)\",IF(E17=\"DNF (Trailing)\",\"DNF (Leading)\",IF(E17=\"Lost\",\"Won\",E17)))))","v":""},{"$f":"IF(F17=\"\",\"\",IF(F17=\"Won\",\"Lost\",IF(F17=\"DNF (Leading)\",\"DNF (Trailing)\",IF(F17=\"DNF (Trailing)\",\"DNF (Leading)\",IF(F17=\"Lost\",\"Won\",F17)))))","v":""},{"$f":"IF(G17=\"\",\"\",IF(G17=\"Won\",\"Lost\",IF(G17=\"DNF (Leading)\",\"DNF (Trailing)\",IF(G17=\"DNF (Trailing)\",\"DNF (Leading)\",IF(G17=\"Lost\",\"Won\",G17)))))","v":""},{"$f":"IF(H17=\"Won\",\"Lost\",IF(H17=\"Lost\",\"Won\",H17))","v":""},{"$f":"IF(C17=\"Bye\",1,IF(LEN(E18&F18&G18)=0,0,COUNTIF(E18:G18,\"Won\")*1+COUNTIF(E18:G18,\"DNF (Leading)\")*0.67+COUNTIF(E18:G18,\"DNF (Tied)\")*0.5+COUNTIF(E18:G18,\"DNF (Trailing)\")*0.33))","v":0},{"$f":"C17","v":0}]
[9,null,null,{"$f":"IF(ISERROR(VLOOKUP(C19,'Team List'!B:D,3,0)),\"\",VLOOKUP(C19,'Team List'!B:D,2,0))","v":""},null,null,null,{"$f":"IF(COUNTIF(E19:G19,\"Won\")=2,\"Won\",IF(COUNTIF(E19:G19,\"Lost\")=2,\"Lost\",IF(AND((E19=\"Won\"),OR(F19=\"DNF (Leading)\",F19=\"DNF (Tied)\",F19=\"DNF (Trailing)\")),\"Won\",IF(AND(COUNTIF(E19:F19,\"Won\")=1,OR(G19=\"DNF (Leading)\",G19=\"DNF (Tied)\",G19=\"DNF (Trailing)\")),\"Tied\",IF(OR(E19=\"DNF (Leading)\",E19=\"DNF (Tied)\",E19=\"DNF (Trailing)\"),\"Tied\",IF(AND((E19=\"Lost\"),OR(F19=\"DNF (Leading)\",F19=\"DNF (Tied)\",F19=\"DNF (Trailing)\")),\"Lost\",IF(C20=\"Bye\",\"Bye\",\"\")))))))","v":""},{"$f":"IF(C20=\"Bye\",1,IF(LEN(E19&F19&G19)=0,0,COUNTIF(E19:G19,\"Won\")*1+COUNTIF(E19:G19,\"DNF (Leading)\")*0.67+COUNTIF(E19:G19,\"DNF (Tied)\")*0.5+COUNTIF(E19:G19,\"DNF (Trailing)\")*0.33))","v":0},{"$f":"C20","v":0}]
[null,null,null,{"$f":"IF(ISERROR(VLOOKUP(C20,'Team List'!B:D,3,0)),\"\",VLOOKUP(C20,'Team List'!B:D,2,0))","v":""},{"$f":"IF(E19=\"\",\"\",IF(E19=\"Won\",\"Lost\",IF(E19=\"DNF (Leading)\",\"DNF (Trailing)\",IF(E19=\"DNF (Trailing)\",\"DNF (Leading)\",IF(E19=\"Lost\",\"Won\",E19)))))","v":""},{"$f":"IF(F19=\"\",\"\",IF(F19=\"Won\",\"Lost\",IF(F19=\"DNF (Leading)\",\"DNF (Trailing)\",IF(F19=\"DNF (Trailing)\",\"DNF (Leading)\",IF(F19=\"Lost\",\"Won\",F19)))))","v":""},{"$f":"IF(G19=\"\",\"\",IF(G19=\"Won\",\"Lost\",IF(G19=\"DNF (Leading)\",\"DNF (Trailing)\",IF(G19=\"DNF (Trailing)\",\"DNF (Leading)\",IF(G19=\"Lost\",\"Won\",G19)))))","v":""},{"$f":"IF(H19=\"Won\",\"Lost\",IF(H19=\"Lost\",\"Won\",H19))","v":""},{"$f":"IF(C19=\"Bye\",1,IF(LEN(E20&F20&G20)=0,0,COUNTIF(E20:G20,\"Won\")*1+COUNTIF(E20:G20,\"DNF (Leading)\")*0.67+COUNTIF(E20:G20,\"DNF (Tied)\")*0.5+COUNTIF(E20:G20,\"DNF (Trailing)\")*0.33))","v":0},{"$f":"C19","v":0}]
[10,null,null,{"$f":"IF(ISERROR(VLOOKUP(C21,'Team List'!B:D,3,0)),\"\",VLOOKUP(C21,'Team List'!B:D,2,0))","v":""},null,null,null,{"$f":"IF(COUNTIF(E21:G21,\"Won\")=2,\"Won\",IF(COUNTIF(E21:G21,\"Lost\")=2,\"Lost\",IF(AND((E21=\"Won\"),OR(F21=\"DNF (Leading)\",F21=\"DNF (Tied)\",F21=\"DNF (Trailing)\")),\"Won\",IF(AND(COUNTIF(E21:F21,\"Won\")=1,OR(G21=\"DNF (Leading)\",G21=\"DNF (Tied)\",G21=\"DNF (Trailing)\")),\"Tied\",IF(OR(E21=\"DNF (Leading)\",E21=\"DNF (Tied)\",E21=\"DNF (Trailing)\"),\"Tied\",IF(AND((E21=\"Lost\"),OR(F21=\"DNF (Leading)\",F21=\"DNF (Tied)\",F21=\"DNF (Trailing)\")),\"Lost\",IF(C22=\"Bye\",\"Bye\",\"\")))))))","v":""},{"$f":"IF(C22=\"Bye\",1,IF(LEN(E21&F21&G21)=0,0,COUNTIF(E21:G21,\"Won\")*1+COUNTIF(E21:G21,\"DNF (Leading)\")*0.67+COUNTIF(E21:G21,\"DNF (Tied)\")*0.5+COUNTIF(E21:G21,\"DNF (Trailing)\")*0.33))","v":0},{"$f":"C22","v":0}]
[null,null,null,{"$f":"IF(ISERROR(VLOOKUP(C22,'Team List'!B:D,3,0)),\"\",VLOOKUP(C22,'Team List'!B:D,2,0))","v":""},{"$f":"IF(E21=\"\",\"\",IF(E21=\"Won\",\"Lost\",IF(E21=\"DNF (Leading)\",\"DNF (Trailing)\",IF(E21=\"DNF (Trailing)\",\"DNF (Leading)\",IF(E21=\"Lost\",\"Won\",E21)))))","v":""},{"$f":"IF(F21=\"\",\"\",IF(F21=\"Won\",\"Lost\",IF(F21=\"DNF (Leading)\",\"DNF (Trailing)\",IF(F21=\"DNF (Trailing)\",\"DNF (Leading)\",IF(F21=\"Lost\",\"Won\",F21)))))","v":""},{"$f":"IF(G21=\"\",\"\",IF(G21=\"Won\",\"Lost\",IF(G21=\"DNF (Leading)\",\"DNF (Trailing)\",IF(G21=\"DNF (Trailing)\",\"DNF (Leading)\",IF(G21=\"Lost\",\"Won\",G21)))))","v":""},{"$f":"IF(H21=\"Won\",\"Lost\",IF(H21=\"Lost\",\"Won\",H21))","v":""},{"$f":"IF(C21=\"Bye\",1,IF(LEN(E22&F22&G22)=0,0,COUNTIF(E22:G22,\"Won\")*1+COUNTIF(E22:G22,\"DNF (Leading)\")*0.67+COUNTIF(E22:G22,\"DNF (Tied)\")*0.5+COUNTIF(E22:G22,\"DNF (Trailing)\")*0.33))","v":0},{"$f":"C21","v":0}]
[11,null,null,{"$f":"IF(ISERROR(VLOOKUP(C23,'Team List'!B:D,3,0)),\"\",VLOOKUP(C23,'Team List'!B:D,2,0))","v":""},null,null,null,{"$f":"IF(COUNTIF(E23:G23,\"Won\")=2,\"Won\",IF(COUNTIF(E23:G23,\"Lost\")=2,\"Lost\",IF(AND((E23=\"Won\"),OR(F23=\"DNF (Leading)\",F23=\"DNF (Tied)\",F23=\"DNF (Trailing)\")),\"Won\",IF(AND(COUNTIF(E23:F23,\"Won\")=1,OR(G23=\"DNF (Leading)\",G23=\"DNF (Tied)\",G23=\"DNF (Trailing)\")),\"Tied\",IF(OR(E23=\"DNF (Leading)\",E23=\"DNF (Tied)\",E23=\"DNF (Trailing)\"),\"Tied\",IF(AND((E23=\"Lost\"),OR(F23=\"DNF (Leading)\",F23=\"DNF (Tied)\",F23=\"DNF (Trailing)\")),\"Lost\",IF(C24=\"Bye\",\"Bye\",\"\")))))))","v":""},{"$f":"IF(C24=\"Bye\",1,IF(LEN(E23&F23&G23)=0,0,COUNTIF(E23:G23,\"Won\")*1+COUNTIF(E23:G23,\"DNF (Leading)\")*0.67+COUNTIF(E23:G23,\"DNF (Tied)\")*0.5+COUNTIF(E23:G23,\"DNF (Trailing)\")*0.33))","v":0},{"$f":"C24","v":0}]
[null,null,null,{"$f":"IF(ISERROR(VLOOKUP(C24,'Team List'!B:D,3,0)),\"\",VLOOKUP(C24,'Team List'!B:D,2,0))","v":""},{"$f":"IF(E23=\"\",\"\",IF(E23=\"Won\",\"Lost\",IF(E23=\"DNF (Leading)\",\"DNF (Trailing)\",IF(E23=\"DNF (Trailing)\",\"DNF (Leading)\",IF(E23=\"Lost\",\"Won\",E23)))))","v":""},{"$f":"IF(F23=\"\",\"\",IF(F23=\"Won\",\"Lost\",IF(F23=\"DNF (Leading)\",\"DNF (Trailing)\",IF(F23=\"DNF (Trailing)\",\"DNF (Leading)\",IF(F23=\"Lost\",\"Won\",F23)))))","v":""},{"$f":"IF(G23=\"\",\"\",IF(G23=\"Won\",\"Lost\",IF(G23=\"DNF (Leading)\",\"DNF (Trailing)\",IF(G23=\"DNF (Trailing)\",\"DNF (Leading)\",IF(G23=\"Lost\",\"Won\",G23)))))","v":""},{"$f":"IF(H23=\"Won\",\"Lost\",IF(H23=\"Lost\",\"Won\",H23))","v":""},{"$f":"IF(C23=\"Bye\",1,IF(LEN(E24&F24&G24)=0,0,COUNTIF(E24:G24,\"Won\")*1+COUNTIF(E24:G24,\"DNF (Leading)\")*0.67+COUNTIF(E24:G24,\"DNF (Tied)\")*0.5+COUNTIF(E24:G24,\"DNF (Trailing)\")*0.33))","v":0},{"$f":"C23","v":0}]
[12,null,null,{"$f":"IF(ISERROR(VLOOKUP(C25,'Team List'!B:D,3,0)),\"\",VLOOKUP(C25,'Team List'!B:D,2,0))","v":""},null,null,null,{"$f":"IF(COUNTIF(E25:G25,\"Won\")=2,\"Won\",IF(COUNTIF(E25:G25,\"Lost\")=2,\"Lost\",IF(AND((E25=\"Won\"),OR(F25=\"DNF (Leading)\",F25=\"DNF (Tied)\",F25=\"DNF (Trailing)\")),\"Won\",IF(AND(COUNTIF(E25:F25,\"Won\")=1,OR(G25=\"DNF (Leading)\",G25=\"DNF (Tied)\",G25=\"DNF (Trailing)\")),\"Tied\",IF(OR(E25=\"DNF (Leading)\",E25=\"DNF (Tied)\",E25=\"DNF (Trailing)\"),\"Tied\",IF(AND((E25=\"Lost\"),OR(F25=\"DNF (Leading)\",F25=\"DNF (Tied)\",F25=\"DNF (Trailing)\")),\"Lost\",IF(C26=\"Bye\",\"Bye\",\"\")))))))","v":""},{"$f":"IF(C26=\"Bye\",1,IF(LEN(E25&F25&G25)=0,0,COUNTIF(E25:G25,\"Won\")*1+COUNTIF(E25:G25,\"DNF (Leading)\")*0.67+COUNTIF(E25:G25,\"DNF (Tied)\")*0.5+COUNTIF(E25:G25,\"DNF (Trailing)\")*0.33))","v":0},{"$f":"C26","v":0}]
[null,null,null,{"$f":"IF(ISERROR(VLOOKUP(C26,'Team List'!B:D,3,0)),\"\",VLOOKUP(C26,'Team List'!B:D,2,0))","v":""},{"$f":"IF(E25=\"\",\"\",IF(E25=\"Won\",\"Lost\",IF(E25=\"DNF (Leading)\",\"DNF (Trailing)\",IF(E25=\"DNF (Trailing)\",\"DNF (Leading)\",IF(E25=\"Lost\",\"Won\",E25)))))","v":""},{"$f":"IF(F25=\"\",\"\",IF(F25=\"Won\",\"Lost\",IF(F25=\"DNF (Leading)\",\"DNF (Trailing)\",IF(F25=\"DNF (Trailing)\",\"DNF (Leading)\",IF(F25=\"Lost\",\"Won\",F25)))))","v":""},{"$f":"IF(G25=\"\",\"\",IF(G25=\"Won\",\"Lost\",IF(G25=\"DNF (Leading)\",\"DNF (Trailing)\",IF(G25=\"DNF (Trailing)\",\"DNF (Leading)\",IF(G25=\"Lost\",\"Won\",G25)))))","v":""},{"$f":"IF(H25=\"Won\",\"Lost\",IF(H25=\"Lost\",\"Won\",H25))","v":""},{"$f":"IF(C25=\"Bye\",1,IF(LEN(E26&F26&G26)=0,0,COUNTIF(E26:G26,\"Won\")*1+COUNTIF(E26:G26,\"DNF (Leading)\")*0.67+COUNTIF(E26:G26,\"DNF (Tied)\")*0.5+COUNTIF(E26:G26,\"DNF (Trailing)\")*0.33))","v":0},{"$f":"C25","v":0}]
[13,null,null,{"$f":"IF(ISERROR(VLOOKUP(C27,'Team List'!B:D,3,0)),\"\",VLOOKUP(C27,'Team List'!B:D,2,0))","v":""},null,null,null,{"$f":"IF(COUNTIF(E27:G27,\"Won\")=2,\"Won\",IF(COUNTIF(E27:G27,\"Lost\")=2,\"Lost\",IF(AND((E27=\"Won\"),OR(F27=\"DNF (Leading)\",F27=\"DNF (Tied)\",F27=\"DNF (Trailing)\")),\"Won\",IF(AND(COUNTIF(E27:F27,\"Won\")=1,OR(G27=\"DNF (Leading)\",G27=\"DNF (Tied)\",G27=\"DNF (Trailing)\")),\"Tied\",IF(OR(E27=\"DNF (Leading)\",E27=\"DNF (Tied)\",E27=\"DNF (Trailing)\"),\"Tied\",IF(AND((E27=\"Lost\"),OR(F27=\"DNF (Leading)\",F27=\"DNF (Tied)\",F27=\"DNF (Trailing)\")),\"Lost\",IF(C28=\"Bye\",\"Bye\",\"\")))))))","v":""},{"$f":"IF(C28=\"Bye\",1,IF(LEN(E27&F27&G27)=0,0,COUNTIF(E27:G27,\"Won\")*1+COUNTIF(E27:G27,\"DNF (Leading)\")*0.67+COUNTIF(E27:G27,\"DNF (Tied)\")*0.5+COUNTIF(E27:G27,\"DNF (Trailing)\")*0.33))","v":0},{"$f":"C28","v":0}]
[null,null,null,{"$f":"IF(ISERROR(VLOOKUP(C28,'Team List'!B:D,3,0)),\"\",VLOOKUP(C28,'Team List'!B:D,2,0))","v":""},{"$f":"IF(E27=\"\",\"\",IF(E27=\"Won\",\"Lost\",IF(E27=\"DNF (Leading)\",\"DNF (Trailing)\",IF(E27=\"DNF (Trailing)\",\"DNF (Leading)\",IF(E27=\"Lost\",\"Won\",E27)))))","v":""},{"$f":"IF(F27=\"\",\"\",IF(F27=\"Won\",\"Lost\",IF(F27=\"DNF (Leading)\",\"DNF (Trailing)\",IF(F27=\"DNF (Trailing)\",\"DNF (Leading)\",IF(F27=\"Lost\",\"Won\",F27)))))","v":""},{"$f":"IF(G27=\"\",\"\",IF(G27=\"Won\",\"Lost\",IF(G27=\"DNF (Leading)\",\"DNF (Trailing)\",IF(G27=\"DNF (Trailing)\",\"DNF (Leading)\",IF(G27=\"Lost\",\"Won\",G27)))))","v":""},{"$f":"IF(H27=\"Won\",\"Lost\",IF(H27=\"Lost\",\"Won\",H27))","v":""},{"$f":"IF(C27=\"Bye\",1,IF(LEN(E28&F28&G28)=0,0,COUNTIF(E28:G28,\"Won\")*1+COUNTIF(E28:G28,\"DNF (Leading)\")*0.67+COUNTIF(E28:G28,\"DNF (Tied)\")*0.5+COUNTIF(E28:G28,\"DNF (Trailing)\")*0.33))","v":0},{"$f":"C27","v":0}]
[14,null,null,{"$f":"IF(ISERROR(VLOOKUP(C29,'Team List'!B:D,3,0)),\"\",VLOOKUP(C29,'Team List'!B:D,2,0))","v":""},null,null,null,{"$f":"IF(COUNTIF(E29:G29,\"Won\")=2,\"Won\",IF(COUNTIF(E29:G29,\"Lost\")=2,\"Lost\",IF(AND((E29=\"Won\"),OR(F29=\"DNF (Leading)\",F29=\"DNF (Tied)\",F29=\"DNF (Trailing)\")),\"Won\",IF(AND(COUNTIF(E29:F29,\"Won\")=1,OR(G29=\"DNF (Leading)\",G29=\"DNF (Tied)\",G29=\"DNF (Trailing)\")),\"Tied\",IF(OR(E29=\"DNF (Leading)\",E29=\"DNF (Tied)\",E29=\"DNF (Trailing)\"),\"Tied\",IF(AND((E29=\"Lost\"),OR(F29=\"DNF (Leading)\",F29=\"DNF (Tied)\",F29=\"DNF (Trailing)\")),\"Lost\",IF(C30=\"Bye\",\"Bye\",\"\")))))))","v":""},{"$f":"IF(C30=\"Bye\",1,IF(LEN(E29&F29&G29)=0,0,COUNTIF(E29:G29,\"Won\")*1+COUNTIF(E29:G29,\"DNF (Leading)\")*0.67+COUNTIF(E29:G29,\"DNF (Tied)\")*0.5+COUNTIF(E29:G29,\"DNF (Trailing)\")*0.33))","v":0},{"$f":"C30","v":0}]
[null,null,null,{"$f":"IF(ISERROR(VLOOKUP(C30,'Team List'!B:D,3,0)),\"\",VLOOKUP(C30,'Team List'!B:D,2,0))","v":""},{"$f":"IF(E29=\"\",\"\",IF(E29=\"Won\",\"Lost\",IF(E29=\"DNF (Leading)\",\"DNF (Trailing)\",IF(E29=\"DNF (Trailing)\",\"DNF (Leading)\",IF(E29=\"Lost\",\"Won\",E29)))))","v":""},{"$f":"IF(F29=\"\",\"\",IF(F29=\"Won\",\"Lost\",IF(F29=\"DNF (Leading)\",\"DNF (Trailing)\",IF(F29=\"DNF (Trailing)\",\"DNF (Leading)\",IF(F29=\"Lost\",\"Won\",F29)))))","v":""},{"$f":"IF(G29=\"\",\"\",IF(G29=\"Won\",\"Lost\",IF(G29=\"DNF (Leading)\",\"DNF (Trailing)\",IF(G29=\"DNF (Trailing)\",\"DNF (Leading)\",IF(G29=\"Lost\",\"Won\",G29)))))","v":""},{"$f":"IF(H29=\"Won\",\"Lost\",IF(H29=\"Lost\",\"Won\",H29))","v":""},{"$f":"IF(C29=\"Bye\",1,IF(LEN(E30&F30&G30)=0,0,COUNTIF(E30:G30,\"Won\")*1+COUNTIF(E30:G30,\"DNF (Leading)\")*0.67+COUNTIF(E30:G30,\"DNF (Tied)\")*0.5+COUNTIF(E30:G30,\"DNF (Trailing)\")*0.33))","v":0},{"$f":"C29","v":0}]
[15,null,null,{"$f":"IF(ISERROR(VLOOKUP(C31,'Team List'!B:D,3,0)),\"\",VLOOKUP(C31,'Team List'!B:D,2,0))","v":""},null,null,null,{"$f":"IF(COUNTIF(E31:G31,\"Won\")=2,\"Won\",IF(COUNTIF(E31:G31,\"Lost\")=2,\"Lost\",IF(AND((E31=\"Won\"),OR(F31=\"DNF (Leading)\",F31=\"DNF (Tied)\",F31=\"DNF (Trailing)\")),\"Won\",IF(AND(COUNTIF(E31:F31,\"Won\")=1,OR(G31=\"DNF (Leading)\",G31=\"DNF (Tied)\",G31=\"DNF (Trailing)\")),\"Tied\",IF(OR(E31=\"DNF (Leading)\",E31=\"DNF (Tied)\",E31=\"DNF (Trailing)\"),\"Tied\",IF(AND((E31=\"Lost\"),OR(F31=\"DNF (Leading)\",F31=\"DNF (Tied)\",F31=\"DNF (Trailing)\")),\"Lost\",IF(C32=\"Bye\",\"Bye\",\"\")))))))","v":""},{"$f":"IF(C32=\"Bye\",1,IF(LEN(E31&F31&G31)=0,0,COUNTIF(E31:G31,\"Won\")*1+COUNTIF(E31:G31,\"DNF (Leading)\")*0.67+COUNTIF(E31:G31,\"DNF (Tied)\")*0.5+COUNTIF(E31:G31,\"DNF (Trailing)\")*0.33))","v":0},{"$f":"C32","v":0}]
[null,null,null,{"$f":"IF(ISERROR(VLOOKUP(C32,'Team List'!B:D,3,0)),\"\",VLOOKUP(C32,'Team List'!B:D,2,0))","v":""},{"$f":"IF(E31=\"\",\"\",IF(E31=\"Won\",\"Lost\",IF(E31=\"DNF (Leading)\",\"DNF (Trailing)\",IF(E31=\"DNF (Trailing)\",\"DNF (Leading)\",IF(E31=\"Lost\",\"Won\",E31)))))","v":""},{"$f":"IF(F31=\"\",\"\",IF(F31=\"Won\",\"Lost\",IF(F31=\"DNF (Leading)\",\"DNF (Trailing)\",IF(F31=\"DNF (Trailing)\",\"DNF (Leading)\",IF(F31=\"Lost\",\"Won\",F31)))))","v":""},{"$f":"IF(G31=\"\",\"\",IF(G31=\"Won\",\"Lost\",IF(G31=\"DNF (Leading)\",\"DNF (Trailing)\",IF(G31=\"DNF (Trailing)\",\"DNF (Leading)\",IF(G31=\"Lost\",\"Won\",G31)))))","v":""},{"$f":"IF(H31=\"Won\",\"Lost\",IF(H31=\"Lost\",\"Won\",H31))","v":""},{"$f":"IF(C31=\"Bye\",1,IF(LEN(E32&F32&G32)=0,0,COUNTIF(E32:G32,\"Won\")*1+COUNTIF(E32:G32,\"DNF (Leading)\")*0.67+COUNTIF(E32:G32,\"DNF (Tied)\")*0.5+COUNTIF(E32:G32,\"DNF (Trailing)\")*0.33))","v":0},{"$f":"C31","v":0}]
[16,null,null,{"$f":"IF(ISERROR(VLOOKUP(C33,'Team List'!B:D,3,0)),\"\",VLOOKUP(C33,'Team List'!B:D,2,0))","v":""},null,null,null,{"$f":"IF(COUNTIF(E33:G33,\"Won\")=2,\"Won\",IF(COUNTIF(E33:G33,\"Lost\")=2,\"Lost\",IF(AND((E33=\"Won\"),OR(F33=\"DNF (Leading)\",F33=\"DNF (Tied)\",F33=\"DNF (Trailing)\")),\"Won\",IF(AND(COUNTIF(E33:F33,\"Won\")=1,OR(G33=\"DNF (Leading)\",G33=\"DNF (Tied)\",G33=\"DNF (Trailing)\")),\"Tied\",IF(OR(E33=\"DNF (Leading)\",E33=\"DNF (Tied)\",E33=\"DNF (Trailing)\"),\"Tied\",IF(AND((E33=\"Lost\"),OR(F33=\"DNF (Leading)\",F33=\"DNF (Tied)\",F33=\"DNF (Trailing)\")),\"Lost\",IF(C34=\"Bye\",\"Bye\",\"\")))))))","v":""},{"$f":"IF(C34=\"Bye\",1,IF(LEN(E33&F33&G33)=0,0,COUNTIF(E33:G33,\"Won\")*1+COUNTIF(E33:G33,\"DNF (Leading)\")*0.67+COUNTIF(E33:G33,\"DNF (Tied)\")*0.5+COUNTIF(E33:G33,\"DNF (Trailing)\")*0.33))","v":0},{"$f":"C34","v":0}]
[null,null,null,{"$f":"IF(ISERROR(VLOOKUP(C34,'Team List'!B:D,3,0)),\"\",VLOOKUP(C34,'Team List'!B:D,2,0))","v":""},{"$f":"IF(E33=\"\",\"\",IF(E33=\"Won\",\"Lost\",IF(E33=\"DNF (Leading)\",\"DNF (Trailing)\",IF(E33=\"DNF (Trailing)\",\"DNF (Leading)\",IF(E33=\"Lost\",\"Won\",E33)))))","v":""},{"$f":"IF(F33=\"\",\"\",IF(F33=\"Won\",\"Lost\",IF(F33=\"DNF (Leading)\",\"DNF (Trailing)\",IF(F33=\"DNF (Trailing)\",\"DNF (Leading)\",IF(F33=\"Lost\",\"Won\",F33)))))","v":""},{"$f":"IF(G33=\"\",\"\",IF(G33=\"Won\",\"Lost\",IF(G33=\"DNF (Leading)\",\"DNF (Trailing)\",IF(G33=\"DNF (Trailing)\",\"DNF (Leading)\",IF(G33=\"Lost\",\"Won\",G33)))))","v":""},{"$f":"IF(H33=\"Won\",\"Lost\",IF(H33=\"Lost\",\"Won\",H33))","v":""},{"$f":"IF(C33=\"Bye\",1,IF(LEN(E34&F34&G34)=0,0,COUNTIF(E34:G34,\"Won\")*1+COUNTIF(E34:G34,\"DNF (Leading)\")*0.67+COUNTIF(E34:G34,\"DNF (Tied)\")*0.5+COUNTIF(E34:G34,\"DNF (Trailing)\")*0.33))","v":0},{"$f":"C33","v":0}]
[17,null,null,{"$f":"IF(ISERROR(VLOOKUP(C35,'Team List'!B:D,3,0)),\"\",VLOOKUP(C35,'Team List'!B:D,2,0))","v":""},null,null,null,{"$f":"IF(COUNTIF(E35:G35,\"Won\")=2,\"Won\",IF(COUNTIF(E35:G35,\"Lost\")=2,\"Lost\",IF(AND((E35=\"Won\"),OR(F35=\"DNF (Leading)\",F35=\"DNF (Tied)\",F35=\"DNF (Trailing)\")),\"Won\",IF(AND(COUNTIF(E35:F35,\"Won\")=1,OR(G35=\"DNF (Leading)\",G35=\"DNF (Tied)\",G35=\"DNF (Trailing)\")),\"Tied\",IF(OR(E35=\"DNF (Leading)\",E35=\"DNF (Tied)\",E35=\"DNF (Trailing)\"),\"Tied\",IF(AND((E35=\"Lost\"),OR(F35=\"DNF (Leading)\",F35=\"DNF (Tied)\",F35=\"DNF (Trailing)\")),\"Lost\",IF(C36=\"Bye\",\"Bye\",\"\")))))))","v":""},{"$f":"IF(C36=\"Bye\",0,IF(LEN(E35&F35&G35)=0,0,COUNTIF(E35:G35,\"Won\")*1+COUNTIF(E35:G35,\"DNF (Leading)\")*0.67+COUNTIF(E35:G35,\"DNF (Tied)\")*0.5+COUNTIF(E35:G35,\"DNF (Trailing)\")*0.33))","v":0},{"$f":"C36","v":0}]
[null,null,null,{"$f":"IF(ISERROR(VLOOKUP(C36,'Team List'!B:D,3,0)),\"\",VLOOKUP(C36,'Team List'!B:D,2,0))","v":""},{"$f":"IF(E35=\"\",\"\",IF(E35=\"Won\",\"Lost\",IF(E35=\"DNF (Leading)\",\"DNF (Trailing)\",IF(E35=\"DNF (Trailing)\",\"DNF (Leading)\",IF(E35=\"Lost\",\"Won\",E35)))))","v":""},{"$f":"IF(F35=\"\",\"\",IF(F35=\"Won\",\"Lost\",IF(F35=\"DNF (Leading)\",\"DNF (Trailing)\",IF(F35=\"DNF (Trailing)\",\"DNF (Leading)\",IF(F35=\"Lost\",\"Won\",F35)))))","v":""},{"$f":"IF(G35=\"\",\"\",IF(G35=\"Won\",\"Lost\",IF(G35=\"DNF (Leading)\",\"DNF (Trailing)\",IF(G35=\"DNF (Trailing)\",\"DNF (Leading)\",IF(G35=\"Lost\",\"Won\",G35)))))","v":""},{"$f":"IF(H35=\"Won\",\"Lost\",IF(H35=\"Lost\",\"Won\",H35))","v":""},{"$f":"IF(C35=\"Bye\",0,IF(LEN(E36&F36&G36)=0,0,COUNTIF(E36:G36,\"Won\")*1+COUNTIF(E36:G36,\"DNF (Leading)\")*0.67+COUNTIF(E36:G36,\"DNF (Tied)\")*0.5+COUNTIF(E36:G36,\"DNF (Trailing)\")*0.33))","v":0},{"$f":"C35","v":0}]
[18,null,null,{"$f":"IF(ISERROR(VLOOKUP(C37,'Team List'!B:D,3,0)),\"\",VLOOKUP(C37,'Team List'!B:D,2,0))","v":""},null,null,null,{"$f":"IF(COUNTIF(E37:G37,\"Won\")=2,\"Won\",IF(COUNTIF(E37:G37,\"Lost\")=2,\"Lost\",IF(AND((E37=\"Won\"),OR(F37=\"DNF (Leading)\",F37=\"DNF (Tied)\",F37=\"DNF (Trailing)\")),\"Won\",IF(AND(COUNTIF(E37:F37,\"Won\")=1,OR(G37=\"DNF (Leading)\",G37=\"DNF (Tied)\",G37=\"DNF (Trailing)\")),\"Tied\",IF(OR(E37=\"DNF (Leading)\",E37=\"DNF (Tied)\",E37=\"DNF (Trailing)\"),\"Tied\",IF(AND((E37=\"Lost\"),OR(F37=\"DNF (Leading)\",F37=\"DNF (Tied)\",F37=\"DNF (Trailing)\")),\"Lost\",IF(C38=\"Bye\",\"Bye\",\"\")))))))","v":""},{"$f":"IF(C38=\"Bye\",0,IF(LEN(E37&F37&G37)=0,0,COUNTIF(E37:G37,\"Won\")*1+COUNTIF(E37:G37,\"DNF (Leading)\")*0.67+COUNTIF(E37:G37,\"DNF (Tied)\")*0.5+COUNTIF(E37:G37,\"DNF (Trailing)\")*0.33))","v":0},{"$f":"C38","v":0}]
[null,null,null,{"$f":"IF(ISERROR(VLOOKUP(C38,'Team List'!B:D,3,0)),\"\",VLOOKUP(C38,'Team List'!B:D,2,0))","v":""},{"$f":"IF(E37=\"\",\"\",IF(E37=\"Won\",\"Lost\",IF(E37=\"DNF (Leading)\",\"DNF (Trailing)\",IF(E37=\"DNF (Trailing)\",\"DNF (Leading)\",IF(E37=\"Lost\",\"Won\",E37)))))","v":""},{"$f":"IF(F37=\"\",\"\",IF(F37=\"Won\",\"Lost\",IF(F37=\"DNF (Leading)\",\"DNF (Trailing)\",IF(F37=\"DNF (Trailing)\",\"DNF (Leading)\",IF(F37=\"Lost\",\"Won\",F37)))))","v":""},{"$f":"IF(G37=\"\",\"\",IF(G37=\"Won\",\"Lost\",IF(G37=\"DNF (Leading)\",\"DNF (Trailing)\",IF(G37=\"DNF (Trailing)\",\"DNF (Leading)\",IF(G37=\"Lost\",\"Won\",G37)))))","v":""},{"$f":"IF(H37=\"Won\",\"Lost\",IF(H37=\"Lost\",\"Won\",H37))","v":""},{"$f":"IF(C37=\"Bye\",0,IF(LEN(E38&F38&G38)=0,0,COUNTIF(E38:G38,\"Won\")*1+COUNTIF(E38:G38,\"DNF (Leading)\")*0.67+COUNTIF(E38:G38,\"DNF (Tied)\")*0.5+COUNTIF(E38:G38,\"DNF (Trailing)\")*0.33))","v":0},{"$f":"C37","v":0}]
[19,null,null,{"$f":"IF(ISERROR(VLOOKUP(C39,'Team List'!B:D,3,0)),\"\",VLOOKUP(C39,'Team List'!B:D,2,0))","v":""},null,null,null,{"$f":"IF(COUNTIF(E39:G39,\"Won\")=2,\"Won\",IF(COUNTIF(E39:G39,\"Lost\")=2,\"Lost\",IF(AND((E39=\"Won\"),OR(F39=\"DNF (Leading)\",F39=\"DNF (Tied)\",F39=\"DNF (Trailing)\")),\"Won\",IF(AND(COUNTIF(E39:F39,\"Won\")=1,OR(G39=\"DNF (Leading)\",G39=\"DNF (Tied)\",G39=\"DNF (Trailing)\")),\"Tied\",IF(OR(E39=\"DNF (Leading)\",E39=\"DNF (Tied)\",E39=\"DNF (Trailing)\"),\"Tied\",IF(AND((E39=\"Lost\"),OR(F39=\"DNF (Leading)\",F39=\"DNF (Tied)\",F39=\"DNF (Trailing)\")),\"Lost\",IF(C40=\"Bye\",\"Bye\",\"\")))))))","v":""},{"$f":"IF(C40=\"Bye\",0,IF(LEN(E39&F39&G39)=0,0,COUNTIF(E39:G39,\"Won\")*1+COUNTIF(E39:G39,\"DNF (Leading)\")*0.67+COUNTIF(E39:G39,\"DNF (Tied)\")*0.5+COUNTIF(E39:G39,\"DNF (Trailing)\")*0.33))","v":0},{"$f":"C40","v":0}]
[null,null,null,{"$f":"IF(ISERROR(VLOOKUP(C40,'Team List'!B:D,3,0)),\"\",VLOOKUP(C40,'Team List'!B:D,2,0))","v":""},{"$f":"IF(E39=\"\",\"\",IF(E39=\"Won\",\"Lost\",IF(E39=\"DNF (Leading)\",\"DNF (Trailing)\",IF(E39=\"DNF (Trailing)\",\"DNF (Leading)\",IF(E39=\"Lost\",\"Won\",E39)))))","v":""},{"$f":"IF(F39=\"\",\"\",IF(F39=\"Won\",\"Lost\",IF(F39=\"DNF (Leading)\",\"DNF (Trailing)\",IF(F39=\"DNF (Trailing)\",\"DNF (Leading)\",IF(F39=\"Lost\",\"Won\",F39)))))","v":""},{"$f":"IF(G39=\"\",\"\",IF(G39=\"Won\",\"Lost\",IF(G39=\"DNF (Leading)\",\"DNF (Trailing)\",IF(G39=\"DNF (Trailing)\",\"DNF (Leading)\",IF(G39=\"Lost\",\"Won\",G39)))))","v":""},{"$f":"IF(H39=\"Won\",\"Lost\",IF(H39=\"Lost\",\"Won\",H39))","v":""},{"$f":"IF(C39=\"Bye\",0,IF(LEN(E40&F40&G40)=0,0,COUNTIF(E40:G40,\"Won\")*1+COUNTIF(E40:G40,\"DNF (Leading)\")*0.67+COUNTIF(E40:G40,\"DNF (Tied)\")*0.5+COUNTIF(E40:G40,\"DNF (Trailing)\")*0.33))","v":0},{"$f":"C39","v":0}]
[20,null,null,{"$f":"IF(ISERROR(VLOOKUP(C41,'Team List'!B:D,3,0)),\"\",VLOOKUP(C41,'Team List'!B:D,2,0))","v":""},null,null,null,{"$f":"IF(COUNTIF(E41:G41,\"Won\")=2,\"Won\",IF(COUNTIF(E41:G41,\"Lost\")=2,\"Lost\",IF(AND((E41=\"Won\"),OR(F41=\"DNF (Leading)\",F41=\"DNF (Tied)\",F41=\"DNF (Trailing)\")),\"Won\",IF(AND(COUNTIF(E41:F41,\"Won\")=1,OR(G41=\"DNF (Leading)\",G41=\"DNF (Tied)\",G41=\"DNF (Trailing)\")),\"Tied\",IF(OR(E41=\"DNF (Leading)\",E41=\"DNF (Tied)\",E41=\"DNF (Trailing)\"),\"Tied\",IF(AND((E41=\"Lost\"),OR(F41=\"DNF (Leading)\",F41=\"DNF (Tied)\",F41=\"DNF (Trailing)\")),\"Lost\",IF(C42=\"Bye\",\"Bye\",\"\")))))))","v":""},{"$f":"IF(C42=\"Bye\",0,IF(LEN(E41&F41&G41)=0,0,COUNTIF(E41:G41,\"Won\")*1+COUNTIF(E41:G41,\"DNF (Leading)\")*0.67+COUNTIF(E41:G41,\"DNF (Tied)\")*0.5+COUNTIF(E41:G41,\"DNF (Trailing)\")*0.33))","v":0},{"$f":"C42","v":0}]
[null,null,null,{"$f":"IF(ISERROR(VLOOKUP(C42,'Team List'!B:D,3,0)),\"\",VLOOKUP(C42,'Team List'!B:D,2,0))","v":""},{"$f":"IF(E41=\"\",\"\",IF(E41=\"Won\",\"Lost\",IF(E41=\"DNF (Leading)\",\"DNF (Trailing)\",IF(E41=\"DNF (Trailing)\",\"DNF (Leading)\",IF(E41=\"Lost\",\"Won\",E41)))))","v":""},{"$f":"IF(F41=\"\",\"\",IF(F41=\"Won\",\"Lost\",IF(F41=\"DNF (Leading)\",\"DNF (Trailing)\",IF(F41=\"DNF (Trailing)\",\"DNF (Leading)\",IF(F41=\"Lost\",\"Won\",F41)))))","v":""},{"$f":"IF(G41=\"\",\"\",IF(G41=\"Won\",\"Lost\",IF(G41=\"DNF (Leading)\",\"DNF (Trailing)\",IF(G41=\"DNF (Trailing)\",\"DNF (Leading)\",IF(G41=\"Lost\",\"Won\",G41)))))","v":""},{"$f":"IF(H41=\"Won\",\"Lost\",IF(H41=\"Lost\",\"Won\",H41))","v":""},{"$f":"IF(C41=\"Bye\",0,IF(LEN(E42&F42&G42)=0,0,COUNTIF(E42:G42,\"Won\")*1+COUNTIF(E42:G42,\"DNF (Leading)\")*0.67+COUNTIF(E42:G42,\"DNF (Tied)\")*0.5+COUNTIF(E42:G42,\"DNF (Trailing)\")*0.33))","v":0},{"$f":"C41","v":0}]
[21,null,null,{"$f":"IF(ISERROR(VLOOKUP(C43,'Team List'!B:D,3,0)),\"\",VLOOKUP(C43,'Team List'!B:D,2,0))","v":""},null,null,null,{"$f":"IF(COUNTIF(E43:G43,\"Won\")=2,\"Won\",IF(COUNTIF(E43:G43,\"Lost\")=2,\"Lost\",IF(AND((E43=\"Won\"),OR(F43=\"DNF (Leading)\",F43=\"DNF (Tied)\",F43=\"DNF (Trailing)\")),\"Won\",IF(AND(COUNTIF(E43:F43,\"Won\")=1,OR(G43=\"DNF (Leading)\",G43=\"DNF (Tied)\",G43=\"DNF (Trailing)\")),\"Tied\",IF(OR(E43=\"DNF (Leading)\",E43=\"DNF (Tied)\",E43=\"DNF (Trailing)\"),\"Tied\",IF(AND((E43=\"Lost\"),OR(F43=\"DNF (Leading)\",F43=\"DNF (Tied)\",F43=\"DNF (Trailing)\")),\"Lost\",IF(C44=\"Bye\",\"Bye\",\"\")))))))","v":""},{"$f":"IF(C44=\"Bye\",0,IF(LEN(E43&F43&G43)=0,0,COUNTIF(E43:G43,\"Won\")*1+COUNTIF(E43:G43,\"DNF (Leading)\")*0.67+COUNTIF(E43:G43,\"DNF (Tied)\")*0.5+COUNTIF(E43:G43,\"DNF (Trailing)\")*0.33))","v":0},{"$f":"C44","v":0}]
[null,null,null,{"$f":"IF(ISERROR(VLOOKUP(C44,'Team List'!B:D,3,0)),\"\",VLOOKUP(C44,'Team List'!B:D,2,0))","v":""},{"$f":"IF(E43=\"\",\"\",IF(E43=\"Won\",\"Lost\",IF(E43=\"DNF (Leading)\",\"DNF (Trailing)\",IF(E43=\"DNF (Trailing)\",\"DNF (Leading)\",IF(E43=\"Lost\",\"Won\",E43)))))","v":""},{"$f":"IF(F43=\"\",\"\",IF(F43=\"Won\",\"Lost\",IF(F43=\"DNF (Leading)\",\"DNF (Trailing)\",IF(F43=\"DNF (Trailing)\",\"DNF (Leading)\",IF(F43=\"Lost\",\"Won\",F43)))))","v":""},{"$f":"IF(G43=\"\",\"\",IF(G43=\"Won\",\"Lost\",IF(G43=\"DNF (Leading)\",\"DNF (Trailing)\",IF(G43=\"DNF (Trailing)\",\"DNF (Leading)\",IF(G43=\"Lost\",\"Won\",G43)))))","v":""},{"$f":"IF(H43=\"Won\",\"Lost\",IF(H43=\"Lost\",\"Won\",H43))","v":""},{"$f":"IF(C43=\"Bye\",0,IF(LEN(E44&F44&G44)=0,0,COUNTIF(E44:G44,\"Won\")*1+COUNTIF(E44:G44,\"DNF (Leading)\")*0.67+COUNTIF(E44:G44,\"DNF (Tied)\")*0.5+COUNTIF(E44:G44,\"DNF (Trailing)\")*0.33))","v":0},{"$f":"C43","v":0}]
[22,null,null,{"$f":"IF(ISERROR(VLOOKUP(C45,'Team List'!B:D,3,0)),\"\",VLOOKUP(C45,'Team List'!B:D,2,0))","v":""},null,null,null,{"$f":"IF(COUNTIF(E45:G45,\"Won\")=2,\"Won\",IF(COUNTIF(E45:G45,\"Lost\")=2,\"Lost\",IF(AND((E45=\"Won\"),OR(F45=\"DNF (Leading)\",F45=\"DNF (Tied)\",F45=\"DNF (Trailing)\")),\"Won\",IF(AND(COUNTIF(E45:F45,\"Won\")=1,OR(G45=\"DNF (Leading)\",G45=\"DNF (Tied)\",G45=\"DNF (Trailing)\")),\"Tied\",IF(OR(E45=\"DNF (Leading)\",E45=\"DNF (Tied)\",E45=\"DNF (Trailing)\"),\"Tied\",IF(AND((E45=\"Lost\"),OR(F45=\"DNF (Leading)\",F45=\"DNF (Tied)\",F45=\"DNF (Trailing)\")),\"Lost\",IF(C46=\"Bye\",\"Bye\",\"\")))))))","v":""},{"$f":"IF(C46=\"Bye\",0,IF(LEN(E45&F45&G45)=0,0,COUNTIF(E45:G45,\"Won\")*1+COUNTIF(E45:G45,\"DNF (Leading)\")*0.67+COUNTIF(E45:G45,\"DNF (Tied)\")*0.5+COUNTIF(E45:G45,\"DNF (Trailing)\")*0.33))","v":0},{"$f":"C46","v":0}]
[null,null,null,{"$f":"IF(ISERROR(VLOOKUP(C46,'Team List'!B:D,3,0)),\"\",VLOOKUP(C46,'Team List'!B:D,2,0))","v":""},{"$f":"IF(E45=\"\",\"\",IF(E45=\"Won\",\"Lost\",IF(E45=\"DNF (Leading)\",\"DNF (Trailing)\",IF(E45=\"DNF (Trailing)\",\"DNF (Leading)\",IF(E45=\"Lost\",\"Won\",E45)))))","v":""},{"$f":"IF(F45=\"\",\"\",IF(F45=\"Won\",\"Lost\",IF(F45=\"DNF (Leading)\",\"DNF (Trailing)\",IF(F45=\"DNF (Trailing)\",\"DNF (Leading)\",IF(F45=\"Lost\",\"Won\",F45)))))","v":""},{"$f":"IF(G45=\"\",\"\",IF(G45=\"Won\",\"Lost\",IF(G45=\"DNF (Leading)\",\"DNF (Trailing)\",IF(G45=\"DNF (Trailing)\",\"DNF (Leading)\",IF(G45=\"Lost\",\"Won\",G45)))))","v":""},{"$f":"IF(H45=\"Won\",\"Lost\",IF(H45=\"Lost\",\"Won\",H45))","v":""},{"$f":"IF(C45=\"Bye\",0,IF(LEN(E46&F46&G46)=0,0,COUNTIF(E46:G46,\"Won\")*1+COUNTIF(E46:G46,\"DNF (Leading)\")*0.67+COUNTIF(E46:G46,\"DNF (Tied)\")*0.5+COUNTIF(E46:G46,\"DNF (Trailing)\")*0.33))","v":0},{"$f":"C45","v":0}]
[23,null,null,{"$f":"IF(ISERROR(VLOOKUP(C47,'Team List'!B:D,3,0)),\"\",VLOOKUP(C47,'Team List'!B:D,2,0))","v":""},null,null,null,{"$f":"IF(COUNTIF(E47:G47,\"Won\")=2,\"Won\",IF(COUNTIF(E47:G47,\"Lost\")=2,\"Lost\",IF(AND((E47=\"Won\"),OR(F47=\"DNF (Leading)\",F47=\"DNF (Tied)\",F47=\"DNF (Trailing)\")),\"Won\",IF(AND(COUNTIF(E47:F47,\"Won\")=1,OR(G47=\"DNF (Leading)\",G47=\"DNF (Tied)\",G47=\"DNF (Trailing)\")),\"Tied\",IF(OR(E47=\"DNF (Leading)\",E47=\"DNF (Tied)\",E47=\"DNF (Trailing)\"),\"Tied\",IF(AND((E47=\"Lost\"),OR(F47=\"DNF (Leading)\",F47=\"DNF (Tied)\",F47=\"DNF (Trailing)\")),\"Lost\",IF(C48=\"Bye\",\"Bye\",\"\")))))))","v":""},{"$f":"IF(C48=\"Bye\",0,IF(LEN(E47&F47&G47)=0,0,COUNTIF(E47:G47,\"Won\")*1+COUNTIF(E47:G47,\"DNF (Leading)\")*0.67+COUNTIF(E47:G47,\"DNF (Tied)\")*0.5+COUNTIF(E47:G47,\"DNF (Trailing)\")*0.33))","v":0},{"$f":"C48","v":0}]
[null,null,null,{"$f":"IF(ISERROR(VLOOKUP(C48,'Team List'!B:D,3,0)),\"\",VLOOKUP(C48,'Team List'!B:D,2,0))","v":""},{"$f":"IF(E47=\"\",\"\",IF(E47=\"Won\",\"Lost\",IF(E47=\"DNF (Leading)\",\"DNF (Trailing)\",IF(E47=\"DNF (Trailing)\",\"DNF (Leading)\",IF(E47=\"Lost\",\"Won\",E47)))))","v":""},{"$f":"IF(F47=\"\",\"\",IF(F47=\"Won\",\"Lost\",IF(F47=\"DNF (Leading)\",\"DNF (Trailing)\",IF(F47=\"DNF (Trailing)\",\"DNF (Leading)\",IF(F47=\"Lost\",\"Won\",F47)))))","v":""},{"$f":"IF(G47=\"\",\"\",IF(G47=\"Won\",\"Lost\",IF(G47=\"DNF (Leading)\",\"DNF (Trailing)\",IF(G47=\"DNF (Trailing)\",\"DNF (Leading)\",IF(G47=\"Lost\",\"Won\",G47)))))","v":""},{"$f":"IF(H47=\"Won\",\"Lost\",IF(H47=\"Lost\",\"Won\",H47))","v":""},{"$f":"IF(C47=\"Bye\",0,IF(LEN(E48&F48&G48)=0,0,COUNTIF(E48:G48,\"Won\")*1+COUNTIF(E48:G48,\"DNF (Leading)\")*0.67+COUNTIF(E48:G48,\"DNF (Tied)\")*0.5+COUNTIF(E48:G48,\"DNF (Trailing)\")*0.33))","v":0},{"$f":"C47","v":0}]
[24,null,null,{"$f":"IF(ISERROR(VLOOKUP(C49,'Team List'!B:D,3,0)),\"\",VLOOKUP(C49,'Team List'!B:D,2,0))","v":""},null,null,null,{"$f":"IF(COUNTIF(E49:G49,\"Won\")=2,\"Won\",IF(COUNTIF(E49:G49,\"Lost\")=2,\"Lost\",IF(AND((E49=\"Won\"),OR(F49=\"DNF (Leading)\",F49=\"DNF (Tied)\",F49=\"DNF (Trailing)\")),\"Won\",IF(AND(COUNTIF(E49:F49,\"Won\")=1,OR(G49=\"DNF (Leading)\",G49=\"DNF (Tied)\",G49=\"DNF (Trailing)\")),\"Tied\",IF(OR(E49=\"DNF (Leading)\",E49=\"DNF (Tied)\",E49=\"DNF (Trailing)\"),\"Tied\",IF(AND((E49=\"Lost\"),OR(F49=\"DNF (Leading)\",F49=\"DNF (Tied)\",F49=\"DNF (Trailing)\")),\"Lost\",IF(C50=\"Bye\",\"Bye\",\"\")))))))","v":""},{"$f":"IF(C50=\"Bye\",0,IF(LEN(E49&F49&G49)=0,0,COUNTIF(E49:G49,\"Won\")*1+COUNTIF(E49:G49,\"DNF (Leading)\")*0.67+COUNTIF(E49:G49,\"DNF (Tied)\")*0.5+COUNTIF(E49:G49,\"DNF (Trailing)\")*0.33))","v":0},{"$f":"C50","v":0}]
[null,null,null,{"$f":"IF(ISERROR(VLOOKUP(C50,'Team List'!B:D,3,0)),\"\",VLOOKUP(C50,'Team List'!B:D,2,0))","v":""},{"$f":"IF(E49=\"\",\"\",IF(E49=\"Won\",\"Lost\",IF(E49=\"DNF (Leading)\",\"DNF (Trailing)\",IF(E49=\"DNF (Trailing)\",\"DNF (Leading)\",IF(E49=\"Lost\",\"Won\",E49)))))","v":""},{"$f":"IF(F49=\"\",\"\",IF(F49=\"Won\",\"Lost\",IF(F49=\"DNF (Leading)\",\"DNF (Trailing)\",IF(F49=\"DNF (Trailing)\",\"DNF (Leading)\",IF(F49=\"Lost\",\"Won\",F49)))))","v":""},{"$f":"IF(G49=\"\",\"\",IF(G49=\"Won\",\"Lost\",IF(G49=\"DNF (Leading)\",\"DNF (Trailing)\",IF(G49=\"DNF (Trailing)\",\"DNF (Leading)\",IF(G49=\"Lost\",\"Won\",G49)))))","v":""},{"$f":"IF(H49=\"Won\",\"Lost\",IF(H49=\"Lost\",\"Won\",H49))","v":""},{"$f":"IF(C49=\"Bye\",0,IF(LEN(E50&F50&G50)=0,0,COUNTIF(E50:G50,\"Won\")*1+COUNTIF(E50:G50,\"DNF (Leading)\")*0.67+COUNTIF(E50:G50,\"DNF (Tied)\")*0.5+COUNTIF(E50:G50,\"DNF (Trailing)\")*0.33))","v":0},{"$f":"C49","v":0}]
[25,null,null,{"$f":"IF(ISERROR(VLOOKUP(C51,'Team List'!B:D,3,0)),\"\",VLOOKUP(C51,'Team List'!B:D,2,0))","v":""},null,null,null,{"$f":"IF(COUNTIF(E51:G51,\"Won\")=2,\"Won\",IF(COUNTIF(E51:G51,\"Lost\")=2,\"Lost\",IF(AND((E51=\"Won\"),OR(F51=\"DNF (Leading)\",F51=\"DNF (Tied)\",F51=\"DNF (Trailing)\")),\"Won\",IF(AND(COUNTIF(E51:F51,\"Won\")=1,OR(G51=\"DNF (Leading)\",G51=\"DNF (Tied)\",G51=\"DNF (Trailing)\")),\"Tied\",IF(OR(E51=\"DNF (Leading)\",E51=\"DNF (Tied)\",E51=\"DNF (Trailing)\"),\"Tied\",IF(AND((E51=\"Lost\"),OR(F51=\"DNF (Leading)\",F51=\"DNF (Tied)\",F51=\"DNF (Trailing)\")),\"Lost\",IF(C52=\"Bye\",\"Bye\",\"\")))))))","v":""},{"$f":"IF(C52=\"Bye\",0,IF(LEN(E51&F51&G51)=0,0,COUNTIF(E51:G51,\"Won\")*1+COUNTIF(E51:G51,\"DNF (Leading)\")*0.67+COUNTIF(E51:G51,\"DNF (Tied)\")*0.5+COUNTIF(E51:G51,\"DNF (Trailing)\")*0.33))","v":0},{"$f":"C52","v":0}]
[null,null,null,{"$f":"IF(ISERROR(VLOOKUP(C52,'Team List'!B:D,3,0)),\"\",VLOOKUP(C52,'Team List'!B:D,2,0))","v":""},{"$f":"IF(E51=\"\",\"\",IF(E51=\"Won\",\"Lost\",IF(E51=\"DNF (Leading)\",\"DNF (Trailing)\",IF(E51=\"DNF (Trailing)\",\"DNF (Leading)\",IF(E51=\"Lost\",\"Won\",E51)))))","v":""},{"$f":"IF(F51=\"\",\"\",IF(F51=\"Won\",\"Lost\",IF(F51=\"DNF (Leading)\",\"DNF (Trailing)\",IF(F51=\"DNF (Trailing)\",\"DNF (Leading)\",IF(F51=\"Lost\",\"Won\",F51)))))","v":""},{"$f":"IF(G51=\"\",\"\",IF(G51=\"Won\",\"Lost\",IF(G51=\"DNF (Leading)\",\"DNF (Trailing)\",IF(G51=\"DNF (Trailing)\",\"DNF (Leading)\",IF(G51=\"Lost\",\"Won\",G51)))))","v":""},{"$f":"IF(H51=\"Won\",\"Lost\",IF(H51=\"Lost\",\"Won\",H51))","v":""},{"$f":"IF(C51=\"Bye\",0,IF(LEN(E52&F52&G52)=0,0,COUNTIF(E52:G52,\"Won\")*1+COUNTIF(E52:G52,\"DNF (Leading)\")*0.67+COUNTIF(E52:G52,\"DNF (Tied)\")*0.5+COUNTIF(E52:G52,\"DNF (Trailing)\")*0.33))","v":0},{"$f":"C51","v":0}]
[26,null,null,{"$f":"IF(ISERROR(VLOOKUP(C53,'Team List'!B:D,3,0)),\"\",VLOOKUP(C53,'Team List'!B:D,2,0))","v":""},null,null,null,{"$f":"IF(COUNTIF(E53:G53,\"Won\")=2,\"Won\",IF(COUNTIF(E53:G53,\"Lost\")=2,\"Lost\",IF(AND((E53=\"Won\"),OR(F53=\"DNF (Leading)\",F53=\"DNF (Tied)\",F53=\"DNF (Trailing)\")),\"Won\",IF(AND(COUNTIF(E53:F53,\"Won\")=1,OR(G53=\"DNF (Leading)\",G53=\"DNF (Tied)\",G53=\"DNF (Trailing)\")),\"Tied\",IF(OR(E53=\"DNF (Leading)\",E53=\"DNF (Tied)\",E53=\"DNF (Trailing)\"),\"Tied\",IF(AND((E53=\"Lost\"),OR(F53=\"DNF (Leading)\",F53=\"DNF (Tied)\",F53=\"DNF (Trailing)\")),\"Lost\",IF(C54=\"Bye\",\"Bye\",\"\")))))))","v":""},{"$f":"IF(C54=\"Bye\",0,IF(LEN(E53&F53&G53)=0,0,COUNTIF(E53:G53,\"Won\")*1+COUNTIF(E53:G53,\"DNF (Leading)\")*0.67+COUNTIF(E53:G53,\"DNF (Tied)\")*0.5+COUNTIF(E53:G53,\"DNF (Trailing)\")*0.33))","v":0},{"$f":"C54","v":0}]
[null,null,null,{"$f":"IF(ISERROR(VLOOKUP(C54,'Team List'!B:D,3,0)),\"\",VLOOKUP(C54,'Team List'!B:D,2,0))","v":""},{"$f":"IF(E53=\"\",\"\",IF(E53=\"Won\",\"Lost\",IF(E53=\"DNF (Leading)\",\"DNF (Trailing)\",IF(E53=\"DNF (Trailing)\",\"DNF (Leading)\",IF(E53=\"Lost\",\"Won\",E53)))))","v":""},{"$f":"IF(F53=\"\",\"\",IF(F53=\"Won\",\"Lost\",IF(F53=\"DNF (Leading)\",\"DNF (Trailing)\",IF(F53=\"DNF (Trailing)\",\"DNF (Leading)\",IF(F53=\"Lost\",\"Won\",F53)))))","v":""},{"$f":"IF(G53=\"\",\"\",IF(G53=\"Won\",\"Lost\",IF(G53=\"DNF (Leading)\",\"DNF (Trailing)\",IF(G53=\"DNF (Trailing)\",\"DNF (Leading)\",IF(G53=\"Lost\",\"Won\",G53)))))","v":""},{"$f":"IF(H53=\"Won\",\"Lost\",IF(H53=\"Lost\",\"Won\",H53))","v":""},{"$f":"IF(C53=\"Bye\",0,IF(LEN(E54&F54&G54)=0,0,COUNTIF(E54:G54,\"Won\")*1+COUNTIF(E54:G54,\"DNF (Leading)\")*0.67+COUNTIF(E54:G54,\"DNF (Tied)\")*0.5+COUNTIF(E54:G54,\"DNF (Trailing)\")*0.33))","v":0},{"$f":"C53","v":0}]
[27,null,null,{"$f":"IF(ISERROR(VLOOKUP(C55,'Team List'!B:D,3,0)),\"\",VLOOKUP(C55,'Team List'!B:D,2,0))","v":""},null,null,null,{"$f":"IF(COUNTIF(E55:G55,\"Won\")=2,\"Won\",IF(COUNTIF(E55:G55,\"Lost\")=2,\"Lost\",IF(AND((E55=\"Won\"),OR(F55=\"DNF (Leading)\",F55=\"DNF (Tied)\",F55=\"DNF (Trailing)\")),\"Won\",IF(AND(COUNTIF(E55:F55,\"Won\")=1,OR(G55=\"DNF (Leading)\",G55=\"DNF (Tied)\",G55=\"DNF (Trailing)\")),\"Tied\",IF(OR(E55=\"DNF (Leading)\",E55=\"DNF (Tied)\",E55=\"DNF (Trailing)\"),\"Tied\",IF(AND((E55=\"Lost\"),OR(F55=\"DNF (Leading)\",F55=\"DNF (Tied)\",F55=\"DNF (Trailing)\")),\"Lost\",IF(C56=\"Bye\",\"Bye\",\"\")))))))","v":""},{"$f":"IF(C56=\"Bye\",0,IF(LEN(E55&F55&G55)=0,0,COUNTIF(E55:G55,\"Won\")*1+COUNTIF(E55:G55,\"DNF (Leading)\")*0.67+COUNTIF(E55:G55,\"DNF (Tied)\")*0.5+COUNTIF(E55:G55,\"DNF (Trailing)\")*0.33))","v":0},{"$f":"C56","v":0}]
[null,null,null,{"$f":"IF(ISERROR(VLOOKUP(C56,'Team List'!B:D,3,0)),\"\",VLOOKUP(C56,'Team List'!B:D,2,0))","v":""},{"$f":"IF(E55=\"\",\"\",IF(E55=\"Won\",\"Lost\",IF(E55=\"DNF (Leading)\",\"DNF (Trailing)\",IF(E55=\"DNF (Trailing)\",\"DNF (Leading)\",IF(E55=\"Lost\",\"Won\",E55)))))","v":""},{"$f":"IF(F55=\"\",\"\",IF(F55=\"Won\",\"Lost\",IF(F55=\"DNF (Leading)\",\"DNF (Trailing)\",IF(F55=\"DNF (Trailing)\",\"DNF (Leading)\",IF(F55=\"Lost\",\"Won\",F55)))))","v":""},{"$f":"IF(G55=\"\",\"\",IF(G55=\"Won\",\"Lost\",IF(G55=\"DNF (Leading)\",\"DNF (Trailing)\",IF(G55=\"DNF (Trailing)\",\"DNF (Leading)\",IF(G55=\"Lost\",\"Won\",G55)))))","v":""},{"$f":"IF(H55=\"Won\",\"Lost\",IF(H55=\"Lost\",\"Won\",H55))","v":""},{"$f":"IF(C55=\"Bye\",0,IF(LEN(E56&F56&G56)=0,0,COUNTIF(E56:G56,\"Won\")*1+COUNTIF(E56:G56,\"DNF (Leading)\")*0.67+COUNTIF(E56:G56,\"DNF (Tied)\")*0.5+COUNTIF(E56:G56,\"DNF (Trailing)\")*0.33))","v":0},{"$f":"C55","v":0}]
[28,null,null,{"$f":"IF(ISERROR(VLOOKUP(C57,'Team List'!B:D,3,0)),\"\",VLOOKUP(C57,'Team List'!B:D,2,0))","v":""},null,null,null,{"$f":"IF(COUNTIF(E57:G57,\"Won\")=2,\"Won\",IF(COUNTIF(E57:G57,\"Lost\")=2,\"Lost\",IF(AND((E57=\"Won\"),OR(F57=\"DNF (Leading)\",F57=\"DNF (Tied)\",F57=\"DNF (Trailing)\")),\"Won\",IF(AND(COUNTIF(E57:F57,\"Won\")=1,OR(G57=\"DNF (Leading)\",G57=\"DNF (Tied)\",G57=\"DNF (Trailing)\")),\"Tied\",IF(OR(E57=\"DNF (Leading)\",E57=\"DNF (Tied)\",E57=\"DNF (Trailing)\"),\"Tied\",IF(AND((E57=\"Lost\"),OR(F57=\"DNF (Leading)\",F57=\"DNF (Tied)\",F57=\"DNF (Trailing)\")),\"Lost\",IF(C58=\"Bye\",\"Bye\",\"\")))))))","v":""},{"$f":"IF(C58=\"Bye\",0,IF(LEN(E57&F57&G57)=0,0,COUNTIF(E57:G57,\"Won\")*1+COUNTIF(E57:G57,\"DNF (Leading)\")*0.67+COUNTIF(E57:G57,\"DNF (Tied)\")*0.5+COUNTIF(E57:G57,\"DNF (Trailing)\")*0.33))","v":0},{"$f":"C58","v":0}]
[null,null,null,{"$f":"IF(ISERROR(VLOOKUP(C58,'Team List'!B:D,3,0)),\"\",VLOOKUP(C58,'Team List'!B:D,2,0))","v":""},{"$f":"IF(E57=\"\",\"\",IF(E57=\"Won\",\"Lost\",IF(E57=\"DNF (Leading)\",\"DNF (Trailing)\",IF(E57=\"DNF (Trailing)\",\"DNF (Leading)\",IF(E57=\"Lost\",\"Won\",E57)))))","v":""},{"$f":"IF(F57=\"\",\"\",IF(F57=\"Won\",\"Lost\",IF(F57=\"DNF (Leading)\",\"DNF (Trailing)\",IF(F57=\"DNF (Trailing)\",\"DNF (Leading)\",IF(F57=\"Lost\",\"Won\",F57)))))","v":""},{"$f":"IF(G57=\"\",\"\",IF(G57=\"Won\",\"Lost\",IF(G57=\"DNF (Leading)\",\"DNF (Trailing)\",IF(G57=\"DNF (Trailing)\",\"DNF (Leading)\",IF(G57=\"Lost\",\"Won\",G57)))))","v":""},{"$f":"IF(H57=\"Won\",\"Lost\",IF(H57=\"Lost\",\"Won\",H57))","v":""},{"$f":"IF(C57=\"Bye\",0,IF(LEN(E58&F58&G58)=0,0,COUNTIF(E58:G58,\"Won\")*1+COUNTIF(E58:G58,\"DNF (Leading)\")*0.67+COUNTIF(E58:G58,\"DNF (Tied)\")*0.5+COUNTIF(E58:G58,\"DNF (Trailing)\")*0.33))","v":0},{"$f":"C57","v":0}]
[29,null,null,{"$f":"IF(ISERROR(VLOOKUP(C59,'Team List'!B:D,3,0)),\"\",VLOOKUP(C59,'Team List'!B:D,2,0))","v":""},null,null,null,{"$f":"IF(COUNTIF(E59:G59,\"Won\")=2,\"Won\",IF(COUNTIF(E59:G59,\"Lost\")=2,\"Lost\",IF(AND((E59=\"Won\"),OR(F59=\"DNF (Leading)\",F59=\"DNF (Tied)\",F59=\"DNF (Trailing)\")),\"Won\",IF(AND(COUNTIF(E59:F59,\"Won\")=1,OR(G59=\"DNF (Leading)\",G59=\"DNF (Tied)\",G59=\"DNF (Trailing)\")),\"Tied\",IF(OR(E59=\"DNF (Leading)\",E59=\"DNF (Tied)\",E59=\"DNF (Trailing)\"),\"Tied\",IF(AND((E59=\"Lost\"),OR(F59=\"DNF (Leading)\",F59=\"DNF (Tied)\",F59=\"DNF (Trailing)\")),\"Lost\",IF(C60=\"Bye\",\"Bye\",\"\")))))))","v":""},{"$f":"IF(C60=\"Bye\",0,IF(LEN(E59&F59&G59)=0,0,COUNTIF(E59:G59,\"Won\")*1+COUNTIF(E59:G59,\"DNF (Leading)\")*0.67+COUNTIF(E59:G59,\"DNF (Tied)\")*0.5+COUNTIF(E59:G59,\"DNF (Trailing)\")*0.33))","v":0},{"$f":"C60","v":0}]
[null,null,null,{"$f":"IF(ISERROR(VLOOKUP(C60,'Team List'!B:D,3,0)),\"\",VLOOKUP(C60,'Team List'!B:D,2,0))","v":""},{"$f":"IF(E59=\"\",\"\",IF(E59=\"Won\",\"Lost\",IF(E59=\"DNF (Leading)\",\"DNF (Trailing)\",IF(E59=\"DNF (Trailing)\",\"DNF (Leading)\",IF(E59=\"Lost\",\"Won\",E59)))))","v":""},{"$f":"IF(F59=\"\",\"\",IF(F59=\"Won\",\"Lost\",IF(F59=\"DNF (Leading)\",\"DNF (Trailing)\",IF(F59=\"DNF (Trailing)\",\"DNF (Leading)\",IF(F59=\"Lost\",\"Won\",F59)))))","v":""},{"$f":"IF(G59=\"\",\"\",IF(G59=\"Won\",\"Lost\",IF(G59=\"DNF (Leading)\",\"DNF (Trailing)\",IF(G59=\"DNF (Trailing)\",\"DNF (Leading)\",IF(G59=\"Lost\",\"Won\",G59)))))","v":""},{"$f":"IF(H59=\"Won\",\"Lost\",IF(H59=\"Lost\",\"Won\",H59))","v":""},{"$f":"IF(C59=\"Bye\",0,IF(LEN(E60&F60&G60)=0,0,COUNTIF(E60:G60,\"Won\")*1+COUNTIF(E60:G60,\"DNF (Leading)\")*0.67+COUNTIF(E60:G60,\"DNF (Tied)\")*0.5+COUNTIF(E60:G60,\"DNF (Trailing)\")*0.33))","v":0},{"$f":"C59","v":0}]
[30,null,null,{"$f":"IF(ISERROR(VLOOKUP(C61,'Team List'!B:D,3,0)),\"\",VLOOKUP(C61,'Team List'!B:D,2,0))","v":""},null,null,null,{"$f":"IF(COUNTIF(E61:G61,\"Won\")=2,\"Won\",IF(COUNTIF(E61:G61,\"Lost\")=2,\"Lost\",IF(AND((E61=\"Won\"),OR(F61=\"DNF (Leading)\",F61=\"DNF (Tied)\",F61=\"DNF (Trailing)\")),\"Won\",IF(AND(COUNTIF(E61:F61,\"Won\")=1,OR(G61=\"DNF (Leading)\",G61=\"DNF (Tied)\",G61=\"DNF (Trailing)\")),\"Tied\",IF(OR(E61=\"DNF (Leading)\",E61=\"DNF (Tied)\",E61=\"DNF (Trailing)\"),\"Tied\",IF(AND((E61=\"Lost\"),OR(F61=\"DNF (Leading)\",F61=\"DNF (Tied)\",F61=\"DNF (Trailing)\")),\"Lost\",IF(C62=\"Bye\",\"Bye\",\"\")))))))","v":""},{"$f":"IF(C62=\"Bye\",0,IF(LEN(E61&F61&G61)=0,0,COUNTIF(E61:G61,\"Won\")*1+COUNTIF(E61:G61,\"DNF (Leading)\")*0.67+COUNTIF(E61:G61,\"DNF (Tied)\")*0.5+COUNTIF(E61:G61,\"DNF (Trailing)\")*0.33))","v":0},{"$f":"C62","v":0}]
[null,null,null,{"$f":"IF(ISERROR(VLOOKUP(C62,'Team List'!B:D,3,0)),\"\",VLOOKUP(C62,'Team List'!B:D,2,0))","v":""},{"$f":"IF(E61=\"\",\"\",IF(E61=\"Won\",\"Lost\",IF(E61=\"DNF (Leading)\",\"DNF (Trailing)\",IF(E61=\"DNF (Trailing)\",\"DNF (Leading)\",IF(E61=\"Lost\",\"Won\",E61)))))","v":""},{"$f":"IF(F61=\"\",\"\",IF(F61=\"Won\",\"Lost\",IF(F61=\"DNF (Leading)\",\"DNF (Trailing)\",IF(F61=\"DNF (Trailing)\",\"DNF (Leading)\",IF(F61=\"Lost\",\"Won\",F61)))))","v":""},{"$f":"IF(G61=\"\",\"\",IF(G61=\"Won\",\"Lost\",IF(G61=\"DNF (Leading)\",\"DNF (Trailing)\",IF(G61=\"DNF (Trailing)\",\"DNF (Leading)\",IF(G61=\"Lost\",\"Won\",G61)))))","v":""},{"$f":"IF(H61=\"Won\",\"Lost\",IF(H61=\"Lost\",\"Won\",H61))","v":""},{"$f":"IF(C61=\"Bye\",0,IF(LEN(E62&F62&G62)=0,0,COUNTIF(E62:G62,\"Won\")*1+COUNTIF(E62:G62,\"DNF (Leading)\")*0.67+COUNTIF(E62:G62,\"DNF (Tied)\")*0.5+COUNTIF(E62:G62,\"DNF (Trailing)\")*0.33))","v":0},{"$f":"C61","v":0}]
[31,null,null,{"$f":"IF(ISERROR(VLOOKUP(C63,'Team List'!B:D,3,0)),\"\",VLOOKUP(C63,'Team List'!B:D,2,0))","v":""},null,null,null,{"$f":"IF(COUNTIF(E63:G63,\"Won\")=2,\"Won\",IF(COUNTIF(E63:G63,\"Lost\")=2,\"Lost\",IF(AND((E63=\"Won\"),OR(F63=\"DNF (Leading)\",F63=\"DNF (Tied)\",F63=\"DNF (Trailing)\")),\"Won\",IF(AND(COUNTIF(E63:F63,\"Won\")=1,OR(G63=\"DNF (Leading)\",G63=\"DNF (Tied)\",G63=\"DNF (Trailing)\")),\"Tied\",IF(OR(E63=\"DNF (Leading)\",E63=\"DNF (Tied)\",E63=\"DNF (Trailing)\"),\"Tied\",IF(AND((E63=\"Lost\"),OR(F63=\"DNF (Leading)\",F63=\"DNF (Tied)\",F63=\"DNF (Trailing)\")),\"Lost\",IF(C64=\"Bye\",\"Bye\",\"\")))))))","v":""},{"$f":"IF(C64=\"Bye\",0,IF(LEN(E63&F63&G63)=0,0,COUNTIF(E63:G63,\"Won\")*1+COUNTIF(E63:G63,\"DNF (Leading)\")*0.67+COUNTIF(E63:G63,\"DNF (Tied)\")*0.5+COUNTIF(E63:G63,\"DNF (Trailing)\")*0.33))","v":0},{"$f":"C64","v":0}]
[null,null,null,{"$f":"IF(ISERROR(VLOOKUP(C64,'Team List'!B:D,3,0)),\"\",VLOOKUP(C64,'Team List'!B:D,2,0))","v":""},{"$f":"IF(E63=\"\",\"\",IF(E63=\"Won\",\"Lost\",IF(E63=\"DNF (Leading)\",\"DNF (Trailing)\",IF(E63=\"DNF (Trailing)\",\"DNF (Leading)\",IF(E63=\"Lost\",\"Won\",E63)))))","v":""},{"$f":"IF(F63=\"\",\"\",IF(F63=\"Won\",\"Lost\",IF(F63=\"DNF (Leading)\",\"DNF (Trailing)\",IF(F63=\"DNF (Trailing)\",\"DNF (Leading)\",IF(F63=\"Lost\",\"Won\",F63)))))","v":""},{"$f":"IF(G63=\"\",\"\",IF(G63=\"Won\",\"Lost\",IF(G63=\"DNF (Leading)\",\"DNF (Trailing)\",IF(G63=\"DNF (Trailing)\",\"DNF (Leading)\",IF(G63=\"Lost\",\"Won\",G63)))))","v":""},{"$f":"IF(H63=\"Won\",\"Lost\",IF(H63=\"Lost\",\"Won\",H63))","v":""},{"$f":"IF(C63=\"Bye\",0,IF(LEN(E64&F64&G64)=0,0,COUNTIF(E64:G64,\"Won\")*1+COUNTIF(E64:G64,\"DNF (Leading)\")*0.67+COUNTIF(E64:G64,\"DNF (Tied)\")*0.5+COUNTIF(E64:G64,\"DNF (Trailing)\")*0.33))","v":0},{"$f":"C63","v":0}]
[32,null,null,{"$f":"IF(ISERROR(VLOOKUP(C65,'Team List'!B:D,3,0)),\"\",VLOOKUP(C65,'Team List'!B:D,2,0))","v":""},null,null,null,{"$f":"IF(COUNTIF(E65:G65,\"Won\")=2,\"Won\",IF(COUNTIF(E65:G65,\"Lost\")=2,\"Lost\",IF(AND((E65=\"Won\"),OR(F65=\"DNF (Leading)\",F65=\"DNF (Tied)\",F65=\"DNF (Trailing)\")),\"Won\",IF(AND(COUNTIF(E65:F65,\"Won\")=1,OR(G65=\"DNF (Leading)\",G65=\"DNF (Tied)\",G65=\"DNF (Trailing)\")),\"Tied\",IF(OR(E65=\"DNF (Leading)\",E65=\"DNF (Tied)\",E65=\"DNF (Trailing)\"),\"Tied\",IF(AND((E65=\"Lost\"),OR(F65=\"DNF (Leading)\",F65=\"DNF (Tied)\",F65=\"DNF (Trailing)\")),\"Lost\",IF(C66=\"Bye\",\"Bye\",\"\")))))))","v":""},{"$f":"IF(C66=\"Bye\",0,IF(LEN(E65&F65&G65)=0,0,COUNTIF(E65:G65,\"Won\")*1+COUNTIF(E65:G65,\"DNF (Leading)\")*0.67+COUNTIF(E65:G65,\"DNF (Tied)\")*0.5+COUNTIF(E65:G65,\"DNF (Trailing)\")*0.33))","v":0},{"$f":"C66","v":0}]
[null,null,null,{"$f":"IF(ISERROR(VLOOKUP(C66,'Team List'!B:D,3,0)),\"\",VLOOKUP(C66,'Team List'!B:D,2,0))","v":""},{"$f":"IF(E65=\"\",\"\",IF(E65=\"Won\",\"Lost\",IF(E65=\"DNF (Leading)\",\"DNF (Trailing)\",IF(E65=\"DNF (Trailing)\",\"DNF (Leading)\",IF(E65=\"Lost\",\"Won\",E65)))))","v":""},{"$f":"IF(F65=\"\",\"\",IF(F65=\"Won\",\"Lost\",IF(F65=\"DNF (Leading)\",\"DNF (Trailing)\",IF(F65=\"DNF (Trailing)\",\"DNF (Leading)\",IF(F65=\"Lost\",\"Won\",F65)))))","v":""},{"$f":"IF(G65=\"\",\"\",IF(G65=\"Won\",\"Lost\",IF(G65=\"DNF (Leading)\",\"DNF (Trailing)\",IF(G65=\"DNF (Trailing)\",\"DNF (Leading)\",IF(G65=\"Lost\",\"Won\",G65)))))","v":""},{"$f":"IF(H65=\"Won\",\"Lost\",IF(H65=\"Lost\",\"Won\",H65))","v":""},{"$f":"IF(C65=\"Bye\",0,IF(LEN(E66&F66&G66)=0,0,COUNTIF(E66:G66,\"Won\")*1+COUNTIF(E66:G66,\"DNF (Leading)\")*0.67+COUNTIF(E66:G66,\"DNF (Tied)\")*0.5+COUNTIF(E66:G66,\"DNF (Trailing)\")*0.33))","v":0},{"$f":"C65","v":0}]

{"sheet":"Round Three","index":7,"n_rows":66,"n_cols":10,"rows_kept":66,"cut":false,"hidden":false,"merged":[[48,0,49,0],[62,0,63,0],[64,0,65,0],[50,0,51,0],[52,0,53,0],[54,0,55,0],[56,0,57,0],[58,0,59,0],[60,0,61,0],[40,0,41,0],[42,0,43,0],[44,0,45,0],[46,0,47,0],[32,0,33,0],[34,0,35,0],[36,0,37,0],[38,0,39,0],[24,0,25,0],[26,0,27,0],[28,0,29,0],[30,0,31,0],[16,0,17,0],[18,0,19,0],[20,0,21,0],[22,0,23,0],[0,0,0,5],[8,0,9,0],[10,0,11,0],[12,0,13,0],[14,0,15,0],[2,0,3,0],[4,0,5,0],[6,0,7,0]]}
["Round Three"]
["Pitch #","Rank","Team Number","Team Name","Game One","Game Two","Game Three","Match","Score"]
[1,null,null,{"$f":"IF(ISERROR(VLOOKUP(C3,'Team List'!B:D,3,0)),\"\",VLOOKUP(C3,'Team List'!B:D,2,0))","v":""},null,null,null,{"$f":"IF(COUNTIF(E3:G3,\"Won\")=2,\"Won\",IF(COUNTIF(E3:G3,\"Lost\")=2,\"Lost\",IF(AND((E3=\"Won\"),OR(F3=\"DNF (Leading)\",F3=\"DNF (Tied)\",F3=\"DNF (Trailing)\")),\"Won\",IF(AND(COUNTIF(E3:F3,\"Won\")=1,OR(G3=\"DNF (Leading)\",G3=\"DNF (Tied)\",G3=\"DNF (Trailing)\")),\"Tied\",IF(OR(E3=\"DNF (Leading)\",E3=\"DNF (Tied)\",E3=\"DNF (Trailing)\"),\"Tied\",IF(AND((E3=\"Lost\"),OR(F3=\"DNF (Leading)\",F3=\"DNF (Tied)\",F3=\"DNF (Trailing)\")),\"Lost\",IF(C4=\"Bye\",\"Bye\",\"\")))))))","v":""},{"$f":"IF(C4=\"Bye\",1,IF(LEN(E3&F3&G3)=0,0,COUNTIF(E3:G3,\"Won\")*1+COUNTIF(E3:G3,\"DNF (Leading)\")*0.67+COUNTIF(E3:G3,\"DNF (Tied)\")*0.5+COUNTIF(E3:G3,\"DNF (Trailing)\")*0.33))","v":0},{"$f":"C4","v":0}]
[null,null,null,{"$f":"IF(ISERROR(VLOOKUP(C4,'Team List'!B:D,3,0)),\"\",VLOOKUP(C4,'Team List'!B:D,2,0))","v":""},{"$f":"IF(E3=\"\",\"\",IF(E3=\"Won\",\"Lost\",IF(E3=\"DNF (Leading)\",\"DNF (Trailing)\",IF(E3=\"DNF (Trailing)\",\"DNF (Leading)\",IF(E3=\"Lost\",\"Won\",E3)))))","v":""},{"$f":"IF(F3=\"\",\"\",IF(F3=\"Won\",\"Lost\",IF(F3=\"DNF (Leading)\",\"DNF (Trailing)\",IF(F3=\"DNF (Trailing)\",\"DNF (Leading)\",IF(F3=\"Lost\",\"Won\",F3)))))","v":""},{"$f":"IF(G3=\"\",\"\",IF(G3=\"Won\",\"Lost\",IF(G3=\"DNF (Leading)\",\"DNF (Trailing)\",IF(G3=\"DNF (Trailing)\",\"DNF (Leading)\",IF(G3=\"Lost\",\"Won\",G3)))))","v":""},{"$f":"IF(H3=\"Won\",\"Lost\",IF(H3=\"Lost\",\"Won\",H3))","v":""},{"$f":"IF(C3=\"Bye\",1,IF(LEN(E4&F4&G4)=0,0,COUNTIF(E4:G4,\"Won\")*1+COUNTIF(E4:G4,\"DNF (Leading)\")*0.67+COUNTIF(E4:G4,\"DNF (Tied)\")*0.5+COUNTIF(E4:G4,\"DNF (Trailing)\")*0.33))","v":0},{"$f":"C3","v":0}]
[2,null,null,{"$f":"IF(ISERROR(VLOOKUP(C5,'Team List'!B:D,3,0)),\"\",VLOOKUP(C5,'Team List'!B:D,2,0))","v":""},null,null,null,{"$f":"IF(COUNTIF(E5:G5,\"Won\")=2,\"Won\",IF(COUNTIF(E5:G5,\"Lost\")=2,\"Lost\",IF(AND((E5=\"Won\"),OR(F5=\"DNF (Leading)\",F5=\"DNF (Tied)\",F5=\"DNF (Trailing)\")),\"Won\",IF(AND(COUNTIF(E5:F5,\"Won\")=1,OR(G5=\"DNF (Leading)\",G5=\"DNF (Tied)\",G5=\"DNF (Trailing)\")),\"Tied\",IF(OR(E5=\"DNF (Leading)\",E5=\"DNF (Tied)\",E5=\"DNF (Trailing)\"),\"Tied\",IF(AND((E5=\"Lost\"),OR(F5=\"DNF (Leading)\",F5=\"DNF (Tied)\",F5=\"DNF (Trailing)\")),\"Lost\",IF(C6=\"Bye\",\"Bye\",\"\")))))))","v":""},{"$f":"IF(C6=\"Bye\",1,IF(LEN(E5&F5&G5)=0,0,COUNTIF(E5:G5,\"Won\")*1+COUNTIF(E5:G5,\"DNF (Leading)\")*0.67+COUNTIF(E5:G5,\"DNF (Tied)\")*0.5+COUNTIF(E5:G5,\"DNF (Trailing)\")*0.33))","v":0},{"$f":"C6","v":0}]
[null,null,null,{"$f":"IF(ISERROR(VLOOKUP(C6,'Team List'!B:D,3,0)),\"\",VLOOKUP(C6,'Team List'!B:D,2,0))","v":""},{"$f":"IF(E5=\"\",\"\",IF(E5=\"Won\",\"Lost\",IF(E5=\"DNF (Leading)\",\"DNF (Trailing)\",IF(E5=\"DNF (Trailing)\",\"DNF (Leading)\",IF(E5=\"Lost\",\"Won\",E5)))))","v":""},{"$f":"IF(F5=\"\",\"\",IF(F5=\"Won\",\"Lost\",IF(F5=\"DNF (Leading)\",\"DNF (Trailing)\",IF(F5=\"DNF (Trailing)\",\"DNF (Leading)\",IF(F5=\"Lost\",\"Won\",F5)))))","v":""},{"$f":"IF(G5=\"\",\"\",IF(G5=\"Won\",\"Lost\",IF(G5=\"DNF (Leading)\",\"DNF (Trailing)\",IF(G5=\"DNF (Trailing)\",\"DNF (Leading)\",IF(G5=\"Lost\",\"Won\",G5)))))","v":""},{"$f":"IF(H5=\"Won\",\"Lost\",IF(H5=\"Lost\",\"Won\",H5))","v":""},{"$f":"IF(C5=\"Bye\",1,IF(LEN(E6&F6&G6)=0,0,COUNTIF(E6:G6,\"Won\")*1+COUNTIF(E6:G6,\"DNF (Leading)\")*0.67+COUNTIF(E6:G6,\"DNF (Tied)\")*0.5+COUNTIF(E6:G6,\"DNF (Trailing)\")*0.33))","v":0},{"$f":"C5","v":0}]
[3,null,null,{"$f":"IF(ISERROR(VLOOKUP(C7,'Team List'!B:D,3,0)),\"\",VLOOKUP(C7,'Team List'!B:D,2,0))","v":""},null,null,null,{"$f":"IF(COUNTIF(E7:G7,\"Won\")=2,\"Won\",IF(COUNTIF(E7:G7,\"Lost\")=2,\"Lost\",IF(AND((E7=\"Won\"),OR(F7=\"DNF (Leading)\",F7=\"DNF (Tied)\",F7=\"DNF (Trailing)\")),\"Won\",IF(AND(COUNTIF(E7:F7,\"Won\")=1,OR(G7=\"DNF (Leading)\",G7=\"DNF (Tied)\",G7=\"DNF (Trailing)\")),\"Tied\",IF(OR(E7=\"DNF (Leading)\",E7=\"DNF (Tied)\",E7=\"DNF (Trailing)\"),\"Tied\",IF(AND((E7=\"Lost\"),OR(F7=\"DNF (Leading)\",F7=\"DNF (Tied)\",F7=\"DNF (Trailing)\")),\"Lost\",IF(C8=\"Bye\",\"Bye\",\"\")))))))","v":""},{"$f":"IF(C8=\"Bye\",1,IF(LEN(E7&F7&G7)=0,0,COUNTIF(E7:G7,\"Won\")*1+COUNTIF(E7:G7,\"DNF (Leading)\")*0.67+COUNTIF(E7:G7,\"DNF (Tied)\")*0.5+COUNTIF(E7:G7,\"DNF (Trailing)\")*0.33))","v":0},{"$f":"C8","v":0}]
[null,null,null,{"$f":"IF(ISERROR(VLOOKUP(C8,'Team List'!B:D,3,0)),\"\",VLOOKUP(C8,'Team List'!B:D,2,0))","v":""},{"$f":"IF(E7=\"\",\"\",IF(E7=\"Won\",\"Lost\",IF(E7=\"DNF (Leading)\",\"DNF (Trailing)\",IF(E7=\"DNF (Trailing)\",\"DNF (Leading)\",IF(E7=\"Lost\",\"Won\",E7)))))","v":""},{"$f":"IF(F7=\"\",\"\",IF(F7=\"Won\",\"Lost\",IF(F7=\"DNF (Leading)\",\"DNF (Trailing)\",IF(F7=\"DNF (Trailing)\",\"DNF (Leading)\",IF(F7=\"Lost\",\"Won\",F7)))))","v":""},{"$f":"IF(G7=\"\",\"\",IF(G7=\"Won\",\"Lost\",IF(G7=\"DNF (Leading)\",\"DNF (Trailing)\",IF(G7=\"DNF (Trailing)\",\"DNF (Leading)\",IF(G7=\"Lost\",\"Won\",G7)))))","v":""},{"$f":"IF(H7=\"Won\",\"Lost\",IF(H7=\"Lost\",\"Won\",H7))","v":""},{"$f":"IF(C7=\"Bye\",1,IF(LEN(E8&F8&G8)=0,0,COUNTIF(E8:G8,\"Won\")*1+COUNTIF(E8:G8,\"DNF (Leading)\")*0.67+COUNTIF(E8:G8,\"DNF (Tied)\")*0.5+COUNTIF(E8:G8,\"DNF (Trailing)\")*0.33))","v":0},{"$f":"C7","v":0}]
[4,null,null,{"$f":"IF(ISERROR(VLOOKUP(C9,'Team List'!B:D,3,0)),\"\",VLOOKUP(C9,'Team List'!B:D,2,0))","v":""},null,null,null,{"$f":"IF(COUNTIF(E9:G9,\"Won\")=2,\"Won\",IF(COUNTIF(E9:G9,\"Lost\")=2,\"Lost\",IF(AND((E9=\"Won\"),OR(F9=\"DNF (Leading)\",F9=\"DNF (Tied)\",F9=\"DNF (Trailing)\")),\"Won\",IF(AND(COUNTIF(E9:F9,\"Won\")=1,OR(G9=\"DNF (Leading)\",G9=\"DNF (Tied)\",G9=\"DNF (Trailing)\")),\"Tied\",IF(OR(E9=\"DNF (Leading)\",E9=\"DNF (Tied)\",E9=\"DNF (Trailing)\"),\"Tied\",IF(AND((E9=\"Lost\"),OR(F9=\"DNF (Leading)\",F9=\"DNF (Tied)\",F9=\"DNF (Trailing)\")),\"Lost\",IF(C10=\"Bye\",\"Bye\",\"\")))))))","v":""},{"$f":"IF(C10=\"Bye\",1,IF(LEN(E9&F9&G9)=0,0,COUNTIF(E9:G9,\"Won\")*1+COUNTIF(E9:G9,\"DNF (Leading)\")*0.67+COUNTIF(E9:G9,\"DNF (Tied)\")*0.5+COUNTIF(E9:G9,\"DNF (Trailing)\")*0.33))","v":0},{"$f":"C10","v":0}]
[null,null,null,{"$f":"IF(ISERROR(VLOOKUP(C10,'Team List'!B:D,3,0)),\"\",VLOOKUP(C10,'Team List'!B:D,2,0))","v":""},{"$f":"IF(E9=\"\",\"\",IF(E9=\"Won\",\"Lost\",IF(E9=\"DNF (Leading)\",\"DNF (Trailing)\",IF(E9=\"DNF (Trailing)\",\"DNF (Leading)\",IF(E9=\"Lost\",\"Won\",E9)))))","v":""},{"$f":"IF(F9=\"\",\"\",IF(F9=\"Won\",\"Lost\",IF(F9=\"DNF (Leading)\",\"DNF (Trailing)\",IF(F9=\"DNF (Trailing)\",\"DNF (Leading)\",IF(F9=\"Lost\",\"Won\",F9)))))","v":""},{"$f":"IF(G9=\"\",\"\",IF(G9=\"Won\",\"Lost\",IF(G9=\"DNF (Leading)\",\"DNF (Trailing)\",IF(G9=\"DNF (Trailing)\",\"DNF (Leading)\",IF(G9=\"Lost\",\"Won\",G9)))))","v":""},{"$f":"IF(H9=\"Won\",\"Lost\",IF(H9=\"Lost\",\"Won\",H9))","v":""},{"$f":"IF(C9=\"Bye\",1,IF(LEN(E10&F10&G10)=0,0,COUNTIF(E10:G10,\"Won\")*1+COUNTIF(E10:G10,\"DNF (Leading)\")*0.67+COUNTIF(E10:G10,\"DNF (Tied)\")*0.5+COUNTIF(E10:G10,\"DNF (Trailing)\")*0.33))","v":0},{"$f":"C9","v":0}]
[5,null,null,{"$f":"IF(ISERROR(VLOOKUP(C11,'Team List'!B:D,3,0)),\"\",VLOOKUP(C11,'Team List'!B:D,2,0))","v":""},null,null,null,{"$f":"IF(COUNTIF(E11:G11,\"Won\")=2,\"Won\",IF(COUNTIF(E11:G11,\"Lost\")=2,\"Lost\",IF(AND((E11=\"Won\"),OR(F11=\"DNF (Leading)\",F11=\"DNF (Tied)\",F11=\"DNF (Trailing)\")),\"Won\",IF(AND(COUNTIF(E11:F11,\"Won\")=1,OR(G11=\"DNF (Leading)\",G11=\"DNF (Tied)\",G11=\"DNF (Trailing)\")),\"Tied\",IF(OR(E11=\"DNF (Leading)\",E11=\"DNF (Tied)\",E11=\"DNF (Trailing)\"),\"Tied\",IF(AND((E11=\"Lost\"),OR(F11=\"DNF (Leading)\",F11=\"DNF (Tied)\",F11=\"DNF (Trailing)\")),\"Lost\",IF(C12=\"Bye\",\"Bye\",\"\")))))))","v":""},{"$f":"IF(C12=\"Bye\",1,IF(LEN(E11&F11&G11)=0,0,COUNTIF(E11:G11,\"Won\")*1+COUNTIF(E11:G11,\"DNF (Leading)\")*0.67+COUNTIF(E11:G11,\"DNF (Tied)\")*0.5+COUNTIF(E11:G11,\"DNF (Trailing)\")*0.33))","v":0},{"$f":"C12","v":0}]
[null,null,null,{"$f":"IF(ISERROR(VLOOKUP(C12,'Team List'!B:D,3,0)),\"\",VLOOKUP(C12,'Team List'!B:D,2,0))","v":""},{"$f":"IF(E11=\"\",\"\",IF(E11=\"Won\",\"Lost\",IF(E11=\"DNF (Leading)\",\"DNF (Trailing)\",IF(E11=\"DNF (Trailing)\",\"DNF (Leading)\",IF(E11=\"Lost\",\"Won\",E11)))))","v":""},{"$f":"IF(F11=\"\",\"\",IF(F11=\"Won\",\"Lost\",IF(F11=\"DNF (Leading)\",\"DNF (Trailing)\",IF(F11=\"DNF (Trailing)\",\"DNF (Leading)\",IF(F11=\"Lost\",\"Won\",F11)))))","v":""},{"$f":"IF(G11=\"\",\"\",IF(G11=\"Won\",\"Lost\",IF(G11=\"DNF (Leading)\",\"DNF (Trailing)\",IF(G11=\"DNF (Trailing)\",\"DNF (Leading)\",IF(G11=\"Lost\",\"Won\",G11)))))","v":""},{"$f":"IF(H11=\"Won\",\"Lost\",IF(H11=\"Lost\",\"Won\",H11))","v":""},{"$f":"IF(C11=\"Bye\",1,IF(LEN(E12&F12&G12)=0,0,COUNTIF(E12:G12,\"Won\")*1+COUNTIF(E12:G12,\"DNF (Leading)\")*0.67+COUNTIF(E12:G12,\"DNF (Tied)\")*0.5+COUNTIF(E12:G12,\"DNF (Trailing)\")*0.33))","v":0},{"$f":"C11","v":0}]
[6,null,null,{"$f":"IF(ISERROR(VLOOKUP(C13,'Team List'!B:D,3,0)),\"\",VLOOKUP(C13,'Team List'!B:D,2,0))","v":""},null,null,null,{"$f":"IF(COUNTIF(E13:G13,\"Won\")=2,\"Won\",IF(COUNTIF(E13:G13,\"Lost\")=2,\"Lost\",IF(AND((E13=\"Won\"),OR(F13=\"DNF (Leading)\",F13=\"DNF (Tied)\",F13=\"DNF (Trailing)\")),\"Won\",IF(AND(COUNTIF(E13:F13,\"Won\")=1,OR(G13=\"DNF (Leading)\",G13=\"DNF (Tied)\",G13=\"DNF (Trailing)\")),\"Tied\",IF(OR(E13=\"DNF (Leading)\",E13=\"DNF (Tied)\",E13=\"DNF (Trailing)\"),\"Tied\",IF(AND((E13=\"Lost\"),OR(F13=\"DNF (Leading)\",F13=\"DNF (Tied)\",F13=\"DNF (Trailing)\")),\"Lost\",IF(C14=\"Bye\",\"Bye\",\"\")))))))","v":""},{"$f":"IF(C14=\"Bye\",1,IF(LEN(E13&F13&G13)=0,0,COUNTIF(E13:G13,\"Won\")*1+COUNTIF(E13:G13,\"DNF (Leading)\")*0.67+COUNTIF(E13:G13,\"DNF (Tied)\")*0.5+COUNTIF(E13:G13,\"DNF (Trailing)\")*0.33))","v":0},{"$f":"C14","v":0}]
[null,null,null,{"$f":"IF(ISERROR(VLOOKUP(C14,'Team List'!B:D,3,0)),\"\",VLOOKUP(C14,'Team List'!B:D,2,0))","v":""},{"$f":"IF(E13=\"\",\"\",IF(E13=\"Won\",\"Lost\",IF(E13=\"DNF (Leading)\",\"DNF (Trailing)\",IF(E13=\"DNF (Trailing)\",\"DNF (Leading)\",IF(E13=\"Lost\",\"Won\",E13)))))","v":""},{"$f":"IF(F13=\"\",\"\",IF(F13=\"Won\",\"Lost\",IF(F13=\"DNF (Leading)\",\"DNF (Trailing)\",IF(F13=\"DNF (Trailing)\",\"DNF (Leading)\",IF(F13=\"Lost\",\"Won\",F13)))))","v":""},{"$f":"IF(G13=\"\",\"\",IF(G13=\"Won\",\"Lost\",IF(G13=\"DNF (Leading)\",\"DNF (Trailing)\",IF(G13=\"DNF (Trailing)\",\"DNF (Leading)\",IF(G13=\"Lost\",\"Won\",G13)))))","v":""},{"$f":"IF(H13=\"Won\",\"Lost\",IF(H13=\"Lost\",\"Won\",H13))","v":""},{"$f":"IF(C13=\"Bye\",1,IF(LEN(E14&F14&G14)=0,0,COUNTIF(E14:G14,\"Won\")*1+COUNTIF(E14:G14,\"DNF (Leading)\")*0.67+COUNTIF(E14:G14,\"DNF (Tied)\")*0.5+COUNTIF(E14:G14,\"DNF (Trailing)\")*0.33))","v":0},{"$f":"C13","v":0}]
[7,null,null,{"$f":"IF(ISERROR(VLOOKUP(C15,'Team List'!B:D,3,0)),\"\",VLOOKUP(C15,'Team List'!B:D,2,0))","v":""},null,null,null,{"$f":"IF(COUNTIF(E15:G15,\"Won\")=2,\"Won\",IF(COUNTIF(E15:G15,\"Lost\")=2,\"Lost\",IF(AND((E15=\"Won\"),OR(F15=\"DNF (Leading)\",F15=\"DNF (Tied)\",F15=\"DNF (Trailing)\")),\"Won\",IF(AND(COUNTIF(E15:F15,\"Won\")=1,OR(G15=\"DNF (Leading)\",G15=\"DNF (Tied)\",G15=\"DNF (Trailing)\")),\"Tied\",IF(OR(E15=\"DNF (Leading)\",E15=\"DNF (Tied)\",E15=\"DNF (Trailing)\"),\"Tied\",IF(AND((E15=\"Lost\"),OR(F15=\"DNF (Leading)\",F15=\"DNF (Tied)\",F15=\"DNF (Trailing)\")),\"Lost\",IF(C16=\"Bye\",\"Bye\",\"\")))))))","v":""},{"$f":"IF(C16=\"Bye\",1,IF(LEN(E15&F15&G15)=0,0,COUNTIF(E15:G15,\"Won\")*1+COUNTIF(E15:G15,\"DNF (Leading)\")*0.67+COUNTIF(E15:G15,\"DNF (Tied)\")*0.5+COUNTIF(E15:G15,\"DNF (Trailing)\")*0.33))","v":0},{"$f":"C16","v":0}]
[null,null,null,{"$f":"IF(ISERROR(VLOOKUP(C16,'Team List'!B:D,3,0)),\"\",VLOOKUP(C16,'Team List'!B:D,2,0))","v":""},{"$f":"IF(E15=\"\",\"\",IF(E15=\"Won\",\"Lost\",IF(E15=\"DNF (Leading)\",\"DNF (Trailing)\",IF(E15=\"DNF (Trailing)\",\"DNF (Leading)\",IF(E15=\"Lost\",\"Won\",E15)))))","v":""},{"$f":"IF(F15=\"\",\"\",IF(F15=\"Won\",\"Lost\",IF(F15=\"DNF (Leading)\",\"DNF (Trailing)\",IF(F15=\"DNF (Trailing)\",\"DNF (Leading)\",IF(F15=\"Lost\",\"Won\",F15)))))","v":""},{"$f":"IF(G15=\"\",\"\",IF(G15=\"Won\",\"Lost\",IF(G15=\"DNF (Leading)\",\"DNF (Trailing)\",IF(G15=\"DNF (Trailing)\",\"DNF (Leading)\",IF(G15=\"Lost\",\"Won\",G15)))))","v":""},{"$f":"IF(H15=\"Won\",\"Lost\",IF(H15=\"Lost\",\"Won\",H15))","v":""},{"$f":"IF(C15=\"Bye\",1,IF(LEN(E16&F16&G16)=0,0,COUNTIF(E16:G16,\"Won\")*1+COUNTIF(E16:G16,\"DNF (Leading)\")*0.67+COUNTIF(E16:G16,\"DNF (Tied)\")*0.5+COUNTIF(E16:G16,\"DNF (Trailing)\")*0.33))","v":0},{"$f":"C15","v":0}]
[8,null,null,{"$f":"IF(ISERROR(VLOOKUP(C17,'Team List'!B:D,3,0)),\"\",VLOOKUP(C17,'Team List'!B:D,2,0))","v":""},null,null,null,{"$f":"IF(COUNTIF(E17:G17,\"Won\")=2,\"Won\",IF(COUNTIF(E17:G17,\"Lost\")=2,\"Lost\",IF(AND((E17=\"Won\"),OR(F17=\"DNF (Leading)\",F17=\"DNF (Tied)\",F17=\"DNF (Trailing)\")),\"Won\",IF(AND(COUNTIF(E17:F17,\"Won\")=1,OR(G17=\"DNF (Leading)\",G17=\"DNF (Tied)\",G17=\"DNF (Trailing)\")),\"Tied\",IF(OR(E17=\"DNF (Leading)\",E17=\"DNF (Tied)\",E17=\"DNF (Trailing)\"),\"Tied\",IF(AND((E17=\"Lost\"),OR(F17=\"DNF (Leading)\",F17=\"DNF (Tied)\",F17=\"DNF (Trailing)\")),\"Lost\",IF(C18=\"Bye\",\"Bye\",\"\")))))))","v":""},{"$f":"IF(C18=\"Bye\",1,IF(LEN(E17&F17&G17)=0,0,COUNTIF(E17:G17,\"Won\")*1+COUNTIF(E17:G17,\"DNF (Leading)\")*0.67+COUNTIF(E17:G17,\"DNF (Tied)\")*0.5+COUNTIF(E17:G17,\"DNF (Trailing)\")*0.33))","v":0},{"$f":"C18","v":0}]
[null,null,null,{"$f":"IF(ISERROR(VLOOKUP(C18,'Team List'!B:D,3,0)),\"\",VLOOKUP(C18,'Team List'!B:D,2,0))","v":""},{"$f":"IF(E17=\"\",\"\",IF(E17=\"Won\",\"Lost\",IF(E17=\"DNF (Leading)\",\"DNF (Trailing)\",IF(E17=\"DNF (Trailing)\",\"DNF (Leading)\",IF(E17=\"Lost\",\"Won\",E17)))))","v":""},{"$f":"IF(F17=\"\",\"\",IF(F17=\"Won\",\"Lost\",IF(F17=\"DNF (Leading)\",\"DNF (Trailing)\",IF(F17=\"DNF (Trailing)\",\"DNF (Leading)\",IF(F17=\"Lost\",\"Won\",F17)))))","v":""},{"$f":"IF(G17=\"\",\"\",IF(G17=\"Won\",\"Lost\",IF(G17=\"DNF (Leading)\",\"DNF (Trailing)\",IF(G17=\"DNF (Trailing)\",\"DNF (Leading)\",IF(G17=\"Lost\",\"Won\",G17)))))","v":""},{"$f":"IF(H17=\"Won\",\"Lost\",IF(H17=\"Lost\",\"Won\",H17))","v":""},{"$f":"IF(C17=\"Bye\",1,IF(LEN(E18&F18&G18)=0,0,COUNTIF(E18:G18,\"Won\")*1+COUNTIF(E18:G18,\"DNF (Leading)\")*0.67+COUNTIF(E18:G18,\"DNF (Tied)\")*0.5+COUNTIF(E18:G18,\"DNF (Trailing)\")*0.33))","v":0},{"$f":"C17","v":0}]
[9,null,null,{"$f":"IF(ISERROR(VLOOKUP(C19,'Team List'!B:D,3,0)),\"\",VLOOKUP(C19,'Team List'!B:D,2,0))","v":""},null,null,null,{"$f":"IF(COUNTIF(E19:G19,\"Won\")=2,\"Won\",IF(COUNTIF(E19:G19,\"Lost\")=2,\"Lost\",IF(AND((E19=\"Won\"),OR(F19=\"DNF (Leading)\",F19=\"DNF (Tied)\",F19=\"DNF (Trailing)\")),\"Won\",IF(AND(COUNTIF(E19:F19,\"Won\")=1,OR(G19=\"DNF (Leading)\",G19=\"DNF (Tied)\",G19=\"DNF (Trailing)\")),\"Tied\",IF(OR(E19=\"DNF (Leading)\",E19=\"DNF (Tied)\",E19=\"DNF (Trailing)\"),\"Tied\",IF(AND((E19=\"Lost\"),OR(F19=\"DNF (Leading)\",F19=\"DNF (Tied)\",F19=\"DNF (Trailing)\")),\"Lost\",IF(C20=\"Bye\",\"Bye\",\"\")))))))","v":""},{"$f":"IF(C20=\"Bye\",1,IF(LEN(E19&F19&G19)=0,0,COUNTIF(E19:G19,\"Won\")*1+COUNTIF(E19:G19,\"DNF (Leading)\")*0.67+COUNTIF(E19:G19,\"DNF (Tied)\")*0.5+COUNTIF(E19:G19,\"DNF (Trailing)\")*0.33))","v":0},{"$f":"C20","v":0}]
[null,null,null,{"$f":"IF(ISERROR(VLOOKUP(C20,'Team List'!B:D,3,0)),\"\",VLOOKUP(C20,'Team List'!B:D,2,0))","v":""},{"$f":"IF(E19=\"\",\"\",IF(E19=\"Won\",\"Lost\",IF(E19=\"DNF (Leading)\",\"DNF (Trailing)\",IF(E19=\"DNF (Trailing)\",\"DNF (Leading)\",IF(E19=\"Lost\",\"Won\",E19)))))","v":""},{"$f":"IF(F19=\"\",\"\",IF(F19=\"Won\",\"Lost\",IF(F19=\"DNF (Leading)\",\"DNF (Trailing)\",IF(F19=\"DNF (Trailing)\",\"DNF (Leading)\",IF(F19=\"Lost\",\"Won\",F19)))))","v":""},{"$f":"IF(G19=\"\",\"\",IF(G19=\"Won\",\"Lost\",IF(G19=\"DNF (Leading)\",\"DNF (Trailing)\",IF(G19=\"DNF (Trailing)\",\"DNF (Leading)\",IF(G19=\"Lost\",\"Won\",G19)))))","v":""},{"$f":"IF(H19=\"Won\",\"Lost\",IF(H19=\"Lost\",\"Won\",H19))","v":""},{"$f":"IF(C19=\"Bye\",1,IF(LEN(E20&F20&G20)=0,0,COUNTIF(E20:G20,\"Won\")*1+COUNTIF(E20:G20,\"DNF (Leading)\")*0.67+COUNTIF(E20:G20,\"DNF (Tied)\")*0.5+COUNTIF(E20:G20,\"DNF (Trailing)\")*0.33))","v":0},{"$f":"C19","v":0}]
[10,null,null,{"$f":"IF(ISERROR(VLOOKUP(C21,'Team List'!B:D,3,0)),\"\",VLOOKUP(C21,'Team List'!B:D,2,0))","v":""},null,null,null,{"$f":"IF(COUNTIF(E21:G21,\"Won\")=2,\"Won\",IF(COUNTIF(E21:G21,\"Lost\")=2,\"Lost\",IF(AND((E21=\"Won\"),OR(F21=\"DNF (Leading)\",F21=\"DNF (Tied)\",F21=\"DNF (Trailing)\")),\"Won\",IF(AND(COUNTIF(E21:F21,\"Won\")=1,OR(G21=\"DNF (Leading)\",G21=\"DNF (Tied)\",G21=\"DNF (Trailing)\")),\"Tied\",IF(OR(E21=\"DNF (Leading)\",E21=\"DNF (Tied)\",E21=\"DNF (Trailing)\"),\"Tied\",IF(AND((E21=\"Lost\"),OR(F21=\"DNF (Leading)\",F21=\"DNF (Tied)\",F21=\"DNF (Trailing)\")),\"Lost\",IF(C22=\"Bye\",\"Bye\",\"\")))))))","v":""},{"$f":"IF(C22=\"Bye\",1,IF(LEN(E21&F21&G21)=0,0,COUNTIF(E21:G21,\"Won\")*1+COUNTIF(E21:G21,\"DNF (Leading)\")*0.67+COUNTIF(E21:G21,\"DNF (Tied)\")*0.5+COUNTIF(E21:G21,\"DNF (Trailing)\")*0.33))","v":0},{"$f":"C22","v":0}]
[null,null,null,{"$f":"IF(ISERROR(VLOOKUP(C22,'Team List'!B:D,3,0)),\"\",VLOOKUP(C22,'Team List'!B:D,2,0))","v":""},{"$f":"IF(E21=\"\",\"\",IF(E21=\"Won\",\"Lost\",IF(E21=\"DNF (Leading)\",\"DNF (Trailing)\",IF(E21=\"DNF (Trailing)\",\"DNF (Leading)\",IF(E21=\"Lost\",\"Won\",E21)))))","v":""},{"$f":"IF(F21=\"\",\"\",IF(F21=\"Won\",\"Lost\",IF(F21=\"DNF (Leading)\",\"DNF (Trailing)\",IF(F21=\"DNF (Trailing)\",\"DNF (Leading)\",IF(F21=\"Lost\",\"Won\",F21)))))","v":""},{"$f":"IF(G21=\"\",\"\",IF(G21=\"Won\",\"Lost\",IF(G21=\"DNF (Leading)\",\"DNF (Trailing)\",IF(G21=\"DNF (Trailing)\",\"DNF (Leading)\",IF(G21=\"Lost\",\"Won\",G21)))))","v":""},{"$f":"IF(H21=\"Won\",\"Lost\",IF(H21=\"Lost\",\"Won\",H21))","v":""},{"$f":"IF(C21=\"Bye\",1,IF(LEN(E22&F22&G22)=0,0,COUNTIF(E22:G22,\"Won\")*1+COUNTIF(E22:G22,\"DNF (Leading)\")*0.67+COUNTIF(E22:G22,\"DNF (Tied)\")*0.5+COUNTIF(E22:G22,\"DNF (Trailing)\")*0.33))","v":0},{"$f":"C21","v":0}]
[11,null,null,{"$f":"IF(ISERROR(VLOOKUP(C23,'Team List'!B:D,3,0)),\"\",VLOOKUP(C23,'Team List'!B:D,2,0))","v":""},null,null,null,{"$f":"IF(COUNTIF(E23:G23,\"Won\")=2,\"Won\",IF(COUNTIF(E23:G23,\"Lost\")=2,\"Lost\",IF(AND((E23=\"Won\"),OR(F23=\"DNF (Leading)\",F23=\"DNF (Tied)\",F23=\"DNF (Trailing)\")),\"Won\",IF(AND(COUNTIF(E23:F23,\"Won\")=1,OR(G23=\"DNF (Leading)\",G23=\"DNF (Tied)\",G23=\"DNF (Trailing)\")),\"Tied\",IF(OR(E23=\"DNF (Leading)\",E23=\"DNF (Tied)\",E23=\"DNF (Trailing)\"),\"Tied\",IF(AND((E23=\"Lost\"),OR(F23=\"DNF (Leading)\",F23=\"DNF (Tied)\",F23=\"DNF (Trailing)\")),\"Lost\",IF(C24=\"Bye\",\"Bye\",\"\")))))))","v":""},{"$f":"IF(C24=\"Bye\",1,IF(LEN(E23&F23&G23)=0,0,COUNTIF(E23:G23,\"Won\")*1+COUNTIF(E23:G23,\"DNF (Leading)\")*0.67+COUNTIF(E23:G23,\"DNF (Tied)\")*0.5+COUNTIF(E23:G23,\"DNF (Trailing)\")*0.33))","v":0},{"$f":"C24","v":0}]
[null,null,null,{"$f":"IF(ISERROR(VLOOKUP(C24,'Team List'!B:D,3,0)),\"\",VLOOKUP(C24,'Team List'!B:D,2,0))","v":""},{"$f":"IF(E23=\"\",\"\",IF(E23=\"Won\",\"Lost\",IF(E23=\"DNF (Leading)\",\"DNF (Trailing)\",IF(E23=\"DNF (Trailing)\",\"DNF (Leading)\",IF(E23=\"Lost\",\"Won\",E23)))))","v":""},{"$f":"IF(F23=\"\",\"\",IF(F23=\"Won\",\"Lost\",IF(F23=\"DNF (Leading)\",\"DNF (Trailing)\",IF(F23=\"DNF (Trailing)\",\"DNF (Leading)\",IF(F23=\"Lost\",\"Won\",F23)))))","v":""},{"$f":"IF(G23=\"\",\"\",IF(G23=\"Won\",\"Lost\",IF(G23=\"DNF (Leading)\",\"DNF (Trailing)\",IF(G23=\"DNF (Trailing)\",\"DNF (Leading)\",IF(G23=\"Lost\",\"Won\",G23)))))","v":""},{"$f":"IF(H23=\"Won\",\"Lost\",IF(H23=\"Lost\",\"Won\",H23))","v":""},{"$f":"IF(C23=\"Bye\",1,IF(LEN(E24&F24&G24)=0,0,COUNTIF(E24:G24,\"Won\")*1+COUNTIF(E24:G24,\"DNF (Leading)\")*0.67+COUNTIF(E24:G24,\"DNF (Tied)\")*0.5+COUNTIF(E24:G24,\"DNF (Trailing)\")*0.33))","v":0},{"$f":"C23","v":0}]
[12,null,null,{"$f":"IF(ISERROR(VLOOKUP(C25,'Team List'!B:D,3,0)),\"\",VLOOKUP(C25,'Team List'!B:D,2,0))","v":""},null,null,null,{"$f":"IF(COUNTIF(E25:G25,\"Won\")=2,\"Won\",IF(COUNTIF(E25:G25,\"Lost\")=2,\"Lost\",IF(AND((E25=\"Won\"),OR(F25=\"DNF (Leading)\",F25=\"DNF (Tied)\",F25=\"DNF (Trailing)\")),\"Won\",IF(AND(COUNTIF(E25:F25,\"Won\")=1,OR(G25=\"DNF (Leading)\",G25=\"DNF (Tied)\",G25=\"DNF (Trailing)\")),\"Tied\",IF(OR(E25=\"DNF (Leading)\",E25=\"DNF (Tied)\",E25=\"DNF (Trailing)\"),\"Tied\",IF(AND((E25=\"Lost\"),OR(F25=\"DNF (Leading)\",F25=\"DNF (Tied)\",F25=\"DNF (Trailing)\")),\"Lost\",IF(C26=\"Bye\",\"Bye\",\"\")))))))","v":""},{"$f":"IF(C26=\"Bye\",1,IF(LEN(E25&F25&G25)=0,0,COUNTIF(E25:G25,\"Won\")*1+COUNTIF(E25:G25,\"DNF (Leading)\")*0.67+COUNTIF(E25:G25,\"DNF (Tied)\")*0.5+COUNTIF(E25:G25,\"DNF (Trailing)\")*0.33))","v":0},{"$f":"C26","v":0}]
[null,null,null,{"$f":"IF(ISERROR(VLOOKUP(C26,'Team List'!B:D,3,0)),\"\",VLOOKUP(C26,'Team List'!B:D,2,0))","v":""},{"$f":"IF(E25=\"\",\"\",IF(E25=\"Won\",\"Lost\",IF(E25=\"DNF (Leading)\",\"DNF (Trailing)\",IF(E25=\"DNF (Trailing)\",\"DNF (Leading)\",IF(E25=\"Lost\",\"Won\",E25)))))","v":""},{"$f":"IF(F25=\"\",\"\",IF(F25=\"Won\",\"Lost\",IF(F25=\"DNF (Leading)\",\"DNF (Trailing)\",IF(F25=\"DNF (Trailing)\",\"DNF (Leading)\",IF(F25=\"Lost\",\"Won\",F25)))))","v":""},{"$f":"IF(G25=\"\",\"\",IF(G25=\"Won\",\"Lost\",IF(G25=\"DNF (Leading)\",\"DNF (Trailing)\",IF(G25=\"DNF (Trailing)\",\"DNF (Leading)\",IF(G25=\"Lost\",\"Won\",G25)))))","v":""},{"$f":"IF(H25=\"Won\",\"Lost\",IF(H25=\"Lost\",\"Won\",H25))","v":""},{"$f":"IF(C25=\"Bye\",1,IF(LEN(E26&F26&G26)=0,0,COUNTIF(E26:G26,\"Won\")*1+COUNTIF(E26:G26,\"DNF (Leading)\")*0.67+COUNTIF(E26:G26,\"DNF (Tied)\")*0.5+COUNTIF(E26:G26,\"DNF (Trailing)\")*0.33))","v":0},{"$f":"C25","v":0}]
[13,null,null,{"$f":"IF(ISERROR(VLOOKUP(C27,'Team List'!B:D,3,0)),\"\",VLOOKUP(C27,'Team List'!B:D,2,0))","v":""},null,null,null,{"$f":"IF(COUNTIF(E27:G27,\"Won\")=2,\"Won\",IF(COUNTIF(E27:G27,\"Lost\")=2,\"Lost\",IF(AND((E27=\"Won\"),OR(F27=\"DNF (Leading)\",F27=\"DNF (Tied)\",F27=\"DNF (Trailing)\")),\"Won\",IF(AND(COUNTIF(E27:F27,\"Won\")=1,OR(G27=\"DNF (Leading)\",G27=\"DNF (Tied)\",G27=\"DNF (Trailing)\")),\"Tied\",IF(OR(E27=\"DNF (Leading)\",E27=\"DNF (Tied)\",E27=\"DNF (Trailing)\"),\"Tied\",IF(AND((E27=\"Lost\"),OR(F27=\"DNF (Leading)\",F27=\"DNF (Tied)\",F27=\"DNF (Trailing)\")),\"Lost\",IF(C28=\"Bye\",\"Bye\",\"\")))))))","v":""},{"$f":"IF(C28=\"Bye\",1,IF(LEN(E27&F27&G27)=0,0,COUNTIF(E27:G27,\"Won\")*1+COUNTIF(E27:G27,\"DNF (Leading)\")*0.67+COUNTIF(E27:G27,\"DNF (Tied)\")*0.5+COUNTIF(E27:G27,\"DNF (Trailing)\")*0.33))","v":0},{"$f":"C28","v":0}]
[null,null,null,{"$f":"IF(ISERROR(VLOOKUP(C28,'Team List'!B:D,3,0)),\"\",VLOOKUP(C28,'Team List'!B:D,2,0))","v":""},{"$f":"IF(E27=\"\",\"\",IF(E27=\"Won\",\"Lost\",IF(E27=\"DNF (Leading)\",\"DNF (Trailing)\",IF(E27=\"DNF (Trailing)\",\"DNF (Leading)\",IF(E27=\"Lost\",\"Won\",E27)))))","v":""},{"$f":"IF(F27=\"\",\"\",IF(F27=\"Won\",\"Lost\",IF(F27=\"DNF (Leading)\",\"DNF (Trailing)\",IF(F27=\"DNF (Trailing)\",\"DNF (Leading)\",IF(F27=\"Lost\",\"Won\",F27)))))","v":""},{"$f":"IF(G27=\"\",\"\",IF(G27=\"Won\",\"Lost\",IF(G27=\"DNF (Leading)\",\"DNF (Trailing)\",IF(G27=\"DNF (Trailing)\",\"DNF (Leading)\",IF(G27=\"Lost\",\"Won\",G27)))))","v":""},{"$f":"IF(H27=\"Won\",\"Lost\",IF(H27=\"Lost\",\"Won\",H27))","v":""},{"$f":"IF(C27=\"Bye\",1,IF(LEN(E28&F28&G28)=0,0,COUNTIF(E28:G28,\"Won\")*1+COUNTIF(E28:G28,\"DNF (Leading)\")*0.67+COUNTIF(E28:G28,\"DNF (Tied)\")*0.5+COUNTIF(E28:G28,\"DNF (Trailing)\")*0.33))","v":0},{"$f":"C27","v":0}]
[14,null,null,{"$f":"IF(ISERROR(VLOOKUP(C29,'Team List'!B:D,3,0)),\"\",VLOOKUP(C29,'Team List'!B:D,2,0))","v":""},null,null,null,{"$f":"IF(COUNTIF(E29:G29,\"Won\")=2,\"Won\",IF(COUNTIF(E29:G29,\"Lost\")=2,\"Lost\",IF(AND((E29=\"Won\"),OR(F29=\"DNF (Leading)\",F29=\"DNF (Tied)\",F29=\"DNF (Trailing)\")),\"Won\",IF(AND(COUNTIF(E29:F29,\"Won\")=1,OR(G29=\"DNF (Leading)\",G29=\"DNF (Tied)\",G29=\"DNF (Trailing)\")),\"Tied\",IF(OR(E29=\"DNF (Leading)\",E29=\"DNF (Tied)\",E29=\"DNF (Trailing)\"),\"Tied\",IF(AND((E29=\"Lost\"),OR(F29=\"DNF (Leading)\",F29=\"DNF (Tied)\",F29=\"DNF (Trailing)\")),\"Lost\",IF(C30=\"Bye\",\"Bye\",\"\")))))))","v":""},{"$f":"IF(C30=\"Bye\",1,IF(LEN(E29&F29&G29)=0,0,COUNTIF(E29:G29,\"Won\")*1+COUNTIF(E29:G29,\"DNF (Leading)\")*0.67+COUNTIF(E29:G29,\"DNF (Tied)\")*0.5+COUNTIF(E29:G29,\"DNF (Trailing)\")*0.33))","v":0},{"$f":"C30","v":0}]
[null,null,null,{"$f":"IF(ISERROR(VLOOKUP(C30,'Team List'!B:D,3,0)),\"\",VLOOKUP(C30,'Team List'!B:D,2,0))","v":""},{"$f":"IF(E29=\"\",\"\",IF(E29=\"Won\",\"Lost\",IF(E29=\"DNF (Leading)\",\"DNF (Trailing)\",IF(E29=\"DNF (Trailing)\",\"DNF (Leading)\",IF(E29=\"Lost\",\"Won\",E29)))))","v":""},{"$f":"IF(F29=\"\",\"\",IF(F29=\"Won\",\"Lost\",IF(F29=\"DNF (Leading)\",\"DNF (Trailing)\",IF(F29=\"DNF (Trailing)\",\"DNF (Leading)\",IF(F29=\"Lost\",\"Won\",F29)))))","v":""},{"$f":"IF(G29=\"\",\"\",IF(G29=\"Won\",\"Lost\",IF(G29=\"DNF (Leading)\",\"DNF (Trailing)\",IF(G29=\"DNF (Trailing)\",\"DNF (Leading)\",IF(G29=\"Lost\",\"Won\",G29)))))","v":""},{"$f":"IF(H29=\"Won\",\"Lost\",IF(H29=\"Lost\",\"Won\",H29))","v":""},{"$f":"IF(C29=\"Bye\",1,IF(LEN(E30&F30&G30)=0,0,COUNTIF(E30:G30,\"Won\")*1+COUNTIF(E30:G30,\"DNF (Leading)\")*0.67+COUNTIF(E30:G30,\"DNF (Tied)\")*0.5+COUNTIF(E30:G30,\"DNF (Trailing)\")*0.33))","v":0},{"$f":"C29","v":0}]
[15,null,null,{"$f":"IF(ISERROR(VLOOKUP(C31,'Team List'!B:D,3,0)),\"\",VLOOKUP(C31,'Team List'!B:D,2,0))","v":""},null,null,null,{"$f":"IF(COUNTIF(E31:G31,\"Won\")=2,\"Won\",IF(COUNTIF(E31:G31,\"Lost\")=2,\"Lost\",IF(AND((E31=\"Won\"),OR(F31=\"DNF (Leading)\",F31=\"DNF (Tied)\",F31=\"DNF (Trailing)\")),\"Won\",IF(AND(COUNTIF(E31:F31,\"Won\")=1,OR(G31=\"DNF (Leading)\",G31=\"DNF (Tied)\",G31=\"DNF (Trailing)\")),\"Tied\",IF(OR(E31=\"DNF (Leading)\",E31=\"DNF (Tied)\",E31=\"DNF (Trailing)\"),\"Tied\",IF(AND((E31=\"Lost\"),OR(F31=\"DNF (Leading)\",F31=\"DNF (Tied)\",F31=\"DNF (Trailing)\")),\"Lost\",IF(C32=\"Bye\",\"Bye\",\"\")))))))","v":""},{"$f":"IF(C32=\"Bye\",1,IF(LEN(E31&F31&G31)=0,0,COUNTIF(E31:G31,\"Won\")*1+COUNTIF(E31:G31,\"DNF (Leading)\")*0.67+COUNTIF(E31:G31,\"DNF (Tied)\")*0.5+COUNTIF(E31:G31,\"DNF (Trailing)\")*0.33))","v":0},{"$f":"C32","v":0}]
[null,null,null,{"$f":"IF(ISERROR(VLOOKUP(C32,'Team List'!B:D,3,0)),\"\",VLOOKUP(C32,'Team List'!B:D,2,0))","v":""},{"$f":"IF(E31=\"\",\"\",IF(E31=\"Won\",\"Lost\",IF(E31=\"DNF (Leading)\",\"DNF (Trailing)\",IF(E31=\"DNF (Trailing)\",\"DNF (Leading)\",IF(E31=\"Lost\",\"Won\",E31)))))","v":""},{"$f":"IF(F31=\"\",\"\",IF(F31=\"Won\",\"Lost\",IF(F31=\"DNF (Leading)\",\"DNF (Trailing)\",IF(F31=\"DNF (Trailing)\",\"DNF (Leading)\",IF(F31=\"Lost\",\"Won\",F31)))))","v":""},{"$f":"IF(G31=\"\",\"\",IF(G31=\"Won\",\"Lost\",IF(G31=\"DNF (Leading)\",\"DNF (Trailing)\",IF(G31=\"DNF (Trailing)\",\"DNF (Leading)\",IF(G31=\"Lost\",\"Won\",G31)))))","v":""},{"$f":"IF(H31=\"Won\",\"Lost\",IF(H31=\"Lost\",\"Won\",H31))","v":""},{"$f":"IF(C31=\"Bye\",1,IF(LEN(E32&F32&G32)=0,0,COUNTIF(E32:G32,\"Won\")*1+COUNTIF(E32:G32,\"DNF (Leading)\")*0.67+COUNTIF(E32:G32,\"DNF (Tied)\")*0.5+COUNTIF(E32:G32,\"DNF (Trailing)\")*0.33))","v":0},{"$f":"C31","v":0}]
[16,null,null,{"$f":"IF(ISERROR(VLOOKUP(C33,'Team List'!B:D,3,0)),\"\",VLOOKUP(C33,'Team List'!B:D,2,0))","v":""},null,null,null,{"$f":"IF(COUNTIF(E33:G33,\"Won\")=2,\"Won\",IF(COUNTIF(E33:G33,\"Lost\")=2,\"Lost\",IF(AND((E33=\"Won\"),OR(F33=\"DNF (Leading)\",F33=\"DNF (Tied)\",F33=\"DNF (Trailing)\")),\"Won\",IF(AND(COUNTIF(E33:F33,\"Won\")=1,OR(G33=\"DNF (Leading)\",G33=\"DNF (Tied)\",G33=\"DNF (Trailing)\")),\"Tied\",IF(OR(E33=\"DNF (Leading)\",E33=\"DNF (Tied)\",E33=\"DNF (Trailing)\"),\"Tied\",IF(AND((E33=\"Lost\"),OR(F33=\"DNF (Leading)\",F33=\"DNF (Tied)\",F33=\"DNF (Trailing)\")),\"Lost\",IF(C34=\"Bye\",\"Bye\",\"\")))))))","v":""},{"$f":"IF(C34=\"Bye\",1,IF(LEN(E33&F33&G33)=0,0,COUNTIF(E33:G33,\"Won\")*1+COUNTIF(E33:G33,\"DNF (Leading)\")*0.67+COUNTIF(E33:G33,\"DNF (Tied)\")*0.5+COUNTIF(E33:G33,\"DNF (Trailing)\")*0.33))","v":0},{"$f":"C34","v":0}]
[null,null,null,{"$f":"IF(ISERROR(VLOOKUP(C34,'Team List'!B:D,3,0)),\"\",VLOOKUP(C34,'Team List'!B:D,2,0))","v":""},{"$f":"IF(E33=\"\",\"\",IF(E33=\"Won\",\"Lost\",IF(E33=\"DNF (Leading)\",\"DNF (Trailing)\",IF(E33=\"DNF (Trailing)\",\"DNF (Leading)\",IF(E33=\"Lost\",\"Won\",E33)))))","v":""},{"$f":"IF(F33=\"\",\"\",IF(F33=\"Won\",\"Lost\",IF(F33=\"DNF (Leading)\",\"DNF (Trailing)\",IF(F33=\"DNF (Trailing)\",\"DNF (Leading)\",IF(F33=\"Lost\",\"Won\",F33)))))","v":""},{"$f":"IF(G33=\"\",\"\",IF(G33=\"Won\",\"Lost\",IF(G33=\"DNF (Leading)\",\"DNF (Trailing)\",IF(G33=\"DNF (Trailing)\",\"DNF (Leading)\",IF(G33=\"Lost\",\"Won\",G33)))))","v":""},{"$f":"IF(H33=\"Won\",\"Lost\",IF(H33=\"Lost\",\"Won\",H33))","v":""},{"$f":"IF(C33=\"Bye\",1,IF(LEN(E34&F34&G34)=0,0,COUNTIF(E34:G34,\"Won\")*1+COUNTIF(E34:G34,\"DNF (Leading)\")*0.67+COUNTIF(E34:G34,\"DNF (Tied)\")*0.5+COUNTIF(E34:G34,\"DNF (Trailing)\")*0.33))","v":0},{"$f":"C33","v":0}]
[17,null,null,{"$f":"IF(ISERROR(VLOOKUP(C35,'Team List'!B:D,3,0)),\"\",VLOOKUP(C35,'Team List'!B:D,2,0))","v":""},null,null,null,{"$f":"IF(COUNTIF(E35:G35,\"Won\")=2,\"Won\",IF(COUNTIF(E35:G35,\"Lost\")=2,\"Lost\",IF(AND((E35=\"Won\"),OR(F35=\"DNF (Leading)\",F35=\"DNF (Tied)\",F35=\"DNF (Trailing)\")),\"Won\",IF(AND(COUNTIF(E35:F35,\"Won\")=1,OR(G35=\"DNF (Leading)\",G35=\"DNF (Tied)\",G35=\"DNF (Trailing)\")),\"Tied\",IF(OR(E35=\"DNF (Leading)\",E35=\"DNF (Tied)\",E35=\"DNF (Trailing)\"),\"Tied\",IF(AND((E35=\"Lost\"),OR(F35=\"DNF (Leading)\",F35=\"DNF (Tied)\",F35=\"DNF (Trailing)\")),\"Lost\",IF(C36=\"Bye\",\"Bye\",\"\")))))))","v":""},{"$f":"IF(C36=\"Bye\",0,IF(LEN(E35&F35&G35)=0,0,COUNTIF(E35:G35,\"Won\")*1+COUNTIF(E35:G35,\"DNF (Leading)\")*0.67+COUNTIF(E35:G35,\"DNF (Tied)\")*0.5+COUNTIF(E35:G35,\"DNF (Trailing)\")*0.33))","v":0},{"$f":"C36","v":0}]
[null,null,null,{"$f":"IF(ISERROR(VLOOKUP(C36,'Team List'!B:D,3,0)),\"\",VLOOKUP(C36,'Team List'!B:D,2,0))","v":""},{"$f":"IF(E35=\"\",\"\",IF(E35=\"Won\",\"Lost\",IF(E35=\"DNF (Leading)\",\"DNF (Trailing)\",IF(E35=\"DNF (Trailing)\",\"DNF (Leading)\",IF(E35=\"Lost\",\"Won\",E35)))))","v":""},{"$f":"IF(F35=\"\",\"\",IF(F35=\"Won\",\"Lost\",IF(F35=\"DNF (Leading)\",\"DNF (Trailing)\",IF(F35=\"DNF (Trailing)\",\"DNF (Leading)\",IF(F35=\"Lost\",\"Won\",F35)))))","v":""},{"$f":"IF(G35=\"\",\"\",IF(G35=\"Won\",\"Lost\",IF(G35=\"DNF (Leading)\",\"DNF (Trailing)\",IF(G35=\"DNF (Trailing)\",\"DNF (Leading)\",IF(G35=\"Lost\",\"Won\",G35)))))","v":""},{"$f":"IF(H35=\"Won\",\"Lost\",IF(H35=\"Lost\",\"Won\",H35))","v":""},{"$f":"IF(C35=\"Bye\",0,IF(LEN(E36&F36&G36)=0,0,COUNTIF(E36:G36,\"Won\")*1+COUNTIF(E36:G36,\"DNF (Leading)\")*0.67+COUNTIF(E36:G36,\"DNF (Tied)\")*0.5+COUNTIF(E36:G36,\"DNF (Trailing)\")*0.33))","v":0},{"$f":"C35","v":0}]
[18,null,null,{"$f":"IF(ISERROR(VLOOKUP(C37,'Team List'!B:D,3,0)),\"\",VLOOKUP(C37,'Team List'!B:D,2,0))","v":""},null,null,null,{"$f":"IF(COUNTIF(E37:G37,\"Won\")=2,\"Won\",IF(COUNTIF(E37:G37,\"Lost\")=2,\"Lost\",IF(AND((E37=\"Won\"),OR(F37=\"DNF (Leading)\",F37=\"DNF (Tied)\",F37=\"DNF (Trailing)\")),\"Won\",IF(AND(COUNTIF(E37:F37,\"Won\")=1,OR(G37=\"DNF (Leading)\",G37=\"DNF (Tied)\",G37=\"DNF (Trailing)\")),\"Tied\",IF(OR(E37=\"DNF (Leading)\",E37=\"DNF (Tied)\",E37=\"DNF (Trailing)\"),\"Tied\",IF(AND((E37=\"Lost\"),OR(F37=\"DNF (Leading)\",F37=\"DNF (Tied)\",F37=\"DNF (Trailing)\")),\"Lost\",IF(C38=\"Bye\",\"Bye\",\"\")))))))","v":""},{"$f":"IF(C38=\"Bye\",0,IF(LEN(E37&F37&G37)=0,0,COUNTIF(E37:G37,\"Won\")*1+COUNTIF(E37:G37,\"DNF (Leading)\")*0.67+COUNTIF(E37:G37,\"DNF (Tied)\")*0.5+COUNTIF(E37:G37,\"DNF (Trailing)\")*0.33))","v":0},{"$f":"C38","v":0}]
[null,null,null,{"$f":"IF(ISERROR(VLOOKUP(C38,'Team List'!B:D,3,0)),\"\",VLOOKUP(C38,'Team List'!B:D,2,0))","v":""},{"$f":"IF(E37=\"\",\"\",IF(E37=\"Won\",\"Lost\",IF(E37=\"DNF (Leading)\",\"DNF (Trailing)\",IF(E37=\"DNF (Trailing)\",\"DNF (Leading)\",IF(E37=\"Lost\",\"Won\",E37)))))","v":""},{"$f":"IF(F37=\"\",\"\",IF(F37=\"Won\",\"Lost\",IF(F37=\"DNF (Leading)\",\"DNF (Trailing)\",IF(F37=\"DNF (Trailing)\",\"DNF (Leading)\",IF(F37=\"Lost\",\"Won\",F37)))))","v":""},{"$f":"IF(G37=\"\",\"\",IF(G37=\"Won\",\"Lost\",IF(G37=\"DNF (Leading)\",\"DNF (Trailing)\",IF(G37=\"DNF (Trailing)\",\"DNF (Leading)\",IF(G37=\"Lost\",\"Won\",G37)))))","v":""},{"$f":"IF(H37=\"Won\",\"Lost\",IF(H37=\"Lost\",\"Won\",H37))","v":""},{"$f":"IF(C37=\"Bye\",0,IF(LEN(E38&F38&G38)=0,0,COUNTIF(E38:G38,\"Won\")*1+COUNTIF(E38:G38,\"DNF (Leading)\")*0.67+COUNTIF(E38:G38,\"DNF (Tied)\")*0.5+COUNTIF(E38:G38,\"DNF (Trailing)\")*0.33))","v":0},{"$f":"C37","v":0}]
[19,null,null,{"$f":"IF(ISERROR(VLOOKUP(C39,'Team List'!B:D,3,0)),\"\",VLOOKUP(C39,'Team List'!B:D,2,0))","v":""},null,null,null,{"$f":"IF(COUNTIF(E39:G39,\"Won\")=2,\"Won\",IF(COUNTIF(E39:G39,\"Lost\")=2,\"Lost\",IF(AND((E39=\"Won\"),OR(F39=\"DNF (Leading)\",F39=\"DNF (Tied)\",F39=\"DNF (Trailing)\")),\"Won\",IF(AND(COUNTIF(E39:F39,\"Won\")=1,OR(G39=\"DNF (Leading)\",G39=\"DNF (Tied)\",G39=\"DNF (Trailing)\")),\"Tied\",IF(OR(E39=\"DNF (Leading)\",E39=\"DNF (Tied)\",E39=\"DNF (Trailing)\"),\"Tied\",IF(AND((E39=\"Lost\"),OR(F39=\"DNF (Leading)\",F39=\"DNF (Tied)\",F39=\"DNF (Trailing)\")),\"Lost\",IF(C40=\"Bye\",\"Bye\",\"\")))))))","v":""},{"$f":"IF(C40=\"Bye\",0,IF(LEN(E39&F39&G39)=0,0,COUNTIF(E39:G39,\"Won\")*1+COUNTIF(E39:G39,\"DNF (Leading)\")*0.67+COUNTIF(E39:G39,\"DNF (Tied)\")*0.5+COUNTIF(E39:G39,\"DNF (Trailing)\")*0.33))","v":0},{"$f":"C40","v":0}]
[null,null,null,{"$f":"IF(ISERROR(VLOOKUP(C40,'Team List'!B:D,3,0)),\"\",VLOOKUP(C40,'Team List'!B:D,2,0))","v":""},{"$f":"IF(E39=\"\",\"\",IF(E39=\"Won\",\"Lost\",IF(E39=\"DNF (Leading)\",\"DNF (Trailing)\",IF(E39=\"DNF (Trailing)\",\"DNF (Leading)\",IF(E39=\"Lost\",\"Won\",E39)))))","v":""},{"$f":"IF(F39=\"\",\"\",IF(F39=\"Won\",\"Lost\",IF(F39=\"DNF (Leading)\",\"DNF (Trailing)\",IF(F39=\"DNF (Trailing)\",\"DNF (Leading)\",IF(F39=\"Lost\",\"Won\",F39)))))","v":""},{"$f":"IF(G39=\"\",\"\",IF(G39=\"Won\",\"Lost\",IF(G39=\"DNF (Leading)\",\"DNF (Trailing)\",IF(G39=\"DNF (Trailing)\",\"DNF (Leading)\",IF(G39=\"Lost\",\"Won\",G39)))))","v":""},{"$f":"IF(H39=\"Won\",\"Lost\",IF(H39=\"Lost\",\"Won\",H39))","v":""},{"$f":"IF(C39=\"Bye\",0,IF(LEN(E40&F40&G40)=0,0,COUNTIF(E40:G40,\"Won\")*1+COUNTIF(E40:G40,\"DNF (Leading)\")*0.67+COUNTIF(E40:G40,\"DNF (Tied)\")*0.5+COUNTIF(E40:G40,\"DNF (Trailing)\")*0.33))","v":0},{"$f":"C39","v":0}]
[20,null,null,{"$f":"IF(ISERROR(VLOOKUP(C41,'Team List'!B:D,3,0)),\"\",VLOOKUP(C41,'Team List'!B:D,2,0))","v":""},null,null,null,{"$f":"IF(COUNTIF(E41:G41,\"Won\")=2,\"Won\",IF(COUNTIF(E41:G41,\"Lost\")=2,\"Lost\",IF(AND((E41=\"Won\"),OR(F41=\"DNF (Leading)\",F41=\"DNF (Tied)\",F41=\"DNF (Trailing)\")),\"Won\",IF(AND(COUNTIF(E41:F41,\"Won\")=1,OR(G41=\"DNF (Leading)\",G41=\"DNF (Tied)\",G41=\"DNF (Trailing)\")),\"Tied\",IF(OR(E41=\"DNF (Leading)\",E41=\"DNF (Tied)\",E41=\"DNF (Trailing)\"),\"Tied\",IF(AND((E41=\"Lost\"),OR(F41=\"DNF (Leading)\",F41=\"DNF (Tied)\",F41=\"DNF (Trailing)\")),\"Lost\",IF(C42=\"Bye\",\"Bye\",\"\")))))))","v":""},{"$f":"IF(C42=\"Bye\",0,IF(LEN(E41&F41&G41)=0,0,COUNTIF(E41:G41,\"Won\")*1+COUNTIF(E41:G41,\"DNF (Leading)\")*0.67+COUNTIF(E41:G41,\"DNF (Tied)\")*0.5+COUNTIF(E41:G41,\"DNF (Trailing)\")*0.33))","v":0},{"$f":"C42","v":0}]
[null,null,null,{"$f":"IF(ISERROR(VLOOKUP(C42,'Team List'!B:D,3,0)),\"\",VLOOKUP(C42,'Team List'!B:D,2,0))","v":""},{"$f":"IF(E41=\"\",\"\",IF(E41=\"Won\",\"Lost\",IF(E41=\"DNF (Leading)\",\"DNF (Trailing)\",IF(E41=\"DNF (Trailing)\",\"DNF (Leading)\",IF(E41=\"Lost\",\"Won\",E41)))))","v":""},{"$f":"IF(F41=\"\",\"\",IF(F41=\"Won\",\"Lost\",IF(F41=\"DNF (Leading)\",\"DNF (Trailing)\",IF(F41=\"DNF (Trailing)\",\"DNF (Leading)\",IF(F41=\"Lost\",\"Won\",F41)))))","v":""},{"$f":"IF(G41=\"\",\"\",IF(G41=\"Won\",\"Lost\",IF(G41=\"DNF (Leading)\",\"DNF (Trailing)\",IF(G41=\"DNF (Trailing)\",\"DNF (Leading)\",IF(G41=\"Lost\",\"Won\",G41)))))","v":""},{"$f":"IF(H41=\"Won\",\"Lost\",IF(H41=\"Lost\",\"Won\",H41))","v":""},{"$f":"IF(C41=\"Bye\",0,IF(LEN(E42&F42&G42)=0,0,COUNTIF(E42:G42,\"Won\")*1+COUNTIF(E42:G42,\"DNF (Leading)\")*0.67+COUNTIF(E42:G42,\"DNF (Tied)\")*0.5+COUNTIF(E42:G42,\"DNF (Trailing)\")*0.33))","v":0},{"$f":"C41","v":0}]
[21,null,null,{"$f":"IF(ISERROR(VLOOKUP(C43,'Team List'!B:D,3,0)),\"\",VLOOKUP(C43,'Team List'!B:D,2,0))","v":""},null,null,null,{"$f":"IF(COUNTIF(E43:G43,\"Won\")=2,\"Won\",IF(COUNTIF(E43:G43,\"Lost\")=2,\"Lost\",IF(AND((E43=\"Won\"),OR(F43=\"DNF (Leading)\",F43=\"DNF (Tied)\",F43=\"DNF (Trailing)\")),\"Won\",IF(AND(COUNTIF(E43:F43,\"Won\")=1,OR(G43=\"DNF (Leading)\",G43=\"DNF (Tied)\",G43=\"DNF (Trailing)\")),\"Tied\",IF(OR(E43=\"DNF (Leading)\",E43=\"DNF (Tied)\",E43=\"DNF (Trailing)\"),\"Tied\",IF(AND((E43=\"Lost\"),OR(F43=\"DNF (Leading)\",F43=\"DNF (Tied)\",F43=\"DNF (Trailing)\")),\"Lost\",IF(C44=\"Bye\",\"Bye\",\"\")))))))","v":""},{"$f":"IF(C44=\"Bye\",0,IF(LEN(E43&F43&G43)=0,0,COUNTIF(E43:G43,\"Won\")*1+COUNTIF(E43:G43,\"DNF (Leading)\")*0.67+COUNTIF(E43:G43,\"DNF (Tied)\")*0.5+COUNTIF(E43:G43,\"DNF (Trailing)\")*0.33))","v":0},{"$f":"C44","v":0}]
[null,null,null,{"$f":"IF(ISERROR(VLOOKUP(C44,'Team List'!B:D,3,0)),\"\",VLOOKUP(C44,'Team List'!B:D,2,0))","v":""},{"$f":"IF(E43=\"\",\"\",IF(E43=\"Won\",\"Lost\",IF(E43=\"DNF (Leading)\",\"DNF (Trailing)\",IF(E43=\"DNF (Trailing)\",\"DNF (Leading)\",IF(E43=\"Lost\",\"Won\",E43)))))","v":""},{"$f":"IF(F43=\"\",\"\",IF(F43=\"Won\",\"Lost\",IF(F43=\"DNF (Leading)\",\"DNF (Trailing)\",IF(F43=\"DNF (Trailing)\",\"DNF (Leading)\",IF(F43=\"Lost\",\"Won\",F43)))))","v":""},{"$f":"IF(G43=\"\",\"\",IF(G43=\"Won\",\"Lost\",IF(G43=\"DNF (Leading)\",\"DNF (Trailing)\",IF(G43=\"DNF (Trailing)\",\"DNF (Leading)\",IF(G43=\"Lost\",\"Won\",G43)))))","v":""},{"$f":"IF(H43=\"Won\",\"Lost\",IF(H43=\"Lost\",\"Won\",H43))","v":""},{"$f":"IF(C43=\"Bye\",0,IF(LEN(E44&F44&G44)=0,0,COUNTIF(E44:G44,\"Won\")*1+COUNTIF(E44:G44,\"DNF (Leading)\")*0.67+COUNTIF(E44:G44,\"DNF (Tied)\")*0.5+COUNTIF(E44:G44,\"DNF (Trailing)\")*0.33))","v":0},{"$f":"C43","v":0}]
[22,null,null,{"$f":"IF(ISERROR(VLOOKUP(C45,'Team List'!B:D,3,0)),\"\",VLOOKUP(C45,'Team List'!B:D,2,0))","v":""},null,null,null,{"$f":"IF(COUNTIF(E45:G45,\"Won\")=2,\"Won\",IF(COUNTIF(E45:G45,\"Lost\")=2,\"Lost\",IF(AND((E45=\"Won\"),OR(F45=\"DNF (Leading)\",F45=\"DNF (Tied)\",F45=\"DNF (Trailing)\")),\"Won\",IF(AND(COUNTIF(E45:F45,\"Won\")=1,OR(G45=\"DNF (Leading)\",G45=\"DNF (Tied)\",G45=\"DNF (Trailing)\")),\"Tied\",IF(OR(E45=\"DNF (Leading)\",E45=\"DNF (Tied)\",E45=\"DNF (Trailing)\"),\"Tied\",IF(AND((E45=\"Lost\"),OR(F45=\"DNF (Leading)\",F45=\"DNF (Tied)\",F45=\"DNF (Trailing)\")),\"Lost\",IF(C46=\"Bye\",\"Bye\",\"\")))))))","v":""},{"$f":"IF(C46=\"Bye\",0,IF(LEN(E45&F45&G45)=0,0,COUNTIF(E45:G45,\"Won\")*1+COUNTIF(E45:G45,\"DNF (Leading)\")*0.67+COUNTIF(E45:G45,\"DNF (Tied)\")*0.5+COUNTIF(E45:G45,\"DNF (Trailing)\")*0.33))","v":0},{"$f":"C46","v":0}]
[null,null,null,{"$f":"IF(ISERROR(VLOOKUP(C46,'Team List'!B:D,3,0)),\"\",VLOOKUP(C46,'Team List'!B:D,2,0))","v":""},{"$f":"IF(E45=\"\",\"\",IF(E45=\"Won\",\"Lost\",IF(E45=\"DNF (Leading)\",\"DNF (Trailing)\",IF(E45=\"DNF (Trailing)\",\"DNF (Leading)\",IF(E45=\"Lost\",\"Won\",E45)))))","v":""},{"$f":"IF(F45=\"\",\"\",IF(F45=\"Won\",\"Lost\",IF(F45=\"DNF (Leading)\",\"DNF (Trailing)\",IF(F45=\"DNF (Trailing)\",\"DNF (Leading)\",IF(F45=\"Lost\",\"Won\",F45)))))","v":""},{"$f":"IF(G45=\"\",\"\",IF(G45=\"Won\",\"Lost\",IF(G45=\"DNF (Leading)\",\"DNF (Trailing)\",IF(G45=\"DNF (Trailing)\",\"DNF (Leading)\",IF(G45=\"Lost\",\"Won\",G45)))))","v":""},{"$f":"IF(H45=\"Won\",\"Lost\",IF(H45=\"Lost\",\"Won\",H45))","v":""},{"$f":"IF(C45=\"Bye\",0,IF(LEN(E46&F46&G46)=0,0,COUNTIF(E46:G46,\"Won\")*1+COUNTIF(E46:G46,\"DNF (Leading)\")*0.67+COUNTIF(E46:G46,\"DNF (Tied)\")*0.5+COUNTIF(E46:G46,\"DNF (Trailing)\")*0.33))","v":0},{"$f":"C45","v":0}]
[23,null,null,{"$f":"IF(ISERROR(VLOOKUP(C47,'Team List'!B:D,3,0)),\"\",VLOOKUP(C47,'Team List'!B:D,2,0))","v":""},null,null,null,{"$f":"IF(COUNTIF(E47:G47,\"Won\")=2,\"Won\",IF(COUNTIF(E47:G47,\"Lost\")=2,\"Lost\",IF(AND((E47=\"Won\"),OR(F47=\"DNF (Leading)\",F47=\"DNF (Tied)\",F47=\"DNF (Trailing)\")),\"Won\",IF(AND(COUNTIF(E47:F47,\"Won\")=1,OR(G47=\"DNF (Leading)\",G47=\"DNF (Tied)\",G47=\"DNF (Trailing)\")),\"Tied\",IF(OR(E47=\"DNF (Leading)\",E47=\"DNF (Tied)\",E47=\"DNF (Trailing)\"),\"Tied\",IF(AND((E47=\"Lost\"),OR(F47=\"DNF (Leading)\",F47=\"DNF (Tied)\",F47=\"DNF (Trailing)\")),\"Lost\",IF(C48=\"Bye\",\"Bye\",\"\")))))))","v":""},{"$f":"IF(C48=\"Bye\",0,IF(LEN(E47&F47&G47)=0,0,COUNTIF(E47:G47,\"Won\")*1+COUNTIF(E47:G47,\"DNF (Leading)\")*0.67+COUNTIF(E47:G47,\"DNF (Tied)\")*0.5+COUNTIF(E47:G47,\"DNF (Trailing)\")*0.33))","v":0},{"$f":"C48","v":0}]
[null,null,null,{"$f":"IF(ISERROR(VLOOKUP(C48,'Team List'!B:D,3,0)),\"\",VLOOKUP(C48,'Team List'!B:D,2,0))","v":""},{"$f":"IF(E47=\"\",\"\",IF(E47=\"Won\",\"Lost\",IF(E47=\"DNF (Leading)\",\"DNF (Trailing)\",IF(E47=\"DNF (Trailing)\",\"DNF (Leading)\",IF(E47=\"Lost\",\"Won\",E47)))))","v":""},{"$f":"IF(F47=\"\",\"\",IF(F47=\"Won\",\"Lost\",IF(F47=\"DNF (Leading)\",\"DNF (Trailing)\",IF(F47=\"DNF (Trailing)\",\"DNF (Leading)\",IF(F47=\"Lost\",\"Won\",F47)))))","v":""},{"$f":"IF(G47=\"\",\"\",IF(G47=\"Won\",\"Lost\",IF(G47=\"DNF (Leading)\",\"DNF (Trailing)\",IF(G47=\"DNF (Trailing)\",\"DNF (Leading)\",IF(G47=\"Lost\",\"Won\",G47)))))","v":""},{"$f":"IF(H47=\"Won\",\"Lost\",IF(H47=\"Lost\",\"Won\",H47))","v":""},{"$f":"IF(C47=\"Bye\",0,IF(LEN(E48&F48&G48)=0,0,COUNTIF(E48:G48,\"Won\")*1+COUNTIF(E48:G48,\"DNF (Leading)\")*0.67+COUNTIF(E48:G48,\"DNF (Tied)\")*0.5+COUNTIF(E48:G48,\"DNF (Trailing)\")*0.33))","v":0},{"$f":"C47","v":0}]
[24,null,null,{"$f":"IF(ISERROR(VLOOKUP(C49,'Team List'!B:D,3,0)),\"\",VLOOKUP(C49,'Team List'!B:D,2,0))","v":""},null,null,null,{"$f":"IF(COUNTIF(E49:G49,\"Won\")=2,\"Won\",IF(COUNTIF(E49:G49,\"Lost\")=2,\"Lost\",IF(AND((E49=\"Won\"),OR(F49=\"DNF (Leading)\",F49=\"DNF (Tied)\",F49=\"DNF (Trailing)\")),\"Won\",IF(AND(COUNTIF(E49:F49,\"Won\")=1,OR(G49=\"DNF (Leading)\",G49=\"DNF (Tied)\",G49=\"DNF (Trailing)\")),\"Tied\",IF(OR(E49=\"DNF (Leading)\",E49=\"DNF (Tied)\",E49=\"DNF (Trailing)\"),\"Tied\",IF(AND((E49=\"Lost\"),OR(F49=\"DNF (Leading)\",F49=\"DNF (Tied)\",F49=\"DNF (Trailing)\")),\"Lost\",IF(C50=\"Bye\",\"Bye\",\"\")))))))","v":""},{"$f":"IF(C50=\"Bye\",0,IF(LEN(E49&F49&G49)=0,0,COUNTIF(E49:G49,\"Won\")*1+COUNTIF(E49:G49,\"DNF (Leading)\")*0.67+COUNTIF(E49:G49,\"DNF (Tied)\")*0.5+COUNTIF(E49:G49,\"DNF (Trailing)\")*0.33))","v":0},{"$f":"C50","v":0}]
[null,null,null,{"$f":"IF(ISERROR(VLOOKUP(C50,'Team List'!B:D,3,0)),\"\",VLOOKUP(C50,'Team List'!B:D,2,0))","v":""},{"$f":"IF(E49=\"\",\"\",IF(E49=\"Won\",\"Lost\",IF(E49=\"DNF (Leading)\",\"DNF (Trailing)\",IF(E49=\"DNF (Trailing)\",\"DNF (Leading)\",IF(E49=\"Lost\",\"Won\",E49)))))","v":""},{"$f":"IF(F49=\"\",\"\",IF(F49=\"Won\",\"Lost\",IF(F49=\"DNF (Leading)\",\"DNF (Trailing)\",IF(F49=\"DNF (Trailing)\",\"DNF (Leading)\",IF(F49=\"Lost\",\"Won\",F49)))))","v":""},{"$f":"IF(G49=\"\",\"\",IF(G49=\"Won\",\"Lost\",IF(G49=\"DNF (Leading)\",\"DNF (Trailing)\",IF(G49=\"DNF (Trailing)\",\"DNF (Leading)\",IF(G49=\"Lost\",\"Won\",G49)))))","v":""},{"$f":"IF(H49=\"Won\",\"Lost\",IF(H49=\"Lost\",\"Won\",H49))","v":""},{"$f":"IF(C49=\"Bye\",0,IF(LEN(E50&F50&G50)=0,0,COUNTIF(E50:G50,\"Won\")*1+COUNTIF(E50:G50,\"DNF (Leading)\")*0.67+COUNTIF(E50:G50,\"DNF (Tied)\")*0.5+COUNTIF(E50:G50,\"DNF (Trailing)\")*0.33))","v":0},{"$f":"C49","v":0}]
[25,null,null,{"$f":"IF(ISERROR(VLOOKUP(C51,'Team List'!B:D,3,0)),\"\",VLOOKUP(C51,'Team List'!B:D,2,0))","v":""},null,null,null,{"$f":"IF(COUNTIF(E51:G51,\"Won\")=2,\"Won\",IF(COUNTIF(E51:G51,\"Lost\")=2,\"Lost\",IF(AND((E51=\"Won\"),OR(F51=\"DNF (Leading)\",F51=\"DNF (Tied)\",F51=\"DNF (Trailing)\")),\"Won\",IF(AND(COUNTIF(E51:F51,\"Won\")=1,OR(G51=\"DNF (Leading)\",G51=\"DNF (Tied)\",G51=\"DNF (Trailing)\")),\"Tied\",IF(OR(E51=\"DNF (Leading)\",E51=\"DNF (Tied)\",E51=\"DNF (Trailing)\"),\"Tied\",IF(AND((E51=\"Lost\"),OR(F51=\"DNF (Leading)\",F51=\"DNF (Tied)\",F51=\"DNF (Trailing)\")),\"Lost\",IF(C52=\"Bye\",\"Bye\",\"\")))))))","v":""},{"$f":"IF(C52=\"Bye\",0,IF(LEN(E51&F51&G51)=0,0,COUNTIF(E51:G51,\"Won\")*1+COUNTIF(E51:G51,\"DNF (Leading)\")*0.67+COUNTIF(E51:G51,\"DNF (Tied)\")*0.5+COUNTIF(E51:G51,\"DNF (Trailing)\")*0.33))","v":0},{"$f":"C52","v":0}]
[null,null,null,{"$f":"IF(ISERROR(VLOOKUP(C52,'Team List'!B:D,3,0)),\"\",VLOOKUP(C52,'Team List'!B:D,2,0))","v":""},{"$f":"IF(E51=\"\",\"\",IF(E51=\"Won\",\"Lost\",IF(E51=\"DNF (Leading)\",\"DNF (Trailing)\",IF(E51=\"DNF (Trailing)\",\"DNF (Leading)\",IF(E51=\"Lost\",\"Won\",E51)))))","v":""},{"$f":"IF(F51=\"\",\"\",IF(F51=\"Won\",\"Lost\",IF(F51=\"DNF (Leading)\",\"DNF (Trailing)\",IF(F51=\"DNF (Trailing)\",\"DNF (Leading)\",IF(F51=\"Lost\",\"Won\",F51)))))","v":""},{"$f":"IF(G51=\"\",\"\",IF(G51=\"Won\",\"Lost\",IF(G51=\"DNF (Leading)\",\"DNF (Trailing)\",IF(G51=\"DNF (Trailing)\",\"DNF (Leading)\",IF(G51=\"Lost\",\"Won\",G51)))))","v":""},{"$f":"IF(H51=\"Won\",\"Lost\",IF(H51=\"Lost\",\"Won\",H51))","v":""},{"$f":"IF(C51=\"Bye\",0,IF(LEN(E52&F52&G52)=0,0,COUNTIF(E52:G52,\"Won\")*1+COUNTIF(E52:G52,\"DNF (Leading)\")*0.67+COUNTIF(E52:G52,\"DNF (Tied)\")*0.5+COUNTIF(E52:G52,\"DNF (Trailing)\")*0.33))","v":0},{"$f":"C51","v":0}]
[26,null,null,{"$f":"IF(ISERROR(VLOOKUP(C53,'Team List'!B:D,3,0)),\"\",VLOOKUP(C53,'Team List'!B:D,2,0))","v":""},null,null,null,{"$f":"IF(COUNTIF(E53:G53,\"Won\")=2,\"Won\",IF(COUNTIF(E53:G53,\"Lost\")=2,\"Lost\",IF(AND((E53=\"Won\"),OR(F53=\"DNF (Leading)\",F53=\"DNF (Tied)\",F53=\"DNF (Trailing)\")),\"Won\",IF(AND(COUNTIF(E53:F53,\"Won\")=1,OR(G53=\"DNF (Leading)\",G53=\"DNF (Tied)\",G53=\"DNF (Trailing)\")),\"Tied\",IF(OR(E53=\"DNF (Leading)\",E53=\"DNF (Tied)\",E53=\"DNF (Trailing)\"),\"Tied\",IF(AND((E53=\"Lost\"),OR(F53=\"DNF (Leading)\",F53=\"DNF (Tied)\",F53=\"DNF (Trailing)\")),\"Lost\",IF(C54=\"Bye\",\"Bye\",\"\")))))))","v":""},{"$f":"IF(C54=\"Bye\",0,IF(LEN(E53&F53&G53)=0,0,COUNTIF(E53:G53,\"Won\")*1+COUNTIF(E53:G53,\"DNF (Leading)\")*0.67+COUNTIF(E53:G53,\"DNF (Tied)\")*0.5+COUNTIF(E53:G53,\"DNF (Trailing)\")*0.33))","v":0},{"$f":"C54","v":0}]
[null,null,null,{"$f":"IF(ISERROR(VLOOKUP(C54,'Team List'!B:D,3,0)),\"\",VLOOKUP(C54,'Team List'!B:D,2,0))","v":""},{"$f":"IF(E53=\"\",\"\",IF(E53=\"Won\",\"Lost\",IF(E53=\"DNF (Leading)\",\"DNF (Trailing)\",IF(E53=\"DNF (Trailing)\",\"DNF (Leading)\",IF(E53=\"Lost\",\"Won\",E53)))))","v":""},{"$f":"IF(F53=\"\",\"\",IF(F53=\"Won\",\"Lost\",IF(F53=\"DNF (Leading)\",\"DNF (Trailing)\",IF(F53=\"DNF (Trailing)\",\"DNF (Leading)\",IF(F53=\"Lost\",\"Won\",F53)))))","v":""},{"$f":"IF(G53=\"\",\"\",IF(G53=\"Won\",\"Lost\",IF(G53=\"DNF (Leading)\",\"DNF (Trailing)\",IF(G53=\"DNF (Trailing)\",\"DNF (Leading)\",IF(G53=\"Lost\",\"Won\",G53)))))","v":""},{"$f":"IF(H53=\"Won\",\"Lost\",IF(H53=\"Lost\",\"Won\",H53))","v":""},{"$f":"IF(C53=\"Bye\",0,IF(LEN(E54&F54&G54)=0,0,COUNTIF(E54:G54,\"Won\")*1+COUNTIF(E54:G54,\"DNF (Leading)\")*0.67+COUNTIF(E54:G54,\"DNF (Tied)\")*0.5+COUNTIF(E54:G54,\"DNF (Trailing)\")*0.33))","v":0},{"$f":"C53","v":0}]
[27,null,null,{"$f":"IF(ISERROR(VLOOKUP(C55,'Team List'!B:D,3,0)),\"\",VLOOKUP(C55,'Team List'!B:D,2,0))","v":""},null,null,null,{"$f":"IF(COUNTIF(E55:G55,\"Won\")=2,\"Won\",IF(COUNTIF(E55:G55,\"Lost\")=2,\"Lost\",IF(AND((E55=\"Won\"),OR(F55=\"DNF (Leading)\",F55=\"DNF (Tied)\",F55=\"DNF (Trailing)\")),\"Won\",IF(AND(COUNTIF(E55:F55,\"Won\")=1,OR(G55=\"DNF (Leading)\",G55=\"DNF (Tied)\",G55=\"DNF (Trailing)\")),\"Tied\",IF(OR(E55=\"DNF (Leading)\",E55=\"DNF (Tied)\",E55=\"DNF (Trailing)\"),\"Tied\",IF(AND((E55=\"Lost\"),OR(F55=\"DNF (Leading)\",F55=\"DNF (Tied)\",F55=\"DNF (Trailing)\")),\"Lost\",IF(C56=\"Bye\",\"Bye\",\"\")))))))","v":""},{"$f":"IF(C56=\"Bye\",0,IF(LEN(E55&F55&G55)=0,0,COUNTIF(E55:G55,\"Won\")*1+COUNTIF(E55:G55,\"DNF (Leading)\")*0.67+COUNTIF(E55:G55,\"DNF (Tied)\")*0.5+COUNTIF(E55:G55,\"DNF (Trailing)\")*0.33))","v":0},{"$f":"C56","v":0}]
[null,null,null,{"$f":"IF(ISERROR(VLOOKUP(C56,'Team List'!B:D,3,0)),\"\",VLOOKUP(C56,'Team List'!B:D,2,0))","v":""},{"$f":"IF(E55=\"\",\"\",IF(E55=\"Won\",\"Lost\",IF(E55=\"DNF (Leading)\",\"DNF (Trailing)\",IF(E55=\"DNF (Trailing)\",\"DNF (Leading)\",IF(E55=\"Lost\",\"Won\",E55)))))","v":""},{"$f":"IF(F55=\"\",\"\",IF(F55=\"Won\",\"Lost\",IF(F55=\"DNF (Leading)\",\"DNF (Trailing)\",IF(F55=\"DNF (Trailing)\",\"DNF (Leading)\",IF(F55=\"Lost\",\"Won\",F55)))))","v":""},{"$f":"IF(G55=\"\",\"\",IF(G55=\"Won\",\"Lost\",IF(G55=\"DNF (Leading)\",\"DNF (Trailing)\",IF(G55=\"DNF (Trailing)\",\"DNF (Leading)\",IF(G55=\"Lost\",\"Won\",G55)))))","v":""},{"$f":"IF(H55=\"Won\",\"Lost\",IF(H55=\"Lost\",\"Won\",H55))","v":""},{"$f":"IF(C55=\"Bye\",0,IF(LEN(E56&F56&G56)=0,0,COUNTIF(E56:G56,\"Won\")*1+COUNTIF(E56:G56,\"DNF (Leading)\")*0.67+COUNTIF(E56:G56,\"DNF (Tied)\")*0.5+COUNTIF(E56:G56,\"DNF (Trailing)\")*0.33))","v":0},{"$f":"C55","v":0}]
[28,null,null,{"$f":"IF(ISERROR(VLOOKUP(C57,'Team List'!B:D,3,0)),\"\",VLOOKUP(C57,'Team List'!B:D,2,0))","v":""},null,null,null,{"$f":"IF(COUNTIF(E57:G57,\"Won\")=2,\"Won\",IF(COUNTIF(E57:G57,\"Lost\")=2,\"Lost\",IF(AND((E57=\"Won\"),OR(F57=\"DNF (Leading)\",F57=\"DNF (Tied)\",F57=\"DNF (Trailing)\")),\"Won\",IF(AND(COUNTIF(E57:F57,\"Won\")=1,OR(G57=\"DNF (Leading)\",G57=\"DNF (Tied)\",G57=\"DNF (Trailing)\")),\"Tied\",IF(OR(E57=\"DNF (Leading)\",E57=\"DNF (Tied)\",E57=\"DNF (Trailing)\"),\"Tied\",IF(AND((E57=\"Lost\"),OR(F57=\"DNF (Leading)\",F57=\"DNF (Tied)\",F57=\"DNF (Trailing)\")),\"Lost\",IF(C58=\"Bye\",\"Bye\",\"\")))))))","v":""},{"$f":"IF(C58=\"Bye\",0,IF(LEN(E57&F57&G57)=0,0,COUNTIF(E57:G57,\"Won\")*1+COUNTIF(E57:G57,\"DNF (Leading)\")*0.67+COUNTIF(E57:G57,\"DNF (Tied)\")*0.5+COUNTIF(E57:G57,\"DNF (Trailing)\")*0.33))","v":0},{"$f":"C58","v":0}]
[null,null,null,{"$f":"IF(ISERROR(VLOOKUP(C58,'Team List'!B:D,3,0)),\"\",VLOOKUP(C58,'Team List'!B:D,2,0))","v":""},{"$f":"IF(E57=\"\",\"\",IF(E57=\"Won\",\"Lost\",IF(E57=\"DNF (Leading)\",\"DNF (Trailing)\",IF(E57=\"DNF (Trailing)\",\"DNF (Leading)\",IF(E57=\"Lost\",\"Won\",E57)))))","v":""},{"$f":"IF(F57=\"\",\"\",IF(F57=\"Won\",\"Lost\",IF(F57=\"DNF (Leading)\",\"DNF (Trailing)\",IF(F57=\"DNF (Trailing)\",\"DNF (Leading)\",IF(F57=\"Lost\",\"Won\",F57)))))","v":""},{"$f":"IF(G57=\"\",\"\",IF(G57=\"Won\",\"Lost\",IF(G57=\"DNF (Leading)\",\"DNF (Trailing)\",IF(G57=\"DNF (Trailing)\",\"DNF (Leading)\",IF(G57=\"Lost\",\"Won\",G57)))))","v":""},{"$f":"IF(H57=\"Won\",\"Lost\",IF(H57=\"Lost\",\"Won\",H57))","v":""},{"$f":"IF(C57=\"Bye\",0,IF(LEN(E58&F58&G58)=0,0,COUNTIF(E58:G58,\"Won\")*1+COUNTIF(E58:G58,\"DNF (Leading)\")*0.67+COUNTIF(E58:G58,\"DNF (Tied)\")*0.5+COUNTIF(E58:G58,\"DNF (Trailing)\")*0.33))","v":0},{"$f":"C57","v":0}]
[29,null,null,{"$f":"IF(ISERROR(VLOOKUP(C59,'Team List'!B:D,3,0)),\"\",VLOOKUP(C59,'Team List'!B:D,2,0))","v":""},null,null,null,{"$f":"IF(COUNTIF(E59:G59,\"Won\")=2,\"Won\",IF(COUNTIF(E59:G59,\"Lost\")=2,\"Lost\",IF(AND((E59=\"Won\"),OR(F59=\"DNF (Leading)\",F59=\"DNF (Tied)\",F59=\"DNF (Trailing)\")),\"Won\",IF(AND(COUNTIF(E59:F59,\"Won\")=1,OR(G59=\"DNF (Leading)\",G59=\"DNF (Tied)\",G59=\"DNF (Trailing)\")),\"Tied\",IF(OR(E59=\"DNF (Leading)\",E59=\"DNF (Tied)\",E59=\"DNF (Trailing)\"),\"Tied\",IF(AND((E59=\"Lost\"),OR(F59=\"DNF (Leading)\",F59=\"DNF (Tied)\",F59=\"DNF (Trailing)\")),\"Lost\",IF(C60=\"Bye\",\"Bye\",\"\")))))))","v":""},{"$f":"IF(C60=\"Bye\",0,IF(LEN(E59&F59&G59)=0,0,COUNTIF(E59:G59,\"Won\")*1+COUNTIF(E59:G59,\"DNF (Leading)\")*0.67+COUNTIF(E59:G59,\"DNF (Tied)\")*0.5+COUNTIF(E59:G59,\"DNF (Trailing)\")*0.33))","v":0},{"$f":"C60","v":0}]
[null,null,null,{"$f":"IF(ISERROR(VLOOKUP(C60,'Team List'!B:D,3,0)),\"\",VLOOKUP(C60,'Team List'!B:D,2,0))","v":""},{"$f":"IF(E59=\"\",\"\",IF(E59=\"Won\",\"Lost\",IF(E59=\"DNF (Leading)\",\"DNF (Trailing)\",IF(E59=\"DNF (Trailing)\",\"DNF (Leading)\",IF(E59=\"Lost\",\"Won\",E59)))))","v":""},{"$f":"IF(F59=\"\",\"\",IF(F59=\"Won\",\"Lost\",IF(F59=\"DNF (Leading)\",\"DNF (Trailing)\",IF(F59=\"DNF (Trailing)\",\"DNF (Leading)\",IF(F59=\"Lost\",\"Won\",F59)))))","v":""},{"$f":"IF(G59=\"\",\"\",IF(G59=\"Won\",\"Lost\",IF(G59=\"DNF (Leading)\",\"DNF (Trailing)\",IF(G59=\"DNF (Trailing)\",\"DNF (Leading)\",IF(G59=\"Lost\",\"Won\",G59)))))","v":""},{"$f":"IF(H59=\"Won\",\"Lost\",IF(H59=\"Lost\",\"Won\",H59))","v":""},{"$f":"IF(C59=\"Bye\",0,IF(LEN(E60&F60&G60)=0,0,COUNTIF(E60:G60,\"Won\")*1+COUNTIF(E60:G60,\"DNF (Leading)\")*0.67+COUNTIF(E60:G60,\"DNF (Tied)\")*0.5+COUNTIF(E60:G60,\"DNF (Trailing)\")*0.33))","v":0},{"$f":"C59","v":0}]
[30,null,null,{"$f":"IF(ISERROR(VLOOKUP(C61,'Team List'!B:D,3,0)),\"\",VLOOKUP(C61,'Team List'!B:D,2,0))","v":""},null,null,null,{"$f":"IF(COUNTIF(E61:G61,\"Won\")=2,\"Won\",IF(COUNTIF(E61:G61,\"Lost\")=2,\"Lost\",IF(AND((E61=\"Won\"),OR(F61=\"DNF (Leading)\",F61=\"DNF (Tied)\",F61=\"DNF (Trailing)\")),\"Won\",IF(AND(COUNTIF(E61:F61,\"Won\")=1,OR(G61=\"DNF (Leading)\",G61=\"DNF (Tied)\",G61=\"DNF (Trailing)\")),\"Tied\",IF(OR(E61=\"DNF (Leading)\",E61=\"DNF (Tied)\",E61=\"DNF (Trailing)\"),\"Tied\",IF(AND((E61=\"Lost\"),OR(F61=\"DNF (Leading)\",F61=\"DNF (Tied)\",F61=\"DNF (Trailing)\")),\"Lost\",IF(C62=\"Bye\",\"Bye\",\"\")))))))","v":""},{"$f":"IF(C62=\"Bye\",0,IF(LEN(E61&F61&G61)=0,0,COUNTIF(E61:G61,\"Won\")*1+COUNTIF(E61:G61,\"DNF (Leading)\")*0.67+COUNTIF(E61:G61,\"DNF (Tied)\")*0.5+COUNTIF(E61:G61,\"DNF (Trailing)\")*0.33))","v":0},{"$f":"C62","v":0}]
[null,null,null,{"$f":"IF(ISERROR(VLOOKUP(C62,'Team List'!B:D,3,0)),\"\",VLOOKUP(C62,'Team List'!B:D,2,0))","v":""},{"$f":"IF(E61=\"\",\"\",IF(E61=\"Won\",\"Lost\",IF(E61=\"DNF (Leading)\",\"DNF (Trailing)\",IF(E61=\"DNF (Trailing)\",\"DNF (Leading)\",IF(E61=\"Lost\",\"Won\",E61)))))","v":""},{"$f":"IF(F61=\"\",\"\",IF(F61=\"Won\",\"Lost\",IF(F61=\"DNF (Leading)\",\"DNF (Trailing)\",IF(F61=\"DNF (Trailing)\",\"DNF (Leading)\",IF(F61=\"Lost\",\"Won\",F61)))))","v":""},{"$f":"IF(G61=\"\",\"\",IF(G61=\"Won\",\"Lost\",IF(G61=\"DNF (Leading)\",\"DNF (Trailing)\",IF(G61=\"DNF (Trailing)\",\"DNF (Leading)\",IF(G61=\"Lost\",\"Won\",G61)))))","v":""},{"$f":"IF(H61=\"Won\",\"Lost\",IF(H61=\"Lost\",\"Won\",H61))","v":""},{"$f":"IF(C61=\"Bye\",0,IF(LEN(E62&F62&G62)=0,0,COUNTIF(E62:G62,\"Won\")*1+COUNTIF(E62:G62,\"DNF (Leading)\")*0.67+COUNTIF(E62:G62,\"DNF (Tied)\")*0.5+COUNTIF(E62:G62,\"DNF (Trailing)\")*0.33))","v":0},{"$f":"C61","v":0}]
[31,null,null,{"$f":"IF(ISERROR(VLOOKUP(C63,'Team List'!B:D,3,0)),\"\",VLOOKUP(C63,'Team List'!B:D,2,0))","v":""},null,null,null,{"$f":"IF(COUNTIF(E63:G63,\"Won\")=2,\"Won\",IF(COUNTIF(E63:G63,\"Lost\")=2,\"Lost\",IF(AND((E63=\"Won\"),OR(F63=\"DNF (Leading)\",F63=\"DNF (Tied)\",F63=\"DNF (Trailing)\")),\"Won\",IF(AND(COUNTIF(E63:F63,\"Won\")=1,OR(G63=\"DNF (Leading)\",G63=\"DNF (Tied)\",G63=\"DNF (Trailing)\")),\"Tied\",IF(OR(E63=\"DNF (Leading)\",E63=\"DNF (Tied)\",E63=\"DNF (Trailing)\"),\"Tied\",IF(AND((E63=\"Lost\"),OR(F63=\"DNF (Leading)\",F63=\"DNF (Tied)\",F63=\"DNF (Trailing)\")),\"Lost\",IF(C64=\"Bye\",\"Bye\",\"\")))))))","v":""},{"$f":"IF(C64=\"Bye\",0,IF(LEN(E63&F63&G63)=0,0,COUNTIF(E63:G63,\"Won\")*1+COUNTIF(E63:G63,\"DNF (Leading)\")*0.67+COUNTIF(E63:G63,\"DNF (Tied)\")*0.5+COUNTIF(E63:G63,\"DNF (Trailing)\")*0.33))","v":0},{"$f":"C64","v":0}]
[null,null,null,{"$f":"IF(ISERROR(VLOOKUP(C64,'Team List'!B:D,3,0)),\"\",VLOOKUP(C64,'Team List'!B:D,2,0))","v":""},{"$f":"IF(E63=\"\",\"\",IF(E63=\"Won\",\"Lost\",IF(E63=\"DNF (Leading)\",\"DNF (Trailing)\",IF(E63=\"DNF (Trailing)\",\"DNF (Leading)\",IF(E63=\"Lost\",\"Won\",E63)))))","v":""},{"$f":"IF(F63=\"\",\"\",IF(F63=\"Won\",\"Lost\",IF(F63=\"DNF (Leading)\",\"DNF (Trailing)\",IF(F63=\"DNF (Trailing)\",\"DNF (Leading)\",IF(F63=\"Lost\",\"Won\",F63)))))","v":""},{"$f":"IF(G63=\"\",\"\",IF(G63=\"Won\",\"Lost\",IF(G63=\"DNF (Leading)\",\"DNF (Trailing)\",IF(G63=\"DNF (Trailing)\",\"DNF (Leading)\",IF(G63=\"Lost\",\"Won\",G63)))))","v":""},{"$f":"IF(H63=\"Won\",\"Lost\",IF(H63=\"Lost\",\"Won\",H63))","v":""},{"$f":"IF(C63=\"Bye\",0,IF(LEN(E64&F64&G64)=0,0,COUNTIF(E64:G64,\"Won\")*1+COUNTIF(E64:G64,\"DNF (Leading)\")*0.67+COUNTIF(E64:G64,\"DNF (Tied)\")*0.5+COUNTIF(E64:G64,\"DNF (Trailing)\")*0.33))","v":0},{"$f":"C63","v":0}]
[32,null,null,{"$f":"IF(ISERROR(VLOOKUP(C65,'Team List'!B:D,3,0)),\"\",VLOOKUP(C65,'Team List'!B:D,2,0))","v":""},null,null,null,{"$f":"IF(COUNTIF(E65:G65,\"Won\")=2,\"Won\",IF(COUNTIF(E65:G65,\"Lost\")=2,\"Lost\",IF(AND((E65=\"Won\"),OR(F65=\"DNF (Leading)\",F65=\"DNF (Tied)\",F65=\"DNF (Trailing)\")),\"Won\",IF(AND(COUNTIF(E65:F65,\"Won\")=1,OR(G65=\"DNF (Leading)\",G65=\"DNF (Tied)\",G65=\"DNF (Trailing)\")),\"Tied\",IF(OR(E65=\"DNF (Leading)\",E65=\"DNF (Tied)\",E65=\"DNF (Trailing)\"),\"Tied\",IF(AND((E65=\"Lost\"),OR(F65=\"DNF (Leading)\",F65=\"DNF (Tied)\",F65=\"DNF (Trailing)\")),\"Lost\",IF(C66=\"Bye\",\"Bye\",\"\")))))))","v":""},{"$f":"IF(C66=\"Bye\",0,IF(LEN(E65&F65&G65)=0,0,COUNTIF(E65:G65,\"Won\")*1+COUNTIF(E65:G65,\"DNF (Leading)\")*0.67+COUNTIF(E65:G65,\"DNF (Tied)\")*0.5+COUNTIF(E65:G65,\"DNF (Trailing)\")*0.33))","v":0},{"$f":"C66","v":0}]
[null,null,null,{"$f":"IF(ISERROR(VLOOKUP(C66,'Team List'!B:D,3,0)),\"\",VLOOKUP(C66,'Team List'!B:D,2,0))","v":""},{"$f":"IF(E65=\"\",\"\",IF(E65=\"Won\",\"Lost\",IF(E65=\"DNF (Leading)\",\"DNF (Trailing)\",IF(E65=\"DNF (Trailing)\",\"DNF (Leading)\",IF(E65=\"Lost\",\"Won\",E65)))))","v":""},{"$f":"IF(F65=\"\",\"\",IF(F65=\"Won\",\"Lost\",IF(F65=\"DNF (Leading)\",\"DNF (Trailing)\",IF(F65=\"DNF (Trailing)\",\"DNF (Leading)\",IF(F65=\"Lost\",\"Won\",F65)))))","v":""},{"$f":"IF(G65=\"\",\"\",IF(G65=\"Won\",\"Lost\",IF(G65=\"DNF (Leading)\",\"DNF (Trailing)\",IF(G65=\"DNF (Trailing)\",\"DNF (Leading)\",IF(G65=\"Lost\",\"Won\",G65)))))","v":""},{"$f":"IF(H65=\"Won\",\"Lost\",IF(H65=\"Lost\",\"Won\",H65))","v":""},{"$f":"IF(C65=\"Bye\",0,IF(LEN(E66&F66&G66)=0,0,COUNTIF(E66:G66,\"Won\")*1+COUNTIF(E66:G66,\"DNF (Leading)\")*0.67+COUNTIF(E66:G66,\"DNF (Tied)\")*0.5+COUNTIF(E66:G66,\"DNF (Trailing)\")*0.33))","v":0},{"$f":"C65","v":0}]

{"sheet":"Round Four","index":8,"n_rows":66,"n_cols":10,"rows_kept":66,"cut":false,"hidden":false,"merged":[[48,0,49,0],[62,0,63,0],[64,0,65,0],[50,0,51,0],[52,0,53,0],[54,0,55,0],[56,0,57,0],[58,0,59,0],[60,0,61,0],[40,0,41,0],[42,0,43,0],[44,0,45,0],[46,0,47,0],[32,0,33,0],[34,0,35,0],[36,0,37,0],[38,0,39,0],[24,0,25,0],[26,0,27,0],[28,0,29,0],[30,0,31,0],[16,0,17,0],[18,0,19,0],[20,0,21,0],[22,0,23,0],[0,0,0,5],[8,0,9,0],[10,0,11,0],[12,0,13,0],[14,0,15,0],[2,0,3,0],[4,0,5,0],[6,0,7,0]]}
["Round Four"]
["Pitch #","Rank","Team Number","Team Name","Game One","Game Two","Game Three","Match","Score"]
[1,null,null,{"$f":"IF(ISERROR(VLOOKUP(C3,'Team List'!B:D,3,0)),\"\",VLOOKUP(C3,'Team List'!B:D,2,0))","v":""},null,null,null,{"$f":"IF(COUNTIF(E3:G3,\"Won\")=2,\"Won\",IF(COUNTIF(E3:G3,\"Lost\")=2,\"Lost\",IF(AND((E3=\"Won\"),OR(F3=\"DNF (Leading)\",F3=\"DNF (Tied)\",F3=\"DNF (Trailing)\")),\"Won\",IF(AND(COUNTIF(E3:F3,\"Won\")=1,OR(G3=\"DNF (Leading)\",G3=\"DNF (Tied)\",G3=\"DNF (Trailing)\")),\"Tied\",IF(OR(E3=\"DNF (Leading)\",E3=\"DNF (Tied)\",E3=\"DNF (Trailing)\"),\"Tied\",IF(AND((E3=\"Lost\"),OR(F3=\"DNF (Leading)\",F3=\"DNF (Tied)\",F3=\"DNF (Trailing)\")),\"Lost\",IF(C4=\"Bye\",\"Bye\",\"\")))))))","v":""},{"$f":"IF(C4=\"Bye\",1,IF(LEN(E3&F3&G3)=0,0,COUNTIF(E3:G3,\"Won\")*1+COUNTIF(E3:G3,\"DNF (Leading)\")*0.67+COUNTIF(E3:G3,\"DNF (Tied)\")*0.5+COUNTIF(E3:G3,\"DNF (Trailing)\")*0.33))","v":0},{"$f":"C4","v":0}]
[null,null,null,{"$f":"IF(ISERROR(VLOOKUP(C4,'Team List'!B:D,3,0)),\"\",VLOOKUP(C4,'Team List'!B:D,2,0))","v":""},{"$f":"IF(E3=\"\",\"\",IF(E3=\"Won\",\"Lost\",IF(E3=\"DNF (Leading)\",\"DNF (Trailing)\",IF(E3=\"DNF (Trailing)\",\"DNF (Leading)\",IF(E3=\"Lost\",\"Won\",E3)))))","v":""},{"$f":"IF(F3=\"\",\"\",IF(F3=\"Won\",\"Lost\",IF(F3=\"DNF (Leading)\",\"DNF (Trailing)\",IF(F3=\"DNF (Trailing)\",\"DNF (Leading)\",IF(F3=\"Lost\",\"Won\",F3)))))","v":""},{"$f":"IF(G3=\"\",\"\",IF(G3=\"Won\",\"Lost\",IF(G3=\"DNF (Leading)\",\"DNF (Trailing)\",IF(G3=\"DNF (Trailing)\",\"DNF (Leading)\",IF(G3=\"Lost\",\"Won\",G3)))))","v":""},{"$f":"IF(H3=\"Won\",\"Lost\",IF(H3=\"Lost\",\"Won\",H3))","v":""},{"$f":"IF(C3=\"Bye\",1,IF(LEN(E4&F4&G4)=0,0,COUNTIF(E4:G4,\"Won\")*1+COUNTIF(E4:G4,\"DNF (Leading)\")*0.67+COUNTIF(E4:G4,\"DNF (Tied)\")*0.5+COUNTIF(E4:G4,\"DNF (Trailing)\")*0.33))","v":0},{"$f":"C3","v":0}]
[2,null,null,{"$f":"IF(ISERROR(VLOOKUP(C5,'Team List'!B:D,3,0)),\"\",VLOOKUP(C5,'Team List'!B:D,2,0))","v":""},null,null,null,{"$f":"IF(COUNTIF(E5:G5,\"Won\")=2,\"Won\",IF(COUNTIF(E5:G5,\"Lost\")=2,\"Lost\",IF(AND((E5=\"Won\"),OR(F5=\"DNF (Leading)\",F5=\"DNF (Tied)\",F5=\"DNF (Trailing)\")),\"Won\",IF(AND(COUNTIF(E5:F5,\"Won\")=1,OR(G5=\"DNF (Leading)\",G5=\"DNF (Tied)\",G5=\"DNF (Trailing)\")),\"Tied\",IF(OR(E5=\"DNF (Leading)\",E5=\"DNF (Tied)\",E5=\"DNF (Trailing)\"),\"Tied\",IF(AND((E5=\"Lost\"),OR(F5=\"DNF (Leading)\",F5=\"DNF (Tied)\",F5=\"DNF (Trailing)\")),\"Lost\",IF(C6=\"Bye\",\"Bye\",\"\")))))))","v":""},{"$f":"IF(C6=\"Bye\",1,IF(LEN(E5&F5&G5)=0,0,COUNTIF(E5:G5,\"Won\")*1+COUNTIF(E5:G5,\"DNF (Leading)\")*0.67+COUNTIF(E5:G5,\"DNF (Tied)\")*0.5+COUNTIF(E5:G5,\"DNF (Trailing)\")*0.33))","v":0},{"$f":"C6","v":0}]
[null,null,null,{"$f":"IF(ISERROR(VLOOKUP(C6,'Team List'!B:D,3,0)),\"\",VLOOKUP(C6,'Team List'!B:D,2,0))","v":""},{"$f":"IF(E5=\"\",\"\",IF(E5=\"Won\",\"Lost\",IF(E5=\"DNF (Leading)\",\"DNF (Trailing)\",IF(E5=\"DNF (Trailing)\",\"DNF (Leading)\",IF(E5=\"Lost\",\"Won\",E5)))))","v":""},{"$f":"IF(F5=\"\",\"\",IF(F5=\"Won\",\"Lost\",IF(F5=\"DNF (Leading)\",\"DNF (Trailing)\",IF(F5=\"DNF (Trailing)\",\"DNF (Leading)\",IF(F5=\"Lost\",\"Won\",F5)))))","v":""},{"$f":"IF(G5=\"\",\"\",IF(G5=\"Won\",\"Lost\",IF(G5=\"DNF (Leading)\",\"DNF (Trailing)\",IF(G5=\"DNF (Trailing)\",\"DNF (Leading)\",IF(G5=\"Lost\",\"Won\",G5)))))","v":""},{"$f":"IF(H5=\"Won\",\"Lost\",IF(H5=\"Lost\",\"Won\",H5))","v":""},{"$f":"IF(C5=\"Bye\",1,IF(LEN(E6&F6&G6)=0,0,COUNTIF(E6:G6,\"Won\")*1+COUNTIF(E6:G6,\"DNF (Leading)\")*0.67+COUNTIF(E6:G6,\"DNF (Tied)\")*0.5+COUNTIF(E6:G6,\"DNF (Trailing)\")*0.33))","v":0},{"$f":"C5","v":0}]
[3,null,null,{"$f":"IF(ISERROR(VLOOKUP(C7,'Team List'!B:D,3,0)),\"\",VLOOKUP(C7,'Team List'!B:D,2,0))","v":""},null,null,null,{"$f":"IF(COUNTIF(E7:G7,\"Won\")=2,\"Won\",IF(COUNTIF(E7:G7,\"Lost\")=2,\"Lost\",IF(AND((E7=\"Won\"),OR(F7=\"DNF (Leading)\",F7=\"DNF (Tied)\",F7=\"DNF (Trailing)\")),\"Won\",IF(AND(COUNTIF(E7:F7,\"Won\")=1,OR(G7=\"DNF (Leading)\",G7=\"DNF (Tied)\",G7=\"DNF (Trailing)\")),\"Tied\",IF(OR(E7=\"DNF (Leading)\",E7=\"DNF (Tied)\",E7=\"DNF (Trailing)\"),\"Tied\",IF(AND((E7=\"Lost\"),OR(F7=\"DNF (Leading)\",F7=\"DNF (Tied)\",F7=\"DNF (Trailing)\")),\"Lost\",IF(C8=\"Bye\",\"Bye\",\"\")))))))","v":""},{"$f":"IF(C8=\"Bye\",1,IF(LEN(E7&F7&G7)=0,0,COUNTIF(E7:G7,\"Won\")*1+COUNTIF(E7:G7,\"DNF (Leading)\")*0.67+COUNTIF(E7:G7,\"DNF (Tied)\")*0.5+COUNTIF(E7:G7,\"DNF (Trailing)\")*0.33))","v":0},{"$f":"C8","v":0}]
[null,null,null,{"$f":"IF(ISERROR(VLOOKUP(C8,'Team List'!B:D,3,0)),\"\",VLOOKUP(C8,'Team List'!B:D,2,0))","v":""},{"$f":"IF(E7=\"\",\"\",IF(E7=\"Won\",\"Lost\",IF(E7=\"DNF (Leading)\",\"DNF (Trailing)\",IF(E7=\"DNF (Trailing)\",\"DNF (Leading)\",IF(E7=\"Lost\",\"Won\",E7)))))","v":""},{"$f":"IF(F7=\"\",\"\",IF(F7=\"Won\",\"Lost\",IF(F7=\"DNF (Leading)\",\"DNF (Trailing)\",IF(F7=\"DNF (Trailing)\",\"DNF (Leading)\",IF(F7=\"Lost\",\"Won\",F7)))))","v":""},{"$f":"IF(G7=\"\",\"\",IF(G7=\"Won\",\"Lost\",IF(G7=\"DNF (Leading)\",\"DNF (Trailing)\",IF(G7=\"DNF (Trailing)\",\"DNF (Leading)\",IF(G7=\"Lost\",\"Won\",G7)))))","v":""},{"$f":"IF(H7=\"Won\",\"Lost\",IF(H7=\"Lost\",\"Won\",H7))","v":""},{"$f":"IF(C7=\"Bye\",1,IF(LEN(E8&F8&G8)=0,0,COUNTIF(E8:G8,\"Won\")*1+COUNTIF(E8:G8,\"DNF (Leading)\")*0.67+COUNTIF(E8:G8,\"DNF (Tied)\")*0.5+COUNTIF(E8:G8,\"DNF (Trailing)\")*0.33))","v":0},{"$f":"C7","v":0}]
[4,null,null,{"$f":"IF(ISERROR(VLOOKUP(C9,'Team List'!B:D,3,0)),\"\",VLOOKUP(C9,'Team List'!B:D,2,0))","v":""},null,null,null,{"$f":"IF(COUNTIF(E9:G9,\"Won\")=2,\"Won\",IF(COUNTIF(E9:G9,\"Lost\")=2,\"Lost\",IF(AND((E9=\"Won\"),OR(F9=\"DNF (Leading)\",F9=\"DNF (Tied)\",F9=\"DNF (Trailing)\")),\"Won\",IF(AND(COUNTIF(E9:F9,\"Won\")=1,OR(G9=\"DNF (Leading)\",G9=\"DNF (Tied)\",G9=\"DNF (Trailing)\")),\"Tied\",IF(OR(E9=\"DNF (Leading)\",E9=\"DNF (Tied)\",E9=\"DNF (Trailing)\"),\"Tied\",IF(AND((E9=\"Lost\"),OR(F9=\"DNF (Leading)\",F9=\"DNF (Tied)\",F9=\"DNF (Trailing)\")),\"Lost\",IF(C10=\"Bye\",\"Bye\",\"\")))))))","v":""},{"$f":"IF(C10=\"Bye\",1,IF(LEN(E9&F9&G9)=0,0,COUNTIF(E9:G9,\"Won\")*1+COUNTIF(E9:G9,\"DNF (Leading)\")*0.67+COUNTIF(E9:G9,\"DNF (Tied)\")*0.5+COUNTIF(E9:G9,\"DNF (Trailing)\")*0.33))","v":0},{"$f":"C10","v":0}]
[null,null,null,{"$f":"IF(ISERROR(VLOOKUP(C10,'Team List'!B:D,3,0)),\"\",VLOOKUP(C10,'Team List'!B:D,2,0))","v":""},{"$f":"IF(E9=\"\",\"\",IF(E9=\"Won\",\"Lost\",IF(E9=\"DNF (Leading)\",\"DNF (Trailing)\",IF(E9=\"DNF (Trailing)\",\"DNF (Leading)\",IF(E9=\"Lost\",\"Won\",E9)))))","v":""},{"$f":"IF(F9=\"\",\"\",IF(F9=\"Won\",\"Lost\",IF(F9=\"DNF (Leading)\",\"DNF (Trailing)\",IF(F9=\"DNF (Trailing)\",\"DNF (Leading)\",IF(F9=\"Lost\",\"Won\",F9)))))","v":""},{"$f":"IF(G9=\"\",\"\",IF(G9=\"Won\",\"Lost\",IF(G9=\"DNF (Leading)\",\"DNF (Trailing)\",IF(G9=\"DNF (Trailing)\",\"DNF (Leading)\",IF(G9=\"Lost\",\"Won\",G9)))))","v":""},{"$f":"IF(H9=\"Won\",\"Lost\",IF(H9=\"Lost\",\"Won\",H9))","v":""},{"$f":"IF(C9=\"Bye\",1,IF(LEN(E10&F10&G10)=0,0,COUNTIF(E10:G10,\"Won\")*1+COUNTIF(E10:G10,\"DNF (Leading)\")*0.67+COUNTIF(E10:G10,\"DNF (Tied)\")*0.5+COUNTIF(E10:G10,\"DNF (Trailing)\")*0.33))","v":0},{"$f":"C9","v":0}]
[5,null,null,{"$f":"IF(ISERROR(VLOOKUP(C11,'Team List'!B:D,3,0)),\"\",VLOOKUP(C11,'Team List'!B:D,2,0))","v":""},null,null,null,{"$f":"IF(COUNTIF(E11:G11,\"Won\")=2,\"Won\",IF(COUNTIF(E11:G11,\"Lost\")=2,\"Lost\",IF(AND((E11=\"Won\"),OR(F11=\"DNF (Leading)\",F11=\"DNF (Tied)\",F11=\"DNF (Trailing)\")),\"Won\",IF(AND(COUNTIF(E11:F11,\"Won\")=1,OR(G11=\"DNF (Leading)\",G11=\"DNF (Tied)\",G11=\"DNF (Trailing)\")),\"Tied\",IF(OR(E11=\"DNF (Leading)\",E11=\"DNF (Tied)\",E11=\"DNF (Trailing)\"),\"Tied\",IF(AND((E11=\"Lost\"),OR(F11=\"DNF (Leading)\",F11=\"DNF (Tied)\",F11=\"DNF (Trailing)\")),\"Lost\",IF(C12=\"Bye\",\"Bye\",\"\")))))))","v":""},{"$f":"IF(C12=\"Bye\",1,IF(LEN(E11&F11&G11)=0,0,COUNTIF(E11:G11,\"Won\")*1+COUNTIF(E11:G11,\"DNF (Leading)\")*0.67+COUNTIF(E11:G11,\"DNF (Tied)\")*0.5+COUNTIF(E11:G11,\"DNF (Trailing)\")*0.33))","v":0},{"$f":"C12","v":0}]
[null,null,null,{"$f":"IF(ISERROR(VLOOKUP(C12,'Team List'!B:D,3,0)),\"\",VLOOKUP(C12,'Team List'!B:D,2,0))","v":""},{"$f":"IF(E11=\"\",\"\",IF(E11=\"Won\",\"Lost\",IF(E11=\"DNF (Leading)\",\"DNF (Trailing)\",IF(E11=\"DNF (Trailing)\",\"DNF (Leading)\",IF(E11=\"Lost\",\"Won\",E11)))))","v":""},{"$f":"IF(F11=\"\",\"\",IF(F11=\"Won\",\"Lost\",IF(F11=\"DNF (Leading)\",\"DNF (Trailing)\",IF(F11=\"DNF (Trailing)\",\"DNF (Leading)\",IF(F11=\"Lost\",\"Won\",F11)))))","v":""},{"$f":"IF(G11=\"\",\"\",IF(G11=\"Won\",\"Lost\",IF(G11=\"DNF (Leading)\",\"DNF (Trailing)\",IF(G11=\"DNF (Trailing)\",\"DNF (Leading)\",IF(G11=\"Lost\",\"Won\",G11)))))","v":""},{"$f":"IF(H11=\"Won\",\"Lost\",IF(H11=\"Lost\",\"Won\",H11))","v":""},{"$f":"IF(C11=\"Bye\",1,IF(LEN(E12&F12&G12)=0,0,COUNTIF(E12:G12,\"Won\")*1+COUNTIF(E12:G12,\"DNF (Leading)\")*0.67+COUNTIF(E12:G12,\"DNF (Tied)\")*0.5+COUNTIF(E12:G12,\"DNF (Trailing)\")*0.33))","v":0},{"$f":"C11","v":0}]
[6,null,null,{"$f":"IF(ISERROR(VLOOKUP(C13,'Team List'!B:D,3,0)),\"\",VLOOKUP(C13,'Team List'!B:D,2,0))","v":""},null,null,null,{"$f":"IF(COUNTIF(E13:G13,\"Won\")=2,\"Won\",IF(COUNTIF(E13:G13,\"Lost\")=2,\"Lost\",IF(AND((E13=\"Won\"),OR(F13=\"DNF (Leading)\",F13=\"DNF (Tied)\",F13=\"DNF (Trailing)\")),\"Won\",IF(AND(COUNTIF(E13:F13,\"Won\")=1,OR(G13=\"DNF (Leading)\",G13=\"DNF (Tied)\",G13=\"DNF (Trailing)\")),\"Tied\",IF(OR(E13=\"DNF (Leading)\",E13=\"DNF (Tied)\",E13=\"DNF (Trailing)\"),\"Tied\",IF(AND((E13=\"Lost\"),OR(F13=\"DNF (Leading)\",F13=\"DNF (Tied)\",F13=\"DNF (Trailing)\")),\"Lost\",IF(C14=\"Bye\",\"Bye\",\"\")))))))","v":""},{"$f":"IF(C14=\"Bye\",1,IF(LEN(E13&F13&G13)=0,0,COUNTIF(E13:G13,\"Won\")*1+COUNTIF(E13:G13,\"DNF (Leading)\")*0.67+COUNTIF(E13:G13,\"DNF (Tied)\")*0.5+COUNTIF(E13:G13,\"DNF (Trailing)\")*0.33))","v":0},{"$f":"C14","v":0}]
[null,null,null,{"$f":"IF(ISERROR(VLOOKUP(C14,'Team List'!B:D,3,0)),\"\",VLOOKUP(C14,'Team List'!B:D,2,0))","v":""},{"$f":"IF(E13=\"\",\"\",IF(E13=\"Won\",\"Lost\",IF(E13=\"DNF (Leading)\",\"DNF (Trailing)\",IF(E13=\"DNF (Trailing)\",\"DNF (Leading)\",IF(E13=\"Lost\",\"Won\",E13)))))","v":""},{"$f":"IF(F13=\"\",\"\",IF(F13=\"Won\",\"Lost\",IF(F13=\"DNF (Leading)\",\"DNF (Trailing)\",IF(F13=\"DNF (Trailing)\",\"DNF (Leading)\",IF(F13=\"Lost\",\"Won\",F13)))))","v":""},{"$f":"IF(G13=\"\",\"\",IF(G13=\"Won\",\"Lost\",IF(G13=\"DNF (Leading)\",\"DNF (Trailing)\",IF(G13=\"DNF (Trailing)\",\"DNF (Leading)\",IF(G13=\"Lost\",\"Won\",G13)))))","v":""},{"$f":"IF(H13=\"Won\",\"Lost\",IF(H13=\"Lost\",\"Won\",H13))","v":""},{"$f":"IF(C13=\"Bye\",1,IF(LEN(E14&F14&G14)=0,0,COUNTIF(E14:G14,\"Won\")*1+COUNTIF(E14:G14,\"DNF (Leading)\")*0.67+COUNTIF(E14:G14,\"DNF (Tied)\")*0.5+COUNTIF(E14:G14,\"DNF (Trailing)\")*0.33))","v":0},{"$f":"C13","v":0}]
[7,null,null,{"$f":"IF(ISERROR(VLOOKUP(C15,'Team List'!B:D,3,0)),\"\",VLOOKUP(C15,'Team List'!B:D,2,0))","v":""},null,null,null,{"$f":"IF(COUNTIF(E15:G15,\"Won\")=2,\"Won\",IF(COUNTIF(E15:G15,\"Lost\")=2,\"Lost\",IF(AND((E15=\"Won\"),OR(F15=\"DNF (Leading)\",F15=\"DNF (Tied)\",F15=\"DNF (Trailing)\")),\"Won\",IF(AND(COUNTIF(E15:F15,\"Won\")=1,OR(G15=\"DNF (Leading)\",G15=\"DNF (Tied)\",G15=\"DNF (Trailing)\")),\"Tied\",IF(OR(E15=\"DNF (Leading)\",E15=\"DNF (Tied)\",E15=\"DNF (Trailing)\"),\"Tied\",IF(AND((E15=\"Lost\"),OR(F15=\"DNF (Leading)\",F15=\"DNF (Tied)\",F15=\"DNF (Trailing)\")),\"Lost\",IF(C16=\"Bye\",\"Bye\",\"\")))))))","v":""},{"$f":"IF(C16=\"Bye\",1,IF(LEN(E15&F15&G15)=0,0,COUNTIF(E15:G15,\"Won\")*1+COUNTIF(E15:G15,\"DNF (Leading)\")*0.67+COUNTIF(E15:G15,\"DNF (Tied)\")*0.5+COUNTIF(E15:G15,\"DNF (Trailing)\")*0.33))","v":0},{"$f":"C16","v":0}]
[null,null,null,{"$f":"IF(ISERROR(VLOOKUP(C16,'Team List'!B:D,3,0)),\"\",VLOOKUP(C16,'Team List'!B:D,2,0))","v":""},{"$f":"IF(E15=\"\",\"\",IF(E15=\"Won\",\"Lost\",IF(E15=\"DNF (Leading)\",\"DNF (Trailing)\",IF(E15=\"DNF (Trailing)\",\"DNF (Leading)\",IF(E15=\"Lost\",\"Won\",E15)))))","v":""},{"$f":"IF(F15=\"\",\"\",IF(F15=\"Won\",\"Lost\",IF(F15=\"DNF (Leading)\",\"DNF (Trailing)\",IF(F15=\"DNF (Trailing)\",\"DNF (Leading)\",IF(F15=\"Lost\",\"Won\",F15)))))","v":""},{"$f":"IF(G15=\"\",\"\",IF(G15=\"Won\",\"Lost\",IF(G15=\"DNF (Leading)\",\"DNF (Trailing)\",IF(G15=\"DNF (Trailing)\",\"DNF (Leading)\",IF(G15=\"Lost\",\"Won\",G15)))))","v":""},{"$f":"IF(H15=\"Won\",\"Lost\",IF(H15=\"Lost\",\"Won\",H15))","v":""},{"$f":"IF(C15=\"Bye\",1,IF(LEN(E16&F16&G16)=0,0,COUNTIF(E16:G16,\"Won\")*1+COUNTIF(E16:G16,\"DNF (Leading)\")*0.67+COUNTIF(E16:G16,\"DNF (Tied)\")*0.5+COUNTIF(E16:G16,\"DNF (Trailing)\")*0.33))","v":0},{"$f":"C15","v":0}]
[8,null,null,{"$f":"IF(ISERROR(VLOOKUP(C17,'Team List'!B:D,3,0)),\"\",VLOOKUP(C17,'Team List'!B:D,2,0))","v":""},null,null,null,{"$f":"IF(COUNTIF(E17:G17,\"Won\")=2,\"Won\",IF(COUNTIF(E17:G17,\"Lost\")=2,\"Lost\",IF(AND((E17=\"Won\"),OR(F17=\"DNF (Leading)\",F17=\"DNF (Tied)\",F17=\"DNF (Trailing)\")),\"Won\",IF(AND(COUNTIF(E17:F17,\"Won\")=1,OR(G17=\"DNF (Leading)\",G17=\"DNF (Tied)\",G17=\"DNF (Trailing)\")),\"Tied\",IF(OR(E17=\"DNF (Leading)\",E17=\"DNF (Tied)\",E17=\"DNF (Trailing)\"),\"Tied\",IF(AND((E17=\"Lost\"),OR(F17=\"DNF (Leading)\",F17=\"DNF (Tied)\",F17=\"DNF (Trailing)\")),\"Lost\",IF(C18=\"Bye\",\"Bye\",\"\")))))))","v":""},{"$f":"IF(C18=\"Bye\",1,IF(LEN(E17&F17&G17)=0,0,COUNTIF(E17:G17,\"Won\")*1+COUNTIF(E17:G17,\"DNF (Leading)\")*0.67+COUNTIF(E17:G17,\"DNF (Tied)\")*0.5+COUNTIF(E17:G17,\"DNF (Trailing)\")*0.33))","v":0},{"$f":"C18","v":0}]
[null,null,null,{"$f":"IF(ISERROR(VLOOKUP(C18,'Team List'!B:D,3,0)),\"\",VLOOKUP(C18,'Team List'!B:D,2,0))","v":""},{"$f":"IF(E17=\"\",\"\",IF(E17=\"Won\",\"Lost\",IF(E17=\"DNF (Leading)\",\"DNF (Trailing)\",IF(E17=\"DNF (Trailing)\",\"DNF (Leading)\",IF(E17=\"Lost\",\"Won\",E17)))))","v":""},{"$f":"IF(F17=\"\",\"\",IF(F17=\"Won\",\"Lost\",IF(F17=\"DNF (Leading)\",\"DNF (Trailing)\",IF(F17=\"DNF (Trailing)\",\"DNF (Leading)\",IF(F17=\"Lost\",\"Won\",F17)))))","v":""},{"$f":"IF(G17=\"\",\"\",IF(G17=\"Won\",\"Lost\",IF(G17=\"DNF (Leading)\",\"DNF (Trailing)\",IF(G17=\"DNF (Trailing)\",\"DNF (Leading)\",IF(G17=\"Lost\",\"Won\",G17)))))","v":""},{"$f":"IF(H17=\"Won\",\"Lost\",IF(H17=\"Lost\",\"Won\",H17))","v":""},{"$f":"IF(C17=\"Bye\",1,IF(LEN(E18&F18&G18)=0,0,COUNTIF(E18:G18,\"Won\")*1+COUNTIF(E18:G18,\"DNF (Leading)\")*0.67+COUNTIF(E18:G18,\"DNF (Tied)\")*0.5+COUNTIF(E18:G18,\"DNF (Trailing)\")*0.33))","v":0},{"$f":"C17","v":0}]
[9,null,null,{"$f":"IF(ISERROR(VLOOKUP(C19,'Team List'!B:D,3,0)),\"\",VLOOKUP(C19,'Team List'!B:D,2,0))","v":""},null,null,null,{"$f":"IF(COUNTIF(E19:G19,\"Won\")=2,\"Won\",IF(COUNTIF(E19:G19,\"Lost\")=2,\"Lost\",IF(AND((E19=\"Won\"),OR(F19=\"DNF (Leading)\",F19=\"DNF (Tied)\",F19=\"DNF (Trailing)\")),\"Won\",IF(AND(COUNTIF(E19:F19,\"Won\")=1,OR(G19=\"DNF (Leading)\",G19=\"DNF (Tied)\",G19=\"DNF (Trailing)\")),\"Tied\",IF(OR(E19=\"DNF (Leading)\",E19=\"DNF (Tied)\",E19=\"DNF (Trailing)\"),\"Tied\",IF(AND((E19=\"Lost\"),OR(F19=\"DNF (Leading)\",F19=\"DNF (Tied)\",F19=\"DNF (Trailing)\")),\"Lost\",IF(C20=\"Bye\",\"Bye\",\"\")))))))","v":""},{"$f":"IF(C20=\"Bye\",1,IF(LEN(E19&F19&G19)=0,0,COUNTIF(E19:G19,\"Won\")*1+COUNTIF(E19:G19,\"DNF (Leading)\")*0.67+COUNTIF(E19:G19,\"DNF (Tied)\")*0.5+COUNTIF(E19:G19,\"DNF (Trailing)\")*0.33))","v":0},{"$f":"C20","v":0}]
[null,null,null,{"$f":"IF(ISERROR(VLOOKUP(C20,'Team List'!B:D,3,0)),\"\",VLOOKUP(C20,'Team List'!B:D,2,0))","v":""},{"$f":"IF(E19=\"\",\"\",IF(E19=\"Won\",\"Lost\",IF(E19=\"DNF (Leading)\",\"DNF (Trailing)\",IF(E19=\"DNF (Trailing)\",\"DNF (Leading)\",IF(E19=\"Lost\",\"Won\",E19)))))","v":""},{"$f":"IF(F19=\"\",\"\",IF(F19=\"Won\",\"Lost\",IF(F19=\"DNF (Leading)\",\"DNF (Trailing)\",IF(F19=\"DNF (Trailing)\",\"DNF (Leading)\",IF(F19=\"Lost\",\"Won\",F19)))))","v":""},{"$f":"IF(G19=\"\",\"\",IF(G19=\"Won\",\"Lost\",IF(G19=\"DNF (Leading)\",\"DNF (Trailing)\",IF(G19=\"DNF (Trailing)\",\"DNF (Leading)\",IF(G19=\"Lost\",\"Won\",G19)))))","v":""},{"$f":"IF(H19=\"Won\",\"Lost\",IF(H19=\"Lost\",\"Won\",H19))","v":""},{"$f":"IF(C19=\"Bye\",1,IF(LEN(E20&F20&G20)=0,0,COUNTIF(E20:G20,\"Won\")*1+COUNTIF(E20:G20,\"DNF (Leading)\")*0.67+COUNTIF(E20:G20,\"DNF (Tied)\")*0.5+COUNTIF(E20:G20,\"DNF (Trailing)\")*0.33))","v":0},{"$f":"C19","v":0}]
[10,null,null,{"$f":"IF(ISERROR(VLOOKUP(C21,'Team List'!B:D,3,0)),\"\",VLOOKUP(C21,'Team List'!B:D,2,0))","v":""},null,null,null,{"$f":"IF(COUNTIF(E21:G21,\"Won\")=2,\"Won\",IF(COUNTIF(E21:G21,\"Lost\")=2,\"Lost\",IF(AND((E21=\"Won\"),OR(F21=\"DNF (Leading)\",F21=\"DNF (Tied)\",F21=\"DNF (Trailing)\")),\"Won\",IF(AND(COUNTIF(E21:F21,\"Won\")=1,OR(G21=\"DNF (Leading)\",G21=\"DNF (Tied)\",G21=\"DNF (Trailing)\")),\"Tied\",IF(OR(E21=\"DNF (Leading)\",E21=\"DNF (Tied)\",E21=\"DNF (Trailing)\"),\"Tied\",IF(AND((E21=\"Lost\"),OR(F21=\"DNF (Leading)\",F21=\"DNF (Tied)\",F21=\"DNF (Trailing)\")),\"Lost\",IF(C22=\"Bye\",\"Bye\",\"\")))))))","v":""},{"$f":"IF(C22=\"Bye\",1,IF(LEN(E21&F21&G21)=0,0,COUNTIF(E21:G21,\"Won\")*1+COUNTIF(E21:G21,\"DNF (Leading)\")*0.67+COUNTIF(E21:G21,\"DNF (Tied)\")*0.5+COUNTIF(E21:G21,\"DNF (Trailing)\")*0.33))","v":0},{"$f":"C22","v":0}]
[null,null,null,{"$f":"IF(ISERROR(VLOOKUP(C22,'Team List'!B:D,3,0)),\"\",VLOOKUP(C22,'Team List'!B:D,2,0))","v":""},{"$f":"IF(E21=\"\",\"\",IF(E21=\"Won\",\"Lost\",IF(E21=\"DNF (Leading)\",\"DNF (Trailing)\",IF(E21=\"DNF (Trailing)\",\"DNF (Leading)\",IF(E21=\"Lost\",\"Won\",E21)))))","v":""},{"$f":"IF(F21=\"\",\"\",IF(F21=\"Won\",\"Lost\",IF(F21=\"DNF (Leading)\",\"DNF (Trailing)\",IF(F21=\"DNF (Trailing)\",\"DNF (Leading)\",IF(F21=\"Lost\",\"Won\",F21)))))","v":""},{"$f":"IF(G21=\"\",\"\",IF(G21=\"Won\",\"Lost\",IF(G21=\"DNF (Leading)\",\"DNF (Trailing)\",IF(G21=\"DNF (Trailing)\",\"DNF (Leading)\",IF(G21=\"Lost\",\"Won\",G21)))))","v":""},{"$f":"IF(H21=\"Won\",\"Lost\",IF(H21=\"Lost\",\"Won\",H21))","v":""},{"$f":"IF(C21=\"Bye\",1,IF(LEN(E22&F22&G22)=0,0,COUNTIF(E22:G22,\"Won\")*1+COUNTIF(E22:G22,\"DNF (Leading)\")*0.67+COUNTIF(E22:G22,\"DNF (Tied)\")*0.5+COUNTIF(E22:G22,\"DNF (Trailing)\")*0.33))","v":0},{"$f":"C21","v":0}]
[11,null,null,{"$f":"IF(ISERROR(VLOOKUP(C23,'Team List'!B:D,3,0)),\"\",VLOOKUP(C23,'Team List'!B:D,2,0))","v":""},null,null,null,{"$f":"IF(COUNTIF(E23:G23,\"Won\")=2,\"Won\",IF(COUNTIF(E23:G23,\"Lost\")=2,\"Lost\",IF(AND((E23=\"Won\"),OR(F23=\"DNF (Leading)\",F23=\"DNF (Tied)\",F23=\"DNF (Trailing)\")),\"Won\",IF(AND(COUNTIF(E23:F23,\"Won\")=1,OR(G23=\"DNF (Leading)\",G23=\"DNF (Tied)\",G23=\"DNF (Trailing)\")),\"Tied\",IF(OR(E23=\"DNF (Leading)\",E23=\"DNF (Tied)\",E23=\"DNF (Trailing)\"),\"Tied\",IF(AND((E23=\"Lost\"),OR(F23=\"DNF (Leading)\",F23=\"DNF (Tied)\",F23=\"DNF (Trailing)\")),\"Lost\",IF(C24=\"Bye\",\"Bye\",\"\")))))))","v":""},{"$f":"IF(C24=\"Bye\",1,IF(LEN(E23&F23&G23)=0,0,COUNTIF(E23:G23,\"Won\")*1+COUNTIF(E23:G23,\"DNF (Leading)\")*0.67+COUNTIF(E23:G23,\"DNF (Tied)\")*0.5+COUNTIF(E23:G23,\"DNF (Trailing)\")*0.33))","v":0},{"$f":"C24","v":0}]
[null,null,null,{"$f":"IF(ISERROR(VLOOKUP(C24,'Team List'!B:D,3,0)),\"\",VLOOKUP(C24,'Team List'!B:D,2,0))","v":""},{"$f":"IF(E23=\"\",\"\",IF(E23=\"Won\",\"Lost\",IF(E23=\"DNF (Leading)\",\"DNF (Trailing)\",IF(E23=\"DNF (Trailing)\",\"DNF (Leading)\",IF(E23=\"Lost\",\"Won\",E23)))))","v":""},{"$f":"IF(F23=\"\",\"\",IF(F23=\"Won\",\"Lost\",IF(F23=\"DNF (Leading)\",\"DNF (Trailing)\",IF(F23=\"DNF (Trailing)\",\"DNF (Leading)\",IF(F23=\"Lost\",\"Won\",F23)))))","v":""},{"$f":"IF(G23=\"\",\"\",IF(G23=\"Won\",\"Lost\",IF(G23=\"DNF (Leading)\",\"DNF (Trailing)\",IF(G23=\"DNF (Trailing)\",\"DNF (Leading)\",IF(G23=\"Lost\",\"Won\",G23)))))","v":""},{"$f":"IF(H23=\"Won\",\"Lost\",IF(H23=\"Lost\",\"Won\",H23))","v":""},{"$f":"IF(C23=\"Bye\",1,IF(LEN(E24&F24&G24)=0,0,COUNTIF(E24:G24,\"Won\")*1+COUNTIF(E24:G24,\"DNF (Leading)\")*0.67+COUNTIF(E24:G24,\"DNF (Tied)\")*0.5+COUNTIF(E24:G24,\"DNF (Trailing)\")*0.33))","v":0},{"$f":"C23","v":0}]
[12,null,null,{"$f":"IF(ISERROR(VLOOKUP(C25,'Team List'!B:D,3,0)),\"\",VLOOKUP(C25,'Team List'!B:D,2,0))","v":""},null,null,null,{"$f":"IF(COUNTIF(E25:G25,\"Won\")=2,\"Won\",IF(COUNTIF(E25:G25,\"Lost\")=2,\"Lost\",IF(AND((E25=\"Won\"),OR(F25=\"DNF (Leading)\",F25=\"DNF (Tied)\",F25=\"DNF (Trailing)\")),\"Won\",IF(AND(COUNTIF(E25:F25,\"Won\")=1,OR(G25=\"DNF (Leading)\",G25=\"DNF (Tied)\",G25=\"DNF (Trailing)\")),\"Tied\",IF(OR(E25=\"DNF (Leading)\",E25=\"DNF (Tied)\",E25=\"DNF (Trailing)\"),\"Tied\",IF(AND((E25=\"Lost\"),OR(F25=\"DNF (Leading)\",F25=\"DNF (Tied)\",F25=\"DNF (Trailing)\")),\"Lost\",IF(C26=\"Bye\",\"Bye\",\"\")))))))","v":""},{"$f":"IF(C26=\"Bye\",1,IF(LEN(E25&F25&G25)=0,0,COUNTIF(E25:G25,\"Won\")*1+COUNTIF(E25:G25,\"DNF (Leading)\")*0.67+COUNTIF(E25:G25,\"DNF (Tied)\")*0.5+COUNTIF(E25:G25,\"DNF (Trailing)\")*0.33))","v":0},{"$f":"C26","v":0}]
[null,null,null,{"$f":"IF(ISERROR(VLOOKUP(C26,'Team List'!B:D,3,0)),\"\",VLOOKUP(C26,'Team List'!B:D,2,0))","v":""},{"$f":"IF(E25=\"\",\"\",IF(E25=\"Won\",\"Lost\",IF(E25=\"DNF (Leading)\",\"DNF (Trailing)\",IF(E25=\"DNF (Trailing)\",\"DNF (Leading)\",IF(E25=\"Lost\",\"Won\",E25)))))","v":""},{"$f":"IF(F25=\"\",\"\",IF(F25=\"Won\",\"Lost\",IF(F25=\"DNF (Leading)\",\"DNF (Trailing)\",IF(F25=\"DNF (Trailing)\",\"DNF (Leading)\",IF(F25=\"Lost\",\"Won\",F25)))))","v":""},{"$f":"IF(G25=\"\",\"\",IF(G25=\"Won\",\"Lost\",IF(G25=\"DNF (Leading)\",\"DNF (Trailing)\",IF(G25=\"DNF (Trailing)\",\"DNF (Leading)\",IF(G25=\"Lost\",\"Won\",G25)))))","v":""},{"$f":"IF(H25=\"Won\",\"Lost\",IF(H25=\"Lost\",\"Won\",H25))","v":""},{"$f":"IF(C25=\"Bye\",1,IF(LEN(E26&F26&G26)=0,0,COUNTIF(E26:G26,\"Won\")*1+COUNTIF(E26:G26,\"DNF (Leading)\")*0.67+COUNTIF(E26:G26,\"DNF (Tied)\")*0.5+COUNTIF(E26:G26,\"DNF (Trailing)\")*0.33))","v":0},{"$f":"C25","v":0}]
[13,null,null,{"$f":"IF(ISERROR(VLOOKUP(C27,'Team List'!B:D,3,0)),\"\",VLOOKUP(C27,'Team List'!B:D,2,0))","v":""},null,null,null,{"$f":"IF(COUNTIF(E27:G27,\"Won\")=2,\"Won\",IF(COUNTIF(E27:G27,\"Lost\")=2,\"Lost\",IF(AND((E27=\"Won\"),OR(F27=\"DNF (Leading)\",F27=\"DNF (Tied)\",F27=\"DNF (Trailing)\")),\"Won\",IF(AND(COUNTIF(E27:F27,\"Won\")=1,OR(G27=\"DNF (Leading)\",G27=\"DNF (Tied)\",G27=\"DNF (Trailing)\")),\"Tied\",IF(OR(E27=\"DNF (Leading)\",E27=\"DNF (Tied)\",E27=\"DNF (Trailing)\"),\"Tied\",IF(AND((E27=\"Lost\"),OR(F27=\"DNF (Leading)\",F27=\"DNF (Tied)\",F27=\"DNF (Trailing)\")),\"Lost\",IF(C28=\"Bye\",\"Bye\",\"\")))))))","v":""},{"$f":"IF(C28=\"Bye\",1,IF(LEN(E27&F27&G27)=0,0,COUNTIF(E27:G27,\"Won\")*1+COUNTIF(E27:G27,\"DNF (Leading)\")*0.67+COUNTIF(E27:G27,\"DNF (Tied)\")*0.5+COUNTIF(E27:G27,\"DNF (Trailing)\")*0.33))","v":0},{"$f":"C28","v":0}]
[null,null,null,{"$f":"IF(ISERROR(VLOOKUP(C28,'Team List'!B:D,3,0)),\"\",VLOOKUP(C28,'Team List'!B:D,2,0))","v":""},{"$f":"IF(E27=\"\",\"\",IF(E27=\"Won\",\"Lost\",IF(E27=\"DNF (Leading)\",\"DNF (Trailing)\",IF(E27=\"DNF (Trailing)\",\"DNF (Leading)\",IF(E27=\"Lost\",\"Won\",E27)))))","v":""},{"$f":"IF(F27=\"\",\"\",IF(F27=\"Won\",\"Lost\",IF(F27=\"DNF (Leading)\",\"DNF (Trailing)\",IF(F27=\"DNF (Trailing)\",\"DNF (Leading)\",IF(F27=\"Lost\",\"Won\",F27)))))","v":""},{"$f":"IF(G27=\"\",\"\",IF(G27=\"Won\",\"Lost\",IF(G27=\"DNF (Leading)\",\"DNF (Trailing)\",IF(G27=\"DNF (Trailing)\",\"DNF (Leading)\",IF(G27=\"Lost\",\"Won\",G27)))))","v":""},{"$f":"IF(H27=\"Won\",\"Lost\",IF(H27=\"Lost\",\"Won\",H27))","v":""},{"$f":"IF(C27=\"Bye\",1,IF(LEN(E28&F28&G28)=0,0,COUNTIF(E28:G28,\"Won\")*1+COUNTIF(E28:G28,\"DNF (Leading)\")*0.67+COUNTIF(E28:G28,\"DNF (Tied)\")*0.5+COUNTIF(E28:G28,\"DNF (Trailing)\")*0.33))","v":0},{"$f":"C27","v":0}]
[14,null,null,{"$f":"IF(ISERROR(VLOOKUP(C29,'Team List'!B:D,3,0)),\"\",VLOOKUP(C29,'Team List'!B:D,2,0))","v":""},null,null,null,{"$f":"IF(COUNTIF(E29:G29,\"Won\")=2,\"Won\",IF(COUNTIF(E29:G29,\"Lost\")=2,\"Lost\",IF(AND((E29=\"Won\"),OR(F29=\"DNF (Leading)\",F29=\"DNF (Tied)\",F29=\"DNF (Trailing)\")),\"Won\",IF(AND(COUNTIF(E29:F29,\"Won\")=1,OR(G29=\"DNF (Leading)\",G29=\"DNF (Tied)\",G29=\"DNF (Trailing)\")),\"Tied\",IF(OR(E29=\"DNF (Leading)\",E29=\"DNF (Tied)\",E29=\"DNF (Trailing)\"),\"Tied\",IF(AND((E29=\"Lost\"),OR(F29=\"DNF (Leading)\",F29=\"DNF (Tied)\",F29=\"DNF (Trailing)\")),\"Lost\",IF(C30=\"Bye\",\"Bye\",\"\")))))))","v":""},{"$f":"IF(C30=\"Bye\",1,IF(LEN(E29&F29&G29)=0,0,COUNTIF(E29:G29,\"Won\")*1+COUNTIF(E29:G29,\"DNF (Leading)\")*0.67+COUNTIF(E29:G29,\"DNF (Tied)\")*0.5+COUNTIF(E29:G29,\"DNF (Trailing)\")*0.33))","v":0},{"$f":"C30","v":0}]
[null,null,null,{"$f":"IF(ISERROR(VLOOKUP(C30,'Team List'!B:D,3,0)),\"\",VLOOKUP(C30,'Team List'!B:D,2,0))","v":""},{"$f":"IF(E29=\"\",\"\",IF(E29=\"Won\",\"Lost\",IF(E29=\"DNF (Leading)\",\"DNF (Trailing)\",IF(E29=\"DNF (Trailing)\",\"DNF (Leading)\",IF(E29=\"Lost\",\"Won\",E29)))))","v":""},{"$f":"IF(F29=\"\",\"\",IF(F29=\"Won\",\"Lost\",IF(F29=\"DNF (Leading)\",\"DNF (Trailing)\",IF(F29=\"DNF (Trailing)\",\"DNF (Leading)\",IF(F29=\"Lost\",\"Won\",F29)))))","v":""},{"$f":"IF(G29=\"\",\"\",IF(G29=\"Won\",\"Lost\",IF(G29=\"DNF (Leading)\",\"DNF (Trailing)\",IF(G29=\"DNF (Trailing)\",\"DNF (Leading)\",IF(G29=\"Lost\",\"Won\",G29)))))","v":""},{"$f":"IF(H29=\"Won\",\"Lost\",IF(H29=\"Lost\",\"Won\",H29))","v":""},{"$f":"IF(C29=\"Bye\",1,IF(LEN(E30&F30&G30)=0,0,COUNTIF(E30:G30,\"Won\")*1+COUNTIF(E30:G30,\"DNF (Leading)\")*0.67+COUNTIF(E30:G30,\"DNF (Tied)\")*0.5+COUNTIF(E30:G30,\"DNF (Trailing)\")*0.33))","v":0},{"$f":"C29","v":0}]
[15,null,null,{"$f":"IF(ISERROR(VLOOKUP(C31,'Team List'!B:D,3,0)),\"\",VLOOKUP(C31,'Team List'!B:D,2,0))","v":""},null,null,null,{"$f":"IF(COUNTIF(E31:G31,\"Won\")=2,\"Won\",IF(COUNTIF(E31:G31,\"Lost\")=2,\"Lost\",IF(AND((E31=\"Won\"),OR(F31=\"DNF (Leading)\",F31=\"DNF (Tied)\",F31=\"DNF (Trailing)\")),\"Won\",IF(AND(COUNTIF(E31:F31,\"Won\")=1,OR(G31=\"DNF (Leading)\",G31=\"DNF (Tied)\",G31=\"DNF (Trailing)\")),\"Tied\",IF(OR(E31=\"DNF (Leading)\",E31=\"DNF (Tied)\",E31=\"DNF (Trailing)\"),\"Tied\",IF(AND((E31=\"Lost\"),OR(F31=\"DNF (Leading)\",F31=\"DNF (Tied)\",F31=\"DNF (Trailing)\")),\"Lost\",IF(C32=\"Bye\",\"Bye\",\"\")))))))","v":""},{"$f":"IF(C32=\"Bye\",1,IF(LEN(E31&F31&G31)=0,0,COUNTIF(E31:G31,\"Won\")*1+COUNTIF(E31:G31,\"DNF (Leading)\")*0.67+COUNTIF(E31:G31,\"DNF (Tied)\")*0.5+COUNTIF(E31:G31,\"DNF (Trailing)\")*0.33))","v":0},{"$f":"C32","v":0}]
[null,null,null,{"$f":"IF(ISERROR(VLOOKUP(C32,'Team List'!B:D,3,0)),\"\",VLOOKUP(C32,'Team List'!B:D,2,0))","v":""},{"$f":"IF(E31=\"\",\"\",IF(E31=\"Won\",\"Lost\",IF(E31=\"DNF (Leading)\",\"DNF (Trailing)\",IF(E31=\"DNF (Trailing)\",\"DNF (Leading)\",IF(E31=\"Lost\",\"Won\",E31)))))","v":""},{"$f":"IF(F31=\"\",\"\",IF(F31=\"Won\",\"Lost\",IF(F31=\"DNF (Leading)\",\"DNF (Trailing)\",IF(F31=\"DNF (Trailing)\",\"DNF (Leading)\",IF(F31=\"Lost\",\"Won\",F31)))))","v":""},{"$f":"IF(G31=\"\",\"\",IF(G31=\"Won\",\"Lost\",IF(G31=\"DNF (Leading)\",\"DNF (Trailing)\",IF(G31=\"DNF (Trailing)\",\"DNF (Leading)\",IF(G31=\"Lost\",\"Won\",G31)))))","v":""},{"$f":"IF(H31=\"Won\",\"Lost\",IF(H31=\"Lost\",\"Won\",H31))","v":""},{"$f":"IF(C31=\"Bye\",1,IF(LEN(E32&F32&G32)=0,0,COUNTIF(E32:G32,\"Won\")*1+COUNTIF(E32:G32,\"DNF (Leading)\")*0.67+COUNTIF(E32:G32,\"DNF (Tied)\")*0.5+COUNTIF(E32:G32,\"DNF (Trailing)\")*0.33))","v":0},{"$f":"C31","v":0}]
[16,null,null,{"$f":"IF(ISERROR(VLOOKUP(C33,'Team List'!B:D,3,0)),\"\",VLOOKUP(C33,'Team List'!B:D,2,0))","v":""},null,null,null,{"$f":"IF(COUNTIF(E33:G33,\"Won\")=2,\"Won\",IF(COUNTIF(E33:G33,\"Lost\")=2,\"Lost\",IF(AND((E33=\"Won\"),OR(F33=\"DNF (Leading)\",F33=\"DNF (Tied)\",F33=\"DNF (Trailing)\")),\"Won\",IF(AND(COUNTIF(E33:F33,\"Won\")=1,OR(G33=\"DNF (Leading)\",G33=\"DNF (Tied)\",G33=\"DNF (Trailing)\")),\"Tied\",IF(OR(E33=\"DNF (Leading)\",E33=\"DNF (Tied)\",E33=\"DNF (Trailing)\"),\"Tied\",IF(AND((E33=\"Lost\"),OR(F33=\"DNF (Leading)\",F33=\"DNF (Tied)\",F33=\"DNF (Trailing)\")),\"Lost\",IF(C34=\"Bye\",\"Bye\",\"\")))))))","v":""},{"$f":"IF(C34=\"Bye\",1,IF(LEN(E33&F33&G33)=0,0,COUNTIF(E33:G33,\"Won\")*1+COUNTIF(E33:G33,\"DNF (Leading)\")*0.67+COUNTIF(E33:G33,\"DNF (Tied)\")*0.5+COUNTIF(E33:G33,\"DNF (Trailing)\")*0.33))","v":0},{"$f":"C34","v":0}]
[null,null,null,{"$f":"IF(ISERROR(VLOOKUP(C34,'Team List'!B:D,3,0)),\"\",VLOOKUP(C34,'Team List'!B:D,2,0))","v":""},{"$f":"IF(E33=\"\",\"\",IF(E33=\"Won\",\"Lost\",IF(E33=\"DNF (Leading)\",\"DNF (Trailing)\",IF(E33=\"DNF (Trailing)\",\"DNF (Leading)\",IF(E33=\"Lost\",\"Won\",E33)))))","v":""},{"$f":"IF(F33=\"\",\"\",IF(F33=\"Won\",\"Lost\",IF(F33=\"DNF (Leading)\",\"DNF (Trailing)\",IF(F33=\"DNF (Trailing)\",\"DNF (Leading)\",IF(F33=\"Lost\",\"Won\",F33)))))","v":""},{"$f":"IF(G33=\"\",\"\",IF(G33=\"Won\",\"Lost\",IF(G33=\"DNF (Leading)\",\"DNF (Trailing)\",IF(G33=\"DNF (Trailing)\",\"DNF (Leading)\",IF(G33=\"Lost\",\"Won\",G33)))))","v":""},{"$f":"IF(H33=\"Won\",\"Lost\",IF(H33=\"Lost\",\"Won\",H33))","v":""},{"$f":"IF(C33=\"Bye\",1,IF(LEN(E34&F34&G34)=0,0,COUNTIF(E34:G34,\"Won\")*1+COUNTIF(E34:G34,\"DNF (Leading)\")*0.67+COUNTIF(E34:G34,\"DNF (Tied)\")*0.5+COUNTIF(E34:G34,\"DNF (Trailing)\")*0.33))","v":0},{"$f":"C33","v":0}]
[17,null,null,{"$f":"IF(ISERROR(VLOOKUP(C35,'Team List'!B:D,3,0)),\"\",VLOOKUP(C35,'Team List'!B:D,2,0))","v":""},null,null,null,{"$f":"IF(COUNTIF(E35:G35,\"Won\")=2,\"Won\",IF(COUNTIF(E35:G35,\"Lost\")=2,\"Lost\",IF(AND((E35=\"Won\"),OR(F35=\"DNF (Leading)\",F35=\"DNF (Tied)\",F35=\"DNF (Trailing)\")),\"Won\",IF(AND(COUNTIF(E35:F35,\"Won\")=1,OR(G35=\"DNF (Leading)\",G35=\"DNF (Tied)\",G35=\"DNF (Trailing)\")),\"Tied\",IF(OR(E35=\"DNF (Leading)\",E35=\"DNF (Tied)\",E35=\"DNF (Trailing)\"),\"Tied\",IF(AND((E35=\"Lost\"),OR(F35=\"DNF (Leading)\",F35=\"DNF (Tied)\",F35=\"DNF (Trailing)\")),\"Lost\",IF(C36=\"Bye\",\"Bye\",\"\")))))))","v":""},{"$f":"IF(C36=\"Bye\",0,IF(LEN(E35&F35&G35)=0,0,COUNTIF(E35:G35,\"Won\")*1+COUNTIF(E35:G35,\"DNF (Leading)\")*0.67+COUNTIF(E35:G35,\"DNF (Tied)\")*0.5+COUNTIF(E35:G35,\"DNF (Trailing)\")*0.33))","v":0},{"$f":"C36","v":0}]
[null,null,null,{"$f":"IF(ISERROR(VLOOKUP(C36,'Team List'!B:D,3,0)),\"\",VLOOKUP(C36,'Team List'!B:D,2,0))","v":""},{"$f":"IF(E35=\"\",\"\",IF(E35=\"Won\",\"Lost\",IF(E35=\"DNF (Leading)\",\"DNF (Trailing)\",IF(E35=\"DNF (Trailing)\",\"DNF (Leading)\",IF(E35=\"Lost\",\"Won\",E35)))))","v":""},{"$f":"IF(F35=\"\",\"\",IF(F35=\"Won\",\"Lost\",IF(F35=\"DNF (Leading)\",\"DNF (Trailing)\",IF(F35=\"DNF (Trailing)\",\"DNF (Leading)\",IF(F35=\"Lost\",\"Won\",F35)))))","v":""},{"$f":"IF(G35=\"\",\"\",IF(G35=\"Won\",\"Lost\",IF(G35=\"DNF (Leading)\",\"DNF (Trailing)\",IF(G35=\"DNF (Trailing)\",\"DNF (Leading)\",IF(G35=\"Lost\",\"Won\",G35)))))","v":""},{"$f":"IF(H35=\"Won\",\"Lost\",IF(H35=\"Lost\",\"Won\",H35))","v":""},{"$f":"IF(C35=\"Bye\",0,IF(LEN(E36&F36&G36)=0,0,COUNTIF(E36:G36,\"Won\")*1+COUNTIF(E36:G36,\"DNF (Leading)\")*0.67+COUNTIF(E36:G36,\"DNF (Tied)\")*0.5+COUNTIF(E36:G36,\"DNF (Trailing)\")*0.33))","v":0},{"$f":"C35","v":0}]
[18,null,null,{"$f":"IF(ISERROR(VLOOKUP(C37,'Team List'!B:D,3,0)),\"\",VLOOKUP(C37,'Team List'!B:D,2,0))","v":""},null,null,null,{"$f":"IF(COUNTIF(E37:G37,\"Won\")=2,\"Won\",IF(COUNTIF(E37:G37,\"Lost\")=2,\"Lost\",IF(AND((E37=\"Won\"),OR(F37=\"DNF (Leading)\",F37=\"DNF (Tied)\",F37=\"DNF (Trailing)\")),\"Won\",IF(AND(COUNTIF(E37:F37,\"Won\")=1,OR(G37=\"DNF (Leading)\",G37=\"DNF (Tied)\",G37=\"DNF (Trailing)\")),\"Tied\",IF(OR(E37=\"DNF (Leading)\",E37=\"DNF (Tied)\",E37=\"DNF (Trailing)\"),\"Tied\",IF(AND((E37=\"Lost\"),OR(F37=\"DNF (Leading)\",F37=\"DNF (Tied)\",F37=\"DNF (Trailing)\")),\"Lost\",IF(C38=\"Bye\",\"Bye\",\"\")))))))","v":""},{"$f":"IF(C38=\"Bye\",0,IF(LEN(E37&F37&G37)=0,0,COUNTIF(E37:G37,\"Won\")*1+COUNTIF(E37:G37,\"DNF (Leading)\")*0.67+COUNTIF(E37:G37,\"DNF (Tied)\")*0.5+COUNTIF(E37:G37,\"DNF (Trailing)\")*0.33))","v":0},{"$f":"C38","v":0}]
[null,null,null,{"$f":"IF(ISERROR(VLOOKUP(C38,'Team List'!B:D,3,0)),\"\",VLOOKUP(C38,'Team List'!B:D,2,0))","v":""},{"$f":"IF(E37=\"\",\"\",IF(E37=\"Won\",\"Lost\",IF(E37=\"DNF (Leading)\",\"DNF (Trailing)\",IF(E37=\"DNF (Trailing)\",\"DNF (Leading)\",IF(E37=\"Lost\",\"Won\",E37)))))","v":""},{"$f":"IF(F37=\"\",\"\",IF(F37=\"Won\",\"Lost\",IF(F37=\"DNF (Leading)\",\"DNF (Trailing)\",IF(F37=\"DNF (Trailing)\",\"DNF (Leading)\",IF(F37=\"Lost\",\"Won\",F37)))))","v":""},{"$f":"IF(G37=\"\",\"\",IF(G37=\"Won\",\"Lost\",IF(G37=\"DNF (Leading)\",\"DNF (Trailing)\",IF(G37=\"DNF (Trailing)\",\"DNF (Leading)\",IF(G37=\"Lost\",\"Won\",G37)))))","v":""},{"$f":"IF(H37=\"Won\",\"Lost\",IF(H37=\"Lost\",\"Won\",H37))","v":""},{"$f":"IF(C37=\"Bye\",0,IF(LEN(E38&F38&G38)=0,0,COUNTIF(E38:G38,\"Won\")*1+COUNTIF(E38:G38,\"DNF (Leading)\")*0.67+COUNTIF(E38:G38,\"DNF (Tied)\")*0.5+COUNTIF(E38:G38,\"DNF (Trailing)\")*0.33))","v":0},{"$f":"C37","v":0}]
[19,null,null,{"$f":"IF(ISERROR(VLOOKUP(C39,'Team List'!B:D,3,0)),\"\",VLOOKUP(C39,'Team List'!B:D,2,0))","v":""},null,null,null,{"$f":"IF(COUNTIF(E39:G39,\"Won\")=2,\"Won\",IF(COUNTIF(E39:G39,\"Lost\")=2,\"Lost\",IF(AND((E39=\"Won\"),OR(F39=\"DNF (Leading)\",F39=\"DNF (Tied)\",F39=\"DNF (Trailing)\")),\"Won\",IF(AND(COUNTIF(E39:F39,\"Won\")=1,OR(G39=\"DNF (Leading)\",G39=\"DNF (Tied)\",G39=\"DNF (Trailing)\")),\"Tied\",IF(OR(E39=\"DNF (Leading)\",E39=\"DNF (Tied)\",E39=\"DNF (Trailing)\"),\"Tied\",IF(AND((E39=\"Lost\"),OR(F39=\"DNF (Leading)\",F39=\"DNF (Tied)\",F39=\"DNF (Trailing)\")),\"Lost\",IF(C40=\"Bye\",\"Bye\",\"\")))))))","v":""},{"$f":"IF(C40=\"Bye\",0,IF(LEN(E39&F39&G39)=0,0,COUNTIF(E39:G39,\"Won\")*1+COUNTIF(E39:G39,\"DNF (Leading)\")*0.67+COUNTIF(E39:G39,\"DNF (Tied)\")*0.5+COUNTIF(E39:G39,\"DNF (Trailing)\")*0.33))","v":0},{"$f":"C40","v":0}]
[null,null,null,{"$f":"IF(ISERROR(VLOOKUP(C40,'Team List'!B:D,3,0)),\"\",VLOOKUP(C40,'Team List'!B:D,2,0))","v":""},{"$f":"IF(E39=\"\",\"\",IF(E39=\"Won\",\"Lost\",IF(E39=\"DNF (Leading)\",\"DNF (Trailing)\",IF(E39=\"DNF (Trailing)\",\"DNF (Leading)\",IF(E39=\"Lost\",\"Won\",E39)))))","v":""},{"$f":"IF(F39=\"\",\"\",IF(F39=\"Won\",\"Lost\",IF(F39=\"DNF (Leading)\",\"DNF (Trailing)\",IF(F39=\"DNF (Trailing)\",\"DNF (Leading)\",IF(F39=\"Lost\",\"Won\",F39)))))","v":""},{"$f":"IF(G39=\"\",\"\",IF(G39=\"Won\",\"Lost\",IF(G39=\"DNF (Leading)\",\"DNF (Trailing)\",IF(G39=\"DNF (Trailing)\",\"DNF (Leading)\",IF(G39=\"Lost\",\"Won\",G39)))))","v":""},{"$f":"IF(H39=\"Won\",\"Lost\",IF(H39=\"Lost\",\"Won\",H39))","v":""},{"$f":"IF(C39=\"Bye\",0,IF(LEN(E40&F40&G40)=0,0,COUNTIF(E40:G40,\"Won\")*1+COUNTIF(E40:G40,\"DNF (Leading)\")*0.67+COUNTIF(E40:G40,\"DNF (Tied)\")*0.5+COUNTIF(E40:G40,\"DNF (Trailing)\")*0.33))","v":0},{"$f":"C39","v":0}]
[20,null,null,{"$f":"IF(ISERROR(VLOOKUP(C41,'Team List'!B:D,3,0)),\"\",VLOOKUP(C41,'Team List'!B:D,2,0))","v":""},null,null,null,{"$f":"IF(COUNTIF(E41:G41,\"Won\")=2,\"Won\",IF(COUNTIF(E41:G41,\"Lost\")=2,\"Lost\",IF(AND((E41=\"Won\"),OR(F41=\"DNF (Leading)\",F41=\"DNF (Tied)\",F41=\"DNF (Trailing)\")),\"Won\",IF(AND(COUNTIF(E41:F41,\"Won\")=1,OR(G41=\"DNF (Leading)\",G41=\"DNF (Tied)\",G41=\"DNF (Trailing)\")),\"Tied\",IF(OR(E41=\"DNF (Leading)\",E41=\"DNF (Tied)\",E41=\"DNF (Trailing)\"),\"Tied\",IF(AND((E41=\"Lost\"),OR(F41=\"DNF (Leading)\",F41=\"DNF (Tied)\",F41=\"DNF (Trailing)\")),\"Lost\",IF(C42=\"Bye\",\"Bye\",\"\")))))))","v":""},{"$f":"IF(C42=\"Bye\",0,IF(LEN(E41&F41&G41)=0,0,COUNTIF(E41:G41,\"Won\")*1+COUNTIF(E41:G41,\"DNF (Leading)\")*0.67+COUNTIF(E41:G41,\"DNF (Tied)\")*0.5+COUNTIF(E41:G41,\"DNF (Trailing)\")*0.33))","v":0},{"$f":"C42","v":0}]
[null,null,null,{"$f":"IF(ISERROR(VLOOKUP(C42,'Team List'!B:D,3,0)),\"\",VLOOKUP(C42,'Team List'!B:D,2,0))","v":""},{"$f":"IF(E41=\"\",\"\",IF(E41=\"Won\",\"Lost\",IF(E41=\"DNF (Leading)\",\"DNF (Trailing)\",IF(E41=\"DNF (Trailing)\",\"DNF (Leading)\",IF(E41=\"Lost\",\"Won\",E41)))))","v":""},{"$f":"IF(F41=\"\",\"\",IF(F41=\"Won\",\"Lost\",IF(F41=\"DNF (Leading)\",\"DNF (Trailing)\",IF(F41=\"DNF (Trailing)\",\"DNF (Leading)\",IF(F41=\"Lost\",\"Won\",F41)))))","v":""},{"$f":"IF(G41=\"\",\"\",IF(G41=\"Won\",\"Lost\",IF(G41=\"DNF (Leading)\",\"DNF (Trailing)\",IF(G41=\"DNF (Trailing)\",\"DNF (Leading)\",IF(G41=\"Lost\",\"Won\",G41)))))","v":""},{"$f":"IF(H41=\"Won\",\"Lost\",IF(H41=\"Lost\",\"Won\",H41))","v":""},{"$f":"IF(C41=\"Bye\",0,IF(LEN(E42&F42&G42)=0,0,COUNTIF(E42:G42,\"Won\")*1+COUNTIF(E42:G42,\"DNF (Leading)\")*0.67+COUNTIF(E42:G42,\"DNF (Tied)\")*0.5+COUNTIF(E42:G42,\"DNF (Trailing)\")*0.33))","v":0},{"$f":"C41","v":0}]
[21,null,null,{"$f":"IF(ISERROR(VLOOKUP(C43,'Team List'!B:D,3,0)),\"\",VLOOKUP(C43,'Team List'!B:D,2,0))","v":""},null,null,null,{"$f":"IF(COUNTIF(E43:G43,\"Won\")=2,\"Won\",IF(COUNTIF(E43:G43,\"Lost\")=2,\"Lost\",IF(AND((E43=\"Won\"),OR(F43=\"DNF (Leading)\",F43=\"DNF (Tied)\",F43=\"DNF (Trailing)\")),\"Won\",IF(AND(COUNTIF(E43:F43,\"Won\")=1,OR(G43=\"DNF (Leading)\",G43=\"DNF (Tied)\",G43=\"DNF (Trailing)\")),\"Tied\",IF(OR(E43=\"DNF (Leading)\",E43=\"DNF (Tied)\",E43=\"DNF (Trailing)\"),\"Tied\",IF(AND((E43=\"Lost\"),OR(F43=\"DNF (Leading)\",F43=\"DNF (Tied)\",F43=\"DNF (Trailing)\")),\"Lost\",IF(C44=\"Bye\",\"Bye\",\"\")))))))","v":""},{"$f":"IF(C44=\"Bye\",0,IF(LEN(E43&F43&G43)=0,0,COUNTIF(E43:G43,\"Won\")*1+COUNTIF(E43:G43,\"DNF (Leading)\")*0.67+COUNTIF(E43:G43,\"DNF (Tied)\")*0.5+COUNTIF(E43:G43,\"DNF (Trailing)\")*0.33))","v":0},{"$f":"C44","v":0}]
[null,null,null,{"$f":"IF(ISERROR(VLOOKUP(C44,'Team List'!B:D,3,0)),\"\",VLOOKUP(C44,'Team List'!B:D,2,0))","v":""},{"$f":"IF(E43=\"\",\"\",IF(E43=\"Won\",\"Lost\",IF(E43=\"DNF (Leading)\",\"DNF (Trailing)\",IF(E43=\"DNF (Trailing)\",\"DNF (Leading)\",IF(E43=\"Lost\",\"Won\",E43)))))","v":""},{"$f":"IF(F43=\"\",\"\",IF(F43=\"Won\",\"Lost\",IF(F43=\"DNF (Leading)\",\"DNF (Trailing)\",IF(F43=\"DNF (Trailing)\",\"DNF (Leading)\",IF(F43=\"Lost\",\"Won\",F43)))))","v":""},{"$f":"IF(G43=\"\",\"\",IF(G43=\"Won\",\"Lost\",IF(G43=\"DNF (Leading)\",\"DNF (Trailing)\",IF(G43=\"DNF (Trailing)\",\"DNF (Leading)\",IF(G43=\"Lost\",\"Won\",G43)))))","v":""},{"$f":"IF(H43=\"Won\",\"Lost\",IF(H43=\"Lost\",\"Won\",H43))","v":""},{"$f":"IF(C43=\"Bye\",0,IF(LEN(E44&F44&G44)=0,0,COUNTIF(E44:G44,\"Won\")*1+COUNTIF(E44:G44,\"DNF (Leading)\")*0.67+COUNTIF(E44:G44,\"DNF (Tied)\")*0.5+COUNTIF(E44:G44,\"DNF (Trailing)\")*0.33))","v":0},{"$f":"C43","v":0}]
[22,null,null,{"$f":"IF(ISERROR(VLOOKUP(C45,'Team List'!B:D,3,0)),\"\",VLOOKUP(C45,'Team List'!B:D,2,0))","v":""},null,null,null,{"$f":"IF(COUNTIF(E45:G45,\"Won\")=2,\"Won\",IF(COUNTIF(E45:G45,\"Lost\")=2,\"Lost\",IF(AND((E45=\"Won\"),OR(F45=\"DNF (Leading)\",F45=\"DNF (Tied)\",F45=\"DNF (Trailing)\")),\"Won\",IF(AND(COUNTIF(E45:F45,\"Won\")=1,OR(G45=\"DNF (Leading)\",G45=\"DNF (Tied)\",G45=\"DNF (Trailing)\")),\"Tied\",IF(OR(E45=\"DNF (Leading)\",E45=\"DNF (Tied)\",E45=\"DNF (Trailing)\"),\"Tied\",IF(AND((E45=\"Lost\"),OR(F45=\"DNF (Leading)\",F45=\"DNF (Tied)\",F45=\"DNF (Trailing)\")),\"Lost\",IF(C46=\"Bye\",\"Bye\",\"\")))))))","v":""},{"$f":"IF(C46=\"Bye\",0,IF(LEN(E45&F45&G45)=0,0,COUNTIF(E45:G45,\"Won\")*1+COUNTIF(E45:G45,\"DNF (Leading)\")*0.67+COUNTIF(E45:G45,\"DNF (Tied)\")*0.5+COUNTIF(E45:G45,\"DNF (Trailing)\")*0.33))","v":0},{"$f":"C46","v":0}]
[null,null,null,{"$f":"IF(ISERROR(VLOOKUP(C46,'Team List'!B:D,3,0)),\"\",VLOOKUP(C46,'Team List'!B:D,2,0))","v":""},{"$f":"IF(E45=\"\",\"\",IF(E45=\"Won\",\"Lost\",IF(E45=\"DNF (Leading)\",\"DNF (Trailing)\",IF(E45=\"DNF (Trailing)\",\"DNF (Leading)\",IF(E45=\"Lost\",\"Won\",E45)))))","v":""},{"$f":"IF(F45=\"\",\"\",IF(F45=\"Won\",\"Lost\",IF(F45=\"DNF (Leading)\",\"DNF (Trailing)\",IF(F45=\"DNF (Trailing)\",\"DNF (Leading)\",IF(F45=\"Lost\",\"Won\",F45)))))","v":""},{"$f":"IF(G45=\"\",\"\",IF(G45=\"Won\",\"Lost\",IF(G45=\"DNF (Leading)\",\"DNF (Trailing)\",IF(G45=\"DNF (Trailing)\",\"DNF (Leading)\",IF(G45=\"Lost\",\"Won\",G45)))))","v":""},{"$f":"IF(H45=\"Won\",\"Lost\",IF(H45=\"Lost\",\"Won\",H45))","v":""},{"$f":"IF(C45=\"Bye\",0,IF(LEN(E46&F46&G46)=0,0,COUNTIF(E46:G46,\"Won\")*1+COUNTIF(E46:G46,\"DNF (Leading)\")*0.67+COUNTIF(E46:G46,\"DNF (Tied)\")*0.5+COUNTIF(E46:G46,\"DNF (Trailing)\")*0.33))","v":0},{"$f":"C45","v":0}]
[23,null,null,{"$f":"IF(ISERROR(VLOOKUP(C47,'Team List'!B:D,3,0)),\"\",VLOOKUP(C47,'Team List'!B:D,2,0))","v":""},null,null,null,{"$f":"IF(COUNTIF(E47:G47,\"Won\")=2,\"Won\",IF(COUNTIF(E47:G47,\"Lost\")=2,\"Lost\",IF(AND((E47=\"Won\"),OR(F47=\"DNF (Leading)\",F47=\"DNF (Tied)\",F47=\"DNF (Trailing)\")),\"Won\",IF(AND(COUNTIF(E47:F47,\"Won\")=1,OR(G47=\"DNF (Leading)\",G47=\"DNF (Tied)\",G47=\"DNF (Trailing)\")),\"Tied\",IF(OR(E47=\"DNF (Leading)\",E47=\"DNF (Tied)\",E47=\"DNF (Trailing)\"),\"Tied\",IF(AND((E47=\"Lost\"),OR(F47=\"DNF (Leading)\",F47=\"DNF (Tied)\",F47=\"DNF (Trailing)\")),\"Lost\",IF(C48=\"Bye\",\"Bye\",\"\")))))))","v":""},{"$f":"IF(C48=\"Bye\",0,IF(LEN(E47&F47&G47)=0,0,COUNTIF(E47:G47,\"Won\")*1+COUNTIF(E47:G47,\"DNF (Leading)\")*0.67+COUNTIF(E47:G47,\"DNF (Tied)\")*0.5+COUNTIF(E47:G47,\"DNF (Trailing)\")*0.33))","v":0},{"$f":"C48","v":0}]
[null,null,null,{"$f":"IF(ISERROR(VLOOKUP(C48,'Team List'!B:D,3,0)),\"\",VLOOKUP(C48,'Team List'!B:D,2,0))","v":""},{"$f":"IF(E47=\"\",\"\",IF(E47=\"Won\",\"Lost\",IF(E47=\"DNF (Leading)\",\"DNF (Trailing)\",IF(E47=\"DNF (Trailing)\",\"DNF (Leading)\",IF(E47=\"Lost\",\"Won\",E47)))))","v":""},{"$f":"IF(F47=\"\",\"\",IF(F47=\"Won\",\"Lost\",IF(F47=\"DNF (Leading)\",\"DNF (Trailing)\",IF(F47=\"DNF (Trailing)\",\"DNF (Leading)\",IF(F47=\"Lost\",\"Won\",F47)))))","v":""},{"$f":"IF(G47=\"\",\"\",IF(G47=\"Won\",\"Lost\",IF(G47=\"DNF (Leading)\",\"DNF (Trailing)\",IF(G47=\"DNF (Trailing)\",\"DNF (Leading)\",IF(G47=\"Lost\",\"Won\",G47)))))","v":""},{"$f":"IF(H47=\"Won\",\"Lost\",IF(H47=\"Lost\",\"Won\",H47))","v":""},{"$f":"IF(C47=\"Bye\",0,IF(LEN(E48&F48&G48)=0,0,COUNTIF(E48:G48,\"Won\")*1+COUNTIF(E48:G48,\"DNF (Leading)\")*0.67+COUNTIF(E48:G48,\"DNF (Tied)\")*0.5+COUNTIF(E48:G48,\"DNF (Trailing)\")*0.33))","v":0},{"$f":"C47","v":0}]
[24,null,null,{"$f":"IF(ISERROR(VLOOKUP(C49,'Team List'!B:D,3,0)),\"\",VLOOKUP(C49,'Team List'!B:D,2,0))","v":""},null,null,null,{"$f":"IF(COUNTIF(E49:G49,\"Won\")=2,\"Won\",IF(COUNTIF(E49:G49,\"Lost\")=2,\"Lost\",IF(AND((E49=\"Won\"),OR(F49=\"DNF (Leading)\",F49=\"DNF (Tied)\",F49=\"DNF (Trailing)\")),\"Won\",IF(AND(COUNTIF(E49:F49,\"Won\")=1,OR(G49=\"DNF (Leading)\",G49=\"DNF (Tied)\",G49=\"DNF (Trailing)\")),\"Tied\",IF(OR(E49=\"DNF (Leading)\",E49=\"DNF (Tied)\",E49=\"DNF (Trailing)\"),\"Tied\",IF(AND((E49=\"Lost\"),OR(F49=\"DNF (Leading)\",F49=\"DNF (Tied)\",F49=\"DNF (Trailing)\")),\"Lost\",IF(C50=\"Bye\",\"Bye\",\"\")))))))","v":""},{"$f":"IF(C50=\"Bye\",0,IF(LEN(E49&F49&G49)=0,0,COUNTIF(E49:G49,\"Won\")*1+COUNTIF(E49:G49,\"DNF (Leading)\")*0.67+COUNTIF(E49:G49,\"DNF (Tied)\")*0.5+COUNTIF(E49:G49,\"DNF (Trailing)\")*0.33))","v":0},{"$f":"C50","v":0}]
[null,null,null,{"$f":"IF(ISERROR(VLOOKUP(C50,'Team List'!B:D,3,0)),\"\",VLOOKUP(C50,'Team List'!B:D,2,0))","v":""},{"$f":"IF(E49=\"\",\"\",IF(E49=\"Won\",\"Lost\",IF(E49=\"DNF (Leading)\",\"DNF (Trailing)\",IF(E49=\"DNF (Trailing)\",\"DNF (Leading)\",IF(E49=\"Lost\",\"Won\",E49)))))","v":""},{"$f":"IF(F49=\"\",\"\",IF(F49=\"Won\",\"Lost\",IF(F49=\"DNF (Leading)\",\"DNF (Trailing)\",IF(F49=\"DNF (Trailing)\",\"DNF (Leading)\",IF(F49=\"Lost\",\"Won\",F49)))))","v":""},{"$f":"IF(G49=\"\",\"\",IF(G49=\"Won\",\"Lost\",IF(G49=\"DNF (Leading)\",\"DNF (Trailing)\",IF(G49=\"DNF (Trailing)\",\"DNF (Leading)\",IF(G49=\"Lost\",\"Won\",G49)))))","v":""},{"$f":"IF(H49=\"Won\",\"Lost\",IF(H49=\"Lost\",\"Won\",H49))","v":""},{"$f":"IF(C49=\"Bye\",0,IF(LEN(E50&F50&G50)=0,0,COUNTIF(E50:G50,\"Won\")*1+COUNTIF(E50:G50,\"DNF (Leading)\")*0.67+COUNTIF(E50:G50,\"DNF (Tied)\")*0.5+COUNTIF(E50:G50,\"DNF (Trailing)\")*0.33))","v":0},{"$f":"C49","v":0}]
[25,null,null,{"$f":"IF(ISERROR(VLOOKUP(C51,'Team List'!B:D,3,0)),\"\",VLOOKUP(C51,'Team List'!B:D,2,0))","v":""},null,null,null,{"$f":"IF(COUNTIF(E51:G51,\"Won\")=2,\"Won\",IF(COUNTIF(E51:G51,\"Lost\")=2,\"Lost\",IF(AND((E51=\"Won\"),OR(F51=\"DNF (Leading)\",F51=\"DNF (Tied)\",F51=\"DNF (Trailing)\")),\"Won\",IF(AND(COUNTIF(E51:F51,\"Won\")=1,OR(G51=\"DNF (Leading)\",G51=\"DNF (Tied)\",G51=\"DNF (Trailing)\")),\"Tied\",IF(OR(E51=\"DNF (Leading)\",E51=\"DNF (Tied)\",E51=\"DNF (Trailing)\"),\"Tied\",IF(AND((E51=\"Lost\"),OR(F51=\"DNF (Leading)\",F51=\"DNF (Tied)\",F51=\"DNF (Trailing)\")),\"Lost\",IF(C52=\"Bye\",\"Bye\",\"\")))))))","v":""},{"$f":"IF(C52=\"Bye\",0,IF(LEN(E51&F51&G51)=0,0,COUNTIF(E51:G51,\"Won\")*1+COUNTIF(E51:G51,\"DNF (Leading)\")*0.67+COUNTIF(E51:G51,\"DNF (Tied)\")*0.5+COUNTIF(E51:G51,\"DNF (Trailing)\")*0.33))","v":0},{"$f":"C52","v":0}]
[null,null,null,{"$f":"IF(ISERROR(VLOOKUP(C52,'Team List'!B:D,3,0)),\"\",VLOOKUP(C52,'Team List'!B:D,2,0))","v":""},{"$f":"IF(E51=\"\",\"\",IF(E51=\"Won\",\"Lost\",IF(E51=\"DNF (Leading)\",\"DNF (Trailing)\",IF(E51=\"DNF (Trailing)\",\"DNF (Leading)\",IF(E51=\"Lost\",\"Won\",E51)))))","v":""},{"$f":"IF(F51=\"\",\"\",IF(F51=\"Won\",\"Lost\",IF(F51=\"DNF (Leading)\",\"DNF (Trailing)\",IF(F51=\"DNF (Trailing)\",\"DNF (Leading)\",IF(F51=\"Lost\",\"Won\",F51)))))","v":""},{"$f":"IF(G51=\"\",\"\",IF(G51=\"Won\",\"Lost\",IF(G51=\"DNF (Leading)\",\"DNF (Trailing)\",IF(G51=\"DNF (Trailing)\",\"DNF (Leading)\",IF(G51=\"Lost\",\"Won\",G51)))))","v":""},{"$f":"IF(H51=\"Won\",\"Lost\",IF(H51=\"Lost\",\"Won\",H51))","v":""},{"$f":"IF(C51=\"Bye\",0,IF(LEN(E52&F52&G52)=0,0,COUNTIF(E52:G52,\"Won\")*1+COUNTIF(E52:G52,\"DNF (Leading)\")*0.67+COUNTIF(E52:G52,\"DNF (Tied)\")*0.5+COUNTIF(E52:G52,\"DNF (Trailing)\")*0.33))","v":0},{"$f":"C51","v":0}]
[26,null,null,{"$f":"IF(ISERROR(VLOOKUP(C53,'Team List'!B:D,3,0)),\"\",VLOOKUP(C53,'Team List'!B:D,2,0))","v":""},null,null,null,{"$f":"IF(COUNTIF(E53:G53,\"Won\")=2,\"Won\",IF(COUNTIF(E53:G53,\"Lost\")=2,\"Lost\",IF(AND((E53=\"Won\"),OR(F53=\"DNF (Leading)\",F53=\"DNF (Tied)\",F53=\"DNF (Trailing)\")),\"Won\",IF(AND(COUNTIF(E53:F53,\"Won\")=1,OR(G53=\"DNF (Leading)\",G53=\"DNF (Tied)\",G53=\"DNF (Trailing)\")),\"Tied\",IF(OR(E53=\"DNF (Leading)\",E53=\"DNF (Tied)\",E53=\"DNF (Trailing)\"),\"Tied\",IF(AND((E53=\"Lost\"),OR(F53=\"DNF (Leading)\",F53=\"DNF (Tied)\",F53=\"DNF (Trailing)\")),\"Lost\",IF(C54=\"Bye\",\"Bye\",\"\")))))))","v":""},{"$f":"IF(C54=\"Bye\",0,IF(LEN(E53&F53&G53)=0,0,COUNTIF(E53:G53,\"Won\")*1+COUNTIF(E53:G53,\"DNF (Leading)\")*0.67+COUNTIF(E53:G53,\"DNF (Tied)\")*0.5+COUNTIF(E53:G53,\"DNF (Trailing)\")*0.33))","v":0},{"$f":"C54","v":0}]
[null,null,null,{"$f":"IF(ISERROR(VLOOKUP(C54,'Team List'!B:D,3,0)),\"\",VLOOKUP(C54,'Team List'!B:D,2,0))","v":""},{"$f":"IF(E53=\"\",\"\",IF(E53=\"Won\",\"Lost\",IF(E53=\"DNF (Leading)\",\"DNF (Trailing)\",IF(E53=\"DNF (Trailing)\",\"DNF (Leading)\",IF(E53=\"Lost\",\"Won\",E53)))))","v":""},{"$f":"IF(F53=\"\",\"\",IF(F53=\"Won\",\"Lost\",IF(F53=\"DNF (Leading)\",\"DNF (Trailing)\",IF(F53=\"DNF (Trailing)\",\"DNF (Leading)\",IF(F53=\"Lost\",\"Won\",F53)))))","v":""},{"$f":"IF(G53=\"\",\"\",IF(G53=\"Won\",\"Lost\",IF(G53=\"DNF (Leading)\",\"DNF (Trailing)\",IF(G53=\"DNF (Trailing)\",\"DNF (Leading)\",IF(G53=\"Lost\",\"Won\",G53)))))","v":""},{"$f":"IF(H53=\"Won\",\"Lost\",IF(H53=\"Lost\",\"Won\",H53))","v":""},{"$f":"IF(C53=\"Bye\",0,IF(LEN(E54&F54&G54)=0,0,COUNTIF(E54:G54,\"Won\")*1+COUNTIF(E54:G54,\"DNF (Leading)\")*0.67+COUNTIF(E54:G54,\"DNF (Tied)\")*0.5+COUNTIF(E54:G54,\"DNF (Trailing)\")*0.33))","v":0},{"$f":"C53","v":0}]
[27,null,null,{"$f":"IF(ISERROR(VLOOKUP(C55,'Team List'!B:D,3,0)),\"\",VLOOKUP(C55,'Team List'!B:D,2,0))","v":""},null,null,null,{"$f":"IF(COUNTIF(E55:G55,\"Won\")=2,\"Won\",IF(COUNTIF(E55:G55,\"Lost\")=2,\"Lost\",IF(AND((E55=\"Won\"),OR(F55=\"DNF (Leading)\",F55=\"DNF (Tied)\",F55=\"DNF (Trailing)\")),\"Won\",IF(AND(COUNTIF(E55:F55,\"Won\")=1,OR(G55=\"DNF (Leading)\",G55=\"DNF (Tied)\",G55=\"DNF (Trailing)\")),\"Tied\",IF(OR(E55=\"DNF (Leading)\",E55=\"DNF (Tied)\",E55=\"DNF (Trailing)\"),\"Tied\",IF(AND((E55=\"Lost\"),OR(F55=\"DNF (Leading)\",F55=\"DNF (Tied)\",F55=\"DNF (Trailing)\")),\"Lost\",IF(C56=\"Bye\",\"Bye\",\"\")))))))","v":""},{"$f":"IF(C56=\"Bye\",0,IF(LEN(E55&F55&G55)=0,0,COUNTIF(E55:G55,\"Won\")*1+COUNTIF(E55:G55,\"DNF (Leading)\")*0.67+COUNTIF(E55:G55,\"DNF (Tied)\")*0.5+COUNTIF(E55:G55,\"DNF (Trailing)\")*0.33))","v":0},{"$f":"C56","v":0}]
[null,null,null,{"$f":"IF(ISERROR(VLOOKUP(C56,'Team List'!B:D,3,0)),\"\",VLOOKUP(C56,'Team List'!B:D,2,0))","v":""},{"$f":"IF(E55=\"\",\"\",IF(E55=\"Won\",\"Lost\",IF(E55=\"DNF (Leading)\",\"DNF (Trailing)\",IF(E55=\"DNF (Trailing)\",\"DNF (Leading)\",IF(E55=\"Lost\",\"Won\",E55)))))","v":""},{"$f":"IF(F55=\"\",\"\",IF(F55=\"Won\",\"Lost\",IF(F55=\"DNF (Leading)\",\"DNF (Trailing)\",IF(F55=\"DNF (Trailing)\",\"DNF (Leading)\",IF(F55=\"Lost\",\"Won\",F55)))))","v":""},{"$f":"IF(G55=\"\",\"\",IF(G55=\"Won\",\"Lost\",IF(G55=\"DNF (Leading)\",\"DNF (Trailing)\",IF(G55=\"DNF (Trailing)\",\"DNF (Leading)\",IF(G55=\"Lost\",\"Won\",G55)))))","v":""},{"$f":"IF(H55=\"Won\",\"Lost\",IF(H55=\"Lost\",\"Won\",H55))","v":""},{"$f":"IF(C55=\"Bye\",0,IF(LEN(E56&F56&G56)=0,0,COUNTIF(E56:G56,\"Won\")*1+COUNTIF(E56:G56,\"DNF (Leading)\")*0.67+COUNTIF(E56:G56,\"DNF (Tied)\")*0.5+COUNTIF(E56:G56,\"DNF (Trailing)\")*0.33))","v":0},{"$f":"C55","v":0}]
[28,null,null,{"$f":"IF(ISERROR(VLOOKUP(C57,'Team List'!B:D,3,0)),\"\",VLOOKUP(C57,'Team List'!B:D,2,0))","v":""},null,null,null,{"$f":"IF(COUNTIF(E57:G57,\"Won\")=2,\"Won\",IF(COUNTIF(E57:G57,\"Lost\")=2,\"Lost\",IF(AND((E57=\"Won\"),OR(F57=\"DNF (Leading)\",F57=\"DNF (Tied)\",F57=\"DNF (Trailing)\")),\"Won\",IF(AND(COUNTIF(E57:F57,\"Won\")=1,OR(G57=\"DNF (Leading)\",G57=\"DNF (Tied)\",G57=\"DNF (Trailing)\")),\"Tied\",IF(OR(E57=\"DNF (Leading)\",E57=\"DNF (Tied)\",E57=\"DNF (Trailing)\"),\"Tied\",IF(AND((E57=\"Lost\"),OR(F57=\"DNF (Leading)\",F57=\"DNF (Tied)\",F57=\"DNF (Trailing)\")),\"Lost\",IF(C58=\"Bye\",\"Bye\",\"\")))))))","v":""},{"$f":"IF(C58=\"Bye\",0,IF(LEN(E57&F57&G57)=0,0,COUNTIF(E57:G57,\"Won\")*1+COUNTIF(E57:G57,\"DNF (Leading)\")*0.67+COUNTIF(E57:G57,\"DNF (Tied)\")*0.5+COUNTIF(E57:G57,\"DNF (Trailing)\")*0.33))","v":0},{"$f":"C58","v":0}]
[null,null,null,{"$f":"IF(ISERROR(VLOOKUP(C58,'Team List'!B:D,3,0)),\"\",VLOOKUP(C58,'Team List'!B:D,2,0))","v":""},{"$f":"IF(E57=\"\",\"\",IF(E57=\"Won\",\"Lost\",IF(E57=\"DNF (Leading)\",\"DNF (Trailing)\",IF(E57=\"DNF (Trailing)\",\"DNF (Leading)\",IF(E57=\"Lost\",\"Won\",E57)))))","v":""},{"$f":"IF(F57=\"\",\"\",IF(F57=\"Won\",\"Lost\",IF(F57=\"DNF (Leading)\",\"DNF (Trailing)\",IF(F57=\"DNF (Trailing)\",\"DNF (Leading)\",IF(F57=\"Lost\",\"Won\",F57)))))","v":""},{"$f":"IF(G57=\"\",\"\",IF(G57=\"Won\",\"Lost\",IF(G57=\"DNF (Leading)\",\"DNF (Trailing)\",IF(G57=\"DNF (Trailing)\",\"DNF (Leading)\",IF(G57=\"Lost\",\"Won\",G57)))))","v":""},{"$f":"IF(H57=\"Won\",\"Lost\",IF(H57=\"Lost\",\"Won\",H57))","v":""},{"$f":"IF(C57=\"Bye\",0,IF(LEN(E58&F58&G58)=0,0,COUNTIF(E58:G58,\"Won\")*1+COUNTIF(E58:G58,\"DNF (Leading)\")*0.67+COUNTIF(E58:G58,\"DNF (Tied)\")*0.5+COUNTIF(E58:G58,\"DNF (Trailing)\")*0.33))","v":0},{"$f":"C57","v":0}]
[29,null,null,{"$f":"IF(ISERROR(VLOOKUP(C59,'Team List'!B:D,3,0)),\"\",VLOOKUP(C59,'Team List'!B:D,2,0))","v":""},null,null,null,{"$f":"IF(COUNTIF(E59:G59,\"Won\")=2,\"Won\",IF(COUNTIF(E59:G59,\"Lost\")=2,\"Lost\",IF(AND((E59=\"Won\"),OR(F59=\"DNF (Leading)\",F59=\"DNF (Tied)\",F59=\"DNF (Trailing)\")),\"Won\",IF(AND(COUNTIF(E59:F59,\"Won\")=1,OR(G59=\"DNF (Leading)\",G59=\"DNF (Tied)\",G59=\"DNF (Trailing)\")),\"Tied\",IF(OR(E59=\"DNF (Leading)\",E59=\"DNF (Tied)\",E59=\"DNF (Trailing)\"),\"Tied\",IF(AND((E59=\"Lost\"),OR(F59=\"DNF (Leading)\",F59=\"DNF (Tied)\",F59=\"DNF (Trailing)\")),\"Lost\",IF(C60=\"Bye\",\"Bye\",\"\")))))))","v":""},{"$f":"IF(C60=\"Bye\",0,IF(LEN(E59&F59&G59)=0,0,COUNTIF(E59:G59,\"Won\")*1+COUNTIF(E59:G59,\"DNF (Leading)\")*0.67+COUNTIF(E59:G59,\"DNF (Tied)\")*0.5+COUNTIF(E59:G59,\"DNF (Trailing)\")*0.33))","v":0},{"$f":"C60","v":0}]
[null,null,null,{"$f":"IF(ISERROR(VLOOKUP(C60,'Team List'!B:D,3,0)),\"\",VLOOKUP(C60,'Team List'!B:D,2,0))","v":""},{"$f":"IF(E59=\"\",\"\",IF(E59=\"Won\",\"Lost\",IF(E59=\"DNF (Leading)\",\"DNF (Trailing)\",IF(E59=\"DNF (Trailing)\",\"DNF (Leading)\",IF(E59=\"Lost\",\"Won\",E59)))))","v":""},{"$f":"IF(F59=\"\",\"\",IF(F59=\"Won\",\"Lost\",IF(F59=\"DNF (Leading)\",\"DNF (Trailing)\",IF(F59=\"DNF (Trailing)\",\"DNF (Leading)\",IF(F59=\"Lost\",\"Won\",F59)))))","v":""},{"$f":"IF(G59=\"\",\"\",IF(G59=\"Won\",\"Lost\",IF(G59=\"DNF (Leading)\",\"DNF (Trailing)\",IF(G59=\"DNF (Trailing)\",\"DNF (Leading)\",IF(G59=\"Lost\",\"Won\",G59)))))","v":""},{"$f":"IF(H59=\"Won\",\"Lost\",IF(H59=\"Lost\",\"Won\",H59))","v":""},{"$f":"IF(C59=\"Bye\",0,IF(LEN(E60&F60&G60)=0,0,COUNTIF(E60:G60,\"Won\")*1+COUNTIF(E60:G60,\"DNF (Leading)\")*0.67+COUNTIF(E60:G60,\"DNF (Tied)\")*0.5+COUNTIF(E60:G60,\"DNF (Trailing)\")*0.33))","v":0},{"$f":"C59","v":0}]
[30,null,null,{"$f":"IF(ISERROR(VLOOKUP(C61,'Team List'!B:D,3,0)),\"\",VLOOKUP(C61,'Team List'!B:D,2,0))","v":""},null,null,null,{"$f":"IF(COUNTIF(E61:G61,\"Won\")=2,\"Won\",IF(COUNTIF(E61:G61,\"Lost\")=2,\"Lost\",IF(AND((E61=\"Won\"),OR(F61=\"DNF (Leading)\",F61=\"DNF (Tied)\",F61=\"DNF (Trailing)\")),\"Won\",IF(AND(COUNTIF(E61:F61,\"Won\")=1,OR(G61=\"DNF (Leading)\",G61=\"DNF (Tied)\",G61=\"DNF (Trailing)\")),\"Tied\",IF(OR(E61=\"DNF (Leading)\",E61=\"DNF (Tied)\",E61=\"DNF (Trailing)\"),\"Tied\",IF(AND((E61=\"Lost\"),OR(F61=\"DNF (Leading)\",F61=\"DNF (Tied)\",F61=\"DNF (Trailing)\")),\"Lost\",IF(C62=\"Bye\",\"Bye\",\"\")))))))","v":""},{"$f":"IF(C62=\"Bye\",0,IF(LEN(E61&F61&G61)=0,0,COUNTIF(E61:G61,\"Won\")*1+COUNTIF(E61:G61,\"DNF (Leading)\")*0.67+COUNTIF(E61:G61,\"DNF (Tied)\")*0.5+COUNTIF(E61:G61,\"DNF (Trailing)\")*0.33))","v":0},{"$f":"C62","v":0}]
[null,null,null,{"$f":"IF(ISERROR(VLOOKUP(C62,'Team List'!B:D,3,0)),\"\",VLOOKUP(C62,'Team List'!B:D,2,0))","v":""},{"$f":"IF(E61=\"\",\"\",IF(E61=\"Won\",\"Lost\",IF(E61=\"DNF (Leading)\",\"DNF (Trailing)\",IF(E61=\"DNF (Trailing)\",\"DNF (Leading)\",IF(E61=\"Lost\",\"Won\",E61)))))","v":""},{"$f":"IF(F61=\"\",\"\",IF(F61=\"Won\",\"Lost\",IF(F61=\"DNF (Leading)\",\"DNF (Trailing)\",IF(F61=\"DNF (Trailing)\",\"DNF (Leading)\",IF(F61=\"Lost\",\"Won\",F61)))))","v":""},{"$f":"IF(G61=\"\",\"\",IF(G61=\"Won\",\"Lost\",IF(G61=\"DNF (Leading)\",\"DNF (Trailing)\",IF(G61=\"DNF (Trailing)\",\"DNF (Leading)\",IF(G61=\"Lost\",\"Won\",G61)))))","v":""},{"$f":"IF(H61=\"Won\",\"Lost\",IF(H61=\"Lost\",\"Won\",H61))","v":""},{"$f":"IF(C61=\"Bye\",0,IF(LEN(E62&F62&G62)=0,0,COUNTIF(E62:G62,\"Won\")*1+COUNTIF(E62:G62,\"DNF (Leading)\")*0.67+COUNTIF(E62:G62,\"DNF (Tied)\")*0.5+COUNTIF(E62:G62,\"DNF (Trailing)\")*0.33))","v":0},{"$f":"C61","v":0}]
[31,null,null,{"$f":"IF(ISERROR(VLOOKUP(C63,'Team List'!B:D,3,0)),\"\",VLOOKUP(C63,'Team List'!B:D,2,0))","v":""},null,null,null,{"$f":"IF(COUNTIF(E63:G63,\"Won\")=2,\"Won\",IF(COUNTIF(E63:G63,\"Lost\")=2,\"Lost\",IF(AND((E63=\"Won\"),OR(F63=\"DNF (Leading)\",F63=\"DNF (Tied)\",F63=\"DNF (Trailing)\")),\"Won\",IF(AND(COUNTIF(E63:F63,\"Won\")=1,OR(G63=\"DNF (Leading)\",G63=\"DNF (Tied)\",G63=\"DNF (Trailing)\")),\"Tied\",IF(OR(E63=\"DNF (Leading)\",E63=\"DNF (Tied)\",E63=\"DNF (Trailing)\"),\"Tied\",IF(AND((E63=\"Lost\"),OR(F63=\"DNF (Leading)\",F63=\"DNF (Tied)\",F63=\"DNF (Trailing)\")),\"Lost\",IF(C64=\"Bye\",\"Bye\",\"\")))))))","v":""},{"$f":"IF(C64=\"Bye\",0,IF(LEN(E63&F63&G63)=0,0,COUNTIF(E63:G63,\"Won\")*1+COUNTIF(E63:G63,\"DNF (Leading)\")*0.67+COUNTIF(E63:G63,\"DNF (Tied)\")*0.5+COUNTIF(E63:G63,\"DNF (Trailing)\")*0.33))","v":0},{"$f":"C64","v":0}]
[null,null,null,{"$f":"IF(ISERROR(VLOOKUP(C64,'Team List'!B:D,3,0)),\"\",VLOOKUP(C64,'Team List'!B:D,2,0))","v":""},{"$f":"IF(E63=\"\",\"\",IF(E63=\"Won\",\"Lost\",IF(E63=\"DNF (Leading)\",\"DNF (Trailing)\",IF(E63=\"DNF (Trailing)\",\"DNF (Leading)\",IF(E63=\"Lost\",\"Won\",E63)))))","v":""},{"$f":"IF(F63=\"\",\"\",IF(F63=\"Won\",\"Lost\",IF(F63=\"DNF (Leading)\",\"DNF (Trailing)\",IF(F63=\"DNF (Trailing)\",\"DNF (Leading)\",IF(F63=\"Lost\",\"Won\",F63)))))","v":""},{"$f":"IF(G63=\"\",\"\",IF(G63=\"Won\",\"Lost\",IF(G63=\"DNF (Leading)\",\"DNF (Trailing)\",IF(G63=\"DNF (Trailing)\",\"DNF (Leading)\",IF(G63=\"Lost\",\"Won\",G63)))))","v":""},{"$f":"IF(H63=\"Won\",\"Lost\",IF(H63=\"Lost\",\"Won\",H63))","v":""},{"$f":"IF(C63=\"Bye\",0,IF(LEN(E64&F64&G64)=0,0,COUNTIF(E64:G64,\"Won\")*1+COUNTIF(E64:G64,\"DNF (Leading)\")*0.67+COUNTIF(E64:G64,\"DNF (Tied)\")*0.5+COUNTIF(E64:G64,\"DNF (Trailing)\")*0.33))","v":0},{"$f":"C63","v":0}]
[32,null,null,{"$f":"IF(ISERROR(VLOOKUP(C65,'Team List'!B:D,3,0)),\"\",VLOOKUP(C65,'Team List'!B:D,2,0))","v":""},null,null,null,{"$f":"IF(COUNTIF(E65:G65,\"Won\")=2,\"Won\",IF(COUNTIF(E65:G65,\"Lost\")=2,\"Lost\",IF(AND((E65=\"Won\"),OR(F65=\"DNF (Leading)\",F65=\"DNF (Tied)\",F65=\"DNF (Trailing)\")),\"Won\",IF(AND(COUNTIF(E65:F65,\"Won\")=1,OR(G65=\"DNF (Leading)\",G65=\"DNF (Tied)\",G65=\"DNF (Trailing)\")),\"Tied\",IF(OR(E65=\"DNF (Leading)\",E65=\"DNF (Tied)\",E65=\"DNF (Trailing)\"),\"Tied\",IF(AND((E65=\"Lost\"),OR(F65=\"DNF (Leading)\",F65=\"DNF (Tied)\",F65=\"DNF (Trailing)\")),\"Lost\",IF(C66=\"Bye\",\"Bye\",\"\")))))))","v":""},{"$f":"IF(C66=\"Bye\",0,IF(LEN(E65&F65&G65)=0,0,COUNTIF(E65:G65,\"Won\")*1+COUNTIF(E65:G65,\"DNF (Leading)\")*0.67+COUNTIF(E65:G65,\"DNF (Tied)\")*0.5+COUNTIF(E65:G65,\"DNF (Trailing)\")*0.33))","v":0},{"$f":"C66","v":0}]
[null,null,null,{"$f":"IF(ISERROR(VLOOKUP(C66,'Team List'!B:D,3,0)),\"\",VLOOKUP(C66,'Team List'!B:D,2,0))","v":""},{"$f":"IF(E65=\"\",\"\",IF(E65=\"Won\",\"Lost\",IF(E65=\"DNF (Leading)\",\"DNF (Trailing)\",IF(E65=\"DNF (Trailing)\",\"DNF (Leading)\",IF(E65=\"Lost\",\"Won\",E65)))))","v":""},{"$f":"IF(F65=\"\",\"\",IF(F65=\"Won\",\"Lost\",IF(F65=\"DNF (Leading)\",\"DNF (Trailing)\",IF(F65=\"DNF (Trailing)\",\"DNF (Leading)\",IF(F65=\"Lost\",\"Won\",F65)))))","v":""},{"$f":"IF(G65=\"\",\"\",IF(G65=\"Won\",\"Lost\",IF(G65=\"DNF (Leading)\",\"DNF (Trailing)\",IF(G65=\"DNF (Trailing)\",\"DNF (Leading)\",IF(G65=\"Lost\",\"Won\",G65)))))","v":""},{"$f":"IF(H65=\"Won\",\"Lost\",IF(H65=\"Lost\",\"Won\",H65))","v":""},{"$f":"IF(C65=\"Bye\",0,IF(LEN(E66&F66&G66)=0,0,COUNTIF(E66:G66,\"Won\")*1+COUNTIF(E66:G66,\"DNF (Leading)\")*0.67+COUNTIF(E66:G66,\"DNF (Tied)\")*0.5+COUNTIF(E66:G66,\"DNF (Trailing)\")*0.33))","v":0},{"$f":"C65","v":0}]

{"sheet":"Round Five","index":9,"n_rows":66,"n_cols":10,"rows_kept":66,"cut":false,"hidden":false,"merged":[[48,0,49,0],[62,0,63,0],[64,0,65,0],[50,0,51,0],[52,0,53,0],[54,0,55,0],[56,0,57,0],[58,0,59,0],[60,0,61,0],[40,0,41,0],[42,0,43,0],[44,0,45,0],[46,0,47,0],[32,0,33,0],[34,0,35,0],[36,0,37,0],[38,0,39,0],[24,0,25,0],[26,0,27,0],[28,0,29,0],[30,0,31,0],[16,0,17,0],[18,0,19,0],[20,0,21,0],[22,0,23,0],[0,0,0,5],[8,0,9,0],[10,0,11,0],[12,0,13,0],[14,0,15,0],[2,0,3,0],[4,0,5,0],[6,0,7,0]]}
["Round Five"]
["Pitch #","Rank","Team Number","Team Name","Game One","Game Two","Game Three","Match","Score"]
[1,null,null,{"$f":"IF(ISERROR(VLOOKUP(C3,'Team List'!B:D,3,0)),\"\",VLOOKUP(C3,'Team List'!B:D,2,0))","v":""},null,null,null,{"$f":"IF(COUNTIF(E3:G3,\"Won\")=2,\"Won\",IF(COUNTIF(E3:G3,\"Lost\")=2,\"Lost\",IF(AND((E3=\"Won\"),OR(F3=\"DNF (Leading)\",F3=\"DNF (Tied)\",F3=\"DNF (Trailing)\")),\"Won\",IF(AND(COUNTIF(E3:F3,\"Won\")=1,OR(G3=\"DNF (Leading)\",G3=\"DNF (Tied)\",G3=\"DNF (Trailing)\")),\"Tied\",IF(OR(E3=\"DNF (Leading)\",E3=\"DNF (Tied)\",E3=\"DNF (Trailing)\"),\"Tied\",IF(AND((E3=\"Lost\"),OR(F3=\"DNF (Leading)\",F3=\"DNF (Tied)\",F3=\"DNF (Trailing)\")),\"Lost\",IF(C4=\"Bye\",\"Bye\",\"\")))))))","v":""},{"$f":"IF(C4=\"Bye\",1,IF(LEN(E3&F3&G3)=0,0,COUNTIF(E3:G3,\"Won\")*1+COUNTIF(E3:G3,\"DNF (Leading)\")*0.67+COUNTIF(E3:G3,\"DNF (Tied)\")*0.5+COUNTIF(E3:G3,\"DNF (Trailing)\")*0.33))","v":0},{"$f":"C4","v":0}]
[null,null,null,{"$f":"IF(ISERROR(VLOOKUP(C4,'Team List'!B:D,3,0)),\"\",VLOOKUP(C4,'Team List'!B:D,2,0))","v":""},{"$f":"IF(E3=\"\",\"\",IF(E3=\"Won\",\"Lost\",IF(E3=\"DNF (Leading)\",\"DNF (Trailing)\",IF(E3=\"DNF (Trailing)\",\"DNF (Leading)\",IF(E3=\"Lost\",\"Won\",E3)))))","v":""},{"$f":"IF(F3=\"\",\"\",IF(F3=\"Won\",\"Lost\",IF(F3=\"DNF (Leading)\",\"DNF (Trailing)\",IF(F3=\"DNF (Trailing)\",\"DNF (Leading)\",IF(F3=\"Lost\",\"Won\",F3)))))","v":""},{"$f":"IF(G3=\"\",\"\",IF(G3=\"Won\",\"Lost\",IF(G3=\"DNF (Leading)\",\"DNF (Trailing)\",IF(G3=\"DNF (Trailing)\",\"DNF (Leading)\",IF(G3=\"Lost\",\"Won\",G3)))))","v":""},{"$f":"IF(H3=\"Won\",\"Lost\",IF(H3=\"Lost\",\"Won\",H3))","v":""},{"$f":"IF(C3=\"Bye\",1,IF(LEN(E4&F4&G4)=0,0,COUNTIF(E4:G4,\"Won\")*1+COUNTIF(E4:G4,\"DNF (Leading)\")*0.67+COUNTIF(E4:G4,\"DNF (Tied)\")*0.5+COUNTIF(E4:G4,\"DNF (Trailing)\")*0.33))","v":0},{"$f":"C3","v":0}]
[2,null,null,{"$f":"IF(ISERROR(VLOOKUP(C5,'Team List'!B:D,3,0)),\"\",VLOOKUP(C5,'Team List'!B:D,2,0))","v":""},null,null,null,{"$f":"IF(COUNTIF(E5:G5,\"Won\")=2,\"Won\",IF(COUNTIF(E5:G5,\"Lost\")=2,\"Lost\",IF(AND((E5=\"Won\"),OR(F5=\"DNF (Leading)\",F5=\"DNF (Tied)\",F5=\"DNF (Trailing)\")),\"Won\",IF(AND(COUNTIF(E5:F5,\"Won\")=1,OR(G5=\"DNF (Leading)\",G5=\"DNF (Tied)\",G5=\"DNF (Trailing)\")),\"Tied\",IF(OR(E5=\"DNF (Leading)\",E5=\"DNF (Tied)\",E5=\"DNF (Trailing)\"),\"Tied\",IF(AND((E5=\"Lost\"),OR(F5=\"DNF (Leading)\",F5=\"DNF (Tied)\",F5=\"DNF (Trailing)\")),\"Lost\",IF(C6=\"Bye\",\"Bye\",\"\")))))))","v":""},{"$f":"IF(C6=\"Bye\",1,IF(LEN(E5&F5&G5)=0,0,COUNTIF(E5:G5,\"Won\")*1+COUNTIF(E5:G5,\"DNF (Leading)\")*0.67+COUNTIF(E5:G5,\"DNF (Tied)\")*0.5+COUNTIF(E5:G5,\"DNF (Trailing)\")*0.33))","v":0},{"$f":"C6","v":0}]
[null,null,null,{"$f":"IF(ISERROR(VLOOKUP(C6,'Team List'!B:D,3,0)),\"\",VLOOKUP(C6,'Team List'!B:D,2,0))","v":""},{"$f":"IF(E5=\"\",\"\",IF(E5=\"Won\",\"Lost\",IF(E5=\"DNF (Leading)\",\"DNF (Trailing)\",IF(E5=\"DNF (Trailing)\",\"DNF (Leading)\",IF(E5=\"Lost\",\"Won\",E5)))))","v":""},{"$f":"IF(F5=\"\",\"\",IF(F5=\"Won\",\"Lost\",IF(F5=\"DNF (Leading)\",\"DNF (Trailing)\",IF(F5=\"DNF (Trailing)\",\"DNF (Leading)\",IF(F5=\"Lost\",\"Won\",F5)))))","v":""},{"$f":"IF(G5=\"\",\"\",IF(G5=\"Won\",\"Lost\",IF(G5=\"DNF (Leading)\",\"DNF (Trailing)\",IF(G5=\"DNF (Trailing)\",\"DNF (Leading)\",IF(G5=\"Lost\",\"Won\",G5)))))","v":""},{"$f":"IF(H5=\"Won\",\"Lost\",IF(H5=\"Lost\",\"Won\",H5))","v":""},{"$f":"IF(C5=\"Bye\",1,IF(LEN(E6&F6&G6)=0,0,COUNTIF(E6:G6,\"Won\")*1+COUNTIF(E6:G6,\"DNF (Leading)\")*0.67+COUNTIF(E6:G6,\"DNF (Tied)\")*0.5+COUNTIF(E6:G6,\"DNF (Trailing)\")*0.33))","v":0},{"$f":"C5","v":0}]
[3,null,null,{"$f":"IF(ISERROR(VLOOKUP(C7,'Team List'!B:D,3,0)),\"\",VLOOKUP(C7,'Team List'!B:D,2,0))","v":""},null,null,null,{"$f":"IF(COUNTIF(E7:G7,\"Won\")=2,\"Won\",IF(COUNTIF(E7:G7,\"Lost\")=2,\"Lost\",IF(AND((E7=\"Won\"),OR(F7=\"DNF (Leading)\",F7=\"DNF (Tied)\",F7=\"DNF (Trailing)\")),\"Won\",IF(AND(COUNTIF(E7:F7,\"Won\")=1,OR(G7=\"DNF (Leading)\",G7=\"DNF (Tied)\",G7=\"DNF (Trailing)\")),\"Tied\",IF(OR(E7=\"DNF (Leading)\",E7=\"DNF (Tied)\",E7=\"DNF (Trailing)\"),\"Tied\",IF(AND((E7=\"Lost\"),OR(F7=\"DNF (Leading)\",F7=\"DNF (Tied)\",F7=\"DNF (Trailing)\")),\"Lost\",IF(C8=\"Bye\",\"Bye\",\"\")))))))","v":""},{"$f":"IF(C8=\"Bye\",1,IF(LEN(E7&F7&G7)=0,0,COUNTIF(E7:G7,\"Won\")*1+COUNTIF(E7:G7,\"DNF (Leading)\")*0.67+COUNTIF(E7:G7,\"DNF (Tied)\")*0.5+COUNTIF(E7:G7,\"DNF (Trailing)\")*0.33))","v":0},{"$f":"C8","v":0}]
[null,null,null,{"$f":"IF(ISERROR(VLOOKUP(C8,'Team List'!B:D,3,0)),\"\",VLOOKUP(C8,'Team List'!B:D,2,0))","v":""},{"$f":"IF(E7=\"\",\"\",IF(E7=\"Won\",\"Lost\",IF(E7=\"DNF (Leading)\",\"DNF (Trailing)\",IF(E7=\"DNF (Trailing)\",\"DNF (Leading)\",IF(E7=\"Lost\",\"Won\",E7)))))","v":""},{"$f":"IF(F7=\"\",\"\",IF(F7=\"Won\",\"Lost\",IF(F7=\"DNF (Leading)\",\"DNF (Trailing)\",IF(F7=\"DNF (Trailing)\",\"DNF (Leading)\",IF(F7=\"Lost\",\"Won\",F7)))))","v":""},{"$f":"IF(G7=\"\",\"\",IF(G7=\"Won\",\"Lost\",IF(G7=\"DNF (Leading)\",\"DNF (Trailing)\",IF(G7=\"DNF (Trailing)\",\"DNF (Leading)\",IF(G7=\"Lost\",\"Won\",G7)))))","v":""},{"$f":"IF(H7=\"Won\",\"Lost\",IF(H7=\"Lost\",\"Won\",H7))","v":""},{"$f":"IF(C7=\"Bye\",1,IF(LEN(E8&F8&G8)=0,0,COUNTIF(E8:G8,\"Won\")*1+COUNTIF(E8:G8,\"DNF (Leading)\")*0.67+COUNTIF(E8:G8,\"DNF (Tied)\")*0.5+COUNTIF(E8:G8,\"DNF (Trailing)\")*0.33))","v":0},{"$f":"C7","v":0}]
[4,null,null,{"$f":"IF(ISERROR(VLOOKUP(C9,'Team List'!B:D,3,0)),\"\",VLOOKUP(C9,'Team List'!B:D,2,0))","v":""},null,null,null,{"$f":"IF(COUNTIF(E9:G9,\"Won\")=2,\"Won\",IF(COUNTIF(E9:G9,\"Lost\")=2,\"Lost\",IF(AND((E9=\"Won\"),OR(F9=\"DNF (Leading)\",F9=\"DNF (Tied)\",F9=\"DNF (Trailing)\")),\"Won\",IF(AND(COUNTIF(E9:F9,\"Won\")=1,OR(G9=\"DNF (Leading)\",G9=\"DNF (Tied)\",G9=\"DNF (Trailing)\")),\"Tied\",IF(OR(E9=\"DNF (Leading)\",E9=\"DNF (Tied)\",E9=\"DNF (Trailing)\"),\"Tied\",IF(AND((E9=\"Lost\"),OR(F9=\"DNF (Leading)\",F9=\"DNF (Tied)\",F9=\"DNF (Trailing)\")),\"Lost\",IF(C10=\"Bye\",\"Bye\",\"\")))))))","v":""},{"$f":"IF(C10=\"Bye\",1,IF(LEN(E9&F9&G9)=0,0,COUNTIF(E9:G9,\"Won\")*1+COUNTIF(E9:G9,\"DNF (Leading)\")*0.67+COUNTIF(E9:G9,\"DNF (Tied)\")*0.5+COUNTIF(E9:G9,\"DNF (Trailing)\")*0.33))","v":0},{"$f":"C10","v":0}]
[null,null,null,{"$f":"IF(ISERROR(VLOOKUP(C10,'Team List'!B:D,3,0)),\"\",VLOOKUP(C10,'Team List'!B:D,2,0))","v":""},{"$f":"IF(E9=\"\",\"\",IF(E9=\"Won\",\"Lost\",IF(E9=\"DNF (Leading)\",\"DNF (Trailing)\",IF(E9=\"DNF (Trailing)\",\"DNF (Leading)\",IF(E9=\"Lost\",\"Won\",E9)))))","v":""},{"$f":"IF(F9=\"\",\"\",IF(F9=\"Won\",\"Lost\",IF(F9=\"DNF (Leading)\",\"DNF (Trailing)\",IF(F9=\"DNF (Trailing)\",\"DNF (Leading)\",IF(F9=\"Lost\",\"Won\",F9)))))","v":""},{"$f":"IF(G9=\"\",\"\",IF(G9=\"Won\",\"Lost\",IF(G9=\"DNF (Leading)\",\"DNF (Trailing)\",IF(G9=\"DNF (Trailing)\",\"DNF (Leading)\",IF(G9=\"Lost\",\"Won\",G9)))))","v":""},{"$f":"IF(H9=\"Won\",\"Lost\",IF(H9=\"Lost\",\"Won\",H9))","v":""},{"$f":"IF(C9=\"Bye\",1,IF(LEN(E10&F10&G10)=0,0,COUNTIF(E10:G10,\"Won\")*1+COUNTIF(E10:G10,\"DNF (Leading)\")*0.67+COUNTIF(E10:G10,\"DNF (Tied)\")*0.5+COUNTIF(E10:G10,\"DNF (Trailing)\")*0.33))","v":0},{"$f":"C9","v":0}]
[5,null,null,{"$f":"IF(ISERROR(VLOOKUP(C11,'Team List'!B:D,3,0)),\"\",VLOOKUP(C11,'Team List'!B:D,2,0))","v":""},null,null,null,{"$f":"IF(COUNTIF(E11:G11,\"Won\")=2,\"Won\",IF(COUNTIF(E11:G11,\"Lost\")=2,\"Lost\",IF(AND((E11=\"Won\"),OR(F11=\"DNF (Leading)\",F11=\"DNF (Tied)\",F11=\"DNF (Trailing)\")),\"Won\",IF(AND(COUNTIF(E11:F11,\"Won\")=1,OR(G11=\"DNF (Leading)\",G11=\"DNF (Tied)\",G11=\"DNF (Trailing)\")),\"Tied\",IF(OR(E11=\"DNF (Leading)\",E11=\"DNF (Tied)\",E11=\"DNF (Trailing)\"),\"Tied\",IF(AND((E11=\"Lost\"),OR(F11=\"DNF (Leading)\",F11=\"DNF (Tied)\",F11=\"DNF (Trailing)\")),\"Lost\",IF(C12=\"Bye\",\"Bye\",\"\")))))))","v":""},{"$f":"IF(C12=\"Bye\",1,IF(LEN(E11&F11&G11)=0,0,COUNTIF(E11:G11,\"Won\")*1+COUNTIF(E11:G11,\"DNF (Leading)\")*0.67+COUNTIF(E11:G11,\"DNF (Tied)\")*0.5+COUNTIF(E11:G11,\"DNF (Trailing)\")*0.33))","v":0},{"$f":"C12","v":0}]
[null,null,null,{"$f":"IF(ISERROR(VLOOKUP(C12,'Team List'!B:D,3,0)),\"\",VLOOKUP(C12,'Team List'!B:D,2,0))","v":""},{"$f":"IF(E11=\"\",\"\",IF(E11=\"Won\",\"Lost\",IF(E11=\"DNF (Leading)\",\"DNF (Trailing)\",IF(E11=\"DNF (Trailing)\",\"DNF (Leading)\",IF(E11=\"Lost\",\"Won\",E11)))))","v":""},{"$f":"IF(F11=\"\",\"\",IF(F11=\"Won\",\"Lost\",IF(F11=\"DNF (Leading)\",\"DNF (Trailing)\",IF(F11=\"DNF (Trailing)\",\"DNF (Leading)\",IF(F11=\"Lost\",\"Won\",F11)))))","v":""},{"$f":"IF(G11=\"\",\"\",IF(G11=\"Won\",\"Lost\",IF(G11=\"DNF (Leading)\",\"DNF (Trailing)\",IF(G11=\"DNF (Trailing)\",\"DNF (Leading)\",IF(G11=\"Lost\",\"Won\",G11)))))","v":""},{"$f":"IF(H11=\"Won\",\"Lost\",IF(H11=\"Lost\",\"Won\",H11))","v":""},{"$f":"IF(C11=\"Bye\",1,IF(LEN(E12&F12&G12)=0,0,COUNTIF(E12:G12,\"Won\")*1+COUNTIF(E12:G12,\"DNF (Leading)\")*0.67+COUNTIF(E12:G12,\"DNF (Tied)\")*0.5+COUNTIF(E12:G12,\"DNF (Trailing)\")*0.33))","v":0},{"$f":"C11","v":0}]
[6,null,null,{"$f":"IF(ISERROR(VLOOKUP(C13,'Team List'!B:D,3,0)),\"\",VLOOKUP(C13,'Team List'!B:D,2,0))","v":""},null,null,null,{"$f":"IF(COUNTIF(E13:G13,\"Won\")=2,\"Won\",IF(COUNTIF(E13:G13,\"Lost\")=2,\"Lost\",IF(AND((E13=\"Won\"),OR(F13=\"DNF (Leading)\",F13=\"DNF (Tied)\",F13=\"DNF (Trailing)\")),\"Won\",IF(AND(COUNTIF(E13:F13,\"Won\")=1,OR(G13=\"DNF (Leading)\",G13=\"DNF (Tied)\",G13=\"DNF (Trailing)\")),\"Tied\",IF(OR(E13=\"DNF (Leading)\",E13=\"DNF (Tied)\",E13=\"DNF (Trailing)\"),\"Tied\",IF(AND((E13=\"Lost\"),OR(F13=\"DNF (Leading)\",F13=\"DNF (Tied)\",F13=\"DNF (Trailing)\")),\"Lost\",IF(C14=\"Bye\",\"Bye\",\"\")))))))","v":""},{"$f":"IF(C14=\"Bye\",1,IF(LEN(E13&F13&G13)=0,0,COUNTIF(E13:G13,\"Won\")*1+COUNTIF(E13:G13,\"DNF (Leading)\")*0.67+COUNTIF(E13:G13,\"DNF (Tied)\")*0.5+COUNTIF(E13:G13,\"DNF (Trailing)\")*0.33))","v":0},{"$f":"C14","v":0}]
[null,null,null,{"$f":"IF(ISERROR(VLOOKUP(C14,'Team List'!B:D,3,0)),\"\",VLOOKUP(C14,'Team List'!B:D,2,0))","v":""},{"$f":"IF(E13=\"\",\"\",IF(E13=\"Won\",\"Lost\",IF(E13=\"DNF (Leading)\",\"DNF (Trailing)\",IF(E13=\"DNF (Trailing)\",\"DNF (Leading)\",IF(E13=\"Lost\",\"Won\",E13)))))","v":""},{"$f":"IF(F13=\"\",\"\",IF(F13=\"Won\",\"Lost\",IF(F13=\"DNF (Leading)\",\"DNF (Trailing)\",IF(F13=\"DNF (Trailing)\",\"DNF (Leading)\",IF(F13=\"Lost\",\"Won\",F13)))))","v":""},{"$f":"IF(G13=\"\",\"\",IF(G13=\"Won\",\"Lost\",IF(G13=\"DNF (Leading)\",\"DNF (Trailing)\",IF(G13=\"DNF (Trailing)\",\"DNF (Leading)\",IF(G13=\"Lost\",\"Won\",G13)))))","v":""},{"$f":"IF(H13=\"Won\",\"Lost\",IF(H13=\"Lost\",\"Won\",H13))","v":""},{"$f":"IF(C13=\"Bye\",1,IF(LEN(E14&F14&G14)=0,0,COUNTIF(E14:G14,\"Won\")*1+COUNTIF(E14:G14,\"DNF (Leading)\")*0.67+COUNTIF(E14:G14,\"DNF (Tied)\")*0.5+COUNTIF(E14:G14,\"DNF (Trailing)\")*0.33))","v":0},{"$f":"C13","v":0}]
[7,null,null,{"$f":"IF(ISERROR(VLOOKUP(C15,'Team List'!B:D,3,0)),\"\",VLOOKUP(C15,'Team List'!B:D,2,0))","v":""},null,null,null,{"$f":"IF(COUNTIF(E15:G15,\"Won\")=2,\"Won\",IF(COUNTIF(E15:G15,\"Lost\")=2,\"Lost\",IF(AND((E15=\"Won\"),OR(F15=\"DNF (Leading)\",F15=\"DNF (Tied)\",F15=\"DNF (Trailing)\")),\"Won\",IF(AND(COUNTIF(E15:F15,\"Won\")=1,OR(G15=\"DNF (Leading)\",G15=\"DNF (Tied)\",G15=\"DNF (Trailing)\")),\"Tied\",IF(OR(E15=\"DNF (Leading)\",E15=\"DNF (Tied)\",E15=\"DNF (Trailing)\"),\"Tied\",IF(AND((E15=\"Lost\"),OR(F15=\"DNF (Leading)\",F15=\"DNF (Tied)\",F15=\"DNF (Trailing)\")),\"Lost\",IF(C16=\"Bye\",\"Bye\",\"\")))))))","v":""},{"$f":"IF(C16=\"Bye\",1,IF(LEN(E15&F15&G15)=0,0,COUNTIF(E15:G15,\"Won\")*1+COUNTIF(E15:G15,\"DNF (Leading)\")*0.67+COUNTIF(E15:G15,\"DNF (Tied)\")*0.5+COUNTIF(E15:G15,\"DNF (Trailing)\")*0.33))","v":0},{"$f":"C16","v":0}]
[null,null,null,{"$f":"IF(ISERROR(VLOOKUP(C16,'Team List'!B:D,3,0)),\"\",VLOOKUP(C16,'Team List'!B:D,2,0))","v":""},{"$f":"IF(E15=\"\",\"\",IF(E15=\"Won\",\"Lost\",IF(E15=\"DNF (Leading)\",\"DNF (Trailing)\",IF(E15=\"DNF (Trailing)\",\"DNF (Leading)\",IF(E15=\"Lost\",\"Won\",E15)))))","v":""},{"$f":"IF(F15=\"\",\"\",IF(F15=\"Won\",\"Lost\",IF(F15=\"DNF (Leading)\",\"DNF (Trailing)\",IF(F15=\"DNF (Trailing)\",\"DNF (Leading)\",IF(F15=\"Lost\",\"Won\",F15)))))","v":""},{"$f":"IF(G15=\"\",\"\",IF(G15=\"Won\",\"Lost\",IF(G15=\"DNF (Leading)\",\"DNF (Trailing)\",IF(G15=\"DNF (Trailing)\",\"DNF (Leading)\",IF(G15=\"Lost\",\"Won\",G15)))))","v":""},{"$f":"IF(H15=\"Won\",\"Lost\",IF(H15=\"Lost\",\"Won\",H15))","v":""},{"$f":"IF(C15=\"Bye\",1,IF(LEN(E16&F16&G16)=0,0,COUNTIF(E16:G16,\"Won\")*1+COUNTIF(E16:G16,\"DNF (Leading)\")*0.67+COUNTIF(E16:G16,\"DNF (Tied)\")*0.5+COUNTIF(E16:G16,\"DNF (Trailing)\")*0.33))","v":0},{"$f":"C15","v":0}]
[8,null,null,{"$f":"IF(ISERROR(VLOOKUP(C17,'Team List'!B:D,3,0)),\"\",VLOOKUP(C17,'Team List'!B:D,2,0))","v":""},null,null,null,{"$f":"IF(COUNTIF(E17:G17,\"Won\")=2,\"Won\",IF(COUNTIF(E17:G17,\"Lost\")=2,\"Lost\",IF(AND((E17=\"Won\"),OR(F17=\"DNF (Leading)\",F17=\"DNF (Tied)\",F17=\"DNF (Trailing)\")),\"Won\",IF(AND(COUNTIF(E17:F17,\"Won\")=1,OR(G17=\"DNF (Leading)\",G17=\"DNF (Tied)\",G17=\"DNF (Trailing)\")),\"Tied\",IF(OR(E17=\"DNF (Leading)\",E17=\"DNF (Tied)\",E17=\"DNF (Trailing)\"),\"Tied\",IF(AND((E17=\"Lost\"),OR(F17=\"DNF (Leading)\",F17=\"DNF (Tied)\",F17=\"DNF (Trailing)\")),\"Lost\",IF(C18=\"Bye\",\"Bye\",\"\")))))))","v":""},{"$f":"IF(C18=\"Bye\",1,IF(LEN(E17&F17&G17)=0,0,COUNTIF(E17:G17,\"Won\")*1+COUNTIF(E17:G17,\"DNF (Leading)\")*0.67+COUNTIF(E17:G17,\"DNF (Tied)\")*0.5+COUNTIF(E17:G17,\"DNF (Trailing)\")*0.33))","v":0},{"$f":"C18","v":0}]
[null,null,null,{"$f":"IF(ISERROR(VLOOKUP(C18,'Team List'!B:D,3,0)),\"\",VLOOKUP(C18,'Team List'!B:D,2,0))","v":""},{"$f":"IF(E17=\"\",\"\",IF(E17=\"Won\",\"Lost\",IF(E17=\"DNF (Leading)\",\"DNF (Trailing)\",IF(E17=\"DNF (Trailing)\",\"DNF (Leading)\",IF(E17=\"Lost\",\"Won\",E17)))))","v":""},{"$f":"IF(F17=\"\",\"\",IF(F17=\"Won\",\"Lost\",IF(F17=\"DNF (Leading)\",\"DNF (Trailing)\",IF(F17=\"DNF (Trailing)\",\"DNF (Leading)\",IF(F17=\"Lost\",\"Won\",F17)))))","v":""},{"$f":"IF(G17=\"\",\"\",IF(G17=\"Won\",\"Lost\",IF(G17=\"DNF (Leading)\",\"DNF (Trailing)\",IF(G17=\"DNF (Trailing)\",\"DNF (Leading)\",IF(G17=\"Lost\",\"Won\",G17)))))","v":""},{"$f":"IF(H17=\"Won\",\"Lost\",IF(H17=\"Lost\",\"Won\",H17))","v":""},{"$f":"IF(C17=\"Bye\",1,IF(LEN(E18&F18&G18)=0,0,COUNTIF(E18:G18,\"Won\")*1+COUNTIF(E18:G18,\"DNF (Leading)\")*0.67+COUNTIF(E18:G18,\"DNF (Tied)\")*0.5+COUNTIF(E18:G18,\"DNF (Trailing)\")*0.33))","v":0},{"$f":"C17","v":0}]
[9,null,null,{"$f":"IF(ISERROR(VLOOKUP(C19,'Team List'!B:D,3,0)),\"\",VLOOKUP(C19,'Team List'!B:D,2,0))","v":""},null,null,null,{"$f":"IF(COUNTIF(E19:G19,\"Won\")=2,\"Won\",IF(COUNTIF(E19:G19,\"Lost\")=2,\"Lost\",IF(AND((E19=\"Won\"),OR(F19=\"DNF (Leading)\",F19=\"DNF (Tied)\",F19=\"DNF (Trailing)\")),\"Won\",IF(AND(COUNTIF(E19:F19,\"Won\")=1,OR(G19=\"DNF (Leading)\",G19=\"DNF (Tied)\",G19=\"DNF (Trailing)\")),\"Tied\",IF(OR(E19=\"DNF (Leading)\",E19=\"DNF (Tied)\",E19=\"DNF (Trailing)\"),\"Tied\",IF(AND((E19=\"Lost\"),OR(F19=\"DNF (Leading)\",F19=\"DNF (Tied)\",F19=\"DNF (Trailing)\")),\"Lost\",IF(C20=\"Bye\",\"Bye\",\"\")))))))","v":""},{"$f":"IF(C20=\"Bye\",1,IF(LEN(E19&F19&G19)=0,0,COUNTIF(E19:G19,\"Won\")*1+COUNTIF(E19:G19,\"DNF (Leading)\")*0.67+COUNTIF(E19:G19,\"DNF (Tied)\")*0.5+COUNTIF(E19:G19,\"DNF (Trailing)\")*0.33))","v":0},{"$f":"C20","v":0}]
[null,null,null,{"$f":"IF(ISERROR(VLOOKUP(C20,'Team List'!B:D,3,0)),\"\",VLOOKUP(C20,'Team List'!B:D,2,0))","v":""},{"$f":"IF(E19=\"\",\"\",IF(E19=\"Won\",\"Lost\",IF(E19=\"DNF (Leading)\",\"DNF (Trailing)\",IF(E19=\"DNF (Trailing)\",\"DNF (Leading)\",IF(E19=\"Lost\",\"Won\",E19)))))","v":""},{"$f":"IF(F19=\"\",\"\",IF(F19=\"Won\",\"Lost\",IF(F19=\"DNF (Leading)\",\"DNF (Trailing)\",IF(F19=\"DNF (Trailing)\",\"DNF (Leading)\",IF(F19=\"Lost\",\"Won\",F19)))))","v":""},{"$f":"IF(G19=\"\",\"\",IF(G19=\"Won\",\"Lost\",IF(G19=\"DNF (Leading)\",\"DNF (Trailing)\",IF(G19=\"DNF (Trailing)\",\"DNF (Leading)\",IF(G19=\"Lost\",\"Won\",G19)))))","v":""},{"$f":"IF(H19=\"Won\",\"Lost\",IF(H19=\"Lost\",\"Won\",H19))","v":""},{"$f":"IF(C19=\"Bye\",1,IF(LEN(E20&F20&G20)=0,0,COUNTIF(E20:G20,\"Won\")*1+COUNTIF(E20:G20,\"DNF (Leading)\")*0.67+COUNTIF(E20:G20,\"DNF (Tied)\")*0.5+COUNTIF(E20:G20,\"DNF (Trailing)\")*0.33))","v":0},{"$f":"C19","v":0}]
[10,null,null,{"$f":"IF(ISERROR(VLOOKUP(C21,'Team List'!B:D,3,0)),\"\",VLOOKUP(C21,'Team List'!B:D,2,0))","v":""},null,null,null,{"$f":"IF(COUNTIF(E21:G21,\"Won\")=2,\"Won\",IF(COUNTIF(E21:G21,\"Lost\")=2,\"Lost\",IF(AND((E21=\"Won\"),OR(F21=\"DNF (Leading)\",F21=\"DNF (Tied)\",F21=\"DNF (Trailing)\")),\"Won\",IF(AND(COUNTIF(E21:F21,\"Won\")=1,OR(G21=\"DNF (Leading)\",G21=\"DNF (Tied)\",G21=\"DNF (Trailing)\")),\"Tied\",IF(OR(E21=\"DNF (Leading)\",E21=\"DNF (Tied)\",E21=\"DNF (Trailing)\"),\"Tied\",IF(AND((E21=\"Lost\"),OR(F21=\"DNF (Leading)\",F21=\"DNF (Tied)\",F21=\"DNF (Trailing)\")),\"Lost\",IF(C22=\"Bye\",\"Bye\",\"\")))))))","v":""},{"$f":"IF(C22=\"Bye\",1,IF(LEN(E21&F21&G21)=0,0,COUNTIF(E21:G21,\"Won\")*1+COUNTIF(E21:G21,\"DNF (Leading)\")*0.67+COUNTIF(E21:G21,\"DNF (Tied)\")*0.5+COUNTIF(E21:G21,\"DNF (Trailing)\")*0.33))","v":0},{"$f":"C22","v":0}]
[null,null,null,{"$f":"IF(ISERROR(VLOOKUP(C22,'Team List'!B:D,3,0)),\"\",VLOOKUP(C22,'Team List'!B:D,2,0))","v":""},{"$f":"IF(E21=\"\",\"\",IF(E21=\"Won\",\"Lost\",IF(E21=\"DNF (Leading)\",\"DNF (Trailing)\",IF(E21=\"DNF (Trailing)\",\"DNF (Leading)\",IF(E21=\"Lost\",\"Won\",E21)))))","v":""},{"$f":"IF(F21=\"\",\"\",IF(F21=\"Won\",\"Lost\",IF(F21=\"DNF (Leading)\",\"DNF (Trailing)\",IF(F21=\"DNF (Trailing)\",\"DNF (Leading)\",IF(F21=\"Lost\",\"Won\",F21)))))","v":""},{"$f":"IF(G21=\"\",\"\",IF(G21=\"Won\",\"Lost\",IF(G21=\"DNF (Leading)\",\"DNF (Trailing)\",IF(G21=\"DNF (Trailing)\",\"DNF (Leading)\",IF(G21=\"Lost\",\"Won\",G21)))))","v":""},{"$f":"IF(H21=\"Won\",\"Lost\",IF(H21=\"Lost\",\"Won\",H21))","v":""},{"$f":"IF(C21=\"Bye\",1,IF(LEN(E22&F22&G22)=0,0,COUNTIF(E22:G22,\"Won\")*1+COUNTIF(E22:G22,\"DNF (Leading)\")*0.67+COUNTIF(E22:G22,\"DNF (Tied)\")*0.5+COUNTIF(E22:G22,\"DNF (Trailing)\")*0.33))","v":0},{"$f":"C21","v":0}]
[11,null,null,{"$f":"IF(ISERROR(VLOOKUP(C23,'Team List'!B:D,3,0)),\"\",VLOOKUP(C23,'Team List'!B:D,2,0))","v":""},null,null,null,{"$f":"IF(COUNTIF(E23:G23,\"Won\")=2,\"Won\",IF(COUNTIF(E23:G23,\"Lost\")=2,\"Lost\",IF(AND((E23=\"Won\"),OR(F23=\"DNF (Leading)\",F23=\"DNF (Tied)\",F23=\"DNF (Trailing)\")),\"Won\",IF(AND(COUNTIF(E23:F23,\"Won\")=1,OR(G23=\"DNF (Leading)\",G23=\"DNF (Tied)\",G23=\"DNF (Trailing)\")),\"Tied\",IF(OR(E23=\"DNF (Leading)\",E23=\"DNF (Tied)\",E23=\"DNF (Trailing)\"),\"Tied\",IF(AND((E23=\"Lost\"),OR(F23=\"DNF (Leading)\",F23=\"DNF (Tied)\",F23=\"DNF (Trailing)\")),\"Lost\",IF(C24=\"Bye\",\"Bye\",\"\")))))))","v":""},{"$f":"IF(C24=\"Bye\",1,IF(LEN(E23&F23&G23)=0,0,COUNTIF(E23:G23,\"Won\")*1+COUNTIF(E23:G23,\"DNF (Leading)\")*0.67+COUNTIF(E23:G23,\"DNF (Tied)\")*0.5+COUNTIF(E23:G23,\"DNF (Trailing)\")*0.33))","v":0},{"$f":"C24","v":0}]
[null,null,null,{"$f":"IF(ISERROR(VLOOKUP(C24,'Team List'!B:D,3,0)),\"\",VLOOKUP(C24,'Team List'!B:D,2,0))","v":""},{"$f":"IF(E23=\"\",\"\",IF(E23=\"Won\",\"Lost\",IF(E23=\"DNF (Leading)\",\"DNF (Trailing)\",IF(E23=\"DNF (Trailing)\",\"DNF (Leading)\",IF(E23=\"Lost\",\"Won\",E23)))))","v":""},{"$f":"IF(F23=\"\",\"\",IF(F23=\"Won\",\"Lost\",IF(F23=\"DNF (Leading)\",\"DNF (Trailing)\",IF(F23=\"DNF (Trailing)\",\"DNF (Leading)\",IF(F23=\"Lost\",\"Won\",F23)))))","v":""},{"$f":"IF(G23=\"\",\"\",IF(G23=\"Won\",\"Lost\",IF(G23=\"DNF (Leading)\",\"DNF (Trailing)\",IF(G23=\"DNF (Trailing)\",\"DNF (Leading)\",IF(G23=\"Lost\",\"Won\",G23)))))","v":""},{"$f":"IF(H23=\"Won\",\"Lost\",IF(H23=\"Lost\",\"Won\",H23))","v":""},{"$f":"IF(C23=\"Bye\",1,IF(LEN(E24&F24&G24)=0,0,COUNTIF(E24:G24,\"Won\")*1+COUNTIF(E24:G24,\"DNF (Leading)\")*0.67+COUNTIF(E24:G24,\"DNF (Tied)\")*0.5+COUNTIF(E24:G24,\"DNF (Trailing)\")*0.33))","v":0},{"$f":"C23","v":0}]
[12,null,null,{"$f":"IF(ISERROR(VLOOKUP(C25,'Team List'!B:D,3,0)),\"\",VLOOKUP(C25,'Team List'!B:D,2,0))","v":""},null,null,null,{"$f":"IF(COUNTIF(E25:G25,\"Won\")=2,\"Won\",IF(COUNTIF(E25:G25,\"Lost\")=2,\"Lost\",IF(AND((E25=\"Won\"),OR(F25=\"DNF (Leading)\",F25=\"DNF (Tied)\",F25=\"DNF (Trailing)\")),\"Won\",IF(AND(COUNTIF(E25:F25,\"Won\")=1,OR(G25=\"DNF (Leading)\",G25=\"DNF (Tied)\",G25=\"DNF (Trailing)\")),\"Tied\",IF(OR(E25=\"DNF (Leading)\",E25=\"DNF (Tied)\",E25=\"DNF (Trailing)\"),\"Tied\",IF(AND((E25=\"Lost\"),OR(F25=\"DNF (Leading)\",F25=\"DNF (Tied)\",F25=\"DNF (Trailing)\")),\"Lost\",IF(C26=\"Bye\",\"Bye\",\"\")))))))","v":""},{"$f":"IF(C26=\"Bye\",1,IF(LEN(E25&F25&G25)=0,0,COUNTIF(E25:G25,\"Won\")*1+COUNTIF(E25:G25,\"DNF (Leading)\")*0.67+COUNTIF(E25:G25,\"DNF (Tied)\")*0.5+COUNTIF(E25:G25,\"DNF (Trailing)\")*0.33))","v":0},{"$f":"C26","v":0}]
[null,null,null,{"$f":"IF(ISERROR(VLOOKUP(C26,'Team List'!B:D,3,0)),\"\",VLOOKUP(C26,'Team List'!B:D,2,0))","v":""},{"$f":"IF(E25=\"\",\"\",IF(E25=\"Won\",\"Lost\",IF(E25=\"DNF (Leading)\",\"DNF (Trailing)\",IF(E25=\"DNF (Trailing)\",\"DNF (Leading)\",IF(E25=\"Lost\",\"Won\",E25)))))","v":""},{"$f":"IF(F25=\"\",\"\",IF(F25=\"Won\",\"Lost\",IF(F25=\"DNF (Leading)\",\"DNF (Trailing)\",IF(F25=\"DNF (Trailing)\",\"DNF (Leading)\",IF(F25=\"Lost\",\"Won\",F25)))))","v":""},{"$f":"IF(G25=\"\",\"\",IF(G25=\"Won\",\"Lost\",IF(G25=\"DNF (Leading)\",\"DNF (Trailing)\",IF(G25=\"DNF (Trailing)\",\"DNF (Leading)\",IF(G25=\"Lost\",\"Won\",G25)))))","v":""},{"$f":"IF(H25=\"Won\",\"Lost\",IF(H25=\"Lost\",\"Won\",H25))","v":""},{"$f":"IF(C25=\"Bye\",1,IF(LEN(E26&F26&G26)=0,0,COUNTIF(E26:G26,\"Won\")*1+COUNTIF(E26:G26,\"DNF (Leading)\")*0.67+COUNTIF(E26:G26,\"DNF (Tied)\")*0.5+COUNTIF(E26:G26,\"DNF (Trailing)\")*0.33))","v":0},{"$f":"C25","v":0}]
[13,null,null,{"$f":"IF(ISERROR(VLOOKUP(C27,'Team List'!B:D,3,0)),\"\",VLOOKUP(C27,'Team List'!B:D,2,0))","v":""},null,null,null,{"$f":"IF(COUNTIF(E27:G27,\"Won\")=2,\"Won\",IF(COUNTIF(E27:G27,\"Lost\")=2,\"Lost\",IF(AND((E27=\"Won\"),OR(F27=\"DNF (Leading)\",F27=\"DNF (Tied)\",F27=\"DNF (Trailing)\")),\"Won\",IF(AND(COUNTIF(E27:F27,\"Won\")=1,OR(G27=\"DNF (Leading)\",G27=\"DNF (Tied)\",G27=\"DNF (Trailing)\")),\"Tied\",IF(OR(E27=\"DNF (Leading)\",E27=\"DNF (Tied)\",E27=\"DNF (Trailing)\"),\"Tied\",IF(AND((E27=\"Lost\"),OR(F27=\"DNF (Leading)\",F27=\"DNF (Tied)\",F27=\"DNF (Trailing)\")),\"Lost\",IF(C28=\"Bye\",\"Bye\",\"\")))))))","v":""},{"$f":"IF(C28=\"Bye\",1,IF(LEN(E27&F27&G27)=0,0,COUNTIF(E27:G27,\"Won\")*1+COUNTIF(E27:G27,\"DNF (Leading)\")*0.67+COUNTIF(E27:G27,\"DNF (Tied)\")*0.5+COUNTIF(E27:G27,\"DNF (Trailing)\")*0.33))","v":0},{"$f":"C28","v":0}]
[null,null,null,{"$f":"IF(ISERROR(VLOOKUP(C28,'Team List'!B:D,3,0)),\"\",VLOOKUP(C28,'Team List'!B:D,2,0))","v":""},{"$f":"IF(E27=\"\",\"\",IF(E27=\"Won\",\"Lost\",IF(E27=\"DNF (Leading)\",\"DNF (Trailing)\",IF(E27=\"DNF (Trailing)\",\"DNF (Leading)\",IF(E27=\"Lost\",\"Won\",E27)))))","v":""},{"$f":"IF(F27=\"\",\"\",IF(F27=\"Won\",\"Lost\",IF(F27=\"DNF (Leading)\",\"DNF (Trailing)\",IF(F27=\"DNF (Trailing)\",\"DNF (Leading)\",IF(F27=\"Lost\",\"Won\",F27)))))","v":""},{"$f":"IF(G27=\"\",\"\",IF(G27=\"Won\",\"Lost\",IF(G27=\"DNF (Leading)\",\"DNF (Trailing)\",IF(G27=\"DNF (Trailing)\",\"DNF (Leading)\",IF(G27=\"Lost\",\"Won\",G27)))))","v":""},{"$f":"IF(H27=\"Won\",\"Lost\",IF(H27=\"Lost\",\"Won\",H27))","v":""},{"$f":"IF(C27=\"Bye\",1,IF(LEN(E28&F28&G28)=0,0,COUNTIF(E28:G28,\"Won\")*1+COUNTIF(E28:G28,\"DNF (Leading)\")*0.67+COUNTIF(E28:G28,\"DNF (Tied)\")*0.5+COUNTIF(E28:G28,\"DNF (Trailing)\")*0.33))","v":0},{"$f":"C27","v":0}]
[14,null,null,{"$f":"IF(ISERROR(VLOOKUP(C29,'Team List'!B:D,3,0)),\"\",VLOOKUP(C29,'Team List'!B:D,2,0))","v":""},null,null,null,{"$f":"IF(COUNTIF(E29:G29,\"Won\")=2,\"Won\",IF(COUNTIF(E29:G29,\"Lost\")=2,\"Lost\",IF(AND((E29=\"Won\"),OR(F29=\"DNF (Leading)\",F29=\"DNF (Tied)\",F29=\"DNF (Trailing)\")),\"Won\",IF(AND(COUNTIF(E29:F29,\"Won\")=1,OR(G29=\"DNF (Leading)\",G29=\"DNF (Tied)\",G29=\"DNF (Trailing)\")),\"Tied\",IF(OR(E29=\"DNF (Leading)\",E29=\"DNF (Tied)\",E29=\"DNF (Trailing)\"),\"Tied\",IF(AND((E29=\"Lost\"),OR(F29=\"DNF (Leading)\",F29=\"DNF (Tied)\",F29=\"DNF (Trailing)\")),\"Lost\",IF(C30=\"Bye\",\"Bye\",\"\")))))))","v":""},{"$f":"IF(C30=\"Bye\",1,IF(LEN(E29&F29&G29)=0,0,COUNTIF(E29:G29,\"Won\")*1+COUNTIF(E29:G29,\"DNF (Leading)\")*0.67+COUNTIF(E29:G29,\"DNF (Tied)\")*0.5+COUNTIF(E29:G29,\"DNF (Trailing)\")*0.33))","v":0},{"$f":"C30","v":0}]
[null,null,null,{"$f":"IF(ISERROR(VLOOKUP(C30,'Team List'!B:D,3,0)),\"\",VLOOKUP(C30,'Team List'!B:D,2,0))","v":""},{"$f":"IF(E29=\"\",\"\",IF(E29=\"Won\",\"Lost\",IF(E29=\"DNF (Leading)\",\"DNF (Trailing)\",IF(E29=\"DNF (Trailing)\",\"DNF (Leading)\",IF(E29=\"Lost\",\"Won\",E29)))))","v":""},{"$f":"IF(F29=\"\",\"\",IF(F29=\"Won\",\"Lost\",IF(F29=\"DNF (Leading)\",\"DNF (Trailing)\",IF(F29=\"DNF (Trailing)\",\"DNF (Leading)\",IF(F29=\"Lost\",\"Won\",F29)))))","v":""},{"$f":"IF(G29=\"\",\"\",IF(G29=\"Won\",\"Lost\",IF(G29=\"DNF (Leading)\",\"DNF (Trailing)\",IF(G29=\"DNF (Trailing)\",\"DNF (Leading)\",IF(G29=\"Lost\",\"Won\",G29)))))","v":""},{"$f":"IF(H29=\"Won\",\"Lost\",IF(H29=\"Lost\",\"Won\",H29))","v":""},{"$f":"IF(C29=\"Bye\",1,IF(LEN(E30&F30&G30)=0,0,COUNTIF(E30:G30,\"Won\")*1+COUNTIF(E30:G30,\"DNF (Leading)\")*0.67+COUNTIF(E30:G30,\"DNF (Tied)\")*0.5+COUNTIF(E30:G30,\"DNF (Trailing)\")*0.33))","v":0},{"$f":"C29","v":0}]
[15,null,null,{"$f":"IF(ISERROR(VLOOKUP(C31,'Team List'!B:D,3,0)),\"\",VLOOKUP(C31,'Team List'!B:D,2,0))","v":""},null,null,null,{"$f":"IF(COUNTIF(E31:G31,\"Won\")=2,\"Won\",IF(COUNTIF(E31:G31,\"Lost\")=2,\"Lost\",IF(AND((E31=\"Won\"),OR(F31=\"DNF (Leading)\",F31=\"DNF (Tied)\",F31=\"DNF (Trailing)\")),\"Won\",IF(AND(COUNTIF(E31:F31,\"Won\")=1,OR(G31=\"DNF (Leading)\",G31=\"DNF (Tied)\",G31=\"DNF (Trailing)\")),\"Tied\",IF(OR(E31=\"DNF (Leading)\",E31=\"DNF (Tied)\",E31=\"DNF (Trailing)\"),\"Tied\",IF(AND((E31=\"Lost\"),OR(F31=\"DNF (Leading)\",F31=\"DNF (Tied)\",F31=\"DNF (Trailing)\")),\"Lost\",IF(C32=\"Bye\",\"Bye\",\"\")))))))","v":""},{"$f":"IF(C32=\"Bye\",1,IF(LEN(E31&F31&G31)=0,0,COUNTIF(E31:G31,\"Won\")*1+COUNTIF(E31:G31,\"DNF (Leading)\")*0.67+COUNTIF(E31:G31,\"DNF (Tied)\")*0.5+COUNTIF(E31:G31,\"DNF (Trailing)\")*0.33))","v":0},{"$f":"C32","v":0}]
[null,null,null,{"$f":"IF(ISERROR(VLOOKUP(C32,'Team List'!B:D,3,0)),\"\",VLOOKUP(C32,'Team List'!B:D,2,0))","v":""},{"$f":"IF(E31=\"\",\"\",IF(E31=\"Won\",\"Lost\",IF(E31=\"DNF (Leading)\",\"DNF (Trailing)\",IF(E31=\"DNF (Trailing)\",\"DNF (Leading)\",IF(E31=\"Lost\",\"Won\",E31)))))","v":""},{"$f":"IF(F31=\"\",\"\",IF(F31=\"Won\",\"Lost\",IF(F31=\"DNF (Leading)\",\"DNF (Trailing)\",IF(F31=\"DNF (Trailing)\",\"DNF (Leading)\",IF(F31=\"Lost\",\"Won\",F31)))))","v":""},{"$f":"IF(G31=\"\",\"\",IF(G31=\"Won\",\"Lost\",IF(G31=\"DNF (Leading)\",\"DNF (Trailing)\",IF(G31=\"DNF (Trailing)\",\"DNF (Leading)\",IF(G31=\"Lost\",\"Won\",G31)))))","v":""},{"$f":"IF(H31=\"Won\",\"Lost\",IF(H31=\"Lost\",\"Won\",H31))","v":""},{"$f":"IF(C31=\"Bye\",1,IF(LEN(E32&F32&G32)=0,0,COUNTIF(E32:G32,\"Won\")*1+COUNTIF(E32:G32,\"DNF (Leading)\")*0.67+COUNTIF(E32:G32,\"DNF (Tied)\")*0.5+COUNTIF(E32:G32,\"DNF (Trailing)\")*0.33))","v":0},{"$f":"C31","v":0}]
[16,null,null,{"$f":"IF(ISERROR(VLOOKUP(C33,'Team List'!B:D,3,0)),\"\",VLOOKUP(C33,'Team List'!B:D,2,0))","v":""},null,null,null,{"$f":"IF(COUNTIF(E33:G33,\"Won\")=2,\"Won\",IF(COUNTIF(E33:G33,\"Lost\")=2,\"Lost\",IF(AND((E33=\"Won\"),OR(F33=\"DNF (Leading)\",F33=\"DNF (Tied)\",F33=\"DNF (Trailing)\")),\"Won\",IF(AND(COUNTIF(E33:F33,\"Won\")=1,OR(G33=\"DNF (Leading)\",G33=\"DNF (Tied)\",G33=\"DNF (Trailing)\")),\"Tied\",IF(OR(E33=\"DNF (Leading)\",E33=\"DNF (Tied)\",E33=\"DNF (Trailing)\"),\"Tied\",IF(AND((E33=\"Lost\"),OR(F33=\"DNF (Leading)\",F33=\"DNF (Tied)\",F33=\"DNF (Trailing)\")),\"Lost\",IF(C34=\"Bye\",\"Bye\",\"\")))))))","v":""},{"$f":"IF(C34=\"Bye\",1,IF(LEN(E33&F33&G33)=0,0,COUNTIF(E33:G33,\"Won\")*1+COUNTIF(E33:G33,\"DNF (Leading)\")*0.67+COUNTIF(E33:G33,\"DNF (Tied)\")*0.5+COUNTIF(E33:G33,\"DNF (Trailing)\")*0.33))","v":0},{"$f":"C34","v":0}]
[null,null,null,{"$f":"IF(ISERROR(VLOOKUP(C34,'Team List'!B:D,3,0)),\"\",VLOOKUP(C34,'Team List'!B:D,2,0))","v":""},{"$f":"IF(E33=\"\",\"\",IF(E33=\"Won\",\"Lost\",IF(E33=\"DNF (Leading)\",\"DNF (Trailing)\",IF(E33=\"DNF (Trailing)\",\"DNF (Leading)\",IF(E33=\"Lost\",\"Won\",E33)))))","v":""},{"$f":"IF(F33=\"\",\"\",IF(F33=\"Won\",\"Lost\",IF(F33=\"DNF (Leading)\",\"DNF (Trailing)\",IF(F33=\"DNF (Trailing)\",\"DNF (Leading)\",IF(F33=\"Lost\",\"Won\",F33)))))","v":""},{"$f":"IF(G33=\"\",\"\",IF(G33=\"Won\",\"Lost\",IF(G33=\"DNF (Leading)\",\"DNF (Trailing)\",IF(G33=\"DNF (Trailing)\",\"DNF (Leading)\",IF(G33=\"Lost\",\"Won\",G33)))))","v":""},{"$f":"IF(H33=\"Won\",\"Lost\",IF(H33=\"Lost\",\"Won\",H33))","v":""},{"$f":"IF(C33=\"Bye\",1,IF(LEN(E34&F34&G34)=0,0,COUNTIF(E34:G34,\"Won\")*1+COUNTIF(E34:G34,\"DNF (Leading)\")*0.67+COUNTIF(E34:G34,\"DNF (Tied)\")*0.5+COUNTIF(E34:G34,\"DNF (Trailing)\")*0.33))","v":0},{"$f":"C33","v":0}]
[17,null,null,{"$f":"IF(ISERROR(VLOOKUP(C35,'Team List'!B:D,3,0)),\"\",VLOOKUP(C35,'Team List'!B:D,2,0))","v":""},null,null,null,{"$f":"IF(COUNTIF(E35:G35,\"Won\")=2,\"Won\",IF(COUNTIF(E35:G35,\"Lost\")=2,\"Lost\",IF(AND((E35=\"Won\"),OR(F35=\"DNF (Leading)\",F35=\"DNF (Tied)\",F35=\"DNF (Trailing)\")),\"Won\",IF(AND(COUNTIF(E35:F35,\"Won\")=1,OR(G35=\"DNF (Leading)\",G35=\"DNF (Tied)\",G35=\"DNF (Trailing)\")),\"Tied\",IF(OR(E35=\"DNF (Leading)\",E35=\"DNF (Tied)\",E35=\"DNF (Trailing)\"),\"Tied\",IF(AND((E35=\"Lost\"),OR(F35=\"DNF (Leading)\",F35=\"DNF (Tied)\",F35=\"DNF (Trailing)\")),\"Lost\",IF(C36=\"Bye\",\"Bye\",\"\")))))))","v":""},{"$f":"IF(C36=\"Bye\",0,IF(LEN(E35&F35&G35)=0,0,COUNTIF(E35:G35,\"Won\")*1+COUNTIF(E35:G35,\"DNF (Leading)\")*0.67+COUNTIF(E35:G35,\"DNF (Tied)\")*0.5+COUNTIF(E35:G35,\"DNF (Trailing)\")*0.33))","v":0},{"$f":"C36","v":0}]
[null,null,null,{"$f":"IF(ISERROR(VLOOKUP(C36,'Team List'!B:D,3,0)),\"\",VLOOKUP(C36,'Team List'!B:D,2,0))","v":""},{"$f":"IF(E35=\"\",\"\",IF(E35=\"Won\",\"Lost\",IF(E35=\"DNF (Leading)\",\"DNF (Trailing)\",IF(E35=\"DNF (Trailing)\",\"DNF (Leading)\",IF(E35=\"Lost\",\"Won\",E35)))))","v":""},{"$f":"IF(F35=\"\",\"\",IF(F35=\"Won\",\"Lost\",IF(F35=\"DNF (Leading)\",\"DNF (Trailing)\",IF(F35=\"DNF (Trailing)\",\"DNF (Leading)\",IF(F35=\"Lost\",\"Won\",F35)))))","v":""},{"$f":"IF(G35=\"\",\"\",IF(G35=\"Won\",\"Lost\",IF(G35=\"DNF (Leading)\",\"DNF (Trailing)\",IF(G35=\"DNF (Trailing)\",\"DNF (Leading)\",IF(G35=\"Lost\",\"Won\",G35)))))","v":""},{"$f":"IF(H35=\"Won\",\"Lost\",IF(H35=\"Lost\",\"Won\",H35))","v":""},{"$f":"IF(C35=\"Bye\",0,IF(LEN(E36&F36&G36)=0,0,COUNTIF(E36:G36,\"Won\")*1+COUNTIF(E36:G36,\"DNF (Leading)\")*0.67+COUNTIF(E36:G36,\"DNF (Tied)\")*0.5+COUNTIF(E36:G36,\"DNF (Trailing)\")*0.33))","v":0},{"$f":"C35","v":0}]
[18,null,null,{"$f":"IF(ISERROR(VLOOKUP(C37,'Team List'!B:D,3,0)),\"\",VLOOKUP(C37,'Team List'!B:D,2,0))","v":""},null,null,null,{"$f":"IF(COUNTIF(E37:G37,\"Won\")=2,\"Won\",IF(COUNTIF(E37:G37,\"Lost\")=2,\"Lost\",IF(AND((E37=\"Won\"),OR(F37=\"DNF (Leading)\",F37=\"DNF (Tied)\",F37=\"DNF (Trailing)\")),\"Won\",IF(AND(COUNTIF(E37:F37,\"Won\")=1,OR(G37=\"DNF (Leading)\",G37=\"DNF (Tied)\",G37=\"DNF (Trailing)\")),\"Tied\",IF(OR(E37=\"DNF (Leading)\",E37=\"DNF (Tied)\",E37=\"DNF (Trailing)\"),\"Tied\",IF(AND((E37=\"Lost\"),OR(F37=\"DNF (Leading)\",F37=\"DNF (Tied)\",F37=\"DNF (Trailing)\")),\"Lost\",IF(C38=\"Bye\",\"Bye\",\"\")))))))","v":""},{"$f":"IF(C38=\"Bye\",0,IF(LEN(E37&F37&G37)=0,0,COUNTIF(E37:G37,\"Won\")*1+COUNTIF(E37:G37,\"DNF (Leading)\")*0.67+COUNTIF(E37:G37,\"DNF (Tied)\")*0.5+COUNTIF(E37:G37,\"DNF (Trailing)\")*0.33))","v":0},{"$f":"C38","v":0}]
[null,null,null,{"$f":"IF(ISERROR(VLOOKUP(C38,'Team List'!B:D,3,0)),\"\",VLOOKUP(C38,'Team List'!B:D,2,0))","v":""},{"$f":"IF(E37=\"\",\"\",IF(E37=\"Won\",\"Lost\",IF(E37=\"DNF (Leading)\",\"DNF (Trailing)\",IF(E37=\"DNF (Trailing)\",\"DNF (Leading)\",IF(E37=\"Lost\",\"Won\",E37)))))","v":""},{"$f":"IF(F37=\"\",\"\",IF(F37=\"Won\",\"Lost\",IF(F37=\"DNF (Leading)\",\"DNF (Trailing)\",IF(F37=\"DNF (Trailing)\",\"DNF (Leading)\",IF(F37=\"Lost\",\"Won\",F37)))))","v":""},{"$f":"IF(G37=\"\",\"\",IF(G37=\"Won\",\"Lost\",IF(G37=\"DNF (Leading)\",\"DNF (Trailing)\",IF(G37=\"DNF (Trailing)\",\"DNF (Leading)\",IF(G37=\"Lost\",\"Won\",G37)))))","v":""},{"$f":"IF(H37=\"Won\",\"Lost\",IF(H37=\"Lost\",\"Won\",H37))","v":""},{"$f":"IF(C37=\"Bye\",0,IF(LEN(E38&F38&G38)=0,0,COUNTIF(E38:G38,\"Won\")*1+COUNTIF(E38:G38,\"DNF (Leading)\")*0.67+COUNTIF(E38:G38,\"DNF (Tied)\")*0.5+COUNTIF(E38:G38,\"DNF (Trailing)\")*0.33))","v":0},{"$f":"C37","v":0}]
[19,null,null,{"$f":"IF(ISERROR(VLOOKUP(C39,'Team List'!B:D,3,0)),\"\",VLOOKUP(C39,'Team List'!B:D,2,0))","v":""},null,null,null,{"$f":"IF(COUNTIF(E39:G39,\"Won\")=2,\"Won\",IF(COUNTIF(E39:G39,\"Lost\")=2,\"Lost\",IF(AND((E39=\"Won\"),OR(F39=\"DNF (Leading)\",F39=\"DNF (Tied)\",F39=\"DNF (Trailing)\")),\"Won\",IF(AND(COUNTIF(E39:F39,\"Won\")=1,OR(G39=\"DNF (Leading)\",G39=\"DNF (Tied)\",G39=\"DNF (Trailing)\")),\"Tied\",IF(OR(E39=\"DNF (Leading)\",E39=\"DNF (Tied)\",E39=\"DNF (Trailing)\"),\"Tied\",IF(AND((E39=\"Lost\"),OR(F39=\"DNF (Leading)\",F39=\"DNF (Tied)\",F39=\"DNF (Trailing)\")),\"Lost\",IF(C40=\"Bye\",\"Bye\",\"\")))))))","v":""},{"$f":"IF(C40=\"Bye\",0,IF(LEN(E39&F39&G39)=0,0,COUNTIF(E39:G39,\"Won\")*1+COUNTIF(E39:G39,\"DNF (Leading)\")*0.67+COUNTIF(E39:G39,\"DNF (Tied)\")*0.5+COUNTIF(E39:G39,\"DNF (Trailing)\")*0.33))","v":0},{"$f":"C40","v":0}]
[null,null,null,{"$f":"IF(ISERROR(VLOOKUP(C40,'Team List'!B:D,3,0)),\"\",VLOOKUP(C40,'Team List'!B:D,2,0))","v":""},{"$f":"IF(E39=\"\",\"\",IF(E39=\"Won\",\"Lost\",IF(E39=\"DNF (Leading)\",\"DNF (Trailing)\",IF(E39=\"DNF (Trailing)\",\"DNF (Leading)\",IF(E39=\"Lost\",\"Won\",E39)))))","v":""},{"$f":"IF(F39=\"\",\"\",IF(F39=\"Won\",\"Lost\",IF(F39=\"DNF (Leading)\",\"DNF (Trailing)\",IF(F39=\"DNF (Trailing)\",\"DNF (Leading)\",IF(F39=\"Lost\",\"Won\",F39)))))","v":""},{"$f":"IF(G39=\"\",\"\",IF(G39=\"Won\",\"Lost\",IF(G39=\"DNF (Leading)\",\"DNF (Trailing)\",IF(G39=\"DNF (Trailing)\",\"DNF (Leading)\",IF(G39=\"Lost\",\"Won\",G39)))))","v":""},{"$f":"IF(H39=\"Won\",\"Lost\",IF(H39=\"Lost\",\"Won\",H39))","v":""},{"$f":"IF(C39=\"Bye\",0,IF(LEN(E40&F40&G40)=0,0,COUNTIF(E40:G40,\"Won\")*1+COUNTIF(E40:G40,\"DNF (Leading)\")*0.67+COUNTIF(E40:G40,\"DNF (Tied)\")*0.5+COUNTIF(E40:G40,\"DNF (Trailing)\")*0.33))","v":0},{"$f":"C39","v":0}]
[20,null,null,{"$f":"IF(ISERROR(VLOOKUP(C41,'Team List'!B:D,3,0)),\"\",VLOOKUP(C41,'Team List'!B:D,2,0))","v":""},null,null,null,{"$f":"IF(COUNTIF(E41:G41,\"Won\")=2,\"Won\",IF(COUNTIF(E41:G41,\"Lost\")=2,\"Lost\",IF(AND((E41=\"Won\"),OR(F41=\"DNF (Leading)\",F41=\"DNF (Tied)\",F41=\"DNF (Trailing)\")),\"Won\",IF(AND(COUNTIF(E41:F41,\"Won\")=1,OR(G41=\"DNF (Leading)\",G41=\"DNF (Tied)\",G41=\"DNF (Trailing)\")),\"Tied\",IF(OR(E41=\"DNF (Leading)\",E41=\"DNF (Tied)\",E41=\"DNF (Trailing)\"),\"Tied\",IF(AND((E41=\"Lost\"),OR(F41=\"DNF (Leading)\",F41=\"DNF (Tied)\",F41=\"DNF (Trailing)\")),\"Lost\",IF(C42=\"Bye\",\"Bye\",\"\")))))))","v":""},{"$f":"IF(C42=\"Bye\",0,IF(LEN(E41&F41&G41)=0,0,COUNTIF(E41:G41,\"Won\")*1+COUNTIF(E41:G41,\"DNF (Leading)\")*0.67+COUNTIF(E41:G41,\"DNF (Tied)\")*0.5+COUNTIF(E41:G41,\"DNF (Trailing)\")*0.33))","v":0},{"$f":"C42","v":0}]
[null,null,null,{"$f":"IF(ISERROR(VLOOKUP(C42,'Team List'!B:D,3,0)),\"\",VLOOKUP(C42,'Team List'!B:D,2,0))","v":""},{"$f":"IF(E41=\"\",\"\",IF(E41=\"Won\",\"Lost\",IF(E41=\"DNF (Leading)\",\"DNF (Trailing)\",IF(E41=\"DNF (Trailing)\",\"DNF (Leading)\",IF(E41=\"Lost\",\"Won\",E41)))))","v":""},{"$f":"IF(F41=\"\",\"\",IF(F41=\"Won\",\"Lost\",IF(F41=\"DNF (Leading)\",\"DNF (Trailing)\",IF(F41=\"DNF (Trailing)\",\"DNF (Leading)\",IF(F41=\"Lost\",\"Won\",F41)))))","v":""},{"$f":"IF(G41=\"\",\"\",IF(G41=\"Won\",\"Lost\",IF(G41=\"DNF (Leading)\",\"DNF (Trailing)\",IF(G41=\"DNF (Trailing)\",\"DNF (Leading)\",IF(G41=\"Lost\",\"Won\",G41)))))","v":""},{"$f":"IF(H41=\"Won\",\"Lost\",IF(H41=\"Lost\",\"Won\",H41))","v":""},{"$f":"IF(C41=\"Bye\",0,IF(LEN(E42&F42&G42)=0,0,COUNTIF(E42:G42,\"Won\")*1+COUNTIF(E42:G42,\"DNF (Leading)\")*0.67+COUNTIF(E42:G42,\"DNF (Tied)\")*0.5+COUNTIF(E42:G42,\"DNF (Trailing)\")*0.33))","v":0},{"$f":"C41","v":0}]
[21,null,null,{"$f":"IF(ISERROR(VLOOKUP(C43,'Team List'!B:D,3,0)),\"\",VLOOKUP(C43,'Team List'!B:D,2,0))","v":""},null,null,null,{"$f":"IF(COUNTIF(E43:G43,\"Won\")=2,\"Won\",IF(COUNTIF(E43:G43,\"Lost\")=2,\"Lost\",IF(AND((E43=\"Won\"),OR(F43=\"DNF (Leading)\",F43=\"DNF (Tied)\",F43=\"DNF (Trailing)\")),\"Won\",IF(AND(COUNTIF(E43:F43,\"Won\")=1,OR(G43=\"DNF (Leading)\",G43=\"DNF (Tied)\",G43=\"DNF (Trailing)\")),\"Tied\",IF(OR(E43=\"DNF (Leading)\",E43=\"DNF (Tied)\",E43=\"DNF (Trailing)\"),\"Tied\",IF(AND((E43=\"Lost\"),OR(F43=\"DNF (Leading)\",F43=\"DNF (Tied)\",F43=\"DNF (Trailing)\")),\"Lost\",IF(C44=\"Bye\",\"Bye\",\"\")))))))","v":""},{"$f":"IF(C44=\"Bye\",0,IF(LEN(E43&F43&G43)=0,0,COUNTIF(E43:G43,\"Won\")*1+COUNTIF(E43:G43,\"DNF (Leading)\")*0.67+COUNTIF(E43:G43,\"DNF (Tied)\")*0.5+COUNTIF(E43:G43,\"DNF (Trailing)\")*0.33))","v":0},{"$f":"C44","v":0}]
[null,null,null,{"$f":"IF(ISERROR(VLOOKUP(C44,'Team List'!B:D,3,0)),\"\",VLOOKUP(C44,'Team List'!B:D,2,0))","v":""},{"$f":"IF(E43=\"\",\"\",IF(E43=\"Won\",\"Lost\",IF(E43=\"DNF (Leading)\",\"DNF (Trailing)\",IF(E43=\"DNF (Trailing)\",\"DNF (Leading)\",IF(E43=\"Lost\",\"Won\",E43)))))","v":""},{"$f":"IF(F43=\"\",\"\",IF(F43=\"Won\",\"Lost\",IF(F43=\"DNF (Leading)\",\"DNF (Trailing)\",IF(F43=\"DNF (Trailing)\",\"DNF (Leading)\",IF(F43=\"Lost\",\"Won\",F43)))))","v":""},{"$f":"IF(G43=\"\",\"\",IF(G43=\"Won\",\"Lost\",IF(G43=\"DNF (Leading)\",\"DNF (Trailing)\",IF(G43=\"DNF (Trailing)\",\"DNF (Leading)\",IF(G43=\"Lost\",\"Won\",G43)))))","v":""},{"$f":"IF(H43=\"Won\",\"Lost\",IF(H43=\"Lost\",\"Won\",H43))","v":""},{"$f":"IF(C43=\"Bye\",0,IF(LEN(E44&F44&G44)=0,0,COUNTIF(E44:G44,\"Won\")*1+COUNTIF(E44:G44,\"DNF (Leading)\")*0.67+COUNTIF(E44:G44,\"DNF (Tied)\")*0.5+COUNTIF(E44:G44,\"DNF (Trailing)\")*0.33))","v":0},{"$f":"C43","v":0}]
[22,null,null,{"$f":"IF(ISERROR(VLOOKUP(C45,'Team List'!B:D,3,0)),\"\",VLOOKUP(C45,'Team List'!B:D,2,0))","v":""},null,null,null,{"$f":"IF(COUNTIF(E45:G45,\"Won\")=2,\"Won\",IF(COUNTIF(E45:G45,\"Lost\")=2,\"Lost\",IF(AND((E45=\"Won\"),OR(F45=\"DNF (Leading)\",F45=\"DNF (Tied)\",F45=\"DNF (Trailing)\")),\"Won\",IF(AND(COUNTIF(E45:F45,\"Won\")=1,OR(G45=\"DNF (Leading)\",G45=\"DNF (Tied)\",G45=\"DNF (Trailing)\")),\"Tied\",IF(OR(E45=\"DNF (Leading)\",E45=\"DNF (Tied)\",E45=\"DNF (Trailing)\"),\"Tied\",IF(AND((E45=\"Lost\"),OR(F45=\"DNF (Leading)\",F45=\"DNF (Tied)\",F45=\"DNF (Trailing)\")),\"Lost\",IF(C46=\"Bye\",\"Bye\",\"\")))))))","v":""},{"$f":"IF(C46=\"Bye\",0,IF(LEN(E45&F45&G45)=0,0,COUNTIF(E45:G45,\"Won\")*1+COUNTIF(E45:G45,\"DNF (Leading)\")*0.67+COUNTIF(E45:G45,\"DNF (Tied)\")*0.5+COUNTIF(E45:G45,\"DNF (Trailing)\")*0.33))","v":0},{"$f":"C46","v":0}]
[null,null,null,{"$f":"IF(ISERROR(VLOOKUP(C46,'Team List'!B:D,3,0)),\"\",VLOOKUP(C46,'Team List'!B:D,2,0))","v":""},{"$f":"IF(E45=\"\",\"\",IF(E45=\"Won\",\"Lost\",IF(E45=\"DNF (Leading)\",\"DNF (Trailing)\",IF(E45=\"DNF (Trailing)\",\"DNF (Leading)\",IF(E45=\"Lost\",\"Won\",E45)))))","v":""},{"$f":"IF(F45=\"\",\"\",IF(F45=\"Won\",\"Lost\",IF(F45=\"DNF (Leading)\",\"DNF (Trailing)\",IF(F45=\"DNF (Trailing)\",\"DNF (Leading)\",IF(F45=\"Lost\",\"Won\",F45)))))","v":""},{"$f":"IF(G45=\"\",\"\",IF(G45=\"Won\",\"Lost\",IF(G45=\"DNF (Leading)\",\"DNF (Trailing)\",IF(G45=\"DNF (Trailing)\",\"DNF (Leading)\",IF(G45=\"Lost\",\"Won\",G45)))))","v":""},{"$f":"IF(H45=\"Won\",\"Lost\",IF(H45=\"Lost\",\"Won\",H45))","v":""},{"$f":"IF(C45=\"Bye\",0,IF(LEN(E46&F46&G46)=0,0,COUNTIF(E46:G46,\"Won\")*1+COUNTIF(E46:G46,\"DNF (Leading)\")*0.67+COUNTIF(E46:G46,\"DNF (Tied)\")*0.5+COUNTIF(E46:G46,\"DNF (Trailing)\")*0.33))","v":0},{"$f":"C45","v":0}]
[23,null,null,{"$f":"IF(ISERROR(VLOOKUP(C47,'Team List'!B:D,3,0)),\"\",VLOOKUP(C47,'Team List'!B:D,2,0))","v":""},null,null,null,{"$f":"IF(COUNTIF(E47:G47,\"Won\")=2,\"Won\",IF(COUNTIF(E47:G47,\"Lost\")=2,\"Lost\",IF(AND((E47=\"Won\"),OR(F47=\"DNF (Leading)\",F47=\"DNF (Tied)\",F47=\"DNF (Trailing)\")),\"Won\",IF(AND(COUNTIF(E47:F47,\"Won\")=1,OR(G47=\"DNF (Leading)\",G47=\"DNF (Tied)\",G47=\"DNF (Trailing)\")),\"Tied\",IF(OR(E47=\"DNF (Leading)\",E47=\"DNF (Tied)\",E47=\"DNF (Trailing)\"),\"Tied\",IF(AND((E47=\"Lost\"),OR(F47=\"DNF (Leading)\",F47=\"DNF (Tied)\",F47=\"DNF (Trailing)\")),\"Lost\",IF(C48=\"Bye\",\"Bye\",\"\")))))))","v":""},{"$f":"IF(C48=\"Bye\",0,IF(LEN(E47&F47&G47)=0,0,COUNTIF(E47:G47,\"Won\")*1+COUNTIF(E47:G47,\"DNF (Leading)\")*0.67+COUNTIF(E47:G47,\"DNF (Tied)\")*0.5+COUNTIF(E47:G47,\"DNF (Trailing)\")*0.33))","v":0},{"$f":"C48","v":0}]
[null,null,null,{"$f":"IF(ISERROR(VLOOKUP(C48,'Team List'!B:D,3,0)),\"\",VLOOKUP(C48,'Team List'!B:D,2,0))","v":""},{"$f":"IF(E47=\"\",\"\",IF(E47=\"Won\",\"Lost\",IF(E47=\"DNF (Leading)\",\"DNF (Trailing)\",IF(E47=\"DNF (Trailing)\",\"DNF (Leading)\",IF(E47=\"Lost\",\"Won\",E47)))))","v":""},{"$f":"IF(F47=\"\",\"\",IF(F47=\"Won\",\"Lost\",IF(F47=\"DNF (Leading)\",\"DNF (Trailing)\",IF(F47=\"DNF (Trailing)\",\"DNF (Leading)\",IF(F47=\"Lost\",\"Won\",F47)))))","v":""},{"$f":"IF(G47=\"\",\"\",IF(G47=\"Won\",\"Lost\",IF(G47=\"DNF (Leading)\",\"DNF (Trailing)\",IF(G47=\"DNF (Trailing)\",\"DNF (Leading)\",IF(G47=\"Lost\",\"Won\",G47)))))","v":""},{"$f":"IF(H47=\"Won\",\"Lost\",IF(H47=\"Lost\",\"Won\",H47))","v":""},{"$f":"IF(C47=\"Bye\",0,IF(LEN(E48&F48&G48)=0,0,COUNTIF(E48:G48,\"Won\")*1+COUNTIF(E48:G48,\"DNF (Leading)\")*0.67+COUNTIF(E48:G48,\"DNF (Tied)\")*0.5+COUNTIF(E48:G48,\"DNF (Trailing)\")*0.33))","v":0},{"$f":"C47","v":0}]
[24,null,null,{"$f":"IF(ISERROR(VLOOKUP(C49,'Team List'!B:D,3,0)),\"\",VLOOKUP(C49,'Team List'!B:D,2,0))","v":""},null,null,null,{"$f":"IF(COUNTIF(E49:G49,\"Won\")=2,\"Won\",IF(COUNTIF(E49:G49,\"Lost\")=2,\"Lost\",IF(AND((E49=\"Won\"),OR(F49=\"DNF (Leading)\",F49=\"DNF (Tied)\",F49=\"DNF (Trailing)\")),\"Won\",IF(AND(COUNTIF(E49:F49,\"Won\")=1,OR(G49=\"DNF (Leading)\",G49=\"DNF (Tied)\",G49=\"DNF (Trailing)\")),\"Tied\",IF(OR(E49=\"DNF (Leading)\",E49=\"DNF (Tied)\",E49=\"DNF (Trailing)\"),\"Tied\",IF(AND((E49=\"Lost\"),OR(F49=\"DNF (Leading)\",F49=\"DNF (Tied)\",F49=\"DNF (Trailing)\")),\"Lost\",IF(C50=\"Bye\",\"Bye\",\"\")))))))","v":""},{"$f":"IF(C50=\"Bye\",0,IF(LEN(E49&F49&G49)=0,0,COUNTIF(E49:G49,\"Won\")*1+COUNTIF(E49:G49,\"DNF (Leading)\")*0.67+COUNTIF(E49:G49,\"DNF (Tied)\")*0.5+COUNTIF(E49:G49,\"DNF (Trailing)\")*0.33))","v":0},{"$f":"C50","v":0}]
[null,null,null,{"$f":"IF(ISERROR(VLOOKUP(C50,'Team List'!B:D,3,0)),\"\",VLOOKUP(C50,'Team List'!B:D,2,0))","v":""},{"$f":"IF(E49=\"\",\"\",IF(E49=\"Won\",\"Lost\",IF(E49=\"DNF (Leading)\",\"DNF (Trailing)\",IF(E49=\"DNF (Trailing)\",\"DNF (Leading)\",IF(E49=\"Lost\",\"Won\",E49)))))","v":""},{"$f":"IF(F49=\"\",\"\",IF(F49=\"Won\",\"Lost\",IF(F49=\"DNF (Leading)\",\"DNF (Trailing)\",IF(F49=\"DNF (Trailing)\",\"DNF (Leading)\",IF(F49=\"Lost\",\"Won\",F49)))))","v":""},{"$f":"IF(G49=\"\",\"\",IF(G49=\"Won\",\"Lost\",IF(G49=\"DNF (Leading)\",\"DNF (Trailing)\",IF(G49=\"DNF (Trailing)\",\"DNF (Leading)\",IF(G49=\"Lost\",\"Won\",G49)))))","v":""},{"$f":"IF(H49=\"Won\",\"Lost\",IF(H49=\"Lost\",\"Won\",H49))","v":""},{"$f":"IF(C49=\"Bye\",0,IF(LEN(E50&F50&G50)=0,0,COUNTIF(E50:G50,\"Won\")*1+COUNTIF(E50:G50,\"DNF (Leading)\")*0.67+COUNTIF(E50:G50,\"DNF (Tied)\")*0.5+COUNTIF(E50:G50,\"DNF (Trailing)\")*0.33))","v":0},{"$f":"C49","v":0}]
[25,null,null,{"$f":"IF(ISERROR(VLOOKUP(C51,'Team List'!B:D,3,0)),\"\",VLOOKUP(C51,'Team List'!B:D,2,0))","v":""},null,null,null,{"$f":"IF(COUNTIF(E51:G51,\"Won\")=2,\"Won\",IF(COUNTIF(E51:G51,\"Lost\")=2,\"Lost\",IF(AND((E51=\"Won\"),OR(F51=\"DNF (Leading)\",F51=\"DNF (Tied)\",F51=\"DNF (Trailing)\")),\"Won\",IF(AND(COUNTIF(E51:F51,\"Won\")=1,OR(G51=\"DNF (Leading)\",G51=\"DNF (Tied)\",G51=\"DNF (Trailing)\")),\"Tied\",IF(OR(E51=\"DNF (Leading)\",E51=\"DNF (Tied)\",E51=\"DNF (Trailing)\"),\"Tied\",IF(AND((E51=\"Lost\"),OR(F51=\"DNF (Leading)\",F51=\"DNF (Tied)\",F51=\"DNF (Trailing)\")),\"Lost\",IF(C52=\"Bye\",\"Bye\",\"\")))))))","v":""},{"$f":"IF(C52=\"Bye\",0,IF(LEN(E51&F51&G51)=0,0,COUNTIF(E51:G51,\"Won\")*1+COUNTIF(E51:G51,\"DNF (Leading)\")*0.67+COUNTIF(E51:G51,\"DNF (Tied)\")*0.5+COUNTIF(E51:G51,\"DNF (Trailing)\")*0.33))","v":0},{"$f":"C52","v":0}]
[null,null,null,{"$f":"IF(ISERROR(VLOOKUP(C52,'Team List'!B:D,3,0)),\"\",VLOOKUP(C52,'Team List'!B:D,2,0))","v":""},{"$f":"IF(E51=\"\",\"\",IF(E51=\"Won\",\"Lost\",IF(E51=\"DNF (Leading)\",\"DNF (Trailing)\",IF(E51=\"DNF (Trailing)\",\"DNF (Leading)\",IF(E51=\"Lost\",\"Won\",E51)))))","v":""},{"$f":"IF(F51=\"\",\"\",IF(F51=\"Won\",\"Lost\",IF(F51=\"DNF (Leading)\",\"DNF (Trailing)\",IF(F51=\"DNF (Trailing)\",\"DNF (Leading)\",IF(F51=\"Lost\",\"Won\",F51)))))","v":""},{"$f":"IF(G51=\"\",\"\",IF(G51=\"Won\",\"Lost\",IF(G51=\"DNF (Leading)\",\"DNF (Trailing)\",IF(G51=\"DNF (Trailing)\",\"DNF (Leading)\",IF(G51=\"Lost\",\"Won\",G51)))))","v":""},{"$f":"IF(H51=\"Won\",\"Lost\",IF(H51=\"Lost\",\"Won\",H51))","v":""},{"$f":"IF(C51=\"Bye\",0,IF(LEN(E52&F52&G52)=0,0,COUNTIF(E52:G52,\"Won\")*1+COUNTIF(E52:G52,\"DNF (Leading)\")*0.67+COUNTIF(E52:G52,\"DNF (Tied)\")*0.5+COUNTIF(E52:G52,\"DNF (Trailing)\")*0.33))","v":0},{"$f":"C51","v":0}]
[26,null,null,{"$f":"IF(ISERROR(VLOOKUP(C53,'Team List'!B:D,3,0)),\"\",VLOOKUP(C53,'Team List'!B:D,2,0))","v":""},null,null,null,{"$f":"IF(COUNTIF(E53:G53,\"Won\")=2,\"Won\",IF(COUNTIF(E53:G53,\"Lost\")=2,\"Lost\",IF(AND((E53=\"Won\"),OR(F53=\"DNF (Leading)\",F53=\"DNF (Tied)\",F53=\"DNF (Trailing)\")),\"Won\",IF(AND(COUNTIF(E53:F53,\"Won\")=1,OR(G53=\"DNF (Leading)\",G53=\"DNF (Tied)\",G53=\"DNF (Trailing)\")),\"Tied\",IF(OR(E53=\"DNF (Leading)\",E53=\"DNF (Tied)\",E53=\"DNF (Trailing)\"),\"Tied\",IF(AND((E53=\"Lost\"),OR(F53=\"DNF (Leading)\",F53=\"DNF (Tied)\",F53=\"DNF (Trailing)\")),\"Lost\",IF(C54=\"Bye\",\"Bye\",\"\")))))))","v":""},{"$f":"IF(C54=\"Bye\",0,IF(LEN(E53&F53&G53)=0,0,COUNTIF(E53:G53,\"Won\")*1+COUNTIF(E53:G53,\"DNF (Leading)\")*0.67+COUNTIF(E53:G53,\"DNF (Tied)\")*0.5+COUNTIF(E53:G53,\"DNF (Trailing)\")*0.33))","v":0},{"$f":"C54","v":0}]
[null,null,null,{"$f":"IF(ISERROR(VLOOKUP(C54,'Team List'!B:D,3,0)),\"\",VLOOKUP(C54,'Team List'!B:D,2,0))","v":""},{"$f":"IF(E53=\"\",\"\",IF(E53=\"Won\",\"Lost\",IF(E53=\"DNF (Leading)\",\"DNF (Trailing)\",IF(E53=\"DNF (Trailing)\",\"DNF (Leading)\",IF(E53=\"Lost\",\"Won\",E53)))))","v":""},{"$f":"IF(F53=\"\",\"\",IF(F53=\"Won\",\"Lost\",IF(F53=\"DNF (Leading)\",\"DNF (Trailing)\",IF(F53=\"DNF (Trailing)\",\"DNF (Leading)\",IF(F53=\"Lost\",\"Won\",F53)))))","v":""},{"$f":"IF(G53=\"\",\"\",IF(G53=\"Won\",\"Lost\",IF(G53=\"DNF (Leading)\",\"DNF (Trailing)\",IF(G53=\"DNF (Trailing)\",\"DNF (Leading)\",IF(G53=\"Lost\",\"Won\",G53)))))","v":""},{"$f":"IF(H53=\"Won\",\"Lost\",IF(H53=\"Lost\",\"Won\",H53))","v":""},{"$f":"IF(C53=\"Bye\",0,IF(LEN(E54&F54&G54)=0,0,COUNTIF(E54:G54,\"Won\")*1+COUNTIF(E54:G54,\"DNF (Leading)\")*0.67+COUNTIF(E54:G54,\"DNF (Tied)\")*0.5+COUNTIF(E54:G54,\"DNF (Trailing)\")*0.33))","v":0},{"$f":"C53","v":0}]
[27,null,null,{"$f":"IF(ISERROR(VLOOKUP(C55,'Team List'!B:D,3,0)),\"\",VLOOKUP(C55,'Team List'!B:D,2,0))","v":""},null,null,null,{"$f":"IF(COUNTIF(E55:G55,\"Won\")=2,\"Won\",IF(COUNTIF(E55:G55,\"Lost\")=2,\"Lost\",IF(AND((E55=\"Won\"),OR(F55=\"DNF (Leading)\",F55=\"DNF (Tied)\",F55=\"DNF (Trailing)\")),\"Won\",IF(AND(COUNTIF(E55:F55,\"Won\")=1,OR(G55=\"DNF (Leading)\",G55=\"DNF (Tied)\",G55=\"DNF (Trailing)\")),\"Tied\",IF(OR(E55=\"DNF (Leading)\",E55=\"DNF (Tied)\",E55=\"DNF (Trailing)\"),\"Tied\",IF(AND((E55=\"Lost\"),OR(F55=\"DNF (Leading)\",F55=\"DNF (Tied)\",F55=\"DNF (Trailing)\")),\"Lost\",IF(C56=\"Bye\",\"Bye\",\"\")))))))","v":""},{"$f":"IF(C56=\"Bye\",0,IF(LEN(E55&F55&G55)=0,0,COUNTIF(E55:G55,\"Won\")*1+COUNTIF(E55:G55,\"DNF (Leading)\")*0.67+COUNTIF(E55:G55,\"DNF (Tied)\")*0.5+COUNTIF(E55:G55,\"DNF (Trailing)\")*0.33))","v":0},{"$f":"C56","v":0}]
[null,null,null,{"$f":"IF(ISERROR(VLOOKUP(C56,'Team List'!B:D,3,0)),\"\",VLOOKUP(C56,'Team List'!B:D,2,0))","v":""},{"$f":"IF(E55=\"\",\"\",IF(E55=\"Won\",\"Lost\",IF(E55=\"DNF (Leading)\",\"DNF (Trailing)\",IF(E55=\"DNF (Trailing)\",\"DNF (Leading)\",IF(E55=\"Lost\",\"Won\",E55)))))","v":""},{"$f":"IF(F55=\"\",\"\",IF(F55=\"Won\",\"Lost\",IF(F55=\"DNF (Leading)\",\"DNF (Trailing)\",IF(F55=\"DNF (Trailing)\",\"DNF (Leading)\",IF(F55=\"Lost\",\"Won\",F55)))))","v":""},{"$f":"IF(G55=\"\",\"\",IF(G55=\"Won\",\"Lost\",IF(G55=\"DNF (Leading)\",\"DNF (Trailing)\",IF(G55=\"DNF (Trailing)\",\"DNF (Leading)\",IF(G55=\"Lost\",\"Won\",G55)))))","v":""},{"$f":"IF(H55=\"Won\",\"Lost\",IF(H55=\"Lost\",\"Won\",H55))","v":""},{"$f":"IF(C55=\"Bye\",0,IF(LEN(E56&F56&G56)=0,0,COUNTIF(E56:G56,\"Won\")*1+COUNTIF(E56:G56,\"DNF (Leading)\")*0.67+COUNTIF(E56:G56,\"DNF (Tied)\")*0.5+COUNTIF(E56:G56,\"DNF (Trailing)\")*0.33))","v":0},{"$f":"C55","v":0}]
[28,null,null,{"$f":"IF(ISERROR(VLOOKUP(C57,'Team List'!B:D,3,0)),\"\",VLOOKUP(C57,'Team List'!B:D,2,0))","v":""},null,null,null,{"$f":"IF(COUNTIF(E57:G57,\"Won\")=2,\"Won\",IF(COUNTIF(E57:G57,\"Lost\")=2,\"Lost\",IF(AND((E57=\"Won\"),OR(F57=\"DNF (Leading)\",F57=\"DNF (Tied)\",F57=\"DNF (Trailing)\")),\"Won\",IF(AND(COUNTIF(E57:F57,\"Won\")=1,OR(G57=\"DNF (Leading)\",G57=\"DNF (Tied)\",G57=\"DNF (Trailing)\")),\"Tied\",IF(OR(E57=\"DNF (Leading)\",E57=\"DNF (Tied)\",E57=\"DNF (Trailing)\"),\"Tied\",IF(AND((E57=\"Lost\"),OR(F57=\"DNF (Leading)\",F57=\"DNF (Tied)\",F57=\"DNF (Trailing)\")),\"Lost\",IF(C58=\"Bye\",\"Bye\",\"\")))))))","v":""},{"$f":"IF(C58=\"Bye\",0,IF(LEN(E57&F57&G57)=0,0,COUNTIF(E57:G57,\"Won\")*1+COUNTIF(E57:G57,\"DNF (Leading)\")*0.67+COUNTIF(E57:G57,\"DNF (Tied)\")*0.5+COUNTIF(E57:G57,\"DNF (Trailing)\")*0.33))","v":0},{"$f":"C58","v":0}]
[null,null,null,{"$f":"IF(ISERROR(VLOOKUP(C58,'Team List'!B:D,3,0)),\"\",VLOOKUP(C58,'Team List'!B:D,2,0))","v":""},{"$f":"IF(E57=\"\",\"\",IF(E57=\"Won\",\"Lost\",IF(E57=\"DNF (Leading)\",\"DNF (Trailing)\",IF(E57=\"DNF (Trailing)\",\"DNF (Leading)\",IF(E57=\"Lost\",\"Won\",E57)))))","v":""},{"$f":"IF(F57=\"\",\"\",IF(F57=\"Won\",\"Lost\",IF(F57=\"DNF (Leading)\",\"DNF (Trailing)\",IF(F57=\"DNF (Trailing)\",\"DNF (Leading)\",IF(F57=\"Lost\",\"Won\",F57)))))","v":""},{"$f":"IF(G57=\"\",\"\",IF(G57=\"Won\",\"Lost\",IF(G57=\"DNF (Leading)\",\"DNF (Trailing)\",IF(G57=\"DNF (Trailing)\",\"DNF (Leading)\",IF(G57=\"Lost\",\"Won\",G57)))))","v":""},{"$f":"IF(H57=\"Won\",\"Lost\",IF(H57=\"Lost\",\"Won\",H57))","v":""},{"$f":"IF(C57=\"Bye\",0,IF(LEN(E58&F58&G58)=0,0,COUNTIF(E58:G58,\"Won\")*1+COUNTIF(E58:G58,\"DNF (Leading)\")*0.67+COUNTIF(E58:G58,\"DNF (Tied)\")*0.5+COUNTIF(E58:G58,\"DNF (Trailing)\")*0.33))","v":0},{"$f":"C57","v":0}]
[29,null,null,{"$f":"IF(ISERROR(VLOOKUP(C59,'Team List'!B:D,3,0)),\"\",VLOOKUP(C59,'Team List'!B:D,2,0))","v":""},null,null,null,{"$f":"IF(COUNTIF(E59:G59,\"Won\")=2,\"Won\",IF(COUNTIF(E59:G59,\"Lost\")=2,\"Lost\",IF(AND((E59=\"Won\"),OR(F59=\"DNF (Leading)\",F59=\"DNF (Tied)\",F59=\"DNF (Trailing)\")),\"Won\",IF(AND(COUNTIF(E59:F59,\"Won\")=1,OR(G59=\"DNF (Leading)\",G59=\"DNF (Tied)\",G59=\"DNF (Trailing)\")),\"Tied\",IF(OR(E59=\"DNF (Leading)\",E59=\"DNF (Tied)\",E59=\"DNF (Trailing)\"),\"Tied\",IF(AND((E59=\"Lost\"),OR(F59=\"DNF (Leading)\",F59=\"DNF (Tied)\",F59=\"DNF (Trailing)\")),\"Lost\",IF(C60=\"Bye\",\"Bye\",\"\")))))))","v":""},{"$f":"IF(C60=\"Bye\",0,IF(LEN(E59&F59&G59)=0,0,COUNTIF(E59:G59,\"Won\")*1+COUNTIF(E59:G59,\"DNF (Leading)\")*0.67+COUNTIF(E59:G59,\"DNF (Tied)\")*0.5+COUNTIF(E59:G59,\"DNF (Trailing)\")*0.33))","v":0},{"$f":"C60","v":0}]
[null,null,null,{"$f":"IF(ISERROR(VLOOKUP(C60,'Team List'!B:D,3,0)),\"\",VLOOKUP(C60,'Team List'!B:D,2,0))","v":""},{"$f":"IF(E59=\"\",\"\",IF(E59=\"Won\",\"Lost\",IF(E59=\"DNF (Leading)\",\"DNF (Trailing)\",IF(E59=\"DNF (Trailing)\",\"DNF (Leading)\",IF(E59=\"Lost\",\"Won\",E59)))))","v":""},{"$f":"IF(F59=\"\",\"\",IF(F59=\"Won\",\"Lost\",IF(F59=\"DNF (Leading)\",\"DNF (Trailing)\",IF(F59=\"DNF (Trailing)\",\"DNF (Leading)\",IF(F59=\"Lost\",\"Won\",F59)))))","v":""},{"$f":"IF(G59=\"\",\"\",IF(G59=\"Won\",\"Lost\",IF(G59=\"DNF (Leading)\",\"DNF (Trailing)\",IF(G59=\"DNF (Trailing)\",\"DNF (Leading)\",IF(G59=\"Lost\",\"Won\",G59)))))","v":""},{"$f":"IF(H59=\"Won\",\"Lost\",IF(H59=\"Lost\",\"Won\",H59))","v":""},{"$f":"IF(C59=\"Bye\",0,IF(LEN(E60&F60&G60)=0,0,COUNTIF(E60:G60,\"Won\")*1+COUNTIF(E60:G60,\"DNF (Leading)\")*0.67+COUNTIF(E60:G60,\"DNF (Tied)\")*0.5+COUNTIF(E60:G60,\"DNF (Trailing)\")*0.33))","v":0},{"$f":"C59","v":0}]
[30,null,null,{"$f":"IF(ISERROR(VLOOKUP(C61,'Team List'!B:D,3,0)),\"\",VLOOKUP(C61,'Team List'!B:D,2,0))","v":""},null,null,null,{"$f":"IF(COUNTIF(E61:G61,\"Won\")=2,\"Won\",IF(COUNTIF(E61:G61,\"Lost\")=2,\"Lost\",IF(AND((E61=\"Won\"),OR(F61=\"DNF (Leading)\",F61=\"DNF (Tied)\",F61=\"DNF (Trailing)\")),\"Won\",IF(AND(COUNTIF(E61:F61,\"Won\")=1,OR(G61=\"DNF (Leading)\",G61=\"DNF (Tied)\",G61=\"DNF (Trailing)\")),\"Tied\",IF(OR(E61=\"DNF (Leading)\",E61=\"DNF (Tied)\",E61=\"DNF (Trailing)\"),\"Tied\",IF(AND((E61=\"Lost\"),OR(F61=\"DNF (Leading)\",F61=\"DNF (Tied)\",F61=\"DNF (Trailing)\")),\"Lost\",IF(C62=\"Bye\",\"Bye\",\"\")))))))","v":""},{"$f":"IF(C62=\"Bye\",0,IF(LEN(E61&F61&G61)=0,0,COUNTIF(E61:G61,\"Won\")*1+COUNTIF(E61:G61,\"DNF (Leading)\")*0.67+COUNTIF(E61:G61,\"DNF (Tied)\")*0.5+COUNTIF(E61:G61,\"DNF (Trailing)\")*0.33))","v":0},{"$f":"C62","v":0}]
[null,null,null,{"$f":"IF(ISERROR(VLOOKUP(C62,'Team List'!B:D,3,0)),\"\",VLOOKUP(C62,'Team List'!B:D,2,0))","v":""},{"$f":"IF(E61=\"\",\"\",IF(E61=\"Won\",\"Lost\",IF(E61=\"DNF (Leading)\",\"DNF (Trailing)\",IF(E61=\"DNF (Trailing)\",\"DNF (Leading)\",IF(E61=\"Lost\",\"Won\",E61)))))","v":""},{"$f":"IF(F61=\"\",\"\",IF(F61=\"Won\",\"Lost\",IF(F61=\"DNF (Leading)\",\"DNF (Trailing)\",IF(F61=\"DNF (Trailing)\",\"DNF (Leading)\",IF(F61=\"Lost\",\"Won\",F61)))))","v":""},{"$f":"IF(G61=\"\",\"\",IF(G61=\"Won\",\"Lost\",IF(G61=\"DNF (Leading)\",\"DNF (Trailing)\",IF(G61=\"DNF (Trailing)\",\"DNF (Leading)\",IF(G61=\"Lost\",\"Won\",G61)))))","v":""},{"$f":"IF(H61=\"Won\",\"Lost\",IF(H61=\"Lost\",\"Won\",H61))","v":""},{"$f":"IF(C61=\"Bye\",0,IF(LEN(E62&F62&G62)=0,0,COUNTIF(E62:G62,\"Won\")*1+COUNTIF(E62:G62,\"DNF (Leading)\")*0.67+COUNTIF(E62:G62,\"DNF (Tied)\")*0.5+COUNTIF(E62:G62,\"DNF (Trailing)\")*0.33))","v":0},{"$f":"C61","v":0}]
[31,null,null,{"$f":"IF(ISERROR(VLOOKUP(C63,'Team List'!B:D,3,0)),\"\",VLOOKUP(C63,'Team List'!B:D,2,0))","v":""},null,null,null,{"$f":"IF(COUNTIF(E63:G63,\"Won\")=2,\"Won\",IF(COUNTIF(E63:G63,\"Lost\")=2,\"Lost\",IF(AND((E63=\"Won\"),OR(F63=\"DNF (Leading)\",F63=\"DNF (Tied)\",F63=\"DNF (Trailing)\")),\"Won\",IF(AND(COUNTIF(E63:F63,\"Won\")=1,OR(G63=\"DNF (Leading)\",G63=\"DNF (Tied)\",G63=\"DNF (Trailing)\")),\"Tied\",IF(OR(E63=\"DNF (Leading)\",E63=\"DNF (Tied)\",E63=\"DNF (Trailing)\"),\"Tied\",IF(AND((E63=\"Lost\"),OR(F63=\"DNF (Leading)\",F63=\"DNF (Tied)\",F63=\"DNF (Trailing)\")),\"Lost\",IF(C64=\"Bye\",\"Bye\",\"\")))))))","v":""},{"$f":"IF(C64=\"Bye\",0,IF(LEN(E63&F63&G63)=0,0,COUNTIF(E63:G63,\"Won\")*1+COUNTIF(E63:G63,\"DNF (Leading)\")*0.67+COUNTIF(E63:G63,\"DNF (Tied)\")*0.5+COUNTIF(E63:G63,\"DNF (Trailing)\")*0.33))","v":0},{"$f":"C64","v":0}]
[null,null,null,{"$f":"IF(ISERROR(VLOOKUP(C64,'Team List'!B:D,3,0)),\"\",VLOOKUP(C64,'Team List'!B:D,2,0))","v":""},{"$f":"IF(E63=\"\",\"\",IF(E63=\"Won\",\"Lost\",IF(E63=\"DNF (Leading)\",\"DNF (Trailing)\",IF(E63=\"DNF (Trailing)\",\"DNF (Leading)\",IF(E63=\"Lost\",\"Won\",E63)))))","v":""},{"$f":"IF(F63=\"\",\"\",IF(F63=\"Won\",\"Lost\",IF(F63=\"DNF (Leading)\",\"DNF (Trailing)\",IF(F63=\"DNF (Trailing)\",\"DNF (Leading)\",IF(F63=\"Lost\",\"Won\",F63)))))","v":""},{"$f":"IF(G63=\"\",\"\",IF(G63=\"Won\",\"Lost\",IF(G63=\"DNF (Leading)\",\"DNF (Trailing)\",IF(G63=\"DNF (Trailing)\",\"DNF (Leading)\",IF(G63=\"Lost\",\"Won\",G63)))))","v":""},{"$f":"IF(H63=\"Won\",\"Lost\",IF(H63=\"Lost\",\"Won\",H63))","v":""},{"$f":"IF(C63=\"Bye\",0,IF(LEN(E64&F64&G64)=0,0,COUNTIF(E64:G64,\"Won\")*1+COUNTIF(E64:G64,\"DNF (Leading)\")*0.67+COUNTIF(E64:G64,\"DNF (Tied)\")*0.5+COUNTIF(E64:G64,\"DNF (Trailing)\")*0.33))","v":0},{"$f":"C63","v":0}]
[32,null,null,{"$f":"IF(ISERROR(VLOOKUP(C65,'Team List'!B:D,3,0)),\"\",VLOOKUP(C65,'Team List'!B:D,2,0))","v":""},null,null,null,{"$f":"IF(COUNTIF(E65:G65,\"Won\")=2,\"Won\",IF(COUNTIF(E65:G65,\"Lost\")=2,\"Lost\",IF(AND((E65=\"Won\"),OR(F65=\"DNF (Leading)\",F65=\"DNF (Tied)\",F65=\"DNF (Trailing)\")),\"Won\",IF(AND(COUNTIF(E65:F65,\"Won\")=1,OR(G65=\"DNF (Leading)\",G65=\"DNF (Tied)\",G65=\"DNF (Trailing)\")),\"Tied\",IF(OR(E65=\"DNF (Leading)\",E65=\"DNF (Tied)\",E65=\"DNF (Trailing)\"),\"Tied\",IF(AND((E65=\"Lost\"),OR(F65=\"DNF (Leading)\",F65=\"DNF (Tied)\",F65=\"DNF (Trailing)\")),\"Lost\",IF(C66=\"Bye\",\"Bye\",\"\")))))))","v":""},{"$f":"IF(C66=\"Bye\",0,IF(LEN(E65&F65&G65)=0,0,COUNTIF(E65:G65,\"Won\")*1+COUNTIF(E65:G65,\"DNF (Leading)\")*0.67+COUNTIF(E65:G65,\"DNF (Tied)\")*0.5+COUNTIF(E65:G65,\"DNF (Trailing)\")*0.33))","v":0},{"$f":"C66","v":0}]
[null,null,null,{"$f":"IF(ISERROR(VLOOKUP(C66,'Team List'!B:D,3,0)),\"\",VLOOKUP(C66,'Team List'!B:D,2,0))","v":""},{"$f":"IF(E65=\"\",\"\",IF(E65=\"Won\",\"Lost\",IF(E65=\"DNF (Leading)\",\"DNF (Trailing)\",IF(E65=\"DNF (Trailing)\",\"DNF (Leading)\",IF(E65=\"Lost\",\"Won\",E65)))))","v":""},{"$f":"IF(F65=\"\",\"\",IF(F65=\"Won\",\"Lost\",IF(F65=\"DNF (Leading)\",\"DNF (Trailing)\",IF(F65=\"DNF (Trailing)\",\"DNF (Leading)\",IF(F65=\"Lost\",\"Won\",F65)))))","v":""},{"$f":"IF(G65=\"\",\"\",IF(G65=\"Won\",\"Lost\",IF(G65=\"DNF (Leading)\",\"DNF (Trailing)\",IF(G65=\"DNF (Trailing)\",\"DNF (Leading)\",IF(G65=\"Lost\",\"Won\",G65)))))","v":""},{"$f":"IF(H65=\"Won\",\"Lost\",IF(H65=\"Lost\",\"Won\",H65))","v":""},{"$f":"IF(C65=\"Bye\",0,IF(LEN(E66&F66&G66)=0,0,COUNTIF(E66:G66,\"Won\")*1+COUNTIF(E66:G66,\"DNF (Leading)\")*0.67+COUNTIF(E66:G66,\"DNF (Tied)\")*0.5+COUNTIF(E66:G66,\"DNF (Trailing)\")*0.33))","v":0},{"$f":"C65","v":0}]

{"sheet":"Round Six","index":10,"n_rows":66,"n_cols":10,"rows_kept":66,"cut":false,"hidden":false,"merged":[[48,0,49,0],[62,0,63,0],[64,0,65,0],[50,0,51,0],[52,0,53,0],[54,0,55,0],[56,0,57,0],[58,0,59,0],[60,0,61,0],[40,0,41,0],[42,0,43,0],[44,0,45,0],[46,0,47,0],[32,0,33,0],[34,0,35,0],[36,0,37,0],[38,0,39,0],[24,0,25,0],[26,0,27,0],[28,0,29,0],[30,0,31,0],[16,0,17,0],[18,0,19,0],[20,0,21,0],[22,0,23,0],[0,0,0,5],[8,0,9,0],[10,0,11,0],[12,0,13,0],[14,0,15,0],[2,0,3,0],[4,0,5,0],[6,0,7,0]]}
["Round Six"]
["Pitch #","Rank","Team Number","Team Name","Game One","Game Two","Game Three","Match","Score"]
[1,null,null,{"$f":"IF(ISERROR(VLOOKUP(C3,'Team List'!B:D,3,0)),\"\",VLOOKUP(C3,'Team List'!B:D,2,0))","v":""},null,null,null,{"$f":"IF(COUNTIF(E3:G3,\"Won\")=2,\"Won\",IF(COUNTIF(E3:G3,\"Lost\")=2,\"Lost\",IF(AND((E3=\"Won\"),OR(F3=\"DNF (Leading)\",F3=\"DNF (Tied)\",F3=\"DNF (Trailing)\")),\"Won\",IF(AND(COUNTIF(E3:F3,\"Won\")=1,OR(G3=\"DNF (Leading)\",G3=\"DNF (Tied)\",G3=\"DNF (Trailing)\")),\"Tied\",IF(OR(E3=\"DNF (Leading)\",E3=\"DNF (Tied)\",E3=\"DNF (Trailing)\"),\"Tied\",IF(AND((E3=\"Lost\"),OR(F3=\"DNF (Leading)\",F3=\"DNF (Tied)\",F3=\"DNF (Trailing)\")),\"Lost\",IF(C4=\"Bye\",\"Bye\",\"\")))))))","v":""},{"$f":"IF(C4=\"Bye\",1,IF(LEN(E3&F3&G3)=0,0,COUNTIF(E3:G3,\"Won\")*1+COUNTIF(E3:G3,\"DNF (Leading)\")*0.67+COUNTIF(E3:G3,\"DNF (Tied)\")*0.5+COUNTIF(E3:G3,\"DNF (Trailing)\")*0.33))","v":0},{"$f":"C4","v":0}]
[null,null,null,{"$f":"IF(ISERROR(VLOOKUP(C4,'Team List'!B:D,3,0)),\"\",VLOOKUP(C4,'Team List'!B:D,2,0))","v":""},{"$f":"IF(E3=\"\",\"\",IF(E3=\"Won\",\"Lost\",IF(E3=\"DNF (Leading)\",\"DNF (Trailing)\",IF(E3=\"DNF (Trailing)\",\"DNF (Leading)\",IF(E3=\"Lost\",\"Won\",E3)))))","v":""},{"$f":"IF(F3=\"\",\"\",IF(F3=\"Won\",\"Lost\",IF(F3=\"DNF (Leading)\",\"DNF (Trailing)\",IF(F3=\"DNF (Trailing)\",\"DNF (Leading)\",IF(F3=\"Lost\",\"Won\",F3)))))","v":""},{"$f":"IF(G3=\"\",\"\",IF(G3=\"Won\",\"Lost\",IF(G3=\"DNF (Leading)\",\"DNF (Trailing)\",IF(G3=\"DNF (Trailing)\",\"DNF (Leading)\",IF(G3=\"Lost\",\"Won\",G3)))))","v":""},{"$f":"IF(H3=\"Won\",\"Lost\",IF(H3=\"Lost\",\"Won\",H3))","v":""},{"$f":"IF(C3=\"Bye\",1,IF(LEN(E4&F4&G4)=0,0,COUNTIF(E4:G4,\"Won\")*1+COUNTIF(E4:G4,\"DNF (Leading)\")*0.67+COUNTIF(E4:G4,\"DNF (Tied)\")*0.5+COUNTIF(E4:G4,\"DNF (Trailing)\")*0.33))","v":0},{"$f":"C3","v":0}]
[2,null,null,{"$f":"IF(ISERROR(VLOOKUP(C5,'Team List'!B:D,3,0)),\"\",VLOOKUP(C5,'Team List'!B:D,2,0))","v":""},null,null,null,{"$f":"IF(COUNTIF(E5:G5,\"Won\")=2,\"Won\",IF(COUNTIF(E5:G5,\"Lost\")=2,\"Lost\",IF(AND((E5=\"Won\"),OR(F5=\"DNF (Leading)\",F5=\"DNF (Tied)\",F5=\"DNF (Trailing)\")),\"Won\",IF(AND(COUNTIF(E5:F5,\"Won\")=1,OR(G5=\"DNF (Leading)\",G5=\"DNF (Tied)\",G5=\"DNF (Trailing)\")),\"Tied\",IF(OR(E5=\"DNF (Leading)\",E5=\"DNF (Tied)\",E5=\"DNF (Trailing)\"),\"Tied\",IF(AND((E5=\"Lost\"),OR(F5=\"DNF (Leading)\",F5=\"DNF (Tied)\",F5=\"DNF (Trailing)\")),\"Lost\",IF(C6=\"Bye\",\"Bye\",\"\")))))))","v":""},{"$f":"IF(C6=\"Bye\",1,IF(LEN(E5&F5&G5)=0,0,COUNTIF(E5:G5,\"Won\")*1+COUNTIF(E5:G5,\"DNF (Leading)\")*0.67+COUNTIF(E5:G5,\"DNF (Tied)\")*0.5+COUNTIF(E5:G5,\"DNF (Trailing)\")*0.33))","v":0},{"$f":"C6","v":0}]
[null,null,null,{"$f":"IF(ISERROR(VLOOKUP(C6,'Team List'!B:D,3,0)),\"\",VLOOKUP(C6,'Team List'!B:D,2,0))","v":""},{"$f":"IF(E5=\"\",\"\",IF(E5=\"Won\",\"Lost\",IF(E5=\"DNF (Leading)\",\"DNF (Trailing)\",IF(E5=\"DNF (Trailing)\",\"DNF (Leading)\",IF(E5=\"Lost\",\"Won\",E5)))))","v":""},{"$f":"IF(F5=\"\",\"\",IF(F5=\"Won\",\"Lost\",IF(F5=\"DNF (Leading)\",\"DNF (Trailing)\",IF(F5=\"DNF (Trailing)\",\"DNF (Leading)\",IF(F5=\"Lost\",\"Won\",F5)))))","v":""},{"$f":"IF(G5=\"\",\"\",IF(G5=\"Won\",\"Lost\",IF(G5=\"DNF (Leading)\",\"DNF (Trailing)\",IF(G5=\"DNF (Trailing)\",\"DNF (Leading)\",IF(G5=\"Lost\",\"Won\",G5)))))","v":""},{"$f":"IF(H5=\"Won\",\"Lost\",IF(H5=\"Lost\",\"Won\",H5))","v":""},{"$f":"IF(C5=\"Bye\",1,IF(LEN(E6&F6&G6)=0,0,COUNTIF(E6:G6,\"Won\")*1+COUNTIF(E6:G6,\"DNF (Leading)\")*0.67+COUNTIF(E6:G6,\"DNF (Tied)\")*0.5+COUNTIF(E6:G6,\"DNF (Trailing)\")*0.33))","v":0},{"$f":"C5","v":0}]
[3,null,null,{"$f":"IF(ISERROR(VLOOKUP(C7,'Team List'!B:D,3,0)),\"\",VLOOKUP(C7,'Team List'!B:D,2,0))","v":""},null,null,null,{"$f":"IF(COUNTIF(E7:G7,\"Won\")=2,\"Won\",IF(COUNTIF(E7:G7,\"Lost\")=2,\"Lost\",IF(AND((E7=\"Won\"),OR(F7=\"DNF (Leading)\",F7=\"DNF (Tied)\",F7=\"DNF (Trailing)\")),\"Won\",IF(AND(COUNTIF(E7:F7,\"Won\")=1,OR(G7=\"DNF (Leading)\",G7=\"DNF (Tied)\",G7=\"DNF (Trailing)\")),\"Tied\",IF(OR(E7=\"DNF (Leading)\",E7=\"DNF (Tied)\",E7=\"DNF (Trailing)\"),\"Tied\",IF(AND((E7=\"Lost\"),OR(F7=\"DNF (Leading)\",F7=\"DNF (Tied)\",F7=\"DNF (Trailing)\")),\"Lost\",IF(C8=\"Bye\",\"Bye\",\"\")))))))","v":""},{"$f":"IF(C8=\"Bye\",1,IF(LEN(E7&F7&G7)=0,0,COUNTIF(E7:G7,\"Won\")*1+COUNTIF(E7:G7,\"DNF (Leading)\")*0.67+COUNTIF(E7:G7,\"DNF (Tied)\")*0.5+COUNTIF(E7:G7,\"DNF (Trailing)\")*0.33))","v":0},{"$f":"C8","v":0}]
[null,null,null,{"$f":"IF(ISERROR(VLOOKUP(C8,'Team List'!B:D,3,0)),\"\",VLOOKUP(C8,'Team List'!B:D,2,0))","v":""},{"$f":"IF(E7=\"\",\"\",IF(E7=\"Won\",\"Lost\",IF(E7=\"DNF (Leading)\",\"DNF (Trailing)\",IF(E7=\"DNF (Trailing)\",\"DNF (Leading)\",IF(E7=\"Lost\",\"Won\",E7)))))","v":""},{"$f":"IF(F7=\"\",\"\",IF(F7=\"Won\",\"Lost\",IF(F7=\"DNF (Leading)\",\"DNF (Trailing)\",IF(F7=\"DNF (Trailing)\",\"DNF (Leading)\",IF(F7=\"Lost\",\"Won\",F7)))))","v":""},{"$f":"IF(G7=\"\",\"\",IF(G7=\"Won\",\"Lost\",IF(G7=\"DNF (Leading)\",\"DNF (Trailing)\",IF(G7=\"DNF (Trailing)\",\"DNF (Leading)\",IF(G7=\"Lost\",\"Won\",G7)))))","v":""},{"$f":"IF(H7=\"Won\",\"Lost\",IF(H7=\"Lost\",\"Won\",H7))","v":""},{"$f":"IF(C7=\"Bye\",1,IF(LEN(E8&F8&G8)=0,0,COUNTIF(E8:G8,\"Won\")*1+COUNTIF(E8:G8,\"DNF (Leading)\")*0.67+COUNTIF(E8:G8,\"DNF (Tied)\")*0.5+COUNTIF(E8:G8,\"DNF (Trailing)\")*0.33))","v":0},{"$f":"C7","v":0}]
[4,null,null,{"$f":"IF(ISERROR(VLOOKUP(C9,'Team List'!B:D,3,0)),\"\",VLOOKUP(C9,'Team List'!B:D,2,0))","v":""},null,null,null,{"$f":"IF(COUNTIF(E9:G9,\"Won\")=2,\"Won\",IF(COUNTIF(E9:G9,\"Lost\")=2,\"Lost\",IF(AND((E9=\"Won\"),OR(F9=\"DNF (Leading)\",F9=\"DNF (Tied)\",F9=\"DNF (Trailing)\")),\"Won\",IF(AND(COUNTIF(E9:F9,\"Won\")=1,OR(G9=\"DNF (Leading)\",G9=\"DNF (Tied)\",G9=\"DNF (Trailing)\")),\"Tied\",IF(OR(E9=\"DNF (Leading)\",E9=\"DNF (Tied)\",E9=\"DNF (Trailing)\"),\"Tied\",IF(AND((E9=\"Lost\"),OR(F9=\"DNF (Leading)\",F9=\"DNF (Tied)\",F9=\"DNF (Trailing)\")),\"Lost\",IF(C10=\"Bye\",\"Bye\",\"\")))))))","v":""},{"$f":"IF(C10=\"Bye\",1,IF(LEN(E9&F9&G9)=0,0,COUNTIF(E9:G9,\"Won\")*1+COUNTIF(E9:G9,\"DNF (Leading)\")*0.67+COUNTIF(E9:G9,\"DNF (Tied)\")*0.5+COUNTIF(E9:G9,\"DNF (Trailing)\")*0.33))","v":0},{"$f":"C10","v":0}]
[null,null,null,{"$f":"IF(ISERROR(VLOOKUP(C10,'Team List'!B:D,3,0)),\"\",VLOOKUP(C10,'Team List'!B:D,2,0))","v":""},{"$f":"IF(E9=\"\",\"\",IF(E9=\"Won\",\"Lost\",IF(E9=\"DNF (Leading)\",\"DNF (Trailing)\",IF(E9=\"DNF (Trailing)\",\"DNF (Leading)\",IF(E9=\"Lost\",\"Won\",E9)))))","v":""},{"$f":"IF(F9=\"\",\"\",IF(F9=\"Won\",\"Lost\",IF(F9=\"DNF (Leading)\",\"DNF (Trailing)\",IF(F9=\"DNF (Trailing)\",\"DNF (Leading)\",IF(F9=\"Lost\",\"Won\",F9)))))","v":""},{"$f":"IF(G9=\"\",\"\",IF(G9=\"Won\",\"Lost\",IF(G9=\"DNF (Leading)\",\"DNF (Trailing)\",IF(G9=\"DNF (Trailing)\",\"DNF (Leading)\",IF(G9=\"Lost\",\"Won\",G9)))))","v":""},{"$f":"IF(H9=\"Won\",\"Lost\",IF(H9=\"Lost\",\"Won\",H9))","v":""},{"$f":"IF(C9=\"Bye\",1,IF(LEN(E10&F10&G10)=0,0,COUNTIF(E10:G10,\"Won\")*1+COUNTIF(E10:G10,\"DNF (Leading)\")*0.67+COUNTIF(E10:G10,\"DNF (Tied)\")*0.5+COUNTIF(E10:G10,\"DNF (Trailing)\")*0.33))","v":0},{"$f":"C9","v":0}]
[5,null,null,{"$f":"IF(ISERROR(VLOOKUP(C11,'Team List'!B:D,3,0)),\"\",VLOOKUP(C11,'Team List'!B:D,2,0))","v":""},null,null,null,{"$f":"IF(COUNTIF(E11:G11,\"Won\")=2,\"Won\",IF(COUNTIF(E11:G11,\"Lost\")=2,\"Lost\",IF(AND((E11=\"Won\"),OR(F11=\"DNF (Leading)\",F11=\"DNF (Tied)\",F11=\"DNF (Trailing)\")),\"Won\",IF(AND(COUNTIF(E11:F11,\"Won\")=1,OR(G11=\"DNF (Leading)\",G11=\"DNF (Tied)\",G11=\"DNF (Trailing)\")),\"Tied\",IF(OR(E11=\"DNF (Leading)\",E11=\"DNF (Tied)\",E11=\"DNF (Trailing)\"),\"Tied\",IF(AND((E11=\"Lost\"),OR(F11=\"DNF (Leading)\",F11=\"DNF (Tied)\",F11=\"DNF (Trailing)\")),\"Lost\",IF(C12=\"Bye\",\"Bye\",\"\")))))))","v":""},{"$f":"IF(C12=\"Bye\",1,IF(LEN(E11&F11&G11)=0,0,COUNTIF(E11:G11,\"Won\")*1+COUNTIF(E11:G11,\"DNF (Leading)\")*0.67+COUNTIF(E11:G11,\"DNF (Tied)\")*0.5+COUNTIF(E11:G11,\"DNF (Trailing)\")*0.33))","v":0},{"$f":"C12","v":0}]
[null,null,null,{"$f":"IF(ISERROR(VLOOKUP(C12,'Team List'!B:D,3,0)),\"\",VLOOKUP(C12,'Team List'!B:D,2,0))","v":""},{"$f":"IF(E11=\"\",\"\",IF(E11=\"Won\",\"Lost\",IF(E11=\"DNF (Leading)\",\"DNF (Trailing)\",IF(E11=\"DNF (Trailing)\",\"DNF (Leading)\",IF(E11=\"Lost\",\"Won\",E11)))))","v":""},{"$f":"IF(F11=\"\",\"\",IF(F11=\"Won\",\"Lost\",IF(F11=\"DNF (Leading)\",\"DNF (Trailing)\",IF(F11=\"DNF (Trailing)\",\"DNF (Leading)\",IF(F11=\"Lost\",\"Won\",F11)))))","v":""},{"$f":"IF(G11=\"\",\"\",IF(G11=\"Won\",\"Lost\",IF(G11=\"DNF (Leading)\",\"DNF (Trailing)\",IF(G11=\"DNF (Trailing)\",\"DNF (Leading)\",IF(G11=\"Lost\",\"Won\",G11)))))","v":""},{"$f":"IF(H11=\"Won\",\"Lost\",IF(H11=\"Lost\",\"Won\",H11))","v":""},{"$f":"IF(C11=\"Bye\",1,IF(LEN(E12&F12&G12)=0,0,COUNTIF(E12:G12,\"Won\")*1+COUNTIF(E12:G12,\"DNF (Leading)\")*0.67+COUNTIF(E12:G12,\"DNF (Tied)\")*0.5+COUNTIF(E12:G12,\"DNF (Trailing)\")*0.33))","v":0},{"$f":"C11","v":0}]
[6,null,null,{"$f":"IF(ISERROR(VLOOKUP(C13,'Team List'!B:D,3,0)),\"\",VLOOKUP(C13,'Team List'!B:D,2,0))","v":""},null,null,null,{"$f":"IF(COUNTIF(E13:G13,\"Won\")=2,\"Won\",IF(COUNTIF(E13:G13,\"Lost\")=2,\"Lost\",IF(AND((E13=\"Won\"),OR(F13=\"DNF (Leading)\",F13=\"DNF (Tied)\",F13=\"DNF (Trailing)\")),\"Won\",IF(AND(COUNTIF(E13:F13,\"Won\")=1,OR(G13=\"DNF (Leading)\",G13=\"DNF (Tied)\",G13=\"DNF (Trailing)\")),\"Tied\",IF(OR(E13=\"DNF (Leading)\",E13=\"DNF (Tied)\",E13=\"DNF (Trailing)\"),\"Tied\",IF(AND((E13=\"Lost\"),OR(F13=\"DNF (Leading)\",F13=\"DNF (Tied)\",F13=\"DNF (Trailing)\")),\"Lost\",IF(C14=\"Bye\",\"Bye\",\"\")))))))","v":""},{"$f":"IF(C14=\"Bye\",1,IF(LEN(E13&F13&G13)=0,0,COUNTIF(E13:G13,\"Won\")*1+COUNTIF(E13:G13,\"DNF (Leading)\")*0.67+COUNTIF(E13:G13,\"DNF (Tied)\")*0.5+COUNTIF(E13:G13,\"DNF (Trailing)\")*0.33))","v":0},{"$f":"C14","v":0}]
[null,null,null,{"$f":"IF(ISERROR(VLOOKUP(C14,'Team List'!B:D,3,0)),\"\",VLOOKUP(C14,'Team List'!B:D,2,0))","v":""},{"$f":"IF(E13=\"\",\"\",IF(E13=\"Won\",\"Lost\",IF(E13=\"DNF (Leading)\",\"DNF (Trailing)\",IF(E13=\"DNF (Trailing)\",\"DNF (Leading)\",IF(E13=\"Lost\",\"Won\",E13)))))","v":""},{"$f":"IF(F13=\"\",\"\",IF(F13=\"Won\",\"Lost\",IF(F13=\"DNF (Leading)\",\"DNF (Trailing)\",IF(F13=\"DNF (Trailing)\",\"DNF (Leading)\",IF(F13=\"Lost\",\"Won\",F13)))))","v":""},{"$f":"IF(G13=\"\",\"\",IF(G13=\"Won\",\"Lost\",IF(G13=\"DNF (Leading)\",\"DNF (Trailing)\",IF(G13=\"DNF (Trailing)\",\"DNF (Leading)\",IF(G13=\"Lost\",\"Won\",G13)))))","v":""},{"$f":"IF(H13=\"Won\",\"Lost\",IF(H13=\"Lost\",\"Won\",H13))","v":""},{"$f":"IF(C13=\"Bye\",1,IF(LEN(E14&F14&G14)=0,0,COUNTIF(E14:G14,\"Won\")*1+COUNTIF(E14:G14,\"DNF (Leading)\")*0.67+COUNTIF(E14:G14,\"DNF (Tied)\")*0.5+COUNTIF(E14:G14,\"DNF (Trailing)\")*0.33))","v":0},{"$f":"C13","v":0}]
[7,null,null,{"$f":"IF(ISERROR(VLOOKUP(C15,'Team List'!B:D,3,0)),\"\",VLOOKUP(C15,'Team List'!B:D,2,0))","v":""},null,null,null,{"$f":"IF(COUNTIF(E15:G15,\"Won\")=2,\"Won\",IF(COUNTIF(E15:G15,\"Lost\")=2,\"Lost\",IF(AND((E15=\"Won\"),OR(F15=\"DNF (Leading)\",F15=\"DNF (Tied)\",F15=\"DNF (Trailing)\")),\"Won\",IF(AND(COUNTIF(E15:F15,\"Won\")=1,OR(G15=\"DNF (Leading)\",G15=\"DNF (Tied)\",G15=\"DNF (Trailing)\")),\"Tied\",IF(OR(E15=\"DNF (Leading)\",E15=\"DNF (Tied)\",E15=\"DNF (Trailing)\"),\"Tied\",IF(AND((E15=\"Lost\"),OR(F15=\"DNF (Leading)\",F15=\"DNF (Tied)\",F15=\"DNF (Trailing)\")),\"Lost\",IF(C16=\"Bye\",\"Bye\",\"\")))))))","v":""},{"$f":"IF(C16=\"Bye\",1,IF(LEN(E15&F15&G15)=0,0,COUNTIF(E15:G15,\"Won\")*1+COUNTIF(E15:G15,\"DNF (Leading)\")*0.67+COUNTIF(E15:G15,\"DNF (Tied)\")*0.5+COUNTIF(E15:G15,\"DNF (Trailing)\")*0.33))","v":0},{"$f":"C16","v":0}]
[null,null,null,{"$f":"IF(ISERROR(VLOOKUP(C16,'Team List'!B:D,3,0)),\"\",VLOOKUP(C16,'Team List'!B:D,2,0))","v":""},{"$f":"IF(E15=\"\",\"\",IF(E15=\"Won\",\"Lost\",IF(E15=\"DNF (Leading)\",\"DNF (Trailing)\",IF(E15=\"DNF (Trailing)\",\"DNF (Leading)\",IF(E15=\"Lost\",\"Won\",E15)))))","v":""},{"$f":"IF(F15=\"\",\"\",IF(F15=\"Won\",\"Lost\",IF(F15=\"DNF (Leading)\",\"DNF (Trailing)\",IF(F15=\"DNF (Trailing)\",\"DNF (Leading)\",IF(F15=\"Lost\",\"Won\",F15)))))","v":""},{"$f":"IF(G15=\"\",\"\",IF(G15=\"Won\",\"Lost\",IF(G15=\"DNF (Leading)\",\"DNF (Trailing)\",IF(G15=\"DNF (Trailing)\",\"DNF (Leading)\",IF(G15=\"Lost\",\"Won\",G15)))))","v":""},{"$f":"IF(H15=\"Won\",\"Lost\",IF(H15=\"Lost\",\"Won\",H15))","v":""},{"$f":"IF(C15=\"Bye\",1,IF(LEN(E16&F16&G16)=0,0,COUNTIF(E16:G16,\"Won\")*1+COUNTIF(E16:G16,\"DNF (Leading)\")*0.67+COUNTIF(E16:G16,\"DNF (Tied)\")*0.5+COUNTIF(E16:G16,\"DNF (Trailing)\")*0.33))","v":0},{"$f":"C15","v":0}]
[8,null,null,{"$f":"IF(ISERROR(VLOOKUP(C17,'Team List'!B:D,3,0)),\"\",VLOOKUP(C17,'Team List'!B:D,2,0))","v":""},null,null,null,{"$f":"IF(COUNTIF(E17:G17,\"Won\")=2,\"Won\",IF(COUNTIF(E17:G17,\"Lost\")=2,\"Lost\",IF(AND((E17=\"Won\"),OR(F17=\"DNF (Leading)\",F17=\"DNF (Tied)\",F17=\"DNF (Trailing)\")),\"Won\",IF(AND(COUNTIF(E17:F17,\"Won\")=1,OR(G17=\"DNF (Leading)\",G17=\"DNF (Tied)\",G17=\"DNF (Trailing)\")),\"Tied\",IF(OR(E17=\"DNF (Leading)\",E17=\"DNF (Tied)\",E17=\"DNF (Trailing)\"),\"Tied\",IF(AND((E17=\"Lost\"),OR(F17=\"DNF (Leading)\",F17=\"DNF (Tied)\",F17=\"DNF (Trailing)\")),\"Lost\",IF(C18=\"Bye\",\"Bye\",\"\")))))))","v":""},{"$f":"IF(C18=\"Bye\",1,IF(LEN(E17&F17&G17)=0,0,COUNTIF(E17:G17,\"Won\")*1+COUNTIF(E17:G17,\"DNF (Leading)\")*0.67+COUNTIF(E17:G17,\"DNF (Tied)\")*0.5+COUNTIF(E17:G17,\"DNF (Trailing)\")*0.33))","v":0},{"$f":"C18","v":0}]
[null,null,null,{"$f":"IF(ISERROR(VLOOKUP(C18,'Team List'!B:D,3,0)),\"\",VLOOKUP(C18,'Team List'!B:D,2,0))","v":""},{"$f":"IF(E17=\"\",\"\",IF(E17=\"Won\",\"Lost\",IF(E17=\"DNF (Leading)\",\"DNF (Trailing)\",IF(E17=\"DNF (Trailing)\",\"DNF (Leading)\",IF(E17=\"Lost\",\"Won\",E17)))))","v":""},{"$f":"IF(F17=\"\",\"\",IF(F17=\"Won\",\"Lost\",IF(F17=\"DNF (Leading)\",\"DNF (Trailing)\",IF(F17=\"DNF (Trailing)\",\"DNF (Leading)\",IF(F17=\"Lost\",\"Won\",F17)))))","v":""},{"$f":"IF(G17=\"\",\"\",IF(G17=\"Won\",\"Lost\",IF(G17=\"DNF (Leading)\",\"DNF (Trailing)\",IF(G17=\"DNF (Trailing)\",\"DNF (Leading)\",IF(G17=\"Lost\",\"Won\",G17)))))","v":""},{"$f":"IF(H17=\"Won\",\"Lost\",IF(H17=\"Lost\",\"Won\",H17))","v":""},{"$f":"IF(C17=\"Bye\",1,IF(LEN(E18&F18&G18)=0,0,COUNTIF(E18:G18,\"Won\")*1+COUNTIF(E18:G18,\"DNF (Leading)\")*0.67+COUNTIF(E18:G18,\"DNF (Tied)\")*0.5+COUNTIF(E18:G18,\"DNF (Trailing)\")*0.33))","v":0},{"$f":"C17","v":0}]
[9,null,null,{"$f":"IF(ISERROR(VLOOKUP(C19,'Team List'!B:D,3,0)),\"\",VLOOKUP(C19,'Team List'!B:D,2,0))","v":""},null,null,null,{"$f":"IF(COUNTIF(E19:G19,\"Won\")=2,\"Won\",IF(COUNTIF(E19:G19,\"Lost\")=2,\"Lost\",IF(AND((E19=\"Won\"),OR(F19=\"DNF (Leading)\",F19=\"DNF (Tied)\",F19=\"DNF (Trailing)\")),\"Won\",IF(AND(COUNTIF(E19:F19,\"Won\")=1,OR(G19=\"DNF (Leading)\",G19=\"DNF (Tied)\",G19=\"DNF (Trailing)\")),\"Tied\",IF(OR(E19=\"DNF (Leading)\",E19=\"DNF (Tied)\",E19=\"DNF (Trailing)\"),\"Tied\",IF(AND((E19=\"Lost\"),OR(F19=\"DNF (Leading)\",F19=\"DNF (Tied)\",F19=\"DNF (Trailing)\")),\"Lost\",IF(C20=\"Bye\",\"Bye\",\"\")))))))","v":""},{"$f":"IF(C20=\"Bye\",1,IF(LEN(E19&F19&G19)=0,0,COUNTIF(E19:G19,\"Won\")*1+COUNTIF(E19:G19,\"DNF (Leading)\")*0.67+COUNTIF(E19:G19,\"DNF (Tied)\")*0.5+COUNTIF(E19:G19,\"DNF (Trailing)\")*0.33))","v":0},{"$f":"C20","v":0}]
[null,null,null,{"$f":"IF(ISERROR(VLOOKUP(C20,'Team List'!B:D,3,0)),\"\",VLOOKUP(C20,'Team List'!B:D,2,0))","v":""},{"$f":"IF(E19=\"\",\"\",IF(E19=\"Won\",\"Lost\",IF(E19=\"DNF (Leading)\",\"DNF (Trailing)\",IF(E19=\"DNF (Trailing)\",\"DNF (Leading)\",IF(E19=\"Lost\",\"Won\",E19)))))","v":""},{"$f":"IF(F19=\"\",\"\",IF(F19=\"Won\",\"Lost\",IF(F19=\"DNF (Leading)\",\"DNF (Trailing)\",IF(F19=\"DNF (Trailing)\",\"DNF (Leading)\",IF(F19=\"Lost\",\"Won\",F19)))))","v":""},{"$f":"IF(G19=\"\",\"\",IF(G19=\"Won\",\"Lost\",IF(G19=\"DNF (Leading)\",\"DNF (Trailing)\",IF(G19=\"DNF (Trailing)\",\"DNF (Leading)\",IF(G19=\"Lost\",\"Won\",G19)))))","v":""},{"$f":"IF(H19=\"Won\",\"Lost\",IF(H19=\"Lost\",\"Won\",H19))","v":""},{"$f":"IF(C19=\"Bye\",1,IF(LEN(E20&F20&G20)=0,0,COUNTIF(E20:G20,\"Won\")*1+COUNTIF(E20:G20,\"DNF (Leading)\")*0.67+COUNTIF(E20:G20,\"DNF (Tied)\")*0.5+COUNTIF(E20:G20,\"DNF (Trailing)\")*0.33))","v":0},{"$f":"C19","v":0}]
[10,null,null,{"$f":"IF(ISERROR(VLOOKUP(C21,'Team List'!B:D,3,0)),\"\",VLOOKUP(C21,'Team List'!B:D,2,0))","v":""},null,null,null,{"$f":"IF(COUNTIF(E21:G21,\"Won\")=2,\"Won\",IF(COUNTIF(E21:G21,\"Lost\")=2,\"Lost\",IF(AND((E21=\"Won\"),OR(F21=\"DNF (Leading)\",F21=\"DNF (Tied)\",F21=\"DNF (Trailing)\")),\"Won\",IF(AND(COUNTIF(E21:F21,\"Won\")=1,OR(G21=\"DNF (Leading)\",G21=\"DNF (Tied)\",G21=\"DNF (Trailing)\")),\"Tied\",IF(OR(E21=\"DNF (Leading)\",E21=\"DNF (Tied)\",E21=\"DNF (Trailing)\"),\"Tied\",IF(AND((E21=\"Lost\"),OR(F21=\"DNF (Leading)\",F21=\"DNF (Tied)\",F21=\"DNF (Trailing)\")),\"Lost\",IF(C22=\"Bye\",\"Bye\",\"\")))))))","v":""},{"$f":"IF(C22=\"Bye\",1,IF(LEN(E21&F21&G21)=0,0,COUNTIF(E21:G21,\"Won\")*1+COUNTIF(E21:G21,\"DNF (Leading)\")*0.67+COUNTIF(E21:G21,\"DNF (Tied)\")*0.5+COUNTIF(E21:G21,\"DNF (Trailing)\")*0.33))","v":0},{"$f":"C22","v":0}]
[null,null,null,{"$f":"IF(ISERROR(VLOOKUP(C22,'Team List'!B:D,3,0)),\"\",VLOOKUP(C22,'Team List'!B:D,2,0))","v":""},{"$f":"IF(E21=\"\",\"\",IF(E21=\"Won\",\"Lost\",IF(E21=\"DNF (Leading)\",\"DNF (Trailing)\",IF(E21=\"DNF (Trailing)\",\"DNF (Leading)\",IF(E21=\"Lost\",\"Won\",E21)))))","v":""},{"$f":"IF(F21=\"\",\"\",IF(F21=\"Won\",\"Lost\",IF(F21=\"DNF (Leading)\",\"DNF (Trailing)\",IF(F21=\"DNF (Trailing)\",\"DNF (Leading)\",IF(F21=\"Lost\",\"Won\",F21)))))","v":""},{"$f":"IF(G21=\"\",\"\",IF(G21=\"Won\",\"Lost\",IF(G21=\"DNF (Leading)\",\"DNF (Trailing)\",IF(G21=\"DNF (Trailing)\",\"DNF (Leading)\",IF(G21=\"Lost\",\"Won\",G21)))))","v":""},{"$f":"IF(H21=\"Won\",\"Lost\",IF(H21=\"Lost\",\"Won\",H21))","v":""},{"$f":"IF(C21=\"Bye\",1,IF(LEN(E22&F22&G22)=0,0,COUNTIF(E22:G22,\"Won\")*1+COUNTIF(E22:G22,\"DNF (Leading)\")*0.67+COUNTIF(E22:G22,\"DNF (Tied)\")*0.5+COUNTIF(E22:G22,\"DNF (Trailing)\")*0.33))","v":0},{"$f":"C21","v":0}]
[11,null,null,{"$f":"IF(ISERROR(VLOOKUP(C23,'Team List'!B:D,3,0)),\"\",VLOOKUP(C23,'Team List'!B:D,2,0))","v":""},null,null,null,{"$f":"IF(COUNTIF(E23:G23,\"Won\")=2,\"Won\",IF(COUNTIF(E23:G23,\"Lost\")=2,\"Lost\",IF(AND((E23=\"Won\"),OR(F23=\"DNF (Leading)\",F23=\"DNF (Tied)\",F23=\"DNF (Trailing)\")),\"Won\",IF(AND(COUNTIF(E23:F23,\"Won\")=1,OR(G23=\"DNF (Leading)\",G23=\"DNF (Tied)\",G23=\"DNF (Trailing)\")),\"Tied\",IF(OR(E23=\"DNF (Leading)\",E23=\"DNF (Tied)\",E23=\"DNF (Trailing)\"),\"Tied\",IF(AND((E23=\"Lost\"),OR(F23=\"DNF (Leading)\",F23=\"DNF (Tied)\",F23=\"DNF (Trailing)\")),\"Lost\",IF(C24=\"Bye\",\"Bye\",\"\")))))))","v":""},{"$f":"IF(C24=\"Bye\",1,IF(LEN(E23&F23&G23)=0,0,COUNTIF(E23:G23,\"Won\")*1+COUNTIF(E23:G23,\"DNF (Leading)\")*0.67+COUNTIF(E23:G23,\"DNF (Tied)\")*0.5+COUNTIF(E23:G23,\"DNF (Trailing)\")*0.33))","v":0},{"$f":"C24","v":0}]
[null,null,null,{"$f":"IF(ISERROR(VLOOKUP(C24,'Team List'!B:D,3,0)),\"\",VLOOKUP(C24,'Team List'!B:D,2,0))","v":""},{"$f":"IF(E23=\"\",\"\",IF(E23=\"Won\",\"Lost\",IF(E23=\"DNF (Leading)\",\"DNF (Trailing)\",IF(E23=\"DNF (Trailing)\",\"DNF (Leading)\",IF(E23=\"Lost\",\"Won\",E23)))))","v":""},{"$f":"IF(F23=\"\",\"\",IF(F23=\"Won\",\"Lost\",IF(F23=\"DNF (Leading)\",\"DNF (Trailing)\",IF(F23=\"DNF (Trailing)\",\"DNF (Leading)\",IF(F23=\"Lost\",\"Won\",F23)))))","v":""},{"$f":"IF(G23=\"\",\"\",IF(G23=\"Won\",\"Lost\",IF(G23=\"DNF (Leading)\",\"DNF (Trailing)\",IF(G23=\"DNF (Trailing)\",\"DNF (Leading)\",IF(G23=\"Lost\",\"Won\",G23)))))","v":""},{"$f":"IF(H23=\"Won\",\"Lost\",IF(H23=\"Lost\",\"Won\",H23))","v":""},{"$f":"IF(C23=\"Bye\",1,IF(LEN(E24&F24&G24)=0,0,COUNTIF(E24:G24,\"Won\")*1+COUNTIF(E24:G24,\"DNF (Leading)\")*0.67+COUNTIF(E24:G24,\"DNF (Tied)\")*0.5+COUNTIF(E24:G24,\"DNF (Trailing)\")*0.33))","v":0},{"$f":"C23","v":0}]
[12,null,null,{"$f":"IF(ISERROR(VLOOKUP(C25,'Team List'!B:D,3,0)),\"\",VLOOKUP(C25,'Team List'!B:D,2,0))","v":""},null,null,null,{"$f":"IF(COUNTIF(E25:G25,\"Won\")=2,\"Won\",IF(COUNTIF(E25:G25,\"Lost\")=2,\"Lost\",IF(AND((E25=\"Won\"),OR(F25=\"DNF (Leading)\",F25=\"DNF (Tied)\",F25=\"DNF (Trailing)\")),\"Won\",IF(AND(COUNTIF(E25:F25,\"Won\")=1,OR(G25=\"DNF (Leading)\",G25=\"DNF (Tied)\",G25=\"DNF (Trailing)\")),\"Tied\",IF(OR(E25=\"DNF (Leading)\",E25=\"DNF (Tied)\",E25=\"DNF (Trailing)\"),\"Tied\",IF(AND((E25=\"Lost\"),OR(F25=\"DNF (Leading)\",F25=\"DNF (Tied)\",F25=\"DNF (Trailing)\")),\"Lost\",IF(C26=\"Bye\",\"Bye\",\"\")))))))","v":""},{"$f":"IF(C26=\"Bye\",1,IF(LEN(E25&F25&G25)=0,0,COUNTIF(E25:G25,\"Won\")*1+COUNTIF(E25:G25,\"DNF (Leading)\")*0.67+COUNTIF(E25:G25,\"DNF (Tied)\")*0.5+COUNTIF(E25:G25,\"DNF (Trailing)\")*0.33))","v":0},{"$f":"C26","v":0}]
[null,null,null,{"$f":"IF(ISERROR(VLOOKUP(C26,'Team List'!B:D,3,0)),\"\",VLOOKUP(C26,'Team List'!B:D,2,0))","v":""},{"$f":"IF(E25=\"\",\"\",IF(E25=\"Won\",\"Lost\",IF(E25=\"DNF (Leading)\",\"DNF (Trailing)\",IF(E25=\"DNF (Trailing)\",\"DNF (Leading)\",IF(E25=\"Lost\",\"Won\",E25)))))","v":""},{"$f":"IF(F25=\"\",\"\",IF(F25=\"Won\",\"Lost\",IF(F25=\"DNF (Leading)\",\"DNF (Trailing)\",IF(F25=\"DNF (Trailing)\",\"DNF (Leading)\",IF(F25=\"Lost\",\"Won\",F25)))))","v":""},{"$f":"IF(G25=\"\",\"\",IF(G25=\"Won\",\"Lost\",IF(G25=\"DNF (Leading)\",\"DNF (Trailing)\",IF(G25=\"DNF (Trailing)\",\"DNF (Leading)\",IF(G25=\"Lost\",\"Won\",G25)))))","v":""},{"$f":"IF(H25=\"Won\",\"Lost\",IF(H25=\"Lost\",\"Won\",H25))","v":""},{"$f":"IF(C25=\"Bye\",1,IF(LEN(E26&F26&G26)=0,0,COUNTIF(E26:G26,\"Won\")*1+COUNTIF(E26:G26,\"DNF (Leading)\")*0.67+COUNTIF(E26:G26,\"DNF (Tied)\")*0.5+COUNTIF(E26:G26,\"DNF (Trailing)\")*0.33))","v":0},{"$f":"C25","v":0}]
[13,null,null,{"$f":"IF(ISERROR(VLOOKUP(C27,'Team List'!B:D,3,0)),\"\",VLOOKUP(C27,'Team List'!B:D,2,0))","v":""},null,null,null,{"$f":"IF(COUNTIF(E27:G27,\"Won\")=2,\"Won\",IF(COUNTIF(E27:G27,\"Lost\")=2,\"Lost\",IF(AND((E27=\"Won\"),OR(F27=\"DNF (Leading)\",F27=\"DNF (Tied)\",F27=\"DNF (Trailing)\")),\"Won\",IF(AND(COUNTIF(E27:F27,\"Won\")=1,OR(G27=\"DNF (Leading)\",G27=\"DNF (Tied)\",G27=\"DNF (Trailing)\")),\"Tied\",IF(OR(E27=\"DNF (Leading)\",E27=\"DNF (Tied)\",E27=\"DNF (Trailing)\"),\"Tied\",IF(AND((E27=\"Lost\"),OR(F27=\"DNF (Leading)\",F27=\"DNF (Tied)\",F27=\"DNF (Trailing)\")),\"Lost\",IF(C28=\"Bye\",\"Bye\",\"\")))))))","v":""},{"$f":"IF(C28=\"Bye\",1,IF(LEN(E27&F27&G27)=0,0,COUNTIF(E27:G27,\"Won\")*1+COUNTIF(E27:G27,\"DNF (Leading)\")*0.67+COUNTIF(E27:G27,\"DNF (Tied)\")*0.5+COUNTIF(E27:G27,\"DNF (Trailing)\")*0.33))","v":0},{"$f":"C28","v":0}]
[null,null,null,{"$f":"IF(ISERROR(VLOOKUP(C28,'Team List'!B:D,3,0)),\"\",VLOOKUP(C28,'Team List'!B:D,2,0))","v":""},{"$f":"IF(E27=\"\",\"\",IF(E27=\"Won\",\"Lost\",IF(E27=\"DNF (Leading)\",\"DNF (Trailing)\",IF(E27=\"DNF (Trailing)\",\"DNF (Leading)\",IF(E27=\"Lost\",\"Won\",E27)))))","v":""},{"$f":"IF(F27=\"\",\"\",IF(F27=\"Won\",\"Lost\",IF(F27=\"DNF (Leading)\",\"DNF (Trailing)\",IF(F27=\"DNF (Trailing)\",\"DNF (Leading)\",IF(F27=\"Lost\",\"Won\",F27)))))","v":""},{"$f":"IF(G27=\"\",\"\",IF(G27=\"Won\",\"Lost\",IF(G27=\"DNF (Leading)\",\"DNF (Trailing)\",IF(G27=\"DNF (Trailing)\",\"DNF (Leading)\",IF(G27=\"Lost\",\"Won\",G27)))))","v":""},{"$f":"IF(H27=\"Won\",\"Lost\",IF(H27=\"Lost\",\"Won\",H27))","v":""},{"$f":"IF(C27=\"Bye\",1,IF(LEN(E28&F28&G28)=0,0,COUNTIF(E28:G28,\"Won\")*1+COUNTIF(E28:G28,\"DNF (Leading)\")*0.67+COUNTIF(E28:G28,\"DNF (Tied)\")*0.5+COUNTIF(E28:G28,\"DNF (Trailing)\")*0.33))","v":0},{"$f":"C27","v":0}]
[14,null,null,{"$f":"IF(ISERROR(VLOOKUP(C29,'Team List'!B:D,3,0)),\"\",VLOOKUP(C29,'Team List'!B:D,2,0))","v":""},null,null,null,{"$f":"IF(COUNTIF(E29:G29,\"Won\")=2,\"Won\",IF(COUNTIF(E29:G29,\"Lost\")=2,\"Lost\",IF(AND((E29=\"Won\"),OR(F29=\"DNF (Leading)\",F29=\"DNF (Tied)\",F29=\"DNF (Trailing)\")),\"Won\",IF(AND(COUNTIF(E29:F29,\"Won\")=1,OR(G29=\"DNF (Leading)\",G29=\"DNF (Tied)\",G29=\"DNF (Trailing)\")),\"Tied\",IF(OR(E29=\"DNF (Leading)\",E29=\"DNF (Tied)\",E29=\"DNF (Trailing)\"),\"Tied\",IF(AND((E29=\"Lost\"),OR(F29=\"DNF (Leading)\",F29=\"DNF (Tied)\",F29=\"DNF (Trailing)\")),\"Lost\",IF(C30=\"Bye\",\"Bye\",\"\")))))))","v":""},{"$f":"IF(C30=\"Bye\",1,IF(LEN(E29&F29&G29)=0,0,COUNTIF(E29:G29,\"Won\")*1+COUNTIF(E29:G29,\"DNF (Leading)\")*0.67+COUNTIF(E29:G29,\"DNF (Tied)\")*0.5+COUNTIF(E29:G29,\"DNF (Trailing)\")*0.33))","v":0},{"$f":"C30","v":0}]
[null,null,null,{"$f":"IF(ISERROR(VLOOKUP(C30,'Team List'!B:D,3,0)),\"\",VLOOKUP(C30,'Team List'!B:D,2,0))","v":""},{"$f":"IF(E29=\"\",\"\",IF(E29=\"Won\",\"Lost\",IF(E29=\"DNF (Leading)\",\"DNF (Trailing)\",IF(E29=\"DNF (Trailing)\",\"DNF (Leading)\",IF(E29=\"Lost\",\"Won\",E29)))))","v":""},{"$f":"IF(F29=\"\",\"\",IF(F29=\"Won\",\"Lost\",IF(F29=\"DNF (Leading)\",\"DNF (Trailing)\",IF(F29=\"DNF (Trailing)\",\"DNF (Leading)\",IF(F29=\"Lost\",\"Won\",F29)))))","v":""},{"$f":"IF(G29=\"\",\"\",IF(G29=\"Won\",\"Lost\",IF(G29=\"DNF (Leading)\",\"DNF (Trailing)\",IF(G29=\"DNF (Trailing)\",\"DNF (Leading)\",IF(G29=\"Lost\",\"Won\",G29)))))","v":""},{"$f":"IF(H29=\"Won\",\"Lost\",IF(H29=\"Lost\",\"Won\",H29))","v":""},{"$f":"IF(C29=\"Bye\",1,IF(LEN(E30&F30&G30)=0,0,COUNTIF(E30:G30,\"Won\")*1+COUNTIF(E30:G30,\"DNF (Leading)\")*0.67+COUNTIF(E30:G30,\"DNF (Tied)\")*0.5+COUNTIF(E30:G30,\"DNF (Trailing)\")*0.33))","v":0},{"$f":"C29","v":0}]
[15,null,null,{"$f":"IF(ISERROR(VLOOKUP(C31,'Team List'!B:D,3,0)),\"\",VLOOKUP(C31,'Team List'!B:D,2,0))","v":""},null,null,null,{"$f":"IF(COUNTIF(E31:G31,\"Won\")=2,\"Won\",IF(COUNTIF(E31:G31,\"Lost\")=2,\"Lost\",IF(AND((E31=\"Won\"),OR(F31=\"DNF (Leading)\",F31=\"DNF (Tied)\",F31=\"DNF (Trailing)\")),\"Won\",IF(AND(COUNTIF(E31:F31,\"Won\")=1,OR(G31=\"DNF (Leading)\",G31=\"DNF (Tied)\",G31=\"DNF (Trailing)\")),\"Tied\",IF(OR(E31=\"DNF (Leading)\",E31=\"DNF (Tied)\",E31=\"DNF (Trailing)\"),\"Tied\",IF(AND((E31=\"Lost\"),OR(F31=\"DNF (Leading)\",F31=\"DNF (Tied)\",F31=\"DNF (Trailing)\")),\"Lost\",IF(C32=\"Bye\",\"Bye\",\"\")))))))","v":""},{"$f":"IF(C32=\"Bye\",1,IF(LEN(E31&F31&G31)=0,0,COUNTIF(E31:G31,\"Won\")*1+COUNTIF(E31:G31,\"DNF (Leading)\")*0.67+COUNTIF(E31:G31,\"DNF (Tied)\")*0.5+COUNTIF(E31:G31,\"DNF (Trailing)\")*0.33))","v":0},{"$f":"C32","v":0}]
[null,null,null,{"$f":"IF(ISERROR(VLOOKUP(C32,'Team List'!B:D,3,0)),\"\",VLOOKUP(C32,'Team List'!B:D,2,0))","v":""},{"$f":"IF(E31=\"\",\"\",IF(E31=\"Won\",\"Lost\",IF(E31=\"DNF (Leading)\",\"DNF (Trailing)\",IF(E31=\"DNF (Trailing)\",\"DNF (Leading)\",IF(E31=\"Lost\",\"Won\",E31)))))","v":""},{"$f":"IF(F31=\"\",\"\",IF(F31=\"Won\",\"Lost\",IF(F31=\"DNF (Leading)\",\"DNF (Trailing)\",IF(F31=\"DNF (Trailing)\",\"DNF (Leading)\",IF(F31=\"Lost\",\"Won\",F31)))))","v":""},{"$f":"IF(G31=\"\",\"\",IF(G31=\"Won\",\"Lost\",IF(G31=\"DNF (Leading)\",\"DNF (Trailing)\",IF(G31=\"DNF (Trailing)\",\"DNF (Leading)\",IF(G31=\"Lost\",\"Won\",G31)))))","v":""},{"$f":"IF(H31=\"Won\",\"Lost\",IF(H31=\"Lost\",\"Won\",H31))","v":""},{"$f":"IF(C31=\"Bye\",1,IF(LEN(E32&F32&G32)=0,0,COUNTIF(E32:G32,\"Won\")*1+COUNTIF(E32:G32,\"DNF (Leading)\")*0.67+COUNTIF(E32:G32,\"DNF (Tied)\")*0.5+COUNTIF(E32:G32,\"DNF (Trailing)\")*0.33))","v":0},{"$f":"C31","v":0}]
[16,null,null,{"$f":"IF(ISERROR(VLOOKUP(C33,'Team List'!B:D,3,0)),\"\",VLOOKUP(C33,'Team List'!B:D,2,0))","v":""},null,null,null,{"$f":"IF(COUNTIF(E33:G33,\"Won\")=2,\"Won\",IF(COUNTIF(E33:G33,\"Lost\")=2,\"Lost\",IF(AND((E33=\"Won\"),OR(F33=\"DNF (Leading)\",F33=\"DNF (Tied)\",F33=\"DNF (Trailing)\")),\"Won\",IF(AND(COUNTIF(E33:F33,\"Won\")=1,OR(G33=\"DNF (Leading)\",G33=\"DNF (Tied)\",G33=\"DNF (Trailing)\")),\"Tied\",IF(OR(E33=\"DNF (Leading)\",E33=\"DNF (Tied)\",E33=\"DNF (Trailing)\"),\"Tied\",IF(AND((E33=\"Lost\"),OR(F33=\"DNF (Leading)\",F33=\"DNF (Tied)\",F33=\"DNF (Trailing)\")),\"Lost\",IF(C34=\"Bye\",\"Bye\",\"\")))))))","v":""},{"$f":"IF(C34=\"Bye\",1,IF(LEN(E33&F33&G33)=0,0,COUNTIF(E33:G33,\"Won\")*1+COUNTIF(E33:G33,\"DNF (Leading)\")*0.67+COUNTIF(E33:G33,\"DNF (Tied)\")*0.5+COUNTIF(E33:G33,\"DNF (Trailing)\")*0.33))","v":0},{"$f":"C34","v":0}]
[null,null,null,{"$f":"IF(ISERROR(VLOOKUP(C34,'Team List'!B:D,3,0)),\"\",VLOOKUP(C34,'Team List'!B:D,2,0))","v":""},{"$f":"IF(E33=\"\",\"\",IF(E33=\"Won\",\"Lost\",IF(E33=\"DNF (Leading)\",\"DNF (Trailing)\",IF(E33=\"DNF (Trailing)\",\"DNF (Leading)\",IF(E33=\"Lost\",\"Won\",E33)))))","v":""},{"$f":"IF(F33=\"\",\"\",IF(F33=\"Won\",\"Lost\",IF(F33=\"DNF (Leading)\",\"DNF (Trailing)\",IF(F33=\"DNF (Trailing)\",\"DNF (Leading)\",IF(F33=\"Lost\",\"Won\",F33)))))","v":""},{"$f":"IF(G33=\"\",\"\",IF(G33=\"Won\",\"Lost\",IF(G33=\"DNF (Leading)\",\"DNF (Trailing)\",IF(G33=\"DNF (Trailing)\",\"DNF (Leading)\",IF(G33=\"Lost\",\"Won\",G33)))))","v":""},{"$f":"IF(H33=\"Won\",\"Lost\",IF(H33=\"Lost\",\"Won\",H33))","v":""},{"$f":"IF(C33=\"Bye\",1,IF(LEN(E34&F34&G34)=0,0,COUNTIF(E34:G34,\"Won\")*1+COUNTIF(E34:G34,\"DNF (Leading)\")*0.67+COUNTIF(E34:G34,\"DNF (Tied)\")*0.5+COUNTIF(E34:G34,\"DNF (Trailing)\")*0.33))","v":0},{"$f":"C33","v":0}]
[17,null,null,{"$f":"IF(ISERROR(VLOOKUP(C35,'Team List'!B:D,3,0)),\"\",VLOOKUP(C35,'Team List'!B:D,2,0))","v":""},null,null,null,{"$f":"IF(COUNTIF(E35:G35,\"Won\")=2,\"Won\",IF(COUNTIF(E35:G35,\"Lost\")=2,\"Lost\",IF(AND((E35=\"Won\"),OR(F35=\"DNF (Leading)\",F35=\"DNF (Tied)\",F35=\"DNF (Trailing)\")),\"Won\",IF(AND(COUNTIF(E35:F35,\"Won\")=1,OR(G35=\"DNF (Leading)\",G35=\"DNF (Tied)\",G35=\"DNF (Trailing)\")),\"Tied\",IF(OR(E35=\"DNF (Leading)\",E35=\"DNF (Tied)\",E35=\"DNF (Trailing)\"),\"Tied\",IF(AND((E35=\"Lost\"),OR(F35=\"DNF (Leading)\",F35=\"DNF (Tied)\",F35=\"DNF (Trailing)\")),\"Lost\",IF(C36=\"Bye\",\"Bye\",\"\")))))))","v":""},{"$f":"IF(C36=\"Bye\",0,IF(LEN(E35&F35&G35)=0,0,COUNTIF(E35:G35,\"Won\")*1+COUNTIF(E35:G35,\"DNF (Leading)\")*0.67+COUNTIF(E35:G35,\"DNF (Tied)\")*0.5+COUNTIF(E35:G35,\"DNF (Trailing)\")*0.33))","v":0},{"$f":"C36","v":0}]
[null,null,null,{"$f":"IF(ISERROR(VLOOKUP(C36,'Team List'!B:D,3,0)),\"\",VLOOKUP(C36,'Team List'!B:D,2,0))","v":""},{"$f":"IF(E35=\"\",\"\",IF(E35=\"Won\",\"Lost\",IF(E35=\"DNF (Leading)\",\"DNF (Trailing)\",IF(E35=\"DNF (Trailing)\",\"DNF (Leading)\",IF(E35=\"Lost\",\"Won\",E35)))))","v":""},{"$f":"IF(F35=\"\",\"\",IF(F35=\"Won\",\"Lost\",IF(F35=\"DNF (Leading)\",\"DNF (Trailing)\",IF(F35=\"DNF (Trailing)\",\"DNF (Leading)\",IF(F35=\"Lost\",\"Won\",F35)))))","v":""},{"$f":"IF(G35=\"\",\"\",IF(G35=\"Won\",\"Lost\",IF(G35=\"DNF (Leading)\",\"DNF (Trailing)\",IF(G35=\"DNF (Trailing)\",\"DNF (Leading)\",IF(G35=\"Lost\",\"Won\",G35)))))","v":""},{"$f":"IF(H35=\"Won\",\"Lost\",IF(H35=\"Lost\",\"Won\",H35))","v":""},{"$f":"IF(C35=\"Bye\",0,IF(LEN(E36&F36&G36)=0,0,COUNTIF(E36:G36,\"Won\")*1+COUNTIF(E36:G36,\"DNF (Leading)\")*0.67+COUNTIF(E36:G36,\"DNF (Tied)\")*0.5+COUNTIF(E36:G36,\"DNF (Trailing)\")*0.33))","v":0},{"$f":"C35","v":0}]
[18,null,null,{"$f":"IF(ISERROR(VLOOKUP(C37,'Team List'!B:D,3,0)),\"\",VLOOKUP(C37,'Team List'!B:D,2,0))","v":""},null,null,null,{"$f":"IF(COUNTIF(E37:G37,\"Won\")=2,\"Won\",IF(COUNTIF(E37:G37,\"Lost\")=2,\"Lost\",IF(AND((E37=\"Won\"),OR(F37=\"DNF (Leading)\",F37=\"DNF (Tied)\",F37=\"DNF (Trailing)\")),\"Won\",IF(AND(COUNTIF(E37:F37,\"Won\")=1,OR(G37=\"DNF (Leading)\",G37=\"DNF (Tied)\",G37=\"DNF (Trailing)\")),\"Tied\",IF(OR(E37=\"DNF (Leading)\",E37=\"DNF (Tied)\",E37=\"DNF (Trailing)\"),\"Tied\",IF(AND((E37=\"Lost\"),OR(F37=\"DNF (Leading)\",F37=\"DNF (Tied)\",F37=\"DNF (Trailing)\")),\"Lost\",IF(C38=\"Bye\",\"Bye\",\"\")))))))","v":""},{"$f":"IF(C38=\"Bye\",0,IF(LEN(E37&F37&G37)=0,0,COUNTIF(E37:G37,\"Won\")*1+COUNTIF(E37:G37,\"DNF (Leading)\")*0.67+COUNTIF(E37:G37,\"DNF (Tied)\")*0.5+COUNTIF(E37:G37,\"DNF (Trailing)\")*0.33))","v":0},{"$f":"C38","v":0}]
[null,null,null,{"$f":"IF(ISERROR(VLOOKUP(C38,'Team List'!B:D,3,0)),\"\",VLOOKUP(C38,'Team List'!B:D,2,0))","v":""},{"$f":"IF(E37=\"\",\"\",IF(E37=\"Won\",\"Lost\",IF(E37=\"DNF (Leading)\",\"DNF (Trailing)\",IF(E37=\"DNF (Trailing)\",\"DNF (Leading)\",IF(E37=\"Lost\",\"Won\",E37)))))","v":""},{"$f":"IF(F37=\"\",\"\",IF(F37=\"Won\",\"Lost\",IF(F37=\"DNF (Leading)\",\"DNF (Trailing)\",IF(F37=\"DNF (Trailing)\",\"DNF (Leading)\",IF(F37=\"Lost\",\"Won\",F37)))))","v":""},{"$f":"IF(G37=\"\",\"\",IF(G37=\"Won\",\"Lost\",IF(G37=\"DNF (Leading)\",\"DNF (Trailing)\",IF(G37=\"DNF (Trailing)\",\"DNF (Leading)\",IF(G37=\"Lost\",\"Won\",G37)))))","v":""},{"$f":"IF(H37=\"Won\",\"Lost\",IF(H37=\"Lost\",\"Won\",H37))","v":""},{"$f":"IF(C37=\"Bye\",0,IF(LEN(E38&F38&G38)=0,0,COUNTIF(E38:G38,\"Won\")*1+COUNTIF(E38:G38,\"DNF (Leading)\")*0.67+COUNTIF(E38:G38,\"DNF (Tied)\")*0.5+COUNTIF(E38:G38,\"DNF (Trailing)\")*0.33))","v":0},{"$f":"C37","v":0}]
[19,null,null,{"$f":"IF(ISERROR(VLOOKUP(C39,'Team List'!B:D,3,0)),\"\",VLOOKUP(C39,'Team List'!B:D,2,0))","v":""},null,null,null,{"$f":"IF(COUNTIF(E39:G39,\"Won\")=2,\"Won\",IF(COUNTIF(E39:G39,\"Lost\")=2,\"Lost\",IF(AND((E39=\"Won\"),OR(F39=\"DNF (Leading)\",F39=\"DNF (Tied)\",F39=\"DNF (Trailing)\")),\"Won\",IF(AND(COUNTIF(E39:F39,\"Won\")=1,OR(G39=\"DNF (Leading)\",G39=\"DNF (Tied)\",G39=\"DNF (Trailing)\")),\"Tied\",IF(OR(E39=\"DNF (Leading)\",E39=\"DNF (Tied)\",E39=\"DNF (Trailing)\"),\"Tied\",IF(AND((E39=\"Lost\"),OR(F39=\"DNF (Leading)\",F39=\"DNF (Tied)\",F39=\"DNF (Trailing)\")),\"Lost\",IF(C40=\"Bye\",\"Bye\",\"\")))))))","v":""},{"$f":"IF(C40=\"Bye\",0,IF(LEN(E39&F39&G39)=0,0,COUNTIF(E39:G39,\"Won\")*1+COUNTIF(E39:G39,\"DNF (Leading)\")*0.67+COUNTIF(E39:G39,\"DNF (Tied)\")*0.5+COUNTIF(E39:G39,\"DNF (Trailing)\")*0.33))","v":0},{"$f":"C40","v":0}]
[null,null,null,{"$f":"IF(ISERROR(VLOOKUP(C40,'Team List'!B:D,3,0)),\"\",VLOOKUP(C40,'Team List'!B:D,2,0))","v":""},{"$f":"IF(E39=\"\",\"\",IF(E39=\"Won\",\"Lost\",IF(E39=\"DNF (Leading)\",\"DNF (Trailing)\",IF(E39=\"DNF (Trailing)\",\"DNF (Leading)\",IF(E39=\"Lost\",\"Won\",E39)))))","v":""},{"$f":"IF(F39=\"\",\"\",IF(F39=\"Won\",\"Lost\",IF(F39=\"DNF (Leading)\",\"DNF (Trailing)\",IF(F39=\"DNF (Trailing)\",\"DNF (Leading)\",IF(F39=\"Lost\",\"Won\",F39)))))","v":""},{"$f":"IF(G39=\"\",\"\",IF(G39=\"Won\",\"Lost\",IF(G39=\"DNF (Leading)\",\"DNF (Trailing)\",IF(G39=\"DNF (Trailing)\",\"DNF (Leading)\",IF(G39=\"Lost\",\"Won\",G39)))))","v":""},{"$f":"IF(H39=\"Won\",\"Lost\",IF(H39=\"Lost\",\"Won\",H39))","v":""},{"$f":"IF(C39=\"Bye\",0,IF(LEN(E40&F40&G40)=0,0,COUNTIF(E40:G40,\"Won\")*1+COUNTIF(E40:G40,\"DNF (Leading)\")*0.67+COUNTIF(E40:G40,\"DNF (Tied)\")*0.5+COUNTIF(E40:G40,\"DNF (Trailing)\")*0.33))","v":0},{"$f":"C39","v":0}]
[20,null,null,{"$f":"IF(ISERROR(VLOOKUP(C41,'Team List'!B:D,3,0)),\"\",VLOOKUP(C41,'Team List'!B:D,2,0))","v":""},null,null,null,{"$f":"IF(COUNTIF(E41:G41,\"Won\")=2,\"Won\",IF(COUNTIF(E41:G41,\"Lost\")=2,\"Lost\",IF(AND((E41=\"Won\"),OR(F41=\"DNF (Leading)\",F41=\"DNF (Tied)\",F41=\"DNF (Trailing)\")),\"Won\",IF(AND(COUNTIF(E41:F41,\"Won\")=1,OR(G41=\"DNF (Leading)\",G41=\"DNF (Tied)\",G41=\"DNF (Trailing)\")),\"Tied\",IF(OR(E41=\"DNF (Leading)\",E41=\"DNF (Tied)\",E41=\"DNF (Trailing)\"),\"Tied\",IF(AND((E41=\"Lost\"),OR(F41=\"DNF (Leading)\",F41=\"DNF (Tied)\",F41=\"DNF (Trailing)\")),\"Lost\",IF(C42=\"Bye\",\"Bye\",\"\")))))))","v":""},{"$f":"IF(C42=\"Bye\",0,IF(LEN(E41&F41&G41)=0,0,COUNTIF(E41:G41,\"Won\")*1+COUNTIF(E41:G41,\"DNF (Leading)\")*0.67+COUNTIF(E41:G41,\"DNF (Tied)\")*0.5+COUNTIF(E41:G41,\"DNF (Trailing)\")*0.33))","v":0},{"$f":"C42","v":0}]
[null,null,null,{"$f":"IF(ISERROR(VLOOKUP(C42,'Team List'!B:D,3,0)),\"\",VLOOKUP(C42,'Team List'!B:D,2,0))","v":""},{"$f":"IF(E41=\"\",\"\",IF(E41=\"Won\",\"Lost\",IF(E41=\"DNF (Leading)\",\"DNF (Trailing)\",IF(E41=\"DNF (Trailing)\",\"DNF (Leading)\",IF(E41=\"Lost\",\"Won\",E41)))))","v":""},{"$f":"IF(F41=\"\",\"\",IF(F41=\"Won\",\"Lost\",IF(F41=\"DNF (Leading)\",\"DNF (Trailing)\",IF(F41=\"DNF (Trailing)\",\"DNF (Leading)\",IF(F41=\"Lost\",\"Won\",F41)))))","v":""},{"$f":"IF(G41=\"\",\"\",IF(G41=\"Won\",\"Lost\",IF(G41=\"DNF (Leading)\",\"DNF (Trailing)\",IF(G41=\"DNF (Trailing)\",\"DNF (Leading)\",IF(G41=\"Lost\",\"Won\",G41)))))","v":""},{"$f":"IF(H41=\"Won\",\"Lost\",IF(H41=\"Lost\",\"Won\",H41))","v":""},{"$f":"IF(C41=\"Bye\",0,IF(LEN(E42&F42&G42)=0,0,COUNTIF(E42:G42,\"Won\")*1+COUNTIF(E42:G42,\"DNF (Leading)\")*0.67+COUNTIF(E42:G42,\"DNF (Tied)\")*0.5+COUNTIF(E42:G42,\"DNF (Trailing)\")*0.33))","v":0},{"$f":"C41","v":0}]
[21,null,null,{"$f":"IF(ISERROR(VLOOKUP(C43,'Team List'!B:D,3,0)),\"\",VLOOKUP(C43,'Team List'!B:D,2,0))","v":""},null,null,null,{"$f":"IF(COUNTIF(E43:G43,\"Won\")=2,\"Won\",IF(COUNTIF(E43:G43,\"Lost\")=2,\"Lost\",IF(AND((E43=\"Won\"),OR(F43=\"DNF (Leading)\",F43=\"DNF (Tied)\",F43=\"DNF (Trailing)\")),\"Won\",IF(AND(COUNTIF(E43:F43,\"Won\")=1,OR(G43=\"DNF (Leading)\",G43=\"DNF (Tied)\",G43=\"DNF (Trailing)\")),\"Tied\",IF(OR(E43=\"DNF (Leading)\",E43=\"DNF (Tied)\",E43=\"DNF (Trailing)\"),\"Tied\",IF(AND((E43=\"Lost\"),OR(F43=\"DNF (Leading)\",F43=\"DNF (Tied)\",F43=\"DNF (Trailing)\")),\"Lost\",IF(C44=\"Bye\",\"Bye\",\"\")))))))","v":""},{"$f":"IF(C44=\"Bye\",0,IF(LEN(E43&F43&G43)=0,0,COUNTIF(E43:G43,\"Won\")*1+COUNTIF(E43:G43,\"DNF (Leading)\")*0.67+COUNTIF(E43:G43,\"DNF (Tied)\")*0.5+COUNTIF(E43:G43,\"DNF (Trailing)\")*0.33))","v":0},{"$f":"C44","v":0}]
[null,null,null,{"$f":"IF(ISERROR(VLOOKUP(C44,'Team List'!B:D,3,0)),\"\",VLOOKUP(C44,'Team List'!B:D,2,0))","v":""},{"$f":"IF(E43=\"\",\"\",IF(E43=\"Won\",\"Lost\",IF(E43=\"DNF (Leading)\",\"DNF (Trailing)\",IF(E43=\"DNF (Trailing)\",\"DNF (Leading)\",IF(E43=\"Lost\",\"Won\",E43)))))","v":""},{"$f":"IF(F43=\"\",\"\",IF(F43=\"Won\",\"Lost\",IF(F43=\"DNF (Leading)\",\"DNF (Trailing)\",IF(F43=\"DNF (Trailing)\",\"DNF (Leading)\",IF(F43=\"Lost\",\"Won\",F43)))))","v":""},{"$f":"IF(G43=\"\",\"\",IF(G43=\"Won\",\"Lost\",IF(G43=\"DNF (Leading)\",\"DNF (Trailing)\",IF(G43=\"DNF (Trailing)\",\"DNF (Leading)\",IF(G43=\"Lost\",\"Won\",G43)))))","v":""},{"$f":"IF(H43=\"Won\",\"Lost\",IF(H43=\"Lost\",\"Won\",H43))","v":""},{"$f":"IF(C43=\"Bye\",0,IF(LEN(E44&F44&G44)=0,0,COUNTIF(E44:G44,\"Won\")*1+COUNTIF(E44:G44,\"DNF (Leading)\")*0.67+COUNTIF(E44:G44,\"DNF (Tied)\")*0.5+COUNTIF(E44:G44,\"DNF (Trailing)\")*0.33))","v":0},{"$f":"C43","v":0}]
[22,null,null,{"$f":"IF(ISERROR(VLOOKUP(C45,'Team List'!B:D,3,0)),\"\",VLOOKUP(C45,'Team List'!B:D,2,0))","v":""},null,null,null,{"$f":"IF(COUNTIF(E45:G45,\"Won\")=2,\"Won\",IF(COUNTIF(E45:G45,\"Lost\")=2,\"Lost\",IF(AND((E45=\"Won\"),OR(F45=\"DNF (Leading)\",F45=\"DNF (Tied)\",F45=\"DNF (Trailing)\")),\"Won\",IF(AND(COUNTIF(E45:F45,\"Won\")=1,OR(G45=\"DNF (Leading)\",G45=\"DNF (Tied)\",G45=\"DNF (Trailing)\")),\"Tied\",IF(OR(E45=\"DNF (Leading)\",E45=\"DNF (Tied)\",E45=\"DNF (Trailing)\"),\"Tied\",IF(AND((E45=\"Lost\"),OR(F45=\"DNF (Leading)\",F45=\"DNF (Tied)\",F45=\"DNF (Trailing)\")),\"Lost\",IF(C46=\"Bye\",\"Bye\",\"\")))))))","v":""},{"$f":"IF(C46=\"Bye\",0,IF(LEN(E45&F45&G45)=0,0,COUNTIF(E45:G45,\"Won\")*1+COUNTIF(E45:G45,\"DNF (Leading)\")*0.67+COUNTIF(E45:G45,\"DNF (Tied)\")*0.5+COUNTIF(E45:G45,\"DNF (Trailing)\")*0.33))","v":0},{"$f":"C46","v":0}]
[null,null,null,{"$f":"IF(ISERROR(VLOOKUP(C46,'Team List'!B:D,3,0)),\"\",VLOOKUP(C46,'Team List'!B:D,2,0))","v":""},{"$f":"IF(E45=\"\",\"\",IF(E45=\"Won\",\"Lost\",IF(E45=\"DNF (Leading)\",\"DNF (Trailing)\",IF(E45=\"DNF (Trailing)\",\"DNF (Leading)\",IF(E45=\"Lost\",\"Won\",E45)))))","v":""},{"$f":"IF(F45=\"\",\"\",IF(F45=\"Won\",\"Lost\",IF(F45=\"DNF (Leading)\",\"DNF (Trailing)\",IF(F45=\"DNF (Trailing)\",\"DNF (Leading)\",IF(F45=\"Lost\",\"Won\",F45)))))","v":""},{"$f":"IF(G45=\"\",\"\",IF(G45=\"Won\",\"Lost\",IF(G45=\"DNF (Leading)\",\"DNF (Trailing)\",IF(G45=\"DNF (Trailing)\",\"DNF (Leading)\",IF(G45=\"Lost\",\"Won\",G45)))))","v":""},{"$f":"IF(H45=\"Won\",\"Lost\",IF(H45=\"Lost\",\"Won\",H45))","v":""},{"$f":"IF(C45=\"Bye\",0,IF(LEN(E46&F46&G46)=0,0,COUNTIF(E46:G46,\"Won\")*1+COUNTIF(E46:G46,\"DNF (Leading)\")*0.67+COUNTIF(E46:G46,\"DNF (Tied)\")*0.5+COUNTIF(E46:G46,\"DNF (Trailing)\")*0.33))","v":0},{"$f":"C45","v":0}]
[23,null,null,{"$f":"IF(ISERROR(VLOOKUP(C47,'Team List'!B:D,3,0)),\"\",VLOOKUP(C47,'Team List'!B:D,2,0))","v":""},null,null,null,{"$f":"IF(COUNTIF(E47:G47,\"Won\")=2,\"Won\",IF(COUNTIF(E47:G47,\"Lost\")=2,\"Lost\",IF(AND((E47=\"Won\"),OR(F47=\"DNF (Leading)\",F47=\"DNF (Tied)\",F47=\"DNF (Trailing)\")),\"Won\",IF(AND(COUNTIF(E47:F47,\"Won\")=1,OR(G47=\"DNF (Leading)\",G47=\"DNF (Tied)\",G47=\"DNF (Trailing)\")),\"Tied\",IF(OR(E47=\"DNF (Leading)\",E47=\"DNF (Tied)\",E47=\"DNF (Trailing)\"),\"Tied\",IF(AND((E47=\"Lost\"),OR(F47=\"DNF (Leading)\",F47=\"DNF (Tied)\",F47=\"DNF (Trailing)\")),\"Lost\",IF(C48=\"Bye\",\"Bye\",\"\")))))))","v":""},{"$f":"IF(C48=\"Bye\",0,IF(LEN(E47&F47&G47)=0,0,COUNTIF(E47:G47,\"Won\")*1+COUNTIF(E47:G47,\"DNF (Leading)\")*0.67+COUNTIF(E47:G47,\"DNF (Tied)\")*0.5+COUNTIF(E47:G47,\"DNF (Trailing)\")*0.33))","v":0},{"$f":"C48","v":0}]
[null,null,null,{"$f":"IF(ISERROR(VLOOKUP(C48,'Team List'!B:D,3,0)),\"\",VLOOKUP(C48,'Team List'!B:D,2,0))","v":""},{"$f":"IF(E47=\"\",\"\",IF(E47=\"Won\",\"Lost\",IF(E47=\"DNF (Leading)\",\"DNF (Trailing)\",IF(E47=\"DNF (Trailing)\",\"DNF (Leading)\",IF(E47=\"Lost\",\"Won\",E47)))))","v":""},{"$f":"IF(F47=\"\",\"\",IF(F47=\"Won\",\"Lost\",IF(F47=\"DNF (Leading)\",\"DNF (Trailing)\",IF(F47=\"DNF (Trailing)\",\"DNF (Leading)\",IF(F47=\"Lost\",\"Won\",F47)))))","v":""},{"$f":"IF(G47=\"\",\"\",IF(G47=\"Won\",\"Lost\",IF(G47=\"DNF (Leading)\",\"DNF (Trailing)\",IF(G47=\"DNF (Trailing)\",\"DNF (Leading)\",IF(G47=\"Lost\",\"Won\",G47)))))","v":""},{"$f":"IF(H47=\"Won\",\"Lost\",IF(H47=\"Lost\",\"Won\",H47))","v":""},{"$f":"IF(C47=\"Bye\",0,IF(LEN(E48&F48&G48)=0,0,COUNTIF(E48:G48,\"Won\")*1+COUNTIF(E48:G48,\"DNF (Leading)\")*0.67+COUNTIF(E48:G48,\"DNF (Tied)\")*0.5+COUNTIF(E48:G48,\"DNF (Trailing)\")*0.33))","v":0},{"$f":"C47","v":0}]
[24,null,null,{"$f":"IF(ISERROR(VLOOKUP(C49,'Team List'!B:D,3,0)),\"\",VLOOKUP(C49,'Team List'!B:D,2,0))","v":""},null,null,null,{"$f":"IF(COUNTIF(E49:G49,\"Won\")=2,\"Won\",IF(COUNTIF(E49:G49,\"Lost\")=2,\"Lost\",IF(AND((E49=\"Won\"),OR(F49=\"DNF (Leading)\",F49=\"DNF (Tied)\",F49=\"DNF (Trailing)\")),\"Won\",IF(AND(COUNTIF(E49:F49,\"Won\")=1,OR(G49=\"DNF (Leading)\",G49=\"DNF (Tied)\",G49=\"DNF (Trailing)\")),\"Tied\",IF(OR(E49=\"DNF (Leading)\",E49=\"DNF (Tied)\",E49=\"DNF (Trailing)\"),\"Tied\",IF(AND((E49=\"Lost\"),OR(F49=\"DNF (Leading)\",F49=\"DNF (Tied)\",F49=\"DNF (Trailing)\")),\"Lost\",IF(C50=\"Bye\",\"Bye\",\"\")))))))","v":""},{"$f":"IF(C50=\"Bye\",0,IF(LEN(E49&F49&G49)=0,0,COUNTIF(E49:G49,\"Won\")*1+COUNTIF(E49:G49,\"DNF (Leading)\")*0.67+COUNTIF(E49:G49,\"DNF (Tied)\")*0.5+COUNTIF(E49:G49,\"DNF (Trailing)\")*0.33))","v":0},{"$f":"C50","v":0}]
[null,null,null,{"$f":"IF(ISERROR(VLOOKUP(C50,'Team List'!B:D,3,0)),\"\",VLOOKUP(C50,'Team List'!B:D,2,0))","v":""},{"$f":"IF(E49=\"\",\"\",IF(E49=\"Won\",\"Lost\",IF(E49=\"DNF (Leading)\",\"DNF (Trailing)\",IF(E49=\"DNF (Trailing)\",\"DNF (Leading)\",IF(E49=\"Lost\",\"Won\",E49)))))","v":""},{"$f":"IF(F49=\"\",\"\",IF(F49=\"Won\",\"Lost\",IF(F49=\"DNF (Leading)\",\"DNF (Trailing)\",IF(F49=\"DNF (Trailing)\",\"DNF (Leading)\",IF(F49=\"Lost\",\"Won\",F49)))))","v":""},{"$f":"IF(G49=\"\",\"\",IF(G49=\"Won\",\"Lost\",IF(G49=\"DNF (Leading)\",\"DNF (Trailing)\",IF(G49=\"DNF (Trailing)\",\"DNF (Leading)\",IF(G49=\"Lost\",\"Won\",G49)))))","v":""},{"$f":"IF(H49=\"Won\",\"Lost\",IF(H49=\"Lost\",\"Won\",H49))","v":""},{"$f":"IF(C49=\"Bye\",0,IF(LEN(E50&F50&G50)=0,0,COUNTIF(E50:G50,\"Won\")*1+COUNTIF(E50:G50,\"DNF (Leading)\")*0.67+COUNTIF(E50:G50,\"DNF (Tied)\")*0.5+COUNTIF(E50:G50,\"DNF (Trailing)\")*0.33))","v":0},{"$f":"C49","v":0}]
[25,null,null,{"$f":"IF(ISERROR(VLOOKUP(C51,'Team List'!B:D,3,0)),\"\",VLOOKUP(C51,'Team List'!B:D,2,0))","v":""},null,null,null,{"$f":"IF(COUNTIF(E51:G51,\"Won\")=2,\"Won\",IF(COUNTIF(E51:G51,\"Lost\")=2,\"Lost\",IF(AND((E51=\"Won\"),OR(F51=\"DNF (Leading)\",F51=\"DNF (Tied)\",F51=\"DNF (Trailing)\")),\"Won\",IF(AND(COUNTIF(E51:F51,\"Won\")=1,OR(G51=\"DNF (Leading)\",G51=\"DNF (Tied)\",G51=\"DNF (Trailing)\")),\"Tied\",IF(OR(E51=\"DNF (Leading)\",E51=\"DNF (Tied)\",E51=\"DNF (Trailing)\"),\"Tied\",IF(AND((E51=\"Lost\"),OR(F51=\"DNF (Leading)\",F51=\"DNF (Tied)\",F51=\"DNF (Trailing)\")),\"Lost\",IF(C52=\"Bye\",\"Bye\",\"\")))))))","v":""},{"$f":"IF(C52=\"Bye\",0,IF(LEN(E51&F51&G51)=0,0,COUNTIF(E51:G51,\"Won\")*1+COUNTIF(E51:G51,\"DNF (Leading)\")*0.67+COUNTIF(E51:G51,\"DNF (Tied)\")*0.5+COUNTIF(E51:G51,\"DNF (Trailing)\")*0.33))","v":0},{"$f":"C52","v":0}]
[null,null,null,{"$f":"IF(ISERROR(VLOOKUP(C52,'Team List'!B:D,3,0)),\"\",VLOOKUP(C52,'Team List'!B:D,2,0))","v":""},{"$f":"IF(E51=\"\",\"\",IF(E51=\"Won\",\"Lost\",IF(E51=\"DNF (Leading)\",\"DNF (Trailing)\",IF(E51=\"DNF (Trailing)\",\"DNF (Leading)\",IF(E51=\"Lost\",\"Won\",E51)))))","v":""},{"$f":"IF(F51=\"\",\"\",IF(F51=\"Won\",\"Lost\",IF(F51=\"DNF (Leading)\",\"DNF (Trailing)\",IF(F51=\"DNF (Trailing)\",\"DNF (Leading)\",IF(F51=\"Lost\",\"Won\",F51)))))","v":""},{"$f":"IF(G51=\"\",\"\",IF(G51=\"Won\",\"Lost\",IF(G51=\"DNF (Leading)\",\"DNF (Trailing)\",IF(G51=\"DNF (Trailing)\",\"DNF (Leading)\",IF(G51=\"Lost\",\"Won\",G51)))))","v":""},{"$f":"IF(H51=\"Won\",\"Lost\",IF(H51=\"Lost\",\"Won\",H51))","v":""},{"$f":"IF(C51=\"Bye\",0,IF(LEN(E52&F52&G52)=0,0,COUNTIF(E52:G52,\"Won\")*1+COUNTIF(E52:G52,\"DNF (Leading)\")*0.67+COUNTIF(E52:G52,\"DNF (Tied)\")*0.5+COUNTIF(E52:G52,\"DNF (Trailing)\")*0.33))","v":0},{"$f":"C51","v":0}]
[26,null,null,{"$f":"IF(ISERROR(VLOOKUP(C53,'Team List'!B:D,3,0)),\"\",VLOOKUP(C53,'Team List'!B:D,2,0))","v":""},null,null,null,{"$f":"IF(COUNTIF(E53:G53,\"Won\")=2,\"Won\",IF(COUNTIF(E53:G53,\"Lost\")=2,\"Lost\",IF(AND((E53=\"Won\"),OR(F53=\"DNF (Leading)\",F53=\"DNF (Tied)\",F53=\"DNF (Trailing)\")),\"Won\",IF(AND(COUNTIF(E53:F53,\"Won\")=1,OR(G53=\"DNF (Leading)\",G53=\"DNF (Tied)\",G53=\"DNF (Trailing)\")),\"Tied\",IF(OR(E53=\"DNF (Leading)\",E53=\"DNF (Tied)\",E53=\"DNF (Trailing)\"),\"Tied\",IF(AND((E53=\"Lost\"),OR(F53=\"DNF (Leading)\",F53=\"DNF (Tied)\",F53=\"DNF (Trailing)\")),\"Lost\",IF(C54=\"Bye\",\"Bye\",\"\")))))))","v":""},{"$f":"IF(C54=\"Bye\",0,IF(LEN(E53&F53&G53)=0,0,COUNTIF(E53:G53,\"Won\")*1+COUNTIF(E53:G53,\"DNF (Leading)\")*0.67+COUNTIF(E53:G53,\"DNF (Tied)\")*0.5+COUNTIF(E53:G53,\"DNF (Trailing)\")*0.33))","v":0},{"$f":"C54","v":0}]
[null,null,null,{"$f":"IF(ISERROR(VLOOKUP(C54,'Team List'!B:D,3,0)),\"\",VLOOKUP(C54,'Team List'!B:D,2,0))","v":""},{"$f":"IF(E53=\"\",\"\",IF(E53=\"Won\",\"Lost\",IF(E53=\"DNF (Leading)\",\"DNF (Trailing)\",IF(E53=\"DNF (Trailing)\",\"DNF (Leading)\",IF(E53=\"Lost\",\"Won\",E53)))))","v":""},{"$f":"IF(F53=\"\",\"\",IF(F53=\"Won\",\"Lost\",IF(F53=\"DNF (Leading)\",\"DNF (Trailing)\",IF(F53=\"DNF (Trailing)\",\"DNF (Leading)\",IF(F53=\"Lost\",\"Won\",F53)))))","v":""},{"$f":"IF(G53=\"\",\"\",IF(G53=\"Won\",\"Lost\",IF(G53=\"DNF (Leading)\",\"DNF (Trailing)\",IF(G53=\"DNF (Trailing)\",\"DNF (Leading)\",IF(G53=\"Lost\",\"Won\",G53)))))","v":""},{"$f":"IF(H53=\"Won\",\"Lost\",IF(H53=\"Lost\",\"Won\",H53))","v":""},{"$f":"IF(C53=\"Bye\",0,IF(LEN(E54&F54&G54)=0,0,COUNTIF(E54:G54,\"Won\")*1+COUNTIF(E54:G54,\"DNF (Leading)\")*0.67+COUNTIF(E54:G54,\"DNF (Tied)\")*0.5+COUNTIF(E54:G54,\"DNF (Trailing)\")*0.33))","v":0},{"$f":"C53","v":0}]
[27,null,null,{"$f":"IF(ISERROR(VLOOKUP(C55,'Team List'!B:D,3,0)),\"\",VLOOKUP(C55,'Team List'!B:D,2,0))","v":""},null,null,null,{"$f":"IF(COUNTIF(E55:G55,\"Won\")=2,\"Won\",IF(COUNTIF(E55:G55,\"Lost\")=2,\"Lost\",IF(AND((E55=\"Won\"),OR(F55=\"DNF (Leading)\",F55=\"DNF (Tied)\",F55=\"DNF (Trailing)\")),\"Won\",IF(AND(COUNTIF(E55:F55,\"Won\")=1,OR(G55=\"DNF (Leading)\",G55=\"DNF (Tied)\",G55=\"DNF (Trailing)\")),\"Tied\",IF(OR(E55=\"DNF (Leading)\",E55=\"DNF (Tied)\",E55=\"DNF (Trailing)\"),\"Tied\",IF(AND((E55=\"Lost\"),OR(F55=\"DNF (Leading)\",F55=\"DNF (Tied)\",F55=\"DNF (Trailing)\")),\"Lost\",IF(C56=\"Bye\",\"Bye\",\"\")))))))","v":""},{"$f":"IF(C56=\"Bye\",0,IF(LEN(E55&F55&G55)=0,0,COUNTIF(E55:G55,\"Won\")*1+COUNTIF(E55:G55,\"DNF (Leading)\")*0.67+COUNTIF(E55:G55,\"DNF (Tied)\")*0.5+COUNTIF(E55:G55,\"DNF (Trailing)\")*0.33))","v":0},{"$f":"C56","v":0}]
[null,null,null,{"$f":"IF(ISERROR(VLOOKUP(C56,'Team List'!B:D,3,0)),\"\",VLOOKUP(C56,'Team List'!B:D,2,0))","v":""},{"$f":"IF(E55=\"\",\"\",IF(E55=\"Won\",\"Lost\",IF(E55=\"DNF (Leading)\",\"DNF (Trailing)\",IF(E55=\"DNF (Trailing)\",\"DNF (Leading)\",IF(E55=\"Lost\",\"Won\",E55)))))","v":""},{"$f":"IF(F55=\"\",\"\",IF(F55=\"Won\",\"Lost\",IF(F55=\"DNF (Leading)\",\"DNF (Trailing)\",IF(F55=\"DNF (Trailing)\",\"DNF (Leading)\",IF(F55=\"Lost\",\"Won\",F55)))))","v":""},{"$f":"IF(G55=\"\",\"\",IF(G55=\"Won\",\"Lost\",IF(G55=\"DNF (Leading)\",\"DNF (Trailing)\",IF(G55=\"DNF (Trailing)\",\"DNF (Leading)\",IF(G55=\"Lost\",\"Won\",G55)))))","v":""},{"$f":"IF(H55=\"Won\",\"Lost\",IF(H55=\"Lost\",\"Won\",H55))","v":""},{"$f":"IF(C55=\"Bye\",0,IF(LEN(E56&F56&G56)=0,0,COUNTIF(E56:G56,\"Won\")*1+COUNTIF(E56:G56,\"DNF (Leading)\")*0.67+COUNTIF(E56:G56,\"DNF (Tied)\")*0.5+COUNTIF(E56:G56,\"DNF (Trailing)\")*0.33))","v":0},{"$f":"C55","v":0}]
[28,null,null,{"$f":"IF(ISERROR(VLOOKUP(C57,'Team List'!B:D,3,0)),\"\",VLOOKUP(C57,'Team List'!B:D,2,0))","v":""},null,null,null,{"$f":"IF(COUNTIF(E57:G57,\"Won\")=2,\"Won\",IF(COUNTIF(E57:G57,\"Lost\")=2,\"Lost\",IF(AND((E57=\"Won\"),OR(F57=\"DNF (Leading)\",F57=\"DNF (Tied)\",F57=\"DNF (Trailing)\")),\"Won\",IF(AND(COUNTIF(E57:F57,\"Won\")=1,OR(G57=\"DNF (Leading)\",G57=\"DNF (Tied)\",G57=\"DNF (Trailing)\")),\"Tied\",IF(OR(E57=\"DNF (Leading)\",E57=\"DNF (Tied)\",E57=\"DNF (Trailing)\"),\"Tied\",IF(AND((E57=\"Lost\"),OR(F57=\"DNF (Leading)\",F57=\"DNF (Tied)\",F57=\"DNF (Trailing)\")),\"Lost\",IF(C58=\"Bye\",\"Bye\",\"\")))))))","v":""},{"$f":"IF(C58=\"Bye\",0,IF(LEN(E57&F57&G57)=0,0,COUNTIF(E57:G57,\"Won\")*1+COUNTIF(E57:G57,\"DNF (Leading)\")*0.67+COUNTIF(E57:G57,\"DNF (Tied)\")*0.5+COUNTIF(E57:G57,\"DNF (Trailing)\")*0.33))","v":0},{"$f":"C58","v":0}]
[null,null,null,{"$f":"IF(ISERROR(VLOOKUP(C58,'Team List'!B:D,3,0)),\"\",VLOOKUP(C58,'Team List'!B:D,2,0))","v":""},{"$f":"IF(E57=\"\",\"\",IF(E57=\"Won\",\"Lost\",IF(E57=\"DNF (Leading)\",\"DNF (Trailing)\",IF(E57=\"DNF (Trailing)\",\"DNF (Leading)\",IF(E57=\"Lost\",\"Won\",E57)))))","v":""},{"$f":"IF(F57=\"\",\"\",IF(F57=\"Won\",\"Lost\",IF(F57=\"DNF (Leading)\",\"DNF (Trailing)\",IF(F57=\"DNF (Trailing)\",\"DNF (Leading)\",IF(F57=\"Lost\",\"Won\",F57)))))","v":""},{"$f":"IF(G57=\"\",\"\",IF(G57=\"Won\",\"Lost\",IF(G57=\"DNF (Leading)\",\"DNF (Trailing)\",IF(G57=\"DNF (Trailing)\",\"DNF (Leading)\",IF(G57=\"Lost\",\"Won\",G57)))))","v":""},{"$f":"IF(H57=\"Won\",\"Lost\",IF(H57=\"Lost\",\"Won\",H57))","v":""},{"$f":"IF(C57=\"Bye\",0,IF(LEN(E58&F58&G58)=0,0,COUNTIF(E58:G58,\"Won\")*1+COUNTIF(E58:G58,\"DNF (Leading)\")*0.67+COUNTIF(E58:G58,\"DNF (Tied)\")*0.5+COUNTIF(E58:G58,\"DNF (Trailing)\")*0.33))","v":0},{"$f":"C57","v":0}]
[29,null,null,{"$f":"IF(ISERROR(VLOOKUP(C59,'Team List'!B:D,3,0)),\"\",VLOOKUP(C59,'Team List'!B:D,2,0))","v":""},null,null,null,{"$f":"IF(COUNTIF(E59:G59,\"Won\")=2,\"Won\",IF(COUNTIF(E59:G59,\"Lost\")=2,\"Lost\",IF(AND((E59=\"Won\"),OR(F59=\"DNF (Leading)\",F59=\"DNF (Tied)\",F59=\"DNF (Trailing)\")),\"Won\",IF(AND(COUNTIF(E59:F59,\"Won\")=1,OR(G59=\"DNF (Leading)\",G59=\"DNF (Tied)\",G59=\"DNF (Trailing)\")),\"Tied\",IF(OR(E59=\"DNF (Leading)\",E59=\"DNF (Tied)\",E59=\"DNF (Trailing)\"),\"Tied\",IF(AND((E59=\"Lost\"),OR(F59=\"DNF (Leading)\",F59=\"DNF (Tied)\",F59=\"DNF (Trailing)\")),\"Lost\",IF(C60=\"Bye\",\"Bye\",\"\")))))))","v":""},{"$f":"IF(C60=\"Bye\",0,IF(LEN(E59&F59&G59)=0,0,COUNTIF(E59:G59,\"Won\")*1+COUNTIF(E59:G59,\"DNF (Leading)\")*0.67+COUNTIF(E59:G59,\"DNF (Tied)\")*0.5+COUNTIF(E59:G59,\"DNF (Trailing)\")*0.33))","v":0},{"$f":"C60","v":0}]
[null,null,null,{"$f":"IF(ISERROR(VLOOKUP(C60,'Team List'!B:D,3,0)),\"\",VLOOKUP(C60,'Team List'!B:D,2,0))","v":""},{"$f":"IF(E59=\"\",\"\",IF(E59=\"Won\",\"Lost\",IF(E59=\"DNF (Leading)\",\"DNF (Trailing)\",IF(E59=\"DNF (Trailing)\",\"DNF (Leading)\",IF(E59=\"Lost\",\"Won\",E59)))))","v":""},{"$f":"IF(F59=\"\",\"\",IF(F59=\"Won\",\"Lost\",IF(F59=\"DNF (Leading)\",\"DNF (Trailing)\",IF(F59=\"DNF (Trailing)\",\"DNF (Leading)\",IF(F59=\"Lost\",\"Won\",F59)))))","v":""},{"$f":"IF(G59=\"\",\"\",IF(G59=\"Won\",\"Lost\",IF(G59=\"DNF (Leading)\",\"DNF (Trailing)\",IF(G59=\"DNF (Trailing)\",\"DNF (Leading)\",IF(G59=\"Lost\",\"Won\",G59)))))","v":""},{"$f":"IF(H59=\"Won\",\"Lost\",IF(H59=\"Lost\",\"Won\",H59))","v":""},{"$f":"IF(C59=\"Bye\",0,IF(LEN(E60&F60&G60)=0,0,COUNTIF(E60:G60,\"Won\")*1+COUNTIF(E60:G60,\"DNF (Leading)\")*0.67+COUNTIF(E60:G60,\"DNF (Tied)\")*0.5+COUNTIF(E60:G60,\"DNF (Trailing)\")*0.33))","v":0},{"$f":"C59","v":0}]
[30,null,null,{"$f":"IF(ISERROR(VLOOKUP(C61,'Team List'!B:D,3,0)),\"\",VLOOKUP(C61,'Team List'!B:D,2,0))","v":""},null,null,null,{"$f":"IF(COUNTIF(E61:G61,\"Won\")=2,\"Won\",IF(COUNTIF(E61:G61,\"Lost\")=2,\"Lost\",IF(AND((E61=\"Won\"),OR(F61=\"DNF (Leading)\",F61=\"DNF (Tied)\",F61=\"DNF (Trailing)\")),\"Won\",IF(AND(COUNTIF(E61:F61,\"Won\")=1,OR(G61=\"DNF (Leading)\",G61=\"DNF (Tied)\",G61=\"DNF (Trailing)\")),\"Tied\",IF(OR(E61=\"DNF (Leading)\",E61=\"DNF (Tied)\",E61=\"DNF (Trailing)\"),\"Tied\",IF(AND((E61=\"Lost\"),OR(F61=\"DNF (Leading)\",F61=\"DNF (Tied)\",F61=\"DNF (Trailing)\")),\"Lost\",IF(C62=\"Bye\",\"Bye\",\"\")))))))","v":""},{"$f":"IF(C62=\"Bye\",0,IF(LEN(E61&F61&G61)=0,0,COUNTIF(E61:G61,\"Won\")*1+COUNTIF(E61:G61,\"DNF (Leading)\")*0.67+COUNTIF(E61:G61,\"DNF (Tied)\")*0.5+COUNTIF(E61:G61,\"DNF (Trailing)\")*0.33))","v":0},{"$f":"C62","v":0}]
[null,null,null,{"$f":"IF(ISERROR(VLOOKUP(C62,'Team List'!B:D,3,0)),\"\",VLOOKUP(C62,'Team List'!B:D,2,0))","v":""},{"$f":"IF(E61=\"\",\"\",IF(E61=\"Won\",\"Lost\",IF(E61=\"DNF (Leading)\",\"DNF (Trailing)\",IF(E61=\"DNF (Trailing)\",\"DNF (Leading)\",IF(E61=\"Lost\",\"Won\",E61)))))","v":""},{"$f":"IF(F61=\"\",\"\",IF(F61=\"Won\",\"Lost\",IF(F61=\"DNF (Leading)\",\"DNF (Trailing)\",IF(F61=\"DNF (Trailing)\",\"DNF (Leading)\",IF(F61=\"Lost\",\"Won\",F61)))))","v":""},{"$f":"IF(G61=\"\",\"\",IF(G61=\"Won\",\"Lost\",IF(G61=\"DNF (Leading)\",\"DNF (Trailing)\",IF(G61=\"DNF (Trailing)\",\"DNF (Leading)\",IF(G61=\"Lost\",\"Won\",G61)))))","v":""},{"$f":"IF(H61=\"Won\",\"Lost\",IF(H61=\"Lost\",\"Won\",H61))","v":""},{"$f":"IF(C61=\"Bye\",0,IF(LEN(E62&F62&G62)=0,0,COUNTIF(E62:G62,\"Won\")*1+COUNTIF(E62:G62,\"DNF (Leading)\")*0.67+COUNTIF(E62:G62,\"DNF (Tied)\")*0.5+COUNTIF(E62:G62,\"DNF (Trailing)\")*0.33))","v":0},{"$f":"C61","v":0}]
[31,null,null,{"$f":"IF(ISERROR(VLOOKUP(C63,'Team List'!B:D,3,0)),\"\",VLOOKUP(C63,'Team List'!B:D,2,0))","v":""},null,null,null,{"$f":"IF(COUNTIF(E63:G63,\"Won\")=2,\"Won\",IF(COUNTIF(E63:G63,\"Lost\")=2,\"Lost\",IF(AND((E63=\"Won\"),OR(F63=\"DNF (Leading)\",F63=\"DNF (Tied)\",F63=\"DNF (Trailing)\")),\"Won\",IF(AND(COUNTIF(E63:F63,\"Won\")=1,OR(G63=\"DNF (Leading)\",G63=\"DNF (Tied)\",G63=\"DNF (Trailing)\")),\"Tied\",IF(OR(E63=\"DNF (Leading)\",E63=\"DNF (Tied)\",E63=\"DNF (Trailing)\"),\"Tied\",IF(AND((E63=\"Lost\"),OR(F63=\"DNF (Leading)\",F63=\"DNF (Tied)\",F63=\"DNF (Trailing)\")),\"Lost\",IF(C64=\"Bye\",\"Bye\",\"\")))))))","v":""},{"$f":"IF(C64=\"Bye\",0,IF(LEN(E63&F63&G63)=0,0,COUNTIF(E63:G63,\"Won\")*1+COUNTIF(E63:G63,\"DNF (Leading)\")*0.67+COUNTIF(E63:G63,\"DNF (Tied)\")*0.5+COUNTIF(E63:G63,\"DNF (Trailing)\")*0.33))","v":0},{"$f":"C64","v":0}]
[null,null,null,{"$f":"IF(ISERROR(VLOOKUP(C64,'Team List'!B:D,3,0)),\"\",VLOOKUP(C64,'Team List'!B:D,2,0))","v":""},{"$f":"IF(E63=\"\",\"\",IF(E63=\"Won\",\"Lost\",IF(E63=\"DNF (Leading)\",\"DNF (Trailing)\",IF(E63=\"DNF (Trailing)\",\"DNF (Leading)\",IF(E63=\"Lost\",\"Won\",E63)))))","v":""},{"$f":"IF(F63=\"\",\"\",IF(F63=\"Won\",\"Lost\",IF(F63=\"DNF (Leading)\",\"DNF (Trailing)\",IF(F63=\"DNF (Trailing)\",\"DNF (Leading)\",IF(F63=\"Lost\",\"Won\",F63)))))","v":""},{"$f":"IF(G63=\"\",\"\",IF(G63=\"Won\",\"Lost\",IF(G63=\"DNF (Leading)\",\"DNF (Trailing)\",IF(G63=\"DNF (Trailing)\",\"DNF (Leading)\",IF(G63=\"Lost\",\"Won\",G63)))))","v":""},{"$f":"IF(H63=\"Won\",\"Lost\",IF(H63=\"Lost\",\"Won\",H63))","v":""},{"$f":"IF(C63=\"Bye\",0,IF(LEN(E64&F64&G64)=0,0,COUNTIF(E64:G64,\"Won\")*1+COUNTIF(E64:G64,\"DNF (Leading)\")*0.67+COUNTIF(E64:G64,\"DNF (Tied)\")*0.5+COUNTIF(E64:G64,\"DNF (Trailing)\")*0.33))","v":0},{"$f":"C63","v":0}]
[32,null,null,{"$f":"IF(ISERROR(VLOOKUP(C65,'Team List'!B:D,3,0)),\"\",VLOOKUP(C65,'Team List'!B:D,2,0))","v":""},null,null,null,{"$f":"IF(COUNTIF(E65:G65,\"Won\")=2,\"Won\",IF(COUNTIF(E65:G65,\"Lost\")=2,\"Lost\",IF(AND((E65=\"Won\"),OR(F65=\"DNF (Leading)\",F65=\"DNF (Tied)\",F65=\"DNF (Trailing)\")),\"Won\",IF(AND(COUNTIF(E65:F65,\"Won\")=1,OR(G65=\"DNF (Leading)\",G65=\"DNF (Tied)\",G65=\"DNF (Trailing)\")),\"Tied\",IF(OR(E65=\"DNF (Leading)\",E65=\"DNF (Tied)\",E65=\"DNF (Trailing)\"),\"Tied\",IF(AND((E65=\"Lost\"),OR(F65=\"DNF (Leading)\",F65=\"DNF (Tied)\",F65=\"DNF (Trailing)\")),\"Lost\",IF(C66=\"Bye\",\"Bye\",\"\")))))))","v":""},{"$f":"IF(C66=\"Bye\",0,IF(LEN(E65&F65&G65)=0,0,COUNTIF(E65:G65,\"Won\")*1+COUNTIF(E65:G65,\"DNF (Leading)\")*0.67+COUNTIF(E65:G65,\"DNF (Tied)\")*0.5+COUNTIF(E65:G65,\"DNF (Trailing)\")*0.33))","v":0},{"$f":"C66","v":0}]
[null,null,null,{"$f":"IF(ISERROR(VLOOKUP(C66,'Team List'!B:D,3,0)),\"\",VLOOKUP(C66,'Team List'!B:D,2,0))","v":""},{"$f":"IF(E65=\"\",\"\",IF(E65=\"Won\",\"Lost\",IF(E65=\"DNF (Leading)\",\"DNF (Trailing)\",IF(E65=\"DNF (Trailing)\",\"DNF (Leading)\",IF(E65=\"Lost\",\"Won\",E65)))))","v":""},{"$f":"IF(F65=\"\",\"\",IF(F65=\"Won\",\"Lost\",IF(F65=\"DNF (Leading)\",\"DNF (Trailing)\",IF(F65=\"DNF (Trailing)\",\"DNF (Leading)\",IF(F65=\"Lost\",\"Won\",F65)))))","v":""},{"$f":"IF(G65=\"\",\"\",IF(G65=\"Won\",\"Lost\",IF(G65=\"DNF (Leading)\",\"DNF (Trailing)\",IF(G65=\"DNF (Trailing)\",\"DNF (Leading)\",IF(G65=\"Lost\",\"Won\",G65)))))","v":""},{"$f":"IF(H65=\"Won\",\"Lost\",IF(H65=\"Lost\",\"Won\",H65))","v":""},{"$f":"IF(C65=\"Bye\",0,IF(LEN(E66&F66&G66)=0,0,COUNTIF(E66:G66,\"Won\")*1+COUNTIF(E66:G66,\"DNF (Leading)\")*0.67+COUNTIF(E66:G66,\"DNF (Tied)\")*0.5+COUNTIF(E66:G66,\"DNF (Trailing)\")*0.33))","v":0},{"$f":"C65","v":0}]

{"sheet":"Round Seven","index":11,"n_rows":66,"n_cols":10,"rows_kept":66,"cut":false,"hidden":false,"merged":[[22,0,23,0],[0,0,0,5],[2,0,3,0],[4,0,5,0],[6,0,7,0],[8,0,9,0],[10,0,11,0],[12,0,13,0],[14,0,15,0],[16,0,17,0],[18,0,19,0],[20,0,21,0],[46,0,47,0],[24,0,25,0],[26,0,27,0],[28,0,29,0],[30,0,31,0],[32,0,33,0],[34,0,35,0],[36,0,37,0],[38,0,39,0],[40,0,41,0],[42,0,43,0],[44,0,45,0],[60,0,61,0],[62,0,63,0],[64,0,65,0],[48,0,49,0],[50,0,51,0],[52,0,53,0],[54,0,55,0],[56,0,57,0],[58,0,59,0]]}
["Round Seven"]
["Pitch #","Rank","Team Number","Team Name","Game One","Game Two","Game Three","Match","Score"]
[1,null,null,{"$f":"IF(ISERROR(VLOOKUP(C3,'Team List'!B:D,3,0)),\"\",VLOOKUP(C3,'Team List'!B:D,2,0))","v":""},null,null,null,{"$f":"IF(COUNTIF(E3:G3,\"Won\")=2,\"Won\",IF(COUNTIF(E3:G3,\"Lost\")=2,\"Lost\",IF(AND((E3=\"Won\"),OR(F3=\"DNF (Leading)\",F3=\"DNF (Tied)\",F3=\"DNF (Trailing)\")),\"Won\",IF(AND(COUNTIF(E3:F3,\"Won\")=1,OR(G3=\"DNF (Leading)\",G3=\"DNF (Tied)\",G3=\"DNF (Trailing)\")),\"Tied\",IF(OR(E3=\"DNF (Leading)\",E3=\"DNF (Tied)\",E3=\"DNF (Trailing)\"),\"Tied\",IF(AND((E3=\"Lost\"),OR(F3=\"DNF (Leading)\",F3=\"DNF (Tied)\",F3=\"DNF (Trailing)\")),\"Lost\",IF(C4=\"Bye\",\"Bye\",\"\")))))))","v":""},{"$f":"IF(C4=\"Bye\",1,IF(LEN(E3&F3&G3)=0,0,COUNTIF(E3:G3,\"Won\")*1+COUNTIF(E3:G3,\"DNF (Leading)\")*0.67+COUNTIF(E3:G3,\"DNF (Tied)\")*0.5+COUNTIF(E3:G3,\"DNF (Trailing)\")*0.33))","v":0},{"$f":"C4","v":0}]
[null,null,null,{"$f":"IF(ISERROR(VLOOKUP(C4,'Team List'!B:D,3,0)),\"\",VLOOKUP(C4,'Team List'!B:D,2,0))","v":""},{"$f":"IF(E3=\"\",\"\",IF(E3=\"Won\",\"Lost\",IF(E3=\"DNF (Leading)\",\"DNF (Trailing)\",IF(E3=\"DNF (Trailing)\",\"DNF (Leading)\",IF(E3=\"Lost\",\"Won\",E3)))))","v":""},{"$f":"IF(F3=\"\",\"\",IF(F3=\"Won\",\"Lost\",IF(F3=\"DNF (Leading)\",\"DNF (Trailing)\",IF(F3=\"DNF (Trailing)\",\"DNF (Leading)\",IF(F3=\"Lost\",\"Won\",F3)))))","v":""},{"$f":"IF(G3=\"\",\"\",IF(G3=\"Won\",\"Lost\",IF(G3=\"DNF (Leading)\",\"DNF (Trailing)\",IF(G3=\"DNF (Trailing)\",\"DNF (Leading)\",IF(G3=\"Lost\",\"Won\",G3)))))","v":""},{"$f":"IF(H3=\"Won\",\"Lost\",IF(H3=\"Lost\",\"Won\",H3))","v":""},{"$f":"IF(C3=\"Bye\",1,IF(LEN(E4&F4&G4)=0,0,COUNTIF(E4:G4,\"Won\")*1+COUNTIF(E4:G4,\"DNF (Leading)\")*0.67+COUNTIF(E4:G4,\"DNF (Tied)\")*0.5+COUNTIF(E4:G4,\"DNF (Trailing)\")*0.33))","v":0},{"$f":"C3","v":0}]
[2,null,null,{"$f":"IF(ISERROR(VLOOKUP(C5,'Team List'!B:D,3,0)),\"\",VLOOKUP(C5,'Team List'!B:D,2,0))","v":""},null,null,null,{"$f":"IF(COUNTIF(E5:G5,\"Won\")=2,\"Won\",IF(COUNTIF(E5:G5,\"Lost\")=2,\"Lost\",IF(AND((E5=\"Won\"),OR(F5=\"DNF (Leading)\",F5=\"DNF (Tied)\",F5=\"DNF (Trailing)\")),\"Won\",IF(AND(COUNTIF(E5:F5,\"Won\")=1,OR(G5=\"DNF (Leading)\",G5=\"DNF (Tied)\",G5=\"DNF (Trailing)\")),\"Tied\",IF(OR(E5=\"DNF (Leading)\",E5=\"DNF (Tied)\",E5=\"DNF (Trailing)\"),\"Tied\",IF(AND((E5=\"Lost\"),OR(F5=\"DNF (Leading)\",F5=\"DNF (Tied)\",F5=\"DNF (Trailing)\")),\"Lost\",IF(C6=\"Bye\",\"Bye\",\"\")))))))","v":""},{"$f":"IF(C6=\"Bye\",1,IF(LEN(E5&F5&G5)=0,0,COUNTIF(E5:G5,\"Won\")*1+COUNTIF(E5:G5,\"DNF (Leading)\")*0.67+COUNTIF(E5:G5,\"DNF (Tied)\")*0.5+COUNTIF(E5:G5,\"DNF (Trailing)\")*0.33))","v":0},{"$f":"C6","v":0}]
[null,null,null,{"$f":"IF(ISERROR(VLOOKUP(C6,'Team List'!B:D,3,0)),\"\",VLOOKUP(C6,'Team List'!B:D,2,0))","v":""},{"$f":"IF(E5=\"\",\"\",IF(E5=\"Won\",\"Lost\",IF(E5=\"DNF (Leading)\",\"DNF (Trailing)\",IF(E5=\"DNF (Trailing)\",\"DNF (Leading)\",IF(E5=\"Lost\",\"Won\",E5)))))","v":""},{"$f":"IF(F5=\"\",\"\",IF(F5=\"Won\",\"Lost\",IF(F5=\"DNF (Leading)\",\"DNF (Trailing)\",IF(F5=\"DNF (Trailing)\",\"DNF (Leading)\",IF(F5=\"Lost\",\"Won\",F5)))))","v":""},{"$f":"IF(G5=\"\",\"\",IF(G5=\"Won\",\"Lost\",IF(G5=\"DNF (Leading)\",\"DNF (Trailing)\",IF(G5=\"DNF (Trailing)\",\"DNF (Leading)\",IF(G5=\"Lost\",\"Won\",G5)))))","v":""},{"$f":"IF(H5=\"Won\",\"Lost\",IF(H5=\"Lost\",\"Won\",H5))","v":""},{"$f":"IF(C5=\"Bye\",1,IF(LEN(E6&F6&G6)=0,0,COUNTIF(E6:G6,\"Won\")*1+COUNTIF(E6:G6,\"DNF (Leading)\")*0.67+COUNTIF(E6:G6,\"DNF (Tied)\")*0.5+COUNTIF(E6:G6,\"DNF (Trailing)\")*0.33))","v":0},{"$f":"C5","v":0}]
[3,null,null,{"$f":"IF(ISERROR(VLOOKUP(C7,'Team List'!B:D,3,0)),\"\",VLOOKUP(C7,'Team List'!B:D,2,0))","v":""},null,null,null,{"$f":"IF(COUNTIF(E7:G7,\"Won\")=2,\"Won\",IF(COUNTIF(E7:G7,\"Lost\")=2,\"Lost\",IF(AND((E7=\"Won\"),OR(F7=\"DNF (Leading)\",F7=\"DNF (Tied)\",F7=\"DNF (Trailing)\")),\"Won\",IF(AND(COUNTIF(E7:F7,\"Won\")=1,OR(G7=\"DNF (Leading)\",G7=\"DNF (Tied)\",G7=\"DNF (Trailing)\")),\"Tied\",IF(OR(E7=\"DNF (Leading)\",E7=\"DNF (Tied)\",E7=\"DNF (Trailing)\"),\"Tied\",IF(AND((E7=\"Lost\"),OR(F7=\"DNF (Leading)\",F7=\"DNF (Tied)\",F7=\"DNF (Trailing)\")),\"Lost\",IF(C8=\"Bye\",\"Bye\",\"\")))))))","v":""},{"$f":"IF(C8=\"Bye\",1,IF(LEN(E7&F7&G7)=0,0,COUNTIF(E7:G7,\"Won\")*1+COUNTIF(E7:G7,\"DNF (Leading)\")*0.67+COUNTIF(E7:G7,\"DNF (Tied)\")*0.5+COUNTIF(E7:G7,\"DNF (Trailing)\")*0.33))","v":0},{"$f":"C8","v":0}]
[null,null,null,{"$f":"IF(ISERROR(VLOOKUP(C8,'Team List'!B:D,3,0)),\"\",VLOOKUP(C8,'Team List'!B:D,2,0))","v":""},{"$f":"IF(E7=\"\",\"\",IF(E7=\"Won\",\"Lost\",IF(E7=\"DNF (Leading)\",\"DNF (Trailing)\",IF(E7=\"DNF (Trailing)\",\"DNF (Leading)\",IF(E7=\"Lost\",\"Won\",E7)))))","v":""},{"$f":"IF(F7=\"\",\"\",IF(F7=\"Won\",\"Lost\",IF(F7=\"DNF (Leading)\",\"DNF (Trailing)\",IF(F7=\"DNF (Trailing)\",\"DNF (Leading)\",IF(F7=\"Lost\",\"Won\",F7)))))","v":""},{"$f":"IF(G7=\"\",\"\",IF(G7=\"Won\",\"Lost\",IF(G7=\"DNF (Leading)\",\"DNF (Trailing)\",IF(G7=\"DNF (Trailing)\",\"DNF (Leading)\",IF(G7=\"Lost\",\"Won\",G7)))))","v":""},{"$f":"IF(H7=\"Won\",\"Lost\",IF(H7=\"Lost\",\"Won\",H7))","v":""},{"$f":"IF(C7=\"Bye\",1,IF(LEN(E8&F8&G8)=0,0,COUNTIF(E8:G8,\"Won\")*1+COUNTIF(E8:G8,\"DNF (Leading)\")*0.67+COUNTIF(E8:G8,\"DNF (Tied)\")*0.5+COUNTIF(E8:G8,\"DNF (Trailing)\")*0.33))","v":0},{"$f":"C7","v":0}]
[4,null,null,{"$f":"IF(ISERROR(VLOOKUP(C9,'Team List'!B:D,3,0)),\"\",VLOOKUP(C9,'Team List'!B:D,2,0))","v":""},null,null,null,{"$f":"IF(COUNTIF(E9:G9,\"Won\")=2,\"Won\",IF(COUNTIF(E9:G9,\"Lost\")=2,\"Lost\",IF(AND((E9=\"Won\"),OR(F9=\"DNF (Leading)\",F9=\"DNF (Tied)\",F9=\"DNF (Trailing)\")),\"Won\",IF(AND(COUNTIF(E9:F9,\"Won\")=1,OR(G9=\"DNF (Leading)\",G9=\"DNF (Tied)\",G9=\"DNF (Trailing)\")),\"Tied\",IF(OR(E9=\"DNF (Leading)\",E9=\"DNF (Tied)\",E9=\"DNF (Trailing)\"),\"Tied\",IF(AND((E9=\"Lost\"),OR(F9=\"DNF (Leading)\",F9=\"DNF (Tied)\",F9=\"DNF (Trailing)\")),\"Lost\",IF(C10=\"Bye\",\"Bye\",\"\")))))))","v":""},{"$f":"IF(C10=\"Bye\",1,IF(LEN(E9&F9&G9)=0,0,COUNTIF(E9:G9,\"Won\")*1+COUNTIF(E9:G9,\"DNF (Leading)\")*0.67+COUNTIF(E9:G9,\"DNF (Tied)\")*0.5+COUNTIF(E9:G9,\"DNF (Trailing)\")*0.33))","v":0},{"$f":"C10","v":0}]
[null,null,null,{"$f":"IF(ISERROR(VLOOKUP(C10,'Team List'!B:D,3,0)),\"\",VLOOKUP(C10,'Team List'!B:D,2,0))","v":""},{"$f":"IF(E9=\"\",\"\",IF(E9=\"Won\",\"Lost\",IF(E9=\"DNF (Leading)\",\"DNF (Trailing)\",IF(E9=\"DNF (Trailing)\",\"DNF (Leading)\",IF(E9=\"Lost\",\"Won\",E9)))))","v":""},{"$f":"IF(F9=\"\",\"\",IF(F9=\"Won\",\"Lost\",IF(F9=\"DNF (Leading)\",\"DNF (Trailing)\",IF(F9=\"DNF (Trailing)\",\"DNF (Leading)\",IF(F9=\"Lost\",\"Won\",F9)))))","v":""},{"$f":"IF(G9=\"\",\"\",IF(G9=\"Won\",\"Lost\",IF(G9=\"DNF (Leading)\",\"DNF (Trailing)\",IF(G9=\"DNF (Trailing)\",\"DNF (Leading)\",IF(G9=\"Lost\",\"Won\",G9)))))","v":""},{"$f":"IF(H9=\"Won\",\"Lost\",IF(H9=\"Lost\",\"Won\",H9))","v":""},{"$f":"IF(C9=\"Bye\",1,IF(LEN(E10&F10&G10)=0,0,COUNTIF(E10:G10,\"Won\")*1+COUNTIF(E10:G10,\"DNF (Leading)\")*0.67+COUNTIF(E10:G10,\"DNF (Tied)\")*0.5+COUNTIF(E10:G10,\"DNF (Trailing)\")*0.33))","v":0},{"$f":"C9","v":0}]
[5,null,null,{"$f":"IF(ISERROR(VLOOKUP(C11,'Team List'!B:D,3,0)),\"\",VLOOKUP(C11,'Team List'!B:D,2,0))","v":""},null,null,null,{"$f":"IF(COUNTIF(E11:G11,\"Won\")=2,\"Won\",IF(COUNTIF(E11:G11,\"Lost\")=2,\"Lost\",IF(AND((E11=\"Won\"),OR(F11=\"DNF (Leading)\",F11=\"DNF (Tied)\",F11=\"DNF (Trailing)\")),\"Won\",IF(AND(COUNTIF(E11:F11,\"Won\")=1,OR(G11=\"DNF (Leading)\",G11=\"DNF (Tied)\",G11=\"DNF (Trailing)\")),\"Tied\",IF(OR(E11=\"DNF (Leading)\",E11=\"DNF (Tied)\",E11=\"DNF (Trailing)\"),\"Tied\",IF(AND((E11=\"Lost\"),OR(F11=\"DNF (Leading)\",F11=\"DNF (Tied)\",F11=\"DNF (Trailing)\")),\"Lost\",IF(C12=\"Bye\",\"Bye\",\"\")))))))","v":""},{"$f":"IF(C12=\"Bye\",1,IF(LEN(E11&F11&G11)=0,0,COUNTIF(E11:G11,\"Won\")*1+COUNTIF(E11:G11,\"DNF (Leading)\")*0.67+COUNTIF(E11:G11,\"DNF (Tied)\")*0.5+COUNTIF(E11:G11,\"DNF (Trailing)\")*0.33))","v":0},{"$f":"C12","v":0}]
[null,null,null,{"$f":"IF(ISERROR(VLOOKUP(C12,'Team List'!B:D,3,0)),\"\",VLOOKUP(C12,'Team List'!B:D,2,0))","v":""},{"$f":"IF(E11=\"\",\"\",IF(E11=\"Won\",\"Lost\",IF(E11=\"DNF (Leading)\",\"DNF (Trailing)\",IF(E11=\"DNF (Trailing)\",\"DNF (Leading)\",IF(E11=\"Lost\",\"Won\",E11)))))","v":""},{"$f":"IF(F11=\"\",\"\",IF(F11=\"Won\",\"Lost\",IF(F11=\"DNF (Leading)\",\"DNF (Trailing)\",IF(F11=\"DNF (Trailing)\",\"DNF (Leading)\",IF(F11=\"Lost\",\"Won\",F11)))))","v":""},{"$f":"IF(G11=\"\",\"\",IF(G11=\"Won\",\"Lost\",IF(G11=\"DNF (Leading)\",\"DNF (Trailing)\",IF(G11=\"DNF (Trailing)\",\"DNF (Leading)\",IF(G11=\"Lost\",\"Won\",G11)))))","v":""},{"$f":"IF(H11=\"Won\",\"Lost\",IF(H11=\"Lost\",\"Won\",H11))","v":""},{"$f":"IF(C11=\"Bye\",1,IF(LEN(E12&F12&G12)=0,0,COUNTIF(E12:G12,\"Won\")*1+COUNTIF(E12:G12,\"DNF (Leading)\")*0.67+COUNTIF(E12:G12,\"DNF (Tied)\")*0.5+COUNTIF(E12:G12,\"DNF (Trailing)\")*0.33))","v":0},{"$f":"C11","v":0}]
[6,null,null,{"$f":"IF(ISERROR(VLOOKUP(C13,'Team List'!B:D,3,0)),\"\",VLOOKUP(C13,'Team List'!B:D,2,0))","v":""},null,null,null,{"$f":"IF(COUNTIF(E13:G13,\"Won\")=2,\"Won\",IF(COUNTIF(E13:G13,\"Lost\")=2,\"Lost\",IF(AND((E13=\"Won\"),OR(F13=\"DNF (Leading)\",F13=\"DNF (Tied)\",F13=\"DNF (Trailing)\")),\"Won\",IF(AND(COUNTIF(E13:F13,\"Won\")=1,OR(G13=\"DNF (Leading)\",G13=\"DNF (Tied)\",G13=\"DNF (Trailing)\")),\"Tied\",IF(OR(E13=\"DNF (Leading)\",E13=\"DNF (Tied)\",E13=\"DNF (Trailing)\"),\"Tied\",IF(AND((E13=\"Lost\"),OR(F13=\"DNF (Leading)\",F13=\"DNF (Tied)\",F13=\"DNF (Trailing)\")),\"Lost\",IF(C14=\"Bye\",\"Bye\",\"\")))))))","v":""},{"$f":"IF(C14=\"Bye\",1,IF(LEN(E13&F13&G13)=0,0,COUNTIF(E13:G13,\"Won\")*1+COUNTIF(E13:G13,\"DNF (Leading)\")*0.67+COUNTIF(E13:G13,\"DNF (Tied)\")*0.5+COUNTIF(E13:G13,\"DNF (Trailing)\")*0.33))","v":0},{"$f":"C14","v":0}]
[null,null,null,{"$f":"IF(ISERROR(VLOOKUP(C14,'Team List'!B:D,3,0)),\"\",VLOOKUP(C14,'Team List'!B:D,2,0))","v":""},{"$f":"IF(E13=\"\",\"\",IF(E13=\"Won\",\"Lost\",IF(E13=\"DNF (Leading)\",\"DNF (Trailing)\",IF(E13=\"DNF (Trailing)\",\"DNF (Leading)\",IF(E13=\"Lost\",\"Won\",E13)))))","v":""},{"$f":"IF(F13=\"\",\"\",IF(F13=\"Won\",\"Lost\",IF(F13=\"DNF (Leading)\",\"DNF (Trailing)\",IF(F13=\"DNF (Trailing)\",\"DNF (Leading)\",IF(F13=\"Lost\",\"Won\",F13)))))","v":""},{"$f":"IF(G13=\"\",\"\",IF(G13=\"Won\",\"Lost\",IF(G13=\"DNF (Leading)\",\"DNF (Trailing)\",IF(G13=\"DNF (Trailing)\",\"DNF (Leading)\",IF(G13=\"Lost\",\"Won\",G13)))))","v":""},{"$f":"IF(H13=\"Won\",\"Lost\",IF(H13=\"Lost\",\"Won\",H13))","v":""},{"$f":"IF(C13=\"Bye\",1,IF(LEN(E14&F14&G14)=0,0,COUNTIF(E14:G14,\"Won\")*1+COUNTIF(E14:G14,\"DNF (Leading)\")*0.67+COUNTIF(E14:G14,\"DNF (Tied)\")*0.5+COUNTIF(E14:G14,\"DNF (Trailing)\")*0.33))","v":0},{"$f":"C13","v":0}]
[7,null,null,{"$f":"IF(ISERROR(VLOOKUP(C15,'Team List'!B:D,3,0)),\"\",VLOOKUP(C15,'Team List'!B:D,2,0))","v":""},null,null,null,{"$f":"IF(COUNTIF(E15:G15,\"Won\")=2,\"Won\",IF(COUNTIF(E15:G15,\"Lost\")=2,\"Lost\",IF(AND((E15=\"Won\"),OR(F15=\"DNF (Leading)\",F15=\"DNF (Tied)\",F15=\"DNF (Trailing)\")),\"Won\",IF(AND(COUNTIF(E15:F15,\"Won\")=1,OR(G15=\"DNF (Leading)\",G15=\"DNF (Tied)\",G15=\"DNF (Trailing)\")),\"Tied\",IF(OR(E15=\"DNF (Leading)\",E15=\"DNF (Tied)\",E15=\"DNF (Trailing)\"),\"Tied\",IF(AND((E15=\"Lost\"),OR(F15=\"DNF (Leading)\",F15=\"DNF (Tied)\",F15=\"DNF (Trailing)\")),\"Lost\",IF(C16=\"Bye\",\"Bye\",\"\")))))))","v":""},{"$f":"IF(C16=\"Bye\",1,IF(LEN(E15&F15&G15)=0,0,COUNTIF(E15:G15,\"Won\")*1+COUNTIF(E15:G15,\"DNF (Leading)\")*0.67+COUNTIF(E15:G15,\"DNF (Tied)\")*0.5+COUNTIF(E15:G15,\"DNF (Trailing)\")*0.33))","v":0},{"$f":"C16","v":0}]
[null,null,null,{"$f":"IF(ISERROR(VLOOKUP(C16,'Team List'!B:D,3,0)),\"\",VLOOKUP(C16,'Team List'!B:D,2,0))","v":""},{"$f":"IF(E15=\"\",\"\",IF(E15=\"Won\",\"Lost\",IF(E15=\"DNF (Leading)\",\"DNF (Trailing)\",IF(E15=\"DNF (Trailing)\",\"DNF (Leading)\",IF(E15=\"Lost\",\"Won\",E15)))))","v":""},{"$f":"IF(F15=\"\",\"\",IF(F15=\"Won\",\"Lost\",IF(F15=\"DNF (Leading)\",\"DNF (Trailing)\",IF(F15=\"DNF (Trailing)\",\"DNF (Leading)\",IF(F15=\"Lost\",\"Won\",F15)))))","v":""},{"$f":"IF(G15=\"\",\"\",IF(G15=\"Won\",\"Lost\",IF(G15=\"DNF (Leading)\",\"DNF (Trailing)\",IF(G15=\"DNF (Trailing)\",\"DNF (Leading)\",IF(G15=\"Lost\",\"Won\",G15)))))","v":""},{"$f":"IF(H15=\"Won\",\"Lost\",IF(H15=\"Lost\",\"Won\",H15))","v":""},{"$f":"IF(C15=\"Bye\",1,IF(LEN(E16&F16&G16)=0,0,COUNTIF(E16:G16,\"Won\")*1+COUNTIF(E16:G16,\"DNF (Leading)\")*0.67+COUNTIF(E16:G16,\"DNF (Tied)\")*0.5+COUNTIF(E16:G16,\"DNF (Trailing)\")*0.33))","v":0},{"$f":"C15","v":0}]
[8,null,null,{"$f":"IF(ISERROR(VLOOKUP(C17,'Team List'!B:D,3,0)),\"\",VLOOKUP(C17,'Team List'!B:D,2,0))","v":""},null,null,null,{"$f":"IF(COUNTIF(E17:G17,\"Won\")=2,\"Won\",IF(COUNTIF(E17:G17,\"Lost\")=2,\"Lost\",IF(AND((E17=\"Won\"),OR(F17=\"DNF (Leading)\",F17=\"DNF (Tied)\",F17=\"DNF (Trailing)\")),\"Won\",IF(AND(COUNTIF(E17:F17,\"Won\")=1,OR(G17=\"DNF (Leading)\",G17=\"DNF (Tied)\",G17=\"DNF (Trailing)\")),\"Tied\",IF(OR(E17=\"DNF (Leading)\",E17=\"DNF (Tied)\",E17=\"DNF (Trailing)\"),\"Tied\",IF(AND((E17=\"Lost\"),OR(F17=\"DNF (Leading)\",F17=\"DNF (Tied)\",F17=\"DNF (Trailing)\")),\"Lost\",IF(C18=\"Bye\",\"Bye\",\"\")))))))","v":""},{"$f":"IF(C18=\"Bye\",1,IF(LEN(E17&F17&G17)=0,0,COUNTIF(E17:G17,\"Won\")*1+COUNTIF(E17:G17,\"DNF (Leading)\")*0.67+COUNTIF(E17:G17,\"DNF (Tied)\")*0.5+COUNTIF(E17:G17,\"DNF (Trailing)\")*0.33))","v":0},{"$f":"C18","v":0}]
[null,null,null,{"$f":"IF(ISERROR(VLOOKUP(C18,'Team List'!B:D,3,0)),\"\",VLOOKUP(C18,'Team List'!B:D,2,0))","v":""},{"$f":"IF(E17=\"\",\"\",IF(E17=\"Won\",\"Lost\",IF(E17=\"DNF (Leading)\",\"DNF (Trailing)\",IF(E17=\"DNF (Trailing)\",\"DNF (Leading)\",IF(E17=\"Lost\",\"Won\",E17)))))","v":""},{"$f":"IF(F17=\"\",\"\",IF(F17=\"Won\",\"Lost\",IF(F17=\"DNF (Leading)\",\"DNF (Trailing)\",IF(F17=\"DNF (Trailing)\",\"DNF (Leading)\",IF(F17=\"Lost\",\"Won\",F17)))))","v":""},{"$f":"IF(G17=\"\",\"\",IF(G17=\"Won\",\"Lost\",IF(G17=\"DNF (Leading)\",\"DNF (Trailing)\",IF(G17=\"DNF (Trailing)\",\"DNF (Leading)\",IF(G17=\"Lost\",\"Won\",G17)))))","v":""},{"$f":"IF(H17=\"Won\",\"Lost\",IF(H17=\"Lost\",\"Won\",H17))","v":""},{"$f":"IF(C17=\"Bye\",1,IF(LEN(E18&F18&G18)=0,0,COUNTIF(E18:G18,\"Won\")*1+COUNTIF(E18:G18,\"DNF (Leading)\")*0.67+COUNTIF(E18:G18,\"DNF (Tied)\")*0.5+COUNTIF(E18:G18,\"DNF (Trailing)\")*0.33))","v":0},{"$f":"C17","v":0}]
[9,null,null,{"$f":"IF(ISERROR(VLOOKUP(C19,'Team List'!B:D,3,0)),\"\",VLOOKUP(C19,'Team List'!B:D,2,0))","v":""},null,null,null,{"$f":"IF(COUNTIF(E19:G19,\"Won\")=2,\"Won\",IF(COUNTIF(E19:G19,\"Lost\")=2,\"Lost\",IF(AND((E19=\"Won\"),OR(F19=\"DNF (Leading)\",F19=\"DNF (Tied)\",F19=\"DNF (Trailing)\")),\"Won\",IF(AND(COUNTIF(E19:F19,\"Won\")=1,OR(G19=\"DNF (Leading)\",G19=\"DNF (Tied)\",G19=\"DNF (Trailing)\")),\"Tied\",IF(OR(E19=\"DNF (Leading)\",E19=\"DNF (Tied)\",E19=\"DNF (Trailing)\"),\"Tied\",IF(AND((E19=\"Lost\"),OR(F19=\"DNF (Leading)\",F19=\"DNF (Tied)\",F19=\"DNF (Trailing)\")),\"Lost\",IF(C20=\"Bye\",\"Bye\",\"\")))))))","v":""},{"$f":"IF(C20=\"Bye\",1,IF(LEN(E19&F19&G19)=0,0,COUNTIF(E19:G19,\"Won\")*1+COUNTIF(E19:G19,\"DNF (Leading)\")*0.67+COUNTIF(E19:G19,\"DNF (Tied)\")*0.5+COUNTIF(E19:G19,\"DNF (Trailing)\")*0.33))","v":0},{"$f":"C20","v":0}]
[null,null,null,{"$f":"IF(ISERROR(VLOOKUP(C20,'Team List'!B:D,3,0)),\"\",VLOOKUP(C20,'Team List'!B:D,2,0))","v":""},{"$f":"IF(E19=\"\",\"\",IF(E19=\"Won\",\"Lost\",IF(E19=\"DNF (Leading)\",\"DNF (Trailing)\",IF(E19=\"DNF (Trailing)\",\"DNF (Leading)\",IF(E19=\"Lost\",\"Won\",E19)))))","v":""},{"$f":"IF(F19=\"\",\"\",IF(F19=\"Won\",\"Lost\",IF(F19=\"DNF (Leading)\",\"DNF (Trailing)\",IF(F19=\"DNF (Trailing)\",\"DNF (Leading)\",IF(F19=\"Lost\",\"Won\",F19)))))","v":""},{"$f":"IF(G19=\"\",\"\",IF(G19=\"Won\",\"Lost\",IF(G19=\"DNF (Leading)\",\"DNF (Trailing)\",IF(G19=\"DNF (Trailing)\",\"DNF (Leading)\",IF(G19=\"Lost\",\"Won\",G19)))))","v":""},{"$f":"IF(H19=\"Won\",\"Lost\",IF(H19=\"Lost\",\"Won\",H19))","v":""},{"$f":"IF(C19=\"Bye\",1,IF(LEN(E20&F20&G20)=0,0,COUNTIF(E20:G20,\"Won\")*1+COUNTIF(E20:G20,\"DNF (Leading)\")*0.67+COUNTIF(E20:G20,\"DNF (Tied)\")*0.5+COUNTIF(E20:G20,\"DNF (Trailing)\")*0.33))","v":0},{"$f":"C19","v":0}]
[10,null,null,{"$f":"IF(ISERROR(VLOOKUP(C21,'Team List'!B:D,3,0)),\"\",VLOOKUP(C21,'Team List'!B:D,2,0))","v":""},null,null,null,{"$f":"IF(COUNTIF(E21:G21,\"Won\")=2,\"Won\",IF(COUNTIF(E21:G21,\"Lost\")=2,\"Lost\",IF(AND((E21=\"Won\"),OR(F21=\"DNF (Leading)\",F21=\"DNF (Tied)\",F21=\"DNF (Trailing)\")),\"Won\",IF(AND(COUNTIF(E21:F21,\"Won\")=1,OR(G21=\"DNF (Leading)\",G21=\"DNF (Tied)\",G21=\"DNF (Trailing)\")),\"Tied\",IF(OR(E21=\"DNF (Leading)\",E21=\"DNF (Tied)\",E21=\"DNF (Trailing)\"),\"Tied\",IF(AND((E21=\"Lost\"),OR(F21=\"DNF (Leading)\",F21=\"DNF (Tied)\",F21=\"DNF (Trailing)\")),\"Lost\",IF(C22=\"Bye\",\"Bye\",\"\")))))))","v":""},{"$f":"IF(C22=\"Bye\",1,IF(LEN(E21&F21&G21)=0,0,COUNTIF(E21:G21,\"Won\")*1+COUNTIF(E21:G21,\"DNF (Leading)\")*0.67+COUNTIF(E21:G21,\"DNF (Tied)\")*0.5+COUNTIF(E21:G21,\"DNF (Trailing)\")*0.33))","v":0},{"$f":"C22","v":0}]
[null,null,null,{"$f":"IF(ISERROR(VLOOKUP(C22,'Team List'!B:D,3,0)),\"\",VLOOKUP(C22,'Team List'!B:D,2,0))","v":""},{"$f":"IF(E21=\"\",\"\",IF(E21=\"Won\",\"Lost\",IF(E21=\"DNF (Leading)\",\"DNF (Trailing)\",IF(E21=\"DNF (Trailing)\",\"DNF (Leading)\",IF(E21=\"Lost\",\"Won\",E21)))))","v":""},{"$f":"IF(F21=\"\",\"\",IF(F21=\"Won\",\"Lost\",IF(F21=\"DNF (Leading)\",\"DNF (Trailing)\",IF(F21=\"DNF (Trailing)\",\"DNF (Leading)\",IF(F21=\"Lost\",\"Won\",F21)))))","v":""},{"$f":"IF(G21=\"\",\"\",IF(G21=\"Won\",\"Lost\",IF(G21=\"DNF (Leading)\",\"DNF (Trailing)\",IF(G21=\"DNF (Trailing)\",\"DNF (Leading)\",IF(G21=\"Lost\",\"Won\",G21)))))","v":""},{"$f":"IF(H21=\"Won\",\"Lost\",IF(H21=\"Lost\",\"Won\",H21))","v":""},{"$f":"IF(C21=\"Bye\",1,IF(LEN(E22&F22&G22)=0,0,COUNTIF(E22:G22,\"Won\")*1+COUNTIF(E22:G22,\"DNF (Leading)\")*0.67+COUNTIF(E22:G22,\"DNF (Tied)\")*0.5+COUNTIF(E22:G22,\"DNF (Trailing)\")*0.33))","v":0},{"$f":"C21","v":0}]
[11,null,null,{"$f":"IF(ISERROR(VLOOKUP(C23,'Team List'!B:D,3,0)),\"\",VLOOKUP(C23,'Team List'!B:D,2,0))","v":""},null,null,null,{"$f":"IF(COUNTIF(E23:G23,\"Won\")=2,\"Won\",IF(COUNTIF(E23:G23,\"Lost\")=2,\"Lost\",IF(AND((E23=\"Won\"),OR(F23=\"DNF (Leading)\",F23=\"DNF (Tied)\",F23=\"DNF (Trailing)\")),\"Won\",IF(AND(COUNTIF(E23:F23,\"Won\")=1,OR(G23=\"DNF (Leading)\",G23=\"DNF (Tied)\",G23=\"DNF (Trailing)\")),\"Tied\",IF(OR(E23=\"DNF (Leading)\",E23=\"DNF (Tied)\",E23=\"DNF (Trailing)\"),\"Tied\",IF(AND((E23=\"Lost\"),OR(F23=\"DNF (Leading)\",F23=\"DNF (Tied)\",F23=\"DNF (Trailing)\")),\"Lost\",IF(C24=\"Bye\",\"Bye\",\"\")))))))","v":""},{"$f":"IF(C24=\"Bye\",1,IF(LEN(E23&F23&G23)=0,0,COUNTIF(E23:G23,\"Won\")*1+COUNTIF(E23:G23,\"DNF (Leading)\")*0.67+COUNTIF(E23:G23,\"DNF (Tied)\")*0.5+COUNTIF(E23:G23,\"DNF (Trailing)\")*0.33))","v":0},{"$f":"C24","v":0}]
[null,null,null,{"$f":"IF(ISERROR(VLOOKUP(C24,'Team List'!B:D,3,0)),\"\",VLOOKUP(C24,'Team List'!B:D,2,0))","v":""},{"$f":"IF(E23=\"\",\"\",IF(E23=\"Won\",\"Lost\",IF(E23=\"DNF (Leading)\",\"DNF (Trailing)\",IF(E23=\"DNF (Trailing)\",\"DNF (Leading)\",IF(E23=\"Lost\",\"Won\",E23)))))","v":""},{"$f":"IF(F23=\"\",\"\",IF(F23=\"Won\",\"Lost\",IF(F23=\"DNF (Leading)\",\"DNF (Trailing)\",IF(F23=\"DNF (Trailing)\",\"DNF (Leading)\",IF(F23=\"Lost\",\"Won\",F23)))))","v":""},{"$f":"IF(G23=\"\",\"\",IF(G23=\"Won\",\"Lost\",IF(G23=\"DNF (Leading)\",\"DNF (Trailing)\",IF(G23=\"DNF (Trailing)\",\"DNF (Leading)\",IF(G23=\"Lost\",\"Won\",G23)))))","v":""},{"$f":"IF(H23=\"Won\",\"Lost\",IF(H23=\"Lost\",\"Won\",H23))","v":""},{"$f":"IF(C23=\"Bye\",1,IF(LEN(E24&F24&G24)=0,0,COUNTIF(E24:G24,\"Won\")*1+COUNTIF(E24:G24,\"DNF (Leading)\")*0.67+COUNTIF(E24:G24,\"DNF (Tied)\")*0.5+COUNTIF(E24:G24,\"DNF (Trailing)\")*0.33))","v":0},{"$f":"C23","v":0}]
[12,null,null,{"$f":"IF(ISERROR(VLOOKUP(C25,'Team List'!B:D,3,0)),\"\",VLOOKUP(C25,'Team List'!B:D,2,0))","v":""},null,null,null,{"$f":"IF(COUNTIF(E25:G25,\"Won\")=2,\"Won\",IF(COUNTIF(E25:G25,\"Lost\")=2,\"Lost\",IF(AND((E25=\"Won\"),OR(F25=\"DNF (Leading)\",F25=\"DNF (Tied)\",F25=\"DNF (Trailing)\")),\"Won\",IF(AND(COUNTIF(E25:F25,\"Won\")=1,OR(G25=\"DNF (Leading)\",G25=\"DNF (Tied)\",G25=\"DNF (Trailing)\")),\"Tied\",IF(OR(E25=\"DNF (Leading)\",E25=\"DNF (Tied)\",E25=\"DNF (Trailing)\"),\"Tied\",IF(AND((E25=\"Lost\"),OR(F25=\"DNF (Leading)\",F25=\"DNF (Tied)\",F25=\"DNF (Trailing)\")),\"Lost\",IF(C26=\"Bye\",\"Bye\",\"\")))))))","v":""},{"$f":"IF(C26=\"Bye\",1,IF(LEN(E25&F25&G25)=0,0,COUNTIF(E25:G25,\"Won\")*1+COUNTIF(E25:G25,\"DNF (Leading)\")*0.67+COUNTIF(E25:G25,\"DNF (Tied)\")*0.5+COUNTIF(E25:G25,\"DNF (Trailing)\")*0.33))","v":0},{"$f":"C26","v":0}]
[null,null,null,{"$f":"IF(ISERROR(VLOOKUP(C26,'Team List'!B:D,3,0)),\"\",VLOOKUP(C26,'Team List'!B:D,2,0))","v":""},{"$f":"IF(E25=\"\",\"\",IF(E25=\"Won\",\"Lost\",IF(E25=\"DNF (Leading)\",\"DNF (Trailing)\",IF(E25=\"DNF (Trailing)\",\"DNF (Leading)\",IF(E25=\"Lost\",\"Won\",E25)))))","v":""},{"$f":"IF(F25=\"\",\"\",IF(F25=\"Won\",\"Lost\",IF(F25=\"DNF (Leading)\",\"DNF (Trailing)\",IF(F25=\"DNF (Trailing)\",\"DNF (Leading)\",IF(F25=\"Lost\",\"Won\",F25)))))","v":""},{"$f":"IF(G25=\"\",\"\",IF(G25=\"Won\",\"Lost\",IF(G25=\"DNF (Leading)\",\"DNF (Trailing)\",IF(G25=\"DNF (Trailing)\",\"DNF (Leading)\",IF(G25=\"Lost\",\"Won\",G25)))))","v":""},{"$f":"IF(H25=\"Won\",\"Lost\",IF(H25=\"Lost\",\"Won\",H25))","v":""},{"$f":"IF(C25=\"Bye\",1,IF(LEN(E26&F26&G26)=0,0,COUNTIF(E26:G26,\"Won\")*1+COUNTIF(E26:G26,\"DNF (Leading)\")*0.67+COUNTIF(E26:G26,\"DNF (Tied)\")*0.5+COUNTIF(E26:G26,\"DNF (Trailing)\")*0.33))","v":0},{"$f":"C25","v":0}]
[13,null,null,{"$f":"IF(ISERROR(VLOOKUP(C27,'Team List'!B:D,3,0)),\"\",VLOOKUP(C27,'Team List'!B:D,2,0))","v":""},null,null,null,{"$f":"IF(COUNTIF(E27:G27,\"Won\")=2,\"Won\",IF(COUNTIF(E27:G27,\"Lost\")=2,\"Lost\",IF(AND((E27=\"Won\"),OR(F27=\"DNF (Leading)\",F27=\"DNF (Tied)\",F27=\"DNF (Trailing)\")),\"Won\",IF(AND(COUNTIF(E27:F27,\"Won\")=1,OR(G27=\"DNF (Leading)\",G27=\"DNF (Tied)\",G27=\"DNF (Trailing)\")),\"Tied\",IF(OR(E27=\"DNF (Leading)\",E27=\"DNF (Tied)\",E27=\"DNF (Trailing)\"),\"Tied\",IF(AND((E27=\"Lost\"),OR(F27=\"DNF (Leading)\",F27=\"DNF (Tied)\",F27=\"DNF (Trailing)\")),\"Lost\",IF(C28=\"Bye\",\"Bye\",\"\")))))))","v":""},{"$f":"IF(C28=\"Bye\",1,IF(LEN(E27&F27&G27)=0,0,COUNTIF(E27:G27,\"Won\")*1+COUNTIF(E27:G27,\"DNF (Leading)\")*0.67+COUNTIF(E27:G27,\"DNF (Tied)\")*0.5+COUNTIF(E27:G27,\"DNF (Trailing)\")*0.33))","v":0},{"$f":"C28","v":0}]
[null,null,null,{"$f":"IF(ISERROR(VLOOKUP(C28,'Team List'!B:D,3,0)),\"\",VLOOKUP(C28,'Team List'!B:D,2,0))","v":""},{"$f":"IF(E27=\"\",\"\",IF(E27=\"Won\",\"Lost\",IF(E27=\"DNF (Leading)\",\"DNF (Trailing)\",IF(E27=\"DNF (Trailing)\",\"DNF (Leading)\",IF(E27=\"Lost\",\"Won\",E27)))))","v":""},{"$f":"IF(F27=\"\",\"\",IF(F27=\"Won\",\"Lost\",IF(F27=\"DNF (Leading)\",\"DNF (Trailing)\",IF(F27=\"DNF (Trailing)\",\"DNF (Leading)\",IF(F27=\"Lost\",\"Won\",F27)))))","v":""},{"$f":"IF(G27=\"\",\"\",IF(G27=\"Won\",\"Lost\",IF(G27=\"DNF (Leading)\",\"DNF (Trailing)\",IF(G27=\"DNF (Trailing)\",\"DNF (Leading)\",IF(G27=\"Lost\",\"Won\",G27)))))","v":""},{"$f":"IF(H27=\"Won\",\"Lost\",IF(H27=\"Lost\",\"Won\",H27))","v":""},{"$f":"IF(C27=\"Bye\",1,IF(LEN(E28&F28&G28)=0,0,COUNTIF(E28:G28,\"Won\")*1+COUNTIF(E28:G28,\"DNF (Leading)\")*0.67+COUNTIF(E28:G28,\"DNF (Tied)\")*0.5+COUNTIF(E28:G28,\"DNF (Trailing)\")*0.33))","v":0},{"$f":"C27","v":0}]
[14,null,null,{"$f":"IF(ISERROR(VLOOKUP(C29,'Team List'!B:D,3,0)),\"\",VLOOKUP(C29,'Team List'!B:D,2,0))","v":""},null,null,null,{"$f":"IF(COUNTIF(E29:G29,\"Won\")=2,\"Won\",IF(COUNTIF(E29:G29,\"Lost\")=2,\"Lost\",IF(AND((E29=\"Won\"),OR(F29=\"DNF (Leading)\",F29=\"DNF (Tied)\",F29=\"DNF (Trailing)\")),\"Won\",IF(AND(COUNTIF(E29:F29,\"Won\")=1,OR(G29=\"DNF (Leading)\",G29=\"DNF (Tied)\",G29=\"DNF (Trailing)\")),\"Tied\",IF(OR(E29=\"DNF (Leading)\",E29=\"DNF (Tied)\",E29=\"DNF (Trailing)\"),\"Tied\",IF(AND((E29=\"Lost\"),OR(F29=\"DNF (Leading)\",F29=\"DNF (Tied)\",F29=\"DNF (Trailing)\")),\"Lost\",IF(C30=\"Bye\",\"Bye\",\"\")))))))","v":""},{"$f":"IF(C30=\"Bye\",1,IF(LEN(E29&F29&G29)=0,0,COUNTIF(E29:G29,\"Won\")*1+COUNTIF(E29:G29,\"DNF (Leading)\")*0.67+COUNTIF(E29:G29,\"DNF (Tied)\")*0.5+COUNTIF(E29:G29,\"DNF (Trailing)\")*0.33))","v":0},{"$f":"C30","v":0}]
[null,null,null,{"$f":"IF(ISERROR(VLOOKUP(C30,'Team List'!B:D,3,0)),\"\",VLOOKUP(C30,'Team List'!B:D,2,0))","v":""},{"$f":"IF(E29=\"\",\"\",IF(E29=\"Won\",\"Lost\",IF(E29=\"DNF (Leading)\",\"DNF (Trailing)\",IF(E29=\"DNF (Trailing)\",\"DNF (Leading)\",IF(E29=\"Lost\",\"Won\",E29)))))","v":""},{"$f":"IF(F29=\"\",\"\",IF(F29=\"Won\",\"Lost\",IF(F29=\"DNF (Leading)\",\"DNF (Trailing)\",IF(F29=\"DNF (Trailing)\",\"DNF (Leading)\",IF(F29=\"Lost\",\"Won\",F29)))))","v":""},{"$f":"IF(G29=\"\",\"\",IF(G29=\"Won\",\"Lost\",IF(G29=\"DNF (Leading)\",\"DNF (Trailing)\",IF(G29=\"DNF (Trailing)\",\"DNF (Leading)\",IF(G29=\"Lost\",\"Won\",G29)))))","v":""},{"$f":"IF(H29=\"Won\",\"Lost\",IF(H29=\"Lost\",\"Won\",H29))","v":""},{"$f":"IF(C29=\"Bye\",1,IF(LEN(E30&F30&G30)=0,0,COUNTIF(E30:G30,\"Won\")*1+COUNTIF(E30:G30,\"DNF (Leading)\")*0.67+COUNTIF(E30:G30,\"DNF (Tied)\")*0.5+COUNTIF(E30:G30,\"DNF (Trailing)\")*0.33))","v":0},{"$f":"C29","v":0}]
[15,null,null,{"$f":"IF(ISERROR(VLOOKUP(C31,'Team List'!B:D,3,0)),\"\",VLOOKUP(C31,'Team List'!B:D,2,0))","v":""},null,null,null,{"$f":"IF(COUNTIF(E31:G31,\"Won\")=2,\"Won\",IF(COUNTIF(E31:G31,\"Lost\")=2,\"Lost\",IF(AND((E31=\"Won\"),OR(F31=\"DNF (Leading)\",F31=\"DNF (Tied)\",F31=\"DNF (Trailing)\")),\"Won\",IF(AND(COUNTIF(E31:F31,\"Won\")=1,OR(G31=\"DNF (Leading)\",G31=\"DNF (Tied)\",G31=\"DNF (Trailing)\")),\"Tied\",IF(OR(E31=\"DNF (Leading)\",E31=\"DNF (Tied)\",E31=\"DNF (Trailing)\"),\"Tied\",IF(AND((E31=\"Lost\"),OR(F31=\"DNF (Leading)\",F31=\"DNF (Tied)\",F31=\"DNF (Trailing)\")),\"Lost\",IF(C32=\"Bye\",\"Bye\",\"\")))))))","v":""},{"$f":"IF(C32=\"Bye\",1,IF(LEN(E31&F31&G31)=0,0,COUNTIF(E31:G31,\"Won\")*1+COUNTIF(E31:G31,\"DNF (Leading)\")*0.67+COUNTIF(E31:G31,\"DNF (Tied)\")*0.5+COUNTIF(E31:G31,\"DNF (Trailing)\")*0.33))","v":0},{"$f":"C32","v":0}]
[null,null,null,{"$f":"IF(ISERROR(VLOOKUP(C32,'Team List'!B:D,3,0)),\"\",VLOOKUP(C32,'Team List'!B:D,2,0))","v":""},{"$f":"IF(E31=\"\",\"\",IF(E31=\"Won\",\"Lost\",IF(E31=\"DNF (Leading)\",\"DNF (Trailing)\",IF(E31=\"DNF (Trailing)\",\"DNF (Leading)\",IF(E31=\"Lost\",\"Won\",E31)))))","v":""},{"$f":"IF(F31=\"\",\"\",IF(F31=\"Won\",\"Lost\",IF(F31=\"DNF (Leading)\",\"DNF (Trailing)\",IF(F31=\"DNF (Trailing)\",\"DNF (Leading)\",IF(F31=\"Lost\",\"Won\",F31)))))","v":""},{"$f":"IF(G31=\"\",\"\",IF(G31=\"Won\",\"Lost\",IF(G31=\"DNF (Leading)\",\"DNF (Trailing)\",IF(G31=\"DNF (Trailing)\",\"DNF (Leading)\",IF(G31=\"Lost\",\"Won\",G31)))))","v":""},{"$f":"IF(H31=\"Won\",\"Lost\",IF(H31=\"Lost\",\"Won\",H31))","v":""},{"$f":"IF(C31=\"Bye\",1,IF(LEN(E32&F32&G32)=0,0,COUNTIF(E32:G32,\"Won\")*1+COUNTIF(E32:G32,\"DNF (Leading)\")*0.67+COUNTIF(E32:G32,\"DNF (Tied)\")*0.5+COUNTIF(E32:G32,\"DNF (Trailing)\")*0.33))","v":0},{"$f":"C31","v":0}]
[16,null,null,{"$f":"IF(ISERROR(VLOOKUP(C33,'Team List'!B:D,3,0)),\"\",VLOOKUP(C33,'Team List'!B:D,2,0))","v":""},null,null,null,{"$f":"IF(COUNTIF(E33:G33,\"Won\")=2,\"Won\",IF(COUNTIF(E33:G33,\"Lost\")=2,\"Lost\",IF(AND((E33=\"Won\"),OR(F33=\"DNF (Leading)\",F33=\"DNF (Tied)\",F33=\"DNF (Trailing)\")),\"Won\",IF(AND(COUNTIF(E33:F33,\"Won\")=1,OR(G33=\"DNF (Leading)\",G33=\"DNF (Tied)\",G33=\"DNF (Trailing)\")),\"Tied\",IF(OR(E33=\"DNF (Leading)\",E33=\"DNF (Tied)\",E33=\"DNF (Trailing)\"),\"Tied\",IF(AND((E33=\"Lost\"),OR(F33=\"DNF (Leading)\",F33=\"DNF (Tied)\",F33=\"DNF (Trailing)\")),\"Lost\",IF(C34=\"Bye\",\"Bye\",\"\")))))))","v":""},{"$f":"IF(C34=\"Bye\",1,IF(LEN(E33&F33&G33)=0,0,COUNTIF(E33:G33,\"Won\")*1+COUNTIF(E33:G33,\"DNF (Leading)\")*0.67+COUNTIF(E33:G33,\"DNF (Tied)\")*0.5+COUNTIF(E33:G33,\"DNF (Trailing)\")*0.33))","v":0},{"$f":"C34","v":0}]
[null,null,null,{"$f":"IF(ISERROR(VLOOKUP(C34,'Team List'!B:D,3,0)),\"\",VLOOKUP(C34,'Team List'!B:D,2,0))","v":""},{"$f":"IF(E33=\"\",\"\",IF(E33=\"Won\",\"Lost\",IF(E33=\"DNF (Leading)\",\"DNF (Trailing)\",IF(E33=\"DNF (Trailing)\",\"DNF (Leading)\",IF(E33=\"Lost\",\"Won\",E33)))))","v":""},{"$f":"IF(F33=\"\",\"\",IF(F33=\"Won\",\"Lost\",IF(F33=\"DNF (Leading)\",\"DNF (Trailing)\",IF(F33=\"DNF (Trailing)\",\"DNF (Leading)\",IF(F33=\"Lost\",\"Won\",F33)))))","v":""},{"$f":"IF(G33=\"\",\"\",IF(G33=\"Won\",\"Lost\",IF(G33=\"DNF (Leading)\",\"DNF (Trailing)\",IF(G33=\"DNF (Trailing)\",\"DNF (Leading)\",IF(G33=\"Lost\",\"Won\",G33)))))","v":""},{"$f":"IF(H33=\"Won\",\"Lost\",IF(H33=\"Lost\",\"Won\",H33))","v":""},{"$f":"IF(C33=\"Bye\",1,IF(LEN(E34&F34&G34)=0,0,COUNTIF(E34:G34,\"Won\")*1+COUNTIF(E34:G34,\"DNF (Leading)\")*0.67+COUNTIF(E34:G34,\"DNF (Tied)\")*0.5+COUNTIF(E34:G34,\"DNF (Trailing)\")*0.33))","v":0},{"$f":"C33","v":0}]
[17,null,null,{"$f":"IF(ISERROR(VLOOKUP(C35,'Team List'!B:D,3,0)),\"\",VLOOKUP(C35,'Team List'!B:D,2,0))","v":""},null,null,null,{"$f":"IF(COUNTIF(E35:G35,\"Won\")=2,\"Won\",IF(COUNTIF(E35:G35,\"Lost\")=2,\"Lost\",IF(AND((E35=\"Won\"),OR(F35=\"DNF (Leading)\",F35=\"DNF (Tied)\",F35=\"DNF (Trailing)\")),\"Won\",IF(AND(COUNTIF(E35:F35,\"Won\")=1,OR(G35=\"DNF (Leading)\",G35=\"DNF (Tied)\",G35=\"DNF (Trailing)\")),\"Tied\",IF(OR(E35=\"DNF (Leading)\",E35=\"DNF (Tied)\",E35=\"DNF (Trailing)\"),\"Tied\",IF(AND((E35=\"Lost\"),OR(F35=\"DNF (Leading)\",F35=\"DNF (Tied)\",F35=\"DNF (Trailing)\")),\"Lost\",IF(C36=\"Bye\",\"Bye\",\"\")))))))","v":""},{"$f":"IF(C36=\"Bye\",0,IF(LEN(E35&F35&G35)=0,0,COUNTIF(E35:G35,\"Won\")*1+COUNTIF(E35:G35,\"DNF (Leading)\")*0.67+COUNTIF(E35:G35,\"DNF (Tied)\")*0.5+COUNTIF(E35:G35,\"DNF (Trailing)\")*0.33))","v":0},{"$f":"C36","v":0}]
[null,null,null,{"$f":"IF(ISERROR(VLOOKUP(C36,'Team List'!B:D,3,0)),\"\",VLOOKUP(C36,'Team List'!B:D,2,0))","v":""},{"$f":"IF(E35=\"\",\"\",IF(E35=\"Won\",\"Lost\",IF(E35=\"DNF (Leading)\",\"DNF (Trailing)\",IF(E35=\"DNF (Trailing)\",\"DNF (Leading)\",IF(E35=\"Lost\",\"Won\",E35)))))","v":""},{"$f":"IF(F35=\"\",\"\",IF(F35=\"Won\",\"Lost\",IF(F35=\"DNF (Leading)\",\"DNF (Trailing)\",IF(F35=\"DNF (Trailing)\",\"DNF (Leading)\",IF(F35=\"Lost\",\"Won\",F35)))))","v":""},{"$f":"IF(G35=\"\",\"\",IF(G35=\"Won\",\"Lost\",IF(G35=\"DNF (Leading)\",\"DNF (Trailing)\",IF(G35=\"DNF (Trailing)\",\"DNF (Leading)\",IF(G35=\"Lost\",\"Won\",G35)))))","v":""},{"$f":"IF(H35=\"Won\",\"Lost\",IF(H35=\"Lost\",\"Won\",H35))","v":""},{"$f":"IF(C35=\"Bye\",0,IF(LEN(E36&F36&G36)=0,0,COUNTIF(E36:G36,\"Won\")*1+COUNTIF(E36:G36,\"DNF (Leading)\")*0.67+COUNTIF(E36:G36,\"DNF (Tied)\")*0.5+COUNTIF(E36:G36,\"DNF (Trailing)\")*0.33))","v":0},{"$f":"C35","v":0}]
[18,null,null,{"$f":"IF(ISERROR(VLOOKUP(C37,'Team List'!B:D,3,0)),\"\",VLOOKUP(C37,'Team List'!B:D,2,0))","v":""},null,null,null,{"$f":"IF(COUNTIF(E37:G37,\"Won\")=2,\"Won\",IF(COUNTIF(E37:G37,\"Lost\")=2,\"Lost\",IF(AND((E37=\"Won\"),OR(F37=\"DNF (Leading)\",F37=\"DNF (Tied)\",F37=\"DNF (Trailing)\")),\"Won\",IF(AND(COUNTIF(E37:F37,\"Won\")=1,OR(G37=\"DNF (Leading)\",G37=\"DNF (Tied)\",G37=\"DNF (Trailing)\")),\"Tied\",IF(OR(E37=\"DNF (Leading)\",E37=\"DNF (Tied)\",E37=\"DNF (Trailing)\"),\"Tied\",IF(AND((E37=\"Lost\"),OR(F37=\"DNF (Leading)\",F37=\"DNF (Tied)\",F37=\"DNF (Trailing)\")),\"Lost\",IF(C38=\"Bye\",\"Bye\",\"\")))))))","v":""},{"$f":"IF(C38=\"Bye\",0,IF(LEN(E37&F37&G37)=0,0,COUNTIF(E37:G37,\"Won\")*1+COUNTIF(E37:G37,\"DNF (Leading)\")*0.67+COUNTIF(E37:G37,\"DNF (Tied)\")*0.5+COUNTIF(E37:G37,\"DNF (Trailing)\")*0.33))","v":0},{"$f":"C38","v":0}]
[null,null,null,{"$f":"IF(ISERROR(VLOOKUP(C38,'Team List'!B:D,3,0)),\"\",VLOOKUP(C38,'Team List'!B:D,2,0))","v":""},{"$f":"IF(E37=\"\",\"\",IF(E37=\"Won\",\"Lost\",IF(E37=\"DNF (Leading)\",\"DNF (Trailing)\",IF(E37=\"DNF (Trailing)\",\"DNF (Leading)\",IF(E37=\"Lost\",\"Won\",E37)))))","v":""},{"$f":"IF(F37=\"\",\"\",IF(F37=\"Won\",\"Lost\",IF(F37=\"DNF (Leading)\",\"DNF (Trailing)\",IF(F37=\"DNF (Trailing)\",\"DNF (Leading)\",IF(F37=\"Lost\",\"Won\",F37)))))","v":""},{"$f":"IF(G37=\"\",\"\",IF(G37=\"Won\",\"Lost\",IF(G37=\"DNF (Leading)\",\"DNF (Trailing)\",IF(G37=\"DNF (Trailing)\",\"DNF (Leading)\",IF(G37=\"Lost\",\"Won\",G37)))))","v":""},{"$f":"IF(H37=\"Won\",\"Lost\",IF(H37=\"Lost\",\"Won\",H37))","v":""},{"$f":"IF(C37=\"Bye\",0,IF(LEN(E38&F38&G38)=0,0,COUNTIF(E38:G38,\"Won\")*1+COUNTIF(E38:G38,\"DNF (Leading)\")*0.67+COUNTIF(E38:G38,\"DNF (Tied)\")*0.5+COUNTIF(E38:G38,\"DNF (Trailing)\")*0.33))","v":0},{"$f":"C37","v":0}]
[19,null,null,{"$f":"IF(ISERROR(VLOOKUP(C39,'Team List'!B:D,3,0)),\"\",VLOOKUP(C39,'Team List'!B:D,2,0))","v":""},null,null,null,{"$f":"IF(COUNTIF(E39:G39,\"Won\")=2,\"Won\",IF(COUNTIF(E39:G39,\"Lost\")=2,\"Lost\",IF(AND((E39=\"Won\"),OR(F39=\"DNF (Leading)\",F39=\"DNF (Tied)\",F39=\"DNF (Trailing)\")),\"Won\",IF(AND(COUNTIF(E39:F39,\"Won\")=1,OR(G39=\"DNF (Leading)\",G39=\"DNF (Tied)\",G39=\"DNF (Trailing)\")),\"Tied\",IF(OR(E39=\"DNF (Leading)\",E39=\"DNF (Tied)\",E39=\"DNF (Trailing)\"),\"Tied\",IF(AND((E39=\"Lost\"),OR(F39=\"DNF (Leading)\",F39=\"DNF (Tied)\",F39=\"DNF (Trailing)\")),\"Lost\",IF(C40=\"Bye\",\"Bye\",\"\")))))))","v":""},{"$f":"IF(C40=\"Bye\",0,IF(LEN(E39&F39&G39)=0,0,COUNTIF(E39:G39,\"Won\")*1+COUNTIF(E39:G39,\"DNF (Leading)\")*0.67+COUNTIF(E39:G39,\"DNF (Tied)\")*0.5+COUNTIF(E39:G39,\"DNF (Trailing)\")*0.33))","v":0},{"$f":"C40","v":0}]
[null,null,null,{"$f":"IF(ISERROR(VLOOKUP(C40,'Team List'!B:D,3,0)),\"\",VLOOKUP(C40,'Team List'!B:D,2,0))","v":""},{"$f":"IF(E39=\"\",\"\",IF(E39=\"Won\",\"Lost\",IF(E39=\"DNF (Leading)\",\"DNF (Trailing)\",IF(E39=\"DNF (Trailing)\",\"DNF (Leading)\",IF(E39=\"Lost\",\"Won\",E39)))))","v":""},{"$f":"IF(F39=\"\",\"\",IF(F39=\"Won\",\"Lost\",IF(F39=\"DNF (Leading)\",\"DNF (Trailing)\",IF(F39=\"DNF (Trailing)\",\"DNF (Leading)\",IF(F39=\"Lost\",\"Won\",F39)))))","v":""},{"$f":"IF(G39=\"\",\"\",IF(G39=\"Won\",\"Lost\",IF(G39=\"DNF (Leading)\",\"DNF (Trailing)\",IF(G39=\"DNF (Trailing)\",\"DNF (Leading)\",IF(G39=\"Lost\",\"Won\",G39)))))","v":""},{"$f":"IF(H39=\"Won\",\"Lost\",IF(H39=\"Lost\",\"Won\",H39))","v":""},{"$f":"IF(C39=\"Bye\",0,IF(LEN(E40&F40&G40)=0,0,COUNTIF(E40:G40,\"Won\")*1+COUNTIF(E40:G40,\"DNF (Leading)\")*0.67+COUNTIF(E40:G40,\"DNF (Tied)\")*0.5+COUNTIF(E40:G40,\"DNF (Trailing)\")*0.33))","v":0},{"$f":"C39","v":0}]
[20,null,null,{"$f":"IF(ISERROR(VLOOKUP(C41,'Team List'!B:D,3,0)),\"\",VLOOKUP(C41,'Team List'!B:D,2,0))","v":""},null,null,null,{"$f":"IF(COUNTIF(E41:G41,\"Won\")=2,\"Won\",IF(COUNTIF(E41:G41,\"Lost\")=2,\"Lost\",IF(AND((E41=\"Won\"),OR(F41=\"DNF (Leading)\",F41=\"DNF (Tied)\",F41=\"DNF (Trailing)\")),\"Won\",IF(AND(COUNTIF(E41:F41,\"Won\")=1,OR(G41=\"DNF (Leading)\",G41=\"DNF (Tied)\",G41=\"DNF (Trailing)\")),\"Tied\",IF(OR(E41=\"DNF (Leading)\",E41=\"DNF (Tied)\",E41=\"DNF (Trailing)\"),\"Tied\",IF(AND((E41=\"Lost\"),OR(F41=\"DNF (Leading)\",F41=\"DNF (Tied)\",F41=\"DNF (Trailing)\")),\"Lost\",IF(C42=\"Bye\",\"Bye\",\"\")))))))","v":""},{"$f":"IF(C42=\"Bye\",0,IF(LEN(E41&F41&G41)=0,0,COUNTIF(E41:G41,\"Won\")*1+COUNTIF(E41:G41,\"DNF (Leading)\")*0.67+COUNTIF(E41:G41,\"DNF (Tied)\")*0.5+COUNTIF(E41:G41,\"DNF (Trailing)\")*0.33))","v":0},{"$f":"C42","v":0}]
[null,null,null,{"$f":"IF(ISERROR(VLOOKUP(C42,'Team List'!B:D,3,0)),\"\",VLOOKUP(C42,'Team List'!B:D,2,0))","v":""},{"$f":"IF(E41=\"\",\"\",IF(E41=\"Won\",\"Lost\",IF(E41=\"DNF (Leading)\",\"DNF (Trailing)\",IF(E41=\"DNF (Trailing)\",\"DNF (Leading)\",IF(E41=\"Lost\",\"Won\",E41)))))","v":""},{"$f":"IF(F41=\"\",\"\",IF(F41=\"Won\",\"Lost\",IF(F41=\"DNF (Leading)\",\"DNF (Trailing)\",IF(F41=\"DNF (Trailing)\",\"DNF (Leading)\",IF(F41=\"Lost\",\"Won\",F41)))))","v":""},{"$f":"IF(G41=\"\",\"\",IF(G41=\"Won\",\"Lost\",IF(G41=\"DNF (Leading)\",\"DNF (Trailing)\",IF(G41=\"DNF (Trailing)\",\"DNF (Leading)\",IF(G41=\"Lost\",\"Won\",G41)))))","v":""},{"$f":"IF(H41=\"Won\",\"Lost\",IF(H41=\"Lost\",\"Won\",H41))","v":""},{"$f":"IF(C41=\"Bye\",0,IF(LEN(E42&F42&G42)=0,0,COUNTIF(E42:G42,\"Won\")*1+COUNTIF(E42:G42,\"DNF (Leading)\")*0.67+COUNTIF(E42:G42,\"DNF (Tied)\")*0.5+COUNTIF(E42:G42,\"DNF (Trailing)\")*0.33))","v":0},{"$f":"C41","v":0}]
[21,null,null,{"$f":"IF(ISERROR(VLOOKUP(C43,'Team List'!B:D,3,0)),\"\",VLOOKUP(C43,'Team List'!B:D,2,0))","v":""},null,null,null,{"$f":"IF(COUNTIF(E43:G43,\"Won\")=2,\"Won\",IF(COUNTIF(E43:G43,\"Lost\")=2,\"Lost\",IF(AND((E43=\"Won\"),OR(F43=\"DNF (Leading)\",F43=\"DNF (Tied)\",F43=\"DNF (Trailing)\")),\"Won\",IF(AND(COUNTIF(E43:F43,\"Won\")=1,OR(G43=\"DNF (Leading)\",G43=\"DNF (Tied)\",G43=\"DNF (Trailing)\")),\"Tied\",IF(OR(E43=\"DNF (Leading)\",E43=\"DNF (Tied)\",E43=\"DNF (Trailing)\"),\"Tied\",IF(AND((E43=\"Lost\"),OR(F43=\"DNF (Leading)\",F43=\"DNF (Tied)\",F43=\"DNF (Trailing)\")),\"Lost\",IF(C44=\"Bye\",\"Bye\",\"\")))))))","v":""},{"$f":"IF(C44=\"Bye\",0,IF(LEN(E43&F43&G43)=0,0,COUNTIF(E43:G43,\"Won\")*1+COUNTIF(E43:G43,\"DNF (Leading)\")*0.67+COUNTIF(E43:G43,\"DNF (Tied)\")*0.5+COUNTIF(E43:G43,\"DNF (Trailing)\")*0.33))","v":0},{"$f":"C44","v":0}]
[null,null,null,{"$f":"IF(ISERROR(VLOOKUP(C44,'Team List'!B:D,3,0)),\"\",VLOOKUP(C44,'Team List'!B:D,2,0))","v":""},{"$f":"IF(E43=\"\",\"\",IF(E43=\"Won\",\"Lost\",IF(E43=\"DNF (Leading)\",\"DNF (Trailing)\",IF(E43=\"DNF (Trailing)\",\"DNF (Leading)\",IF(E43=\"Lost\",\"Won\",E43)))))","v":""},{"$f":"IF(F43=\"\",\"\",IF(F43=\"Won\",\"Lost\",IF(F43=\"DNF (Leading)\",\"DNF (Trailing)\",IF(F43=\"DNF (Trailing)\",\"DNF (Leading)\",IF(F43=\"Lost\",\"Won\",F43)))))","v":""},{"$f":"IF(G43=\"\",\"\",IF(G43=\"Won\",\"Lost\",IF(G43=\"DNF (Leading)\",\"DNF (Trailing)\",IF(G43=\"DNF (Trailing)\",\"DNF (Leading)\",IF(G43=\"Lost\",\"Won\",G43)))))","v":""},{"$f":"IF(H43=\"Won\",\"Lost\",IF(H43=\"Lost\",\"Won\",H43))","v":""},{"$f":"IF(C43=\"Bye\",0,IF(LEN(E44&F44&G44)=0,0,COUNTIF(E44:G44,\"Won\")*1+COUNTIF(E44:G44,\"DNF (Leading)\")*0.67+COUNTIF(E44:G44,\"DNF (Tied)\")*0.5+COUNTIF(E44:G44,\"DNF (Trailing)\")*0.33))","v":0},{"$f":"C43","v":0}]
[22,null,null,{"$f":"IF(ISERROR(VLOOKUP(C45,'Team List'!B:D,3,0)),\"\",VLOOKUP(C45,'Team List'!B:D,2,0))","v":""},null,null,null,{"$f":"IF(COUNTIF(E45:G45,\"Won\")=2,\"Won\",IF(COUNTIF(E45:G45,\"Lost\")=2,\"Lost\",IF(AND((E45=\"Won\"),OR(F45=\"DNF (Leading)\",F45=\"DNF (Tied)\",F45=\"DNF (Trailing)\")),\"Won\",IF(AND(COUNTIF(E45:F45,\"Won\")=1,OR(G45=\"DNF (Leading)\",G45=\"DNF (Tied)\",G45=\"DNF (Trailing)\")),\"Tied\",IF(OR(E45=\"DNF (Leading)\",E45=\"DNF (Tied)\",E45=\"DNF (Trailing)\"),\"Tied\",IF(AND((E45=\"Lost\"),OR(F45=\"DNF (Leading)\",F45=\"DNF (Tied)\",F45=\"DNF (Trailing)\")),\"Lost\",IF(C46=\"Bye\",\"Bye\",\"\")))))))","v":""},{"$f":"IF(C46=\"Bye\",0,IF(LEN(E45&F45&G45)=0,0,COUNTIF(E45:G45,\"Won\")*1+COUNTIF(E45:G45,\"DNF (Leading)\")*0.67+COUNTIF(E45:G45,\"DNF (Tied)\")*0.5+COUNTIF(E45:G45,\"DNF (Trailing)\")*0.33))","v":0},{"$f":"C46","v":0}]
[null,null,null,{"$f":"IF(ISERROR(VLOOKUP(C46,'Team List'!B:D,3,0)),\"\",VLOOKUP(C46,'Team List'!B:D,2,0))","v":""},{"$f":"IF(E45=\"\",\"\",IF(E45=\"Won\",\"Lost\",IF(E45=\"DNF (Leading)\",\"DNF (Trailing)\",IF(E45=\"DNF (Trailing)\",\"DNF (Leading)\",IF(E45=\"Lost\",\"Won\",E45)))))","v":""},{"$f":"IF(F45=\"\",\"\",IF(F45=\"Won\",\"Lost\",IF(F45=\"DNF (Leading)\",\"DNF (Trailing)\",IF(F45=\"DNF (Trailing)\",\"DNF (Leading)\",IF(F45=\"Lost\",\"Won\",F45)))))","v":""},{"$f":"IF(G45=\"\",\"\",IF(G45=\"Won\",\"Lost\",IF(G45=\"DNF (Leading)\",\"DNF (Trailing)\",IF(G45=\"DNF (Trailing)\",\"DNF (Leading)\",IF(G45=\"Lost\",\"Won\",G45)))))","v":""},{"$f":"IF(H45=\"Won\",\"Lost\",IF(H45=\"Lost\",\"Won\",H45))","v":""},{"$f":"IF(C45=\"Bye\",0,IF(LEN(E46&F46&G46)=0,0,COUNTIF(E46:G46,\"Won\")*1+COUNTIF(E46:G46,\"DNF (Leading)\")*0.67+COUNTIF(E46:G46,\"DNF (Tied)\")*0.5+COUNTIF(E46:G46,\"DNF (Trailing)\")*0.33))","v":0},{"$f":"C45","v":0}]
[23,null,null,{"$f":"IF(ISERROR(VLOOKUP(C47,'Team List'!B:D,3,0)),\"\",VLOOKUP(C47,'Team List'!B:D,2,0))","v":""},null,null,null,{"$f":"IF(COUNTIF(E47:G47,\"Won\")=2,\"Won\",IF(COUNTIF(E47:G47,\"Lost\")=2,\"Lost\",IF(AND((E47=\"Won\"),OR(F47=\"DNF (Leading)\",F47=\"DNF (Tied)\",F47=\"DNF (Trailing)\")),\"Won\",IF(AND(COUNTIF(E47:F47,\"Won\")=1,OR(G47=\"DNF (Leading)\",G47=\"DNF (Tied)\",G47=\"DNF (Trailing)\")),\"Tied\",IF(OR(E47=\"DNF (Leading)\",E47=\"DNF (Tied)\",E47=\"DNF (Trailing)\"),\"Tied\",IF(AND((E47=\"Lost\"),OR(F47=\"DNF (Leading)\",F47=\"DNF (Tied)\",F47=\"DNF (Trailing)\")),\"Lost\",IF(C48=\"Bye\",\"Bye\",\"\")))))))","v":""},{"$f":"IF(C48=\"Bye\",0,IF(LEN(E47&F47&G47)=0,0,COUNTIF(E47:G47,\"Won\")*1+COUNTIF(E47:G47,\"DNF (Leading)\")*0.67+COUNTIF(E47:G47,\"DNF (Tied)\")*0.5+COUNTIF(E47:G47,\"DNF (Trailing)\")*0.33))","v":0},{"$f":"C48","v":0}]
[null,null,null,{"$f":"IF(ISERROR(VLOOKUP(C48,'Team List'!B:D,3,0)),\"\",VLOOKUP(C48,'Team List'!B:D,2,0))","v":""},{"$f":"IF(E47=\"\",\"\",IF(E47=\"Won\",\"Lost\",IF(E47=\"DNF (Leading)\",\"DNF (Trailing)\",IF(E47=\"DNF (Trailing)\",\"DNF (Leading)\",IF(E47=\"Lost\",\"Won\",E47)))))","v":""},{"$f":"IF(F47=\"\",\"\",IF(F47=\"Won\",\"Lost\",IF(F47=\"DNF (Leading)\",\"DNF (Trailing)\",IF(F47=\"DNF (Trailing)\",\"DNF (Leading)\",IF(F47=\"Lost\",\"Won\",F47)))))","v":""},{"$f":"IF(G47=\"\",\"\",IF(G47=\"Won\",\"Lost\",IF(G47=\"DNF (Leading)\",\"DNF (Trailing)\",IF(G47=\"DNF (Trailing)\",\"DNF (Leading)\",IF(G47=\"Lost\",\"Won\",G47)))))","v":""},{"$f":"IF(H47=\"Won\",\"Lost\",IF(H47=\"Lost\",\"Won\",H47))","v":""},{"$f":"IF(C47=\"Bye\",0,IF(LEN(E48&F48&G48)=0,0,COUNTIF(E48:G48,\"Won\")*1+COUNTIF(E48:G48,\"DNF (Leading)\")*0.67+COUNTIF(E48:G48,\"DNF (Tied)\")*0.5+COUNTIF(E48:G48,\"DNF (Trailing)\")*0.33))","v":0},{"$f":"C47","v":0}]
[24,null,null,{"$f":"IF(ISERROR(VLOOKUP(C49,'Team List'!B:D,3,0)),\"\",VLOOKUP(C49,'Team List'!B:D,2,0))","v":""},null,null,null,{"$f":"IF(COUNTIF(E49:G49,\"Won\")=2,\"Won\",IF(COUNTIF(E49:G49,\"Lost\")=2,\"Lost\",IF(AND((E49=\"Won\"),OR(F49=\"DNF (Leading)\",F49=\"DNF (Tied)\",F49=\"DNF (Trailing)\")),\"Won\",IF(AND(COUNTIF(E49:F49,\"Won\")=1,OR(G49=\"DNF (Leading)\",G49=\"DNF (Tied)\",G49=\"DNF (Trailing)\")),\"Tied\",IF(OR(E49=\"DNF (Leading)\",E49=\"DNF (Tied)\",E49=\"DNF (Trailing)\"),\"Tied\",IF(AND((E49=\"Lost\"),OR(F49=\"DNF (Leading)\",F49=\"DNF (Tied)\",F49=\"DNF (Trailing)\")),\"Lost\",IF(C50=\"Bye\",\"Bye\",\"\")))))))","v":""},{"$f":"IF(C50=\"Bye\",0,IF(LEN(E49&F49&G49)=0,0,COUNTIF(E49:G49,\"Won\")*1+COUNTIF(E49:G49,\"DNF (Leading)\")*0.67+COUNTIF(E49:G49,\"DNF (Tied)\")*0.5+COUNTIF(E49:G49,\"DNF (Trailing)\")*0.33))","v":0},{"$f":"C50","v":0}]
[null,null,null,{"$f":"IF(ISERROR(VLOOKUP(C50,'Team List'!B:D,3,0)),\"\",VLOOKUP(C50,'Team List'!B:D,2,0))","v":""},{"$f":"IF(E49=\"\",\"\",IF(E49=\"Won\",\"Lost\",IF(E49=\"DNF (Leading)\",\"DNF (Trailing)\",IF(E49=\"DNF (Trailing)\",\"DNF (Leading)\",IF(E49=\"Lost\",\"Won\",E49)))))","v":""},{"$f":"IF(F49=\"\",\"\",IF(F49=\"Won\",\"Lost\",IF(F49=\"DNF (Leading)\",\"DNF (Trailing)\",IF(F49=\"DNF (Trailing)\",\"DNF (Leading)\",IF(F49=\"Lost\",\"Won\",F49)))))","v":""},{"$f":"IF(G49=\"\",\"\",IF(G49=\"Won\",\"Lost\",IF(G49=\"DNF (Leading)\",\"DNF (Trailing)\",IF(G49=\"DNF (Trailing)\",\"DNF (Leading)\",IF(G49=\"Lost\",\"Won\",G49)))))","v":""},{"$f":"IF(H49=\"Won\",\"Lost\",IF(H49=\"Lost\",\"Won\",H49))","v":""},{"$f":"IF(C49=\"Bye\",0,IF(LEN(E50&F50&G50)=0,0,COUNTIF(E50:G50,\"Won\")*1+COUNTIF(E50:G50,\"DNF (Leading)\")*0.67+COUNTIF(E50:G50,\"DNF (Tied)\")*0.5+COUNTIF(E50:G50,\"DNF (Trailing)\")*0.33))","v":0},{"$f":"C49","v":0}]
[25,null,null,{"$f":"IF(ISERROR(VLOOKUP(C51,'Team List'!B:D,3,0)),\"\",VLOOKUP(C51,'Team List'!B:D,2,0))","v":""},null,null,null,{"$f":"IF(COUNTIF(E51:G51,\"Won\")=2,\"Won\",IF(COUNTIF(E51:G51,\"Lost\")=2,\"Lost\",IF(AND((E51=\"Won\"),OR(F51=\"DNF (Leading)\",F51=\"DNF (Tied)\",F51=\"DNF (Trailing)\")),\"Won\",IF(AND(COUNTIF(E51:F51,\"Won\")=1,OR(G51=\"DNF (Leading)\",G51=\"DNF (Tied)\",G51=\"DNF (Trailing)\")),\"Tied\",IF(OR(E51=\"DNF (Leading)\",E51=\"DNF (Tied)\",E51=\"DNF (Trailing)\"),\"Tied\",IF(AND((E51=\"Lost\"),OR(F51=\"DNF (Leading)\",F51=\"DNF (Tied)\",F51=\"DNF (Trailing)\")),\"Lost\",IF(C52=\"Bye\",\"Bye\",\"\")))))))","v":""},{"$f":"IF(C52=\"Bye\",0,IF(LEN(E51&F51&G51)=0,0,COUNTIF(E51:G51,\"Won\")*1+COUNTIF(E51:G51,\"DNF (Leading)\")*0.67+COUNTIF(E51:G51,\"DNF (Tied)\")*0.5+COUNTIF(E51:G51,\"DNF (Trailing)\")*0.33))","v":0},{"$f":"C52","v":0}]
[null,null,null,{"$f":"IF(ISERROR(VLOOKUP(C52,'Team List'!B:D,3,0)),\"\",VLOOKUP(C52,'Team List'!B:D,2,0))","v":""},{"$f":"IF(E51=\"\",\"\",IF(E51=\"Won\",\"Lost\",IF(E51=\"DNF (Leading)\",\"DNF (Trailing)\",IF(E51=\"DNF (Trailing)\",\"DNF (Leading)\",IF(E51=\"Lost\",\"Won\",E51)))))","v":""},{"$f":"IF(F51=\"\",\"\",IF(F51=\"Won\",\"Lost\",IF(F51=\"DNF (Leading)\",\"DNF (Trailing)\",IF(F51=\"DNF (Trailing)\",\"DNF (Leading)\",IF(F51=\"Lost\",\"Won\",F51)))))","v":""},{"$f":"IF(G51=\"\",\"\",IF(G51=\"Won\",\"Lost\",IF(G51=\"DNF (Leading)\",\"DNF (Trailing)\",IF(G51=\"DNF (Trailing)\",\"DNF (Leading)\",IF(G51=\"Lost\",\"Won\",G51)))))","v":""},{"$f":"IF(H51=\"Won\",\"Lost\",IF(H51=\"Lost\",\"Won\",H51))","v":""},{"$f":"IF(C51=\"Bye\",0,IF(LEN(E52&F52&G52)=0,0,COUNTIF(E52:G52,\"Won\")*1+COUNTIF(E52:G52,\"DNF (Leading)\")*0.67+COUNTIF(E52:G52,\"DNF (Tied)\")*0.5+COUNTIF(E52:G52,\"DNF (Trailing)\")*0.33))","v":0},{"$f":"C51","v":0}]
[26,null,null,{"$f":"IF(ISERROR(VLOOKUP(C53,'Team List'!B:D,3,0)),\"\",VLOOKUP(C53,'Team List'!B:D,2,0))","v":""},null,null,null,{"$f":"IF(COUNTIF(E53:G53,\"Won\")=2,\"Won\",IF(COUNTIF(E53:G53,\"Lost\")=2,\"Lost\",IF(AND((E53=\"Won\"),OR(F53=\"DNF (Leading)\",F53=\"DNF (Tied)\",F53=\"DNF (Trailing)\")),\"Won\",IF(AND(COUNTIF(E53:F53,\"Won\")=1,OR(G53=\"DNF (Leading)\",G53=\"DNF (Tied)\",G53=\"DNF (Trailing)\")),\"Tied\",IF(OR(E53=\"DNF (Leading)\",E53=\"DNF (Tied)\",E53=\"DNF (Trailing)\"),\"Tied\",IF(AND((E53=\"Lost\"),OR(F53=\"DNF (Leading)\",F53=\"DNF (Tied)\",F53=\"DNF (Trailing)\")),\"Lost\",IF(C54=\"Bye\",\"Bye\",\"\")))))))","v":""},{"$f":"IF(C54=\"Bye\",0,IF(LEN(E53&F53&G53)=0,0,COUNTIF(E53:G53,\"Won\")*1+COUNTIF(E53:G53,\"DNF (Leading)\")*0.67+COUNTIF(E53:G53,\"DNF (Tied)\")*0.5+COUNTIF(E53:G53,\"DNF (Trailing)\")*0.33))","v":0},{"$f":"C54","v":0}]
[null,null,null,{"$f":"IF(ISERROR(VLOOKUP(C54,'Team List'!B:D,3,0)),\"\",VLOOKUP(C54,'Team List'!B:D,2,0))","v":""},{"$f":"IF(E53=\"\",\"\",IF(E53=\"Won\",\"Lost\",IF(E53=\"DNF (Leading)\",\"DNF (Trailing)\",IF(E53=\"DNF (Trailing)\",\"DNF (Leading)\",IF(E53=\"Lost\",\"Won\",E53)))))","v":""},{"$f":"IF(F53=\"\",\"\",IF(F53=\"Won\",\"Lost\",IF(F53=\"DNF (Leading)\",\"DNF (Trailing)\",IF(F53=\"DNF (Trailing)\",\"DNF (Leading)\",IF(F53=\"Lost\",\"Won\",F53)))))","v":""},{"$f":"IF(G53=\"\",\"\",IF(G53=\"Won\",\"Lost\",IF(G53=\"DNF (Leading)\",\"DNF (Trailing)\",IF(G53=\"DNF (Trailing)\",\"DNF (Leading)\",IF(G53=\"Lost\",\"Won\",G53)))))","v":""},{"$f":"IF(H53=\"Won\",\"Lost\",IF(H53=\"Lost\",\"Won\",H53))","v":""},{"$f":"IF(C53=\"Bye\",0,IF(LEN(E54&F54&G54)=0,0,COUNTIF(E54:G54,\"Won\")*1+COUNTIF(E54:G54,\"DNF (Leading)\")*0.67+COUNTIF(E54:G54,\"DNF (Tied)\")*0.5+COUNTIF(E54:G54,\"DNF (Trailing)\")*0.33))","v":0},{"$f":"C53","v":0}]
[27,null,null,{"$f":"IF(ISERROR(VLOOKUP(C55,'Team List'!B:D,3,0)),\"\",VLOOKUP(C55,'Team List'!B:D,2,0))","v":""},null,null,null,{"$f":"IF(COUNTIF(E55:G55,\"Won\")=2,\"Won\",IF(COUNTIF(E55:G55,\"Lost\")=2,\"Lost\",IF(AND((E55=\"Won\"),OR(F55=\"DNF (Leading)\",F55=\"DNF (Tied)\",F55=\"DNF (Trailing)\")),\"Won\",IF(AND(COUNTIF(E55:F55,\"Won\")=1,OR(G55=\"DNF (Leading)\",G55=\"DNF (Tied)\",G55=\"DNF (Trailing)\")),\"Tied\",IF(OR(E55=\"DNF (Leading)\",E55=\"DNF (Tied)\",E55=\"DNF (Trailing)\"),\"Tied\",IF(AND((E55=\"Lost\"),OR(F55=\"DNF (Leading)\",F55=\"DNF (Tied)\",F55=\"DNF (Trailing)\")),\"Lost\",IF(C56=\"Bye\",\"Bye\",\"\")))))))","v":""},{"$f":"IF(C56=\"Bye\",0,IF(LEN(E55&F55&G55)=0,0,COUNTIF(E55:G55,\"Won\")*1+COUNTIF(E55:G55,\"DNF (Leading)\")*0.67+COUNTIF(E55:G55,\"DNF (Tied)\")*0.5+COUNTIF(E55:G55,\"DNF (Trailing)\")*0.33))","v":0},{"$f":"C56","v":0}]
[null,null,null,{"$f":"IF(ISERROR(VLOOKUP(C56,'Team List'!B:D,3,0)),\"\",VLOOKUP(C56,'Team List'!B:D,2,0))","v":""},{"$f":"IF(E55=\"\",\"\",IF(E55=\"Won\",\"Lost\",IF(E55=\"DNF (Leading)\",\"DNF (Trailing)\",IF(E55=\"DNF (Trailing)\",\"DNF (Leading)\",IF(E55=\"Lost\",\"Won\",E55)))))","v":""},{"$f":"IF(F55=\"\",\"\",IF(F55=\"Won\",\"Lost\",IF(F55=\"DNF (Leading)\",\"DNF (Trailing)\",IF(F55=\"DNF (Trailing)\",\"DNF (Leading)\",IF(F55=\"Lost\",\"Won\",F55)))))","v":""},{"$f":"IF(G55=\"\",\"\",IF(G55=\"Won\",\"Lost\",IF(G55=\"DNF (Leading)\",\"DNF (Trailing)\",IF(G55=\"DNF (Trailing)\",\"DNF (Leading)\",IF(G55=\"Lost\",\"Won\",G55)))))","v":""},{"$f":"IF(H55=\"Won\",\"Lost\",IF(H55=\"Lost\",\"Won\",H55))","v":""},{"$f":"IF(C55=\"Bye\",0,IF(LEN(E56&F56&G56)=0,0,COUNTIF(E56:G56,\"Won\")*1+COUNTIF(E56:G56,\"DNF (Leading)\")*0.67+COUNTIF(E56:G56,\"DNF (Tied)\")*0.5+COUNTIF(E56:G56,\"DNF (Trailing)\")*0.33))","v":0},{"$f":"C55","v":0}]
[28,null,null,{"$f":"IF(ISERROR(VLOOKUP(C57,'Team List'!B:D,3,0)),\"\",VLOOKUP(C57,'Team List'!B:D,2,0))","v":""},null,null,null,{"$f":"IF(COUNTIF(E57:G57,\"Won\")=2,\"Won\",IF(COUNTIF(E57:G57,\"Lost\")=2,\"Lost\",IF(AND((E57=\"Won\"),OR(F57=\"DNF (Leading)\",F57=\"DNF (Tied)\",F57=\"DNF (Trailing)\")),\"Won\",IF(AND(COUNTIF(E57:F57,\"Won\")=1,OR(G57=\"DNF (Leading)\",G57=\"DNF (Tied)\",G57=\"DNF (Trailing)\")),\"Tied\",IF(OR(E57=\"DNF (Leading)\",E57=\"DNF (Tied)\",E57=\"DNF (Trailing)\"),\"Tied\",IF(AND((E57=\"Lost\"),OR(F57=\"DNF (Leading)\",F57=\"DNF (Tied)\",F57=\"DNF (Trailing)\")),\"Lost\",IF(C58=\"Bye\",\"Bye\",\"\")))))))","v":""},{"$f":"IF(C58=\"Bye\",0,IF(LEN(E57&F57&G57)=0,0,COUNTIF(E57:G57,\"Won\")*1+COUNTIF(E57:G57,\"DNF (Leading)\")*0.67+COUNTIF(E57:G57,\"DNF (Tied)\")*0.5+COUNTIF(E57:G57,\"DNF (Trailing)\")*0.33))","v":0},{"$f":"C58","v":0}]
[null,null,null,{"$f":"IF(ISERROR(VLOOKUP(C58,'Team List'!B:D,3,0)),\"\",VLOOKUP(C58,'Team List'!B:D,2,0))","v":""},{"$f":"IF(E57=\"\",\"\",IF(E57=\"Won\",\"Lost\",IF(E57=\"DNF (Leading)\",\"DNF (Trailing)\",IF(E57=\"DNF (Trailing)\",\"DNF (Leading)\",IF(E57=\"Lost\",\"Won\",E57)))))","v":""},{"$f":"IF(F57=\"\",\"\",IF(F57=\"Won\",\"Lost\",IF(F57=\"DNF (Leading)\",\"DNF (Trailing)\",IF(F57=\"DNF (Trailing)\",\"DNF (Leading)\",IF(F57=\"Lost\",\"Won\",F57)))))","v":""},{"$f":"IF(G57=\"\",\"\",IF(G57=\"Won\",\"Lost\",IF(G57=\"DNF (Leading)\",\"DNF (Trailing)\",IF(G57=\"DNF (Trailing)\",\"DNF (Leading)\",IF(G57=\"Lost\",\"Won\",G57)))))","v":""},{"$f":"IF(H57=\"Won\",\"Lost\",IF(H57=\"Lost\",\"Won\",H57))","v":""},{"$f":"IF(C57=\"Bye\",0,IF(LEN(E58&F58&G58)=0,0,COUNTIF(E58:G58,\"Won\")*1+COUNTIF(E58:G58,\"DNF (Leading)\")*0.67+COUNTIF(E58:G58,\"DNF (Tied)\")*0.5+COUNTIF(E58:G58,\"DNF (Trailing)\")*0.33))","v":0},{"$f":"C57","v":0}]
[29,null,null,{"$f":"IF(ISERROR(VLOOKUP(C59,'Team List'!B:D,3,0)),\"\",VLOOKUP(C59,'Team List'!B:D,2,0))","v":""},null,null,null,{"$f":"IF(COUNTIF(E59:G59,\"Won\")=2,\"Won\",IF(COUNTIF(E59:G59,\"Lost\")=2,\"Lost\",IF(AND((E59=\"Won\"),OR(F59=\"DNF (Leading)\",F59=\"DNF (Tied)\",F59=\"DNF (Trailing)\")),\"Won\",IF(AND(COUNTIF(E59:F59,\"Won\")=1,OR(G59=\"DNF (Leading)\",G59=\"DNF (Tied)\",G59=\"DNF (Trailing)\")),\"Tied\",IF(OR(E59=\"DNF (Leading)\",E59=\"DNF (Tied)\",E59=\"DNF (Trailing)\"),\"Tied\",IF(AND((E59=\"Lost\"),OR(F59=\"DNF (Leading)\",F59=\"DNF (Tied)\",F59=\"DNF (Trailing)\")),\"Lost\",IF(C60=\"Bye\",\"Bye\",\"\")))))))","v":""},{"$f":"IF(C60=\"Bye\",0,IF(LEN(E59&F59&G59)=0,0,COUNTIF(E59:G59,\"Won\")*1+COUNTIF(E59:G59,\"DNF (Leading)\")*0.67+COUNTIF(E59:G59,\"DNF (Tied)\")*0.5+COUNTIF(E59:G59,\"DNF (Trailing)\")*0.33))","v":0},{"$f":"C60","v":0}]
[null,null,null,{"$f":"IF(ISERROR(VLOOKUP(C60,'Team List'!B:D,3,0)),\"\",VLOOKUP(C60,'Team List'!B:D,2,0))","v":""},{"$f":"IF(E59=\"\",\"\",IF(E59=\"Won\",\"Lost\",IF(E59=\"DNF (Leading)\",\"DNF (Trailing)\",IF(E59=\"DNF (Trailing)\",\"DNF (Leading)\",IF(E59=\"Lost\",\"Won\",E59)))))","v":""},{"$f":"IF(F59=\"\",\"\",IF(F59=\"Won\",\"Lost\",IF(F59=\"DNF (Leading)\",\"DNF (Trailing)\",IF(F59=\"DNF (Trailing)\",\"DNF (Leading)\",IF(F59=\"Lost\",\"Won\",F59)))))","v":""},{"$f":"IF(G59=\"\",\"\",IF(G59=\"Won\",\"Lost\",IF(G59=\"DNF (Leading)\",\"DNF (Trailing)\",IF(G59=\"DNF (Trailing)\",\"DNF (Leading)\",IF(G59=\"Lost\",\"Won\",G59)))))","v":""},{"$f":"IF(H59=\"Won\",\"Lost\",IF(H59=\"Lost\",\"Won\",H59))","v":""},{"$f":"IF(C59=\"Bye\",0,IF(LEN(E60&F60&G60)=0,0,COUNTIF(E60:G60,\"Won\")*1+COUNTIF(E60:G60,\"DNF (Leading)\")*0.67+COUNTIF(E60:G60,\"DNF (Tied)\")*0.5+COUNTIF(E60:G60,\"DNF (Trailing)\")*0.33))","v":0},{"$f":"C59","v":0}]
[30,null,null,{"$f":"IF(ISERROR(VLOOKUP(C61,'Team List'!B:D,3,0)),\"\",VLOOKUP(C61,'Team List'!B:D,2,0))","v":""},null,null,null,{"$f":"IF(COUNTIF(E61:G61,\"Won\")=2,\"Won\",IF(COUNTIF(E61:G61,\"Lost\")=2,\"Lost\",IF(AND((E61=\"Won\"),OR(F61=\"DNF (Leading)\",F61=\"DNF (Tied)\",F61=\"DNF (Trailing)\")),\"Won\",IF(AND(COUNTIF(E61:F61,\"Won\")=1,OR(G61=\"DNF (Leading)\",G61=\"DNF (Tied)\",G61=\"DNF (Trailing)\")),\"Tied\",IF(OR(E61=\"DNF (Leading)\",E61=\"DNF (Tied)\",E61=\"DNF (Trailing)\"),\"Tied\",IF(AND((E61=\"Lost\"),OR(F61=\"DNF (Leading)\",F61=\"DNF (Tied)\",F61=\"DNF (Trailing)\")),\"Lost\",IF(C62=\"Bye\",\"Bye\",\"\")))))))","v":""},{"$f":"IF(C62=\"Bye\",0,IF(LEN(E61&F61&G61)=0,0,COUNTIF(E61:G61,\"Won\")*1+COUNTIF(E61:G61,\"DNF (Leading)\")*0.67+COUNTIF(E61:G61,\"DNF (Tied)\")*0.5+COUNTIF(E61:G61,\"DNF (Trailing)\")*0.33))","v":0},{"$f":"C62","v":0}]
[null,null,null,{"$f":"IF(ISERROR(VLOOKUP(C62,'Team List'!B:D,3,0)),\"\",VLOOKUP(C62,'Team List'!B:D,2,0))","v":""},{"$f":"IF(E61=\"\",\"\",IF(E61=\"Won\",\"Lost\",IF(E61=\"DNF (Leading)\",\"DNF (Trailing)\",IF(E61=\"DNF (Trailing)\",\"DNF (Leading)\",IF(E61=\"Lost\",\"Won\",E61)))))","v":""},{"$f":"IF(F61=\"\",\"\",IF(F61=\"Won\",\"Lost\",IF(F61=\"DNF (Leading)\",\"DNF (Trailing)\",IF(F61=\"DNF (Trailing)\",\"DNF (Leading)\",IF(F61=\"Lost\",\"Won\",F61)))))","v":""},{"$f":"IF(G61=\"\",\"\",IF(G61=\"Won\",\"Lost\",IF(G61=\"DNF (Leading)\",\"DNF (Trailing)\",IF(G61=\"DNF (Trailing)\",\"DNF (Leading)\",IF(G61=\"Lost\",\"Won\",G61)))))","v":""},{"$f":"IF(H61=\"Won\",\"Lost\",IF(H61=\"Lost\",\"Won\",H61))","v":""},{"$f":"IF(C61=\"Bye\",0,IF(LEN(E62&F62&G62)=0,0,COUNTIF(E62:G62,\"Won\")*1+COUNTIF(E62:G62,\"DNF (Leading)\")*0.67+COUNTIF(E62:G62,\"DNF (Tied)\")*0.5+COUNTIF(E62:G62,\"DNF (Trailing)\")*0.33))","v":0},{"$f":"C61","v":0}]
[31,null,null,{"$f":"IF(ISERROR(VLOOKUP(C63,'Team List'!B:D,3,0)),\"\",VLOOKUP(C63,'Team List'!B:D,2,0))","v":""},null,null,null,{"$f":"IF(COUNTIF(E63:G63,\"Won\")=2,\"Won\",IF(COUNTIF(E63:G63,\"Lost\")=2,\"Lost\",IF(AND((E63=\"Won\"),OR(F63=\"DNF (Leading)\",F63=\"DNF (Tied)\",F63=\"DNF (Trailing)\")),\"Won\",IF(AND(COUNTIF(E63:F63,\"Won\")=1,OR(G63=\"DNF (Leading)\",G63=\"DNF (Tied)\",G63=\"DNF (Trailing)\")),\"Tied\",IF(OR(E63=\"DNF (Leading)\",E63=\"DNF (Tied)\",E63=\"DNF (Trailing)\"),\"Tied\",IF(AND((E63=\"Lost\"),OR(F63=\"DNF (Leading)\",F63=\"DNF (Tied)\",F63=\"DNF (Trailing)\")),\"Lost\",IF(C64=\"Bye\",\"Bye\",\"\")))))))","v":""},{"$f":"IF(C64=\"Bye\",0,IF(LEN(E63&F63&G63)=0,0,COUNTIF(E63:G63,\"Won\")*1+COUNTIF(E63:G63,\"DNF (Leading)\")*0.67+COUNTIF(E63:G63,\"DNF (Tied)\")*0.5+COUNTIF(E63:G63,\"DNF (Trailing)\")*0.33))","v":0},{"$f":"C64","v":0}]
[null,null,null,{"$f":"IF(ISERROR(VLOOKUP(C64,'Team List'!B:D,3,0)),\"\",VLOOKUP(C64,'Team List'!B:D,2,0))","v":""},{"$f":"IF(E63=\"\",\"\",IF(E63=\"Won\",\"Lost\",IF(E63=\"DNF (Leading)\",\"DNF (Trailing)\",IF(E63=\"DNF (Trailing)\",\"DNF (Leading)\",IF(E63=\"Lost\",\"Won\",E63)))))","v":""},{"$f":"IF(F63=\"\",\"\",IF(F63=\"Won\",\"Lost\",IF(F63=\"DNF (Leading)\",\"DNF (Trailing)\",IF(F63=\"DNF (Trailing)\",\"DNF (Leading)\",IF(F63=\"Lost\",\"Won\",F63)))))","v":""},{"$f":"IF(G63=\"\",\"\",IF(G63=\"Won\",\"Lost\",IF(G63=\"DNF (Leading)\",\"DNF (Trailing)\",IF(G63=\"DNF (Trailing)\",\"DNF (Leading)\",IF(G63=\"Lost\",\"Won\",G63)))))","v":""},{"$f":"IF(H63=\"Won\",\"Lost\",IF(H63=\"Lost\",\"Won\",H63))","v":""},{"$f":"IF(C63=\"Bye\",0,IF(LEN(E64&F64&G64)=0,0,COUNTIF(E64:G64,\"Won\")*1+COUNTIF(E64:G64,\"DNF (Leading)\")*0.67+COUNTIF(E64:G64,\"DNF (Tied)\")*0.5+COUNTIF(E64:G64,\"DNF (Trailing)\")*0.33))","v":0},{"$f":"C63","v":0}]
[32,null,null,{"$f":"IF(ISERROR(VLOOKUP(C65,'Team List'!B:D,3,0)),\"\",VLOOKUP(C65,'Team List'!B:D,2,0))","v":""},null,null,null,{"$f":"IF(COUNTIF(E65:G65,\"Won\")=2,\"Won\",IF(COUNTIF(E65:G65,\"Lost\")=2,\"Lost\",IF(AND((E65=\"Won\"),OR(F65=\"DNF (Leading)\",F65=\"DNF (Tied)\",F65=\"DNF (Trailing)\")),\"Won\",IF(AND(COUNTIF(E65:F65,\"Won\")=1,OR(G65=\"DNF (Leading)\",G65=\"DNF (Tied)\",G65=\"DNF (Trailing)\")),\"Tied\",IF(OR(E65=\"DNF (Leading)\",E65=\"DNF (Tied)\",E65=\"DNF (Trailing)\"),\"Tied\",IF(AND((E65=\"Lost\"),OR(F65=\"DNF (Leading)\",F65=\"DNF (Tied)\",F65=\"DNF (Trailing)\")),\"Lost\",IF(C66=\"Bye\",\"Bye\",\"\")))))))","v":""},{"$f":"IF(C66=\"Bye\",0,IF(LEN(E65&F65&G65)=0,0,COUNTIF(E65:G65,\"Won\")*1+COUNTIF(E65:G65,\"DNF (Leading)\")*0.67+COUNTIF(E65:G65,\"DNF (Tied)\")*0.5+COUNTIF(E65:G65,\"DNF (Trailing)\")*0.33))","v":0},{"$f":"C66","v":0}]
[null,null,null,{"$f":"IF(ISERROR(VLOOKUP(C66,'Team List'!B:D,3,0)),\"\",VLOOKUP(C66,'Team List'!B:D,2,0))","v":""},{"$f":"IF(E65=\"\",\"\",IF(E65=\"Won\",\"Lost\",IF(E65=\"DNF (Leading)\",\"DNF (Trailing)\",IF(E65=\"DNF (Trailing)\",\"DNF (Leading)\",IF(E65=\"Lost\",\"Won\",E65)))))","v":""},{"$f":"IF(F65=\"\",\"\",IF(F65=\"Won\",\"Lost\",IF(F65=\"DNF (Leading)\",\"DNF (Trailing)\",IF(F65=\"DNF (Trailing)\",\"DNF (Leading)\",IF(F65=\"Lost\",\"Won\",F65)))))","v":""},{"$f":"IF(G65=\"\",\"\",IF(G65=\"Won\",\"Lost\",IF(G65=\"DNF (Leading)\",\"DNF (Trailing)\",IF(G65=\"DNF (Trailing)\",\"DNF (Leading)\",IF(G65=\"Lost\",\"Won\",G65)))))","v":""},{"$f":"IF(H65=\"Won\",\"Lost\",IF(H65=\"Lost\",\"Won\",H65))","v":""},{"$f":"IF(C65=\"Bye\",0,IF(LEN(E66&F66&G66)=0,0,COUNTIF(E66:G66,\"Won\")*1+COUNTIF(E66:G66,\"DNF (Leading)\")*0.67+COUNTIF(E66:G66,\"DNF (Tied)\")*0.5+COUNTIF(E66:G66,\"DNF (Trailing)\")*0.33))","v":0},{"$f":"C65","v":0}]

{"sheet":"Round Eight","index":12,"n_rows":66,"n_cols":10,"rows_kept":66,"cut":false,"hidden":false,"merged":[[22,0,23,0],[0,0,0,5],[2,0,3,0],[4,0,5,0],[6,0,7,0],[8,0,9,0],[10,0,11,0],[12,0,13,0],[14,0,15,0],[16,0,17,0],[18,0,19,0],[20,0,21,0],[46,0,47,0],[24,0,25,0],[26,0,27,0],[28,0,29,0],[30,0,31,0],[32,0,33,0],[34,0,35,0],[36,0,37,0],[38,0,39,0],[40,0,41,0],[42,0,43,0],[44,0,45,0],[60,0,61,0],[62,0,63,0],[64,0,65,0],[48,0,49,0],[50,0,51,0],[52,0,53,0],[54,0,55,0],[56,0,57,0],[58,0,59,0]]}
["Round Eight"]
["Pitch #","Rank","Team Number","Team Name","Game One","Game Two","Game Three","Match","Score"]
[1,null,null,{"$f":"IF(ISERROR(VLOOKUP(C3,'Team List'!B:D,3,0)),\"\",VLOOKUP(C3,'Team List'!B:D,2,0))","v":""},null,null,null,{"$f":"IF(COUNTIF(E3:G3,\"Won\")=2,\"Won\",IF(COUNTIF(E3:G3,\"Lost\")=2,\"Lost\",IF(AND((E3=\"Won\"),OR(F3=\"DNF (Leading)\",F3=\"DNF (Tied)\",F3=\"DNF (Trailing)\")),\"Won\",IF(AND(COUNTIF(E3:F3,\"Won\")=1,OR(G3=\"DNF (Leading)\",G3=\"DNF (Tied)\",G3=\"DNF (Trailing)\")),\"Tied\",IF(OR(E3=\"DNF (Leading)\",E3=\"DNF (Tied)\",E3=\"DNF (Trailing)\"),\"Tied\",IF(AND((E3=\"Lost\"),OR(F3=\"DNF (Leading)\",F3=\"DNF (Tied)\",F3=\"DNF (Trailing)\")),\"Lost\",IF(C4=\"Bye\",\"Bye\",\"\")))))))","v":""},{"$f":"IF(C4=\"Bye\",1,IF(LEN(E3&F3&G3)=0,0,COUNTIF(E3:G3,\"Won\")*1+COUNTIF(E3:G3,\"DNF (Leading)\")*0.67+COUNTIF(E3:G3,\"DNF (Tied)\")*0.5+COUNTIF(E3:G3,\"DNF (Trailing)\")*0.33))","v":0},{"$f":"C4","v":0}]
[null,null,null,{"$f":"IF(ISERROR(VLOOKUP(C4,'Team List'!B:D,3,0)),\"\",VLOOKUP(C4,'Team List'!B:D,2,0))","v":""},{"$f":"IF(E3=\"\",\"\",IF(E3=\"Won\",\"Lost\",IF(E3=\"DNF (Leading)\",\"DNF (Trailing)\",IF(E3=\"DNF (Trailing)\",\"DNF (Leading)\",IF(E3=\"Lost\",\"Won\",E3)))))","v":""},{"$f":"IF(F3=\"\",\"\",IF(F3=\"Won\",\"Lost\",IF(F3=\"DNF (Leading)\",\"DNF (Trailing)\",IF(F3=\"DNF (Trailing)\",\"DNF (Leading)\",IF(F3=\"Lost\",\"Won\",F3)))))","v":""},{"$f":"IF(G3=\"\",\"\",IF(G3=\"Won\",\"Lost\",IF(G3=\"DNF (Leading)\",\"DNF (Trailing)\",IF(G3=\"DNF (Trailing)\",\"DNF (Leading)\",IF(G3=\"Lost\",\"Won\",G3)))))","v":""},{"$f":"IF(H3=\"Won\",\"Lost\",IF(H3=\"Lost\",\"Won\",H3))","v":""},{"$f":"IF(C3=\"Bye\",1,IF(LEN(E4&F4&G4)=0,0,COUNTIF(E4:G4,\"Won\")*1+COUNTIF(E4:G4,\"DNF (Leading)\")*0.67+COUNTIF(E4:G4,\"DNF (Tied)\")*0.5+COUNTIF(E4:G4,\"DNF (Trailing)\")*0.33))","v":0},{"$f":"C3","v":0}]
[2,null,null,{"$f":"IF(ISERROR(VLOOKUP(C5,'Team List'!B:D,3,0)),\"\",VLOOKUP(C5,'Team List'!B:D,2,0))","v":""},null,null,null,{"$f":"IF(COUNTIF(E5:G5,\"Won\")=2,\"Won\",IF(COUNTIF(E5:G5,\"Lost\")=2,\"Lost\",IF(AND((E5=\"Won\"),OR(F5=\"DNF (Leading)\",F5=\"DNF (Tied)\",F5=\"DNF (Trailing)\")),\"Won\",IF(AND(COUNTIF(E5:F5,\"Won\")=1,OR(G5=\"DNF (Leading)\",G5=\"DNF (Tied)\",G5=\"DNF (Trailing)\")),\"Tied\",IF(OR(E5=\"DNF (Leading)\",E5=\"DNF (Tied)\",E5=\"DNF (Trailing)\"),\"Tied\",IF(AND((E5=\"Lost\"),OR(F5=\"DNF (Leading)\",F5=\"DNF (Tied)\",F5=\"DNF (Trailing)\")),\"Lost\",IF(C6=\"Bye\",\"Bye\",\"\")))))))","v":""},{"$f":"IF(C6=\"Bye\",1,IF(LEN(E5&F5&G5)=0,0,COUNTIF(E5:G5,\"Won\")*1+COUNTIF(E5:G5,\"DNF (Leading)\")*0.67+COUNTIF(E5:G5,\"DNF (Tied)\")*0.5+COUNTIF(E5:G5,\"DNF (Trailing)\")*0.33))","v":0},{"$f":"C6","v":0}]
[null,null,null,{"$f":"IF(ISERROR(VLOOKUP(C6,'Team List'!B:D,3,0)),\"\",VLOOKUP(C6,'Team List'!B:D,2,0))","v":""},{"$f":"IF(E5=\"\",\"\",IF(E5=\"Won\",\"Lost\",IF(E5=\"DNF (Leading)\",\"DNF (Trailing)\",IF(E5=\"DNF (Trailing)\",\"DNF (Leading)\",IF(E5=\"Lost\",\"Won\",E5)))))","v":""},{"$f":"IF(F5=\"\",\"\",IF(F5=\"Won\",\"Lost\",IF(F5=\"DNF (Leading)\",\"DNF (Trailing)\",IF(F5=\"DNF (Trailing)\",\"DNF (Leading)\",IF(F5=\"Lost\",\"Won\",F5)))))","v":""},{"$f":"IF(G5=\"\",\"\",IF(G5=\"Won\",\"Lost\",IF(G5=\"DNF (Leading)\",\"DNF (Trailing)\",IF(G5=\"DNF (Trailing)\",\"DNF (Leading)\",IF(G5=\"Lost\",\"Won\",G5)))))","v":""},{"$f":"IF(H5=\"Won\",\"Lost\",IF(H5=\"Lost\",\"Won\",H5))","v":""},{"$f":"IF(C5=\"Bye\",1,IF(LEN(E6&F6&G6)=0,0,COUNTIF(E6:G6,\"Won\")*1+COUNTIF(E6:G6,\"DNF (Leading)\")*0.67+COUNTIF(E6:G6,\"DNF (Tied)\")*0.5+COUNTIF(E6:G6,\"DNF (Trailing)\")*0.33))","v":0},{"$f":"C5","v":0}]
[3,null,null,{"$f":"IF(ISERROR(VLOOKUP(C7,'Team List'!B:D,3,0)),\"\",VLOOKUP(C7,'Team List'!B:D,2,0))","v":""},null,null,null,{"$f":"IF(COUNTIF(E7:G7,\"Won\")=2,\"Won\",IF(COUNTIF(E7:G7,\"Lost\")=2,\"Lost\",IF(AND((E7=\"Won\"),OR(F7=\"DNF (Leading)\",F7=\"DNF (Tied)\",F7=\"DNF (Trailing)\")),\"Won\",IF(AND(COUNTIF(E7:F7,\"Won\")=1,OR(G7=\"DNF (Leading)\",G7=\"DNF (Tied)\",G7=\"DNF (Trailing)\")),\"Tied\",IF(OR(E7=\"DNF (Leading)\",E7=\"DNF (Tied)\",E7=\"DNF (Trailing)\"),\"Tied\",IF(AND((E7=\"Lost\"),OR(F7=\"DNF (Leading)\",F7=\"DNF (Tied)\",F7=\"DNF (Trailing)\")),\"Lost\",IF(C8=\"Bye\",\"Bye\",\"\")))))))","v":""},{"$f":"IF(C8=\"Bye\",1,IF(LEN(E7&F7&G7)=0,0,COUNTIF(E7:G7,\"Won\")*1+COUNTIF(E7:G7,\"DNF (Leading)\")*0.67+COUNTIF(E7:G7,\"DNF (Tied)\")*0.5+COUNTIF(E7:G7,\"DNF (Trailing)\")*0.33))","v":0},{"$f":"C8","v":0}]
[null,null,null,{"$f":"IF(ISERROR(VLOOKUP(C8,'Team List'!B:D,3,0)),\"\",VLOOKUP(C8,'Team List'!B:D,2,0))","v":""},{"$f":"IF(E7=\"\",\"\",IF(E7=\"Won\",\"Lost\",IF(E7=\"DNF (Leading)\",\"DNF (Trailing)\",IF(E7=\"DNF (Trailing)\",\"DNF (Leading)\",IF(E7=\"Lost\",\"Won\",E7)))))","v":""},{"$f":"IF(F7=\"\",\"\",IF(F7=\"Won\",\"Lost\",IF(F7=\"DNF (Leading)\",\"DNF (Trailing)\",IF(F7=\"DNF (Trailing)\",\"DNF (Leading)\",IF(F7=\"Lost\",\"Won\",F7)))))","v":""},{"$f":"IF(G7=\"\",\"\",IF(G7=\"Won\",\"Lost\",IF(G7=\"DNF (Leading)\",\"DNF (Trailing)\",IF(G7=\"DNF (Trailing)\",\"DNF (Leading)\",IF(G7=\"Lost\",\"Won\",G7)))))","v":""},{"$f":"IF(H7=\"Won\",\"Lost\",IF(H7=\"Lost\",\"Won\",H7))","v":""},{"$f":"IF(C7=\"Bye\",1,IF(LEN(E8&F8&G8)=0,0,COUNTIF(E8:G8,\"Won\")*1+COUNTIF(E8:G8,\"DNF (Leading)\")*0.67+COUNTIF(E8:G8,\"DNF (Tied)\")*0.5+COUNTIF(E8:G8,\"DNF (Trailing)\")*0.33))","v":0},{"$f":"C7","v":0}]
[4,null,null,{"$f":"IF(ISERROR(VLOOKUP(C9,'Team List'!B:D,3,0)),\"\",VLOOKUP(C9,'Team List'!B:D,2,0))","v":""},null,null,null,{"$f":"IF(COUNTIF(E9:G9,\"Won\")=2,\"Won\",IF(COUNTIF(E9:G9,\"Lost\")=2,\"Lost\",IF(AND((E9=\"Won\"),OR(F9=\"DNF (Leading)\",F9=\"DNF (Tied)\",F9=\"DNF (Trailing)\")),\"Won\",IF(AND(COUNTIF(E9:F9,\"Won\")=1,OR(G9=\"DNF (Leading)\",G9=\"DNF (Tied)\",G9=\"DNF (Trailing)\")),\"Tied\",IF(OR(E9=\"DNF (Leading)\",E9=\"DNF (Tied)\",E9=\"DNF (Trailing)\"),\"Tied\",IF(AND((E9=\"Lost\"),OR(F9=\"DNF (Leading)\",F9=\"DNF (Tied)\",F9=\"DNF (Trailing)\")),\"Lost\",IF(C10=\"Bye\",\"Bye\",\"\")))))))","v":""},{"$f":"IF(C10=\"Bye\",1,IF(LEN(E9&F9&G9)=0,0,COUNTIF(E9:G9,\"Won\")*1+COUNTIF(E9:G9,\"DNF (Leading)\")*0.67+COUNTIF(E9:G9,\"DNF (Tied)\")*0.5+COUNTIF(E9:G9,\"DNF (Trailing)\")*0.33))","v":0},{"$f":"C10","v":0}]
[null,null,null,{"$f":"IF(ISERROR(VLOOKUP(C10,'Team List'!B:D,3,0)),\"\",VLOOKUP(C10,'Team List'!B:D,2,0))","v":""},{"$f":"IF(E9=\"\",\"\",IF(E9=\"Won\",\"Lost\",IF(E9=\"DNF (Leading)\",\"DNF (Trailing)\",IF(E9=\"DNF (Trailing)\",\"DNF (Leading)\",IF(E9=\"Lost\",\"Won\",E9)))))","v":""},{"$f":"IF(F9=\"\",\"\",IF(F9=\"Won\",\"Lost\",IF(F9=\"DNF (Leading)\",\"DNF (Trailing)\",IF(F9=\"DNF (Trailing)\",\"DNF (Leading)\",IF(F9=\"Lost\",\"Won\",F9)))))","v":""},{"$f":"IF(G9=\"\",\"\",IF(G9=\"Won\",\"Lost\",IF(G9=\"DNF (Leading)\",\"DNF (Trailing)\",IF(G9=\"DNF (Trailing)\",\"DNF (Leading)\",IF(G9=\"Lost\",\"Won\",G9)))))","v":""},{"$f":"IF(H9=\"Won\",\"Lost\",IF(H9=\"Lost\",\"Won\",H9))","v":""},{"$f":"IF(C9=\"Bye\",1,IF(LEN(E10&F10&G10)=0,0,COUNTIF(E10:G10,\"Won\")*1+COUNTIF(E10:G10,\"DNF (Leading)\")*0.67+COUNTIF(E10:G10,\"DNF (Tied)\")*0.5+COUNTIF(E10:G10,\"DNF (Trailing)\")*0.33))","v":0},{"$f":"C9","v":0}]
[5,null,null,{"$f":"IF(ISERROR(VLOOKUP(C11,'Team List'!B:D,3,0)),\"\",VLOOKUP(C11,'Team List'!B:D,2,0))","v":""},null,null,null,{"$f":"IF(COUNTIF(E11:G11,\"Won\")=2,\"Won\",IF(COUNTIF(E11:G11,\"Lost\")=2,\"Lost\",IF(AND((E11=\"Won\"),OR(F11=\"DNF (Leading)\",F11=\"DNF (Tied)\",F11=\"DNF (Trailing)\")),\"Won\",IF(AND(COUNTIF(E11:F11,\"Won\")=1,OR(G11=\"DNF (Leading)\",G11=\"DNF (Tied)\",G11=\"DNF (Trailing)\")),\"Tied\",IF(OR(E11=\"DNF (Leading)\",E11=\"DNF (Tied)\",E11=\"DNF (Trailing)\"),\"Tied\",IF(AND((E11=\"Lost\"),OR(F11=\"DNF (Leading)\",F11=\"DNF (Tied)\",F11=\"DNF (Trailing)\")),\"Lost\",IF(C12=\"Bye\",\"Bye\",\"\")))))))","v":""},{"$f":"IF(C12=\"Bye\",1,IF(LEN(E11&F11&G11)=0,0,COUNTIF(E11:G11,\"Won\")*1+COUNTIF(E11:G11,\"DNF (Leading)\")*0.67+COUNTIF(E11:G11,\"DNF (Tied)\")*0.5+COUNTIF(E11:G11,\"DNF (Trailing)\")*0.33))","v":0},{"$f":"C12","v":0}]
[null,null,null,{"$f":"IF(ISERROR(VLOOKUP(C12,'Team List'!B:D,3,0)),\"\",VLOOKUP(C12,'Team List'!B:D,2,0))","v":""},{"$f":"IF(E11=\"\",\"\",IF(E11=\"Won\",\"Lost\",IF(E11=\"DNF (Leading)\",\"DNF (Trailing)\",IF(E11=\"DNF (Trailing)\",\"DNF (Leading)\",IF(E11=\"Lost\",\"Won\",E11)))))","v":""},{"$f":"IF(F11=\"\",\"\",IF(F11=\"Won\",\"Lost\",IF(F11=\"DNF (Leading)\",\"DNF (Trailing)\",IF(F11=\"DNF (Trailing)\",\"DNF (Leading)\",IF(F11=\"Lost\",\"Won\",F11)))))","v":""},{"$f":"IF(G11=\"\",\"\",IF(G11=\"Won\",\"Lost\",IF(G11=\"DNF (Leading)\",\"DNF (Trailing)\",IF(G11=\"DNF (Trailing)\",\"DNF (Leading)\",IF(G11=\"Lost\",\"Won\",G11)))))","v":""},{"$f":"IF(H11=\"Won\",\"Lost\",IF(H11=\"Lost\",\"Won\",H11))","v":""},{"$f":"IF(C11=\"Bye\",1,IF(LEN(E12&F12&G12)=0,0,COUNTIF(E12:G12,\"Won\")*1+COUNTIF(E12:G12,\"DNF (Leading)\")*0.67+COUNTIF(E12:G12,\"DNF (Tied)\")*0.5+COUNTIF(E12:G12,\"DNF (Trailing)\")*0.33))","v":0},{"$f":"C11","v":0}]
[6,null,null,{"$f":"IF(ISERROR(VLOOKUP(C13,'Team List'!B:D,3,0)),\"\",VLOOKUP(C13,'Team List'!B:D,2,0))","v":""},null,null,null,{"$f":"IF(COUNTIF(E13:G13,\"Won\")=2,\"Won\",IF(COUNTIF(E13:G13,\"Lost\")=2,\"Lost\",IF(AND((E13=\"Won\"),OR(F13=\"DNF (Leading)\",F13=\"DNF (Tied)\",F13=\"DNF (Trailing)\")),\"Won\",IF(AND(COUNTIF(E13:F13,\"Won\")=1,OR(G13=\"DNF (Leading)\",G13=\"DNF (Tied)\",G13=\"DNF (Trailing)\")),\"Tied\",IF(OR(E13=\"DNF (Leading)\",E13=\"DNF (Tied)\",E13=\"DNF (Trailing)\"),\"Tied\",IF(AND((E13=\"Lost\"),OR(F13=\"DNF (Leading)\",F13=\"DNF (Tied)\",F13=\"DNF (Trailing)\")),\"Lost\",IF(C14=\"Bye\",\"Bye\",\"\")))))))","v":""},{"$f":"IF(C14=\"Bye\",1,IF(LEN(E13&F13&G13)=0,0,COUNTIF(E13:G13,\"Won\")*1+COUNTIF(E13:G13,\"DNF (Leading)\")*0.67+COUNTIF(E13:G13,\"DNF (Tied)\")*0.5+COUNTIF(E13:G13,\"DNF (Trailing)\")*0.33))","v":0},{"$f":"C14","v":0}]
[null,null,null,{"$f":"IF(ISERROR(VLOOKUP(C14,'Team List'!B:D,3,0)),\"\",VLOOKUP(C14,'Team List'!B:D,2,0))","v":""},{"$f":"IF(E13=\"\",\"\",IF(E13=\"Won\",\"Lost\",IF(E13=\"DNF (Leading)\",\"DNF (Trailing)\",IF(E13=\"DNF (Trailing)\",\"DNF (Leading)\",IF(E13=\"Lost\",\"Won\",E13)))))","v":""},{"$f":"IF(F13=\"\",\"\",IF(F13=\"Won\",\"Lost\",IF(F13=\"DNF (Leading)\",\"DNF (Trailing)\",IF(F13=\"DNF (Trailing)\",\"DNF (Leading)\",IF(F13=\"Lost\",\"Won\",F13)))))","v":""},{"$f":"IF(G13=\"\",\"\",IF(G13=\"Won\",\"Lost\",IF(G13=\"DNF (Leading)\",\"DNF (Trailing)\",IF(G13=\"DNF (Trailing)\",\"DNF (Leading)\",IF(G13=\"Lost\",\"Won\",G13)))))","v":""},{"$f":"IF(H13=\"Won\",\"Lost\",IF(H13=\"Lost\",\"Won\",H13))","v":""},{"$f":"IF(C13=\"Bye\",1,IF(LEN(E14&F14&G14)=0,0,COUNTIF(E14:G14,\"Won\")*1+COUNTIF(E14:G14,\"DNF (Leading)\")*0.67+COUNTIF(E14:G14,\"DNF (Tied)\")*0.5+COUNTIF(E14:G14,\"DNF (Trailing)\")*0.33))","v":0},{"$f":"C13","v":0}]
[7,null,null,{"$f":"IF(ISERROR(VLOOKUP(C15,'Team List'!B:D,3,0)),\"\",VLOOKUP(C15,'Team List'!B:D,2,0))","v":""},null,null,null,{"$f":"IF(COUNTIF(E15:G15,\"Won\")=2,\"Won\",IF(COUNTIF(E15:G15,\"Lost\")=2,\"Lost\",IF(AND((E15=\"Won\"),OR(F15=\"DNF (Leading)\",F15=\"DNF (Tied)\",F15=\"DNF (Trailing)\")),\"Won\",IF(AND(COUNTIF(E15:F15,\"Won\")=1,OR(G15=\"DNF (Leading)\",G15=\"DNF (Tied)\",G15=\"DNF (Trailing)\")),\"Tied\",IF(OR(E15=\"DNF (Leading)\",E15=\"DNF (Tied)\",E15=\"DNF (Trailing)\"),\"Tied\",IF(AND((E15=\"Lost\"),OR(F15=\"DNF (Leading)\",F15=\"DNF (Tied)\",F15=\"DNF (Trailing)\")),\"Lost\",IF(C16=\"Bye\",\"Bye\",\"\")))))))","v":""},{"$f":"IF(C16=\"Bye\",1,IF(LEN(E15&F15&G15)=0,0,COUNTIF(E15:G15,\"Won\")*1+COUNTIF(E15:G15,\"DNF (Leading)\")*0.67+COUNTIF(E15:G15,\"DNF (Tied)\")*0.5+COUNTIF(E15:G15,\"DNF (Trailing)\")*0.33))","v":0},{"$f":"C16","v":0}]
[null,null,null,{"$f":"IF(ISERROR(VLOOKUP(C16,'Team List'!B:D,3,0)),\"\",VLOOKUP(C16,'Team List'!B:D,2,0))","v":""},{"$f":"IF(E15=\"\",\"\",IF(E15=\"Won\",\"Lost\",IF(E15=\"DNF (Leading)\",\"DNF (Trailing)\",IF(E15=\"DNF (Trailing)\",\"DNF (Leading)\",IF(E15=\"Lost\",\"Won\",E15)))))","v":""},{"$f":"IF(F15=\"\",\"\",IF(F15=\"Won\",\"Lost\",IF(F15=\"DNF (Leading)\",\"DNF (Trailing)\",IF(F15=\"DNF (Trailing)\",\"DNF (Leading)\",IF(F15=\"Lost\",\"Won\",F15)))))","v":""},{"$f":"IF(G15=\"\",\"\",IF(G15=\"Won\",\"Lost\",IF(G15=\"DNF (Leading)\",\"DNF (Trailing)\",IF(G15=\"DNF (Trailing)\",\"DNF (Leading)\",IF(G15=\"Lost\",\"Won\",G15)))))","v":""},{"$f":"IF(H15=\"Won\",\"Lost\",IF(H15=\"Lost\",\"Won\",H15))","v":""},{"$f":"IF(C15=\"Bye\",1,IF(LEN(E16&F16&G16)=0,0,COUNTIF(E16:G16,\"Won\")*1+COUNTIF(E16:G16,\"DNF (Leading)\")*0.67+COUNTIF(E16:G16,\"DNF (Tied)\")*0.5+COUNTIF(E16:G16,\"DNF (Trailing)\")*0.33))","v":0},{"$f":"C15","v":0}]
[8,null,null,{"$f":"IF(ISERROR(VLOOKUP(C17,'Team List'!B:D,3,0)),\"\",VLOOKUP(C17,'Team List'!B:D,2,0))","v":""},null,null,null,{"$f":"IF(COUNTIF(E17:G17,\"Won\")=2,\"Won\",IF(COUNTIF(E17:G17,\"Lost\")=2,\"Lost\",IF(AND((E17=\"Won\"),OR(F17=\"DNF (Leading)\",F17=\"DNF (Tied)\",F17=\"DNF (Trailing)\")),\"Won\",IF(AND(COUNTIF(E17:F17,\"Won\")=1,OR(G17=\"DNF (Leading)\",G17=\"DNF (Tied)\",G17=\"DNF (Trailing)\")),\"Tied\",IF(OR(E17=\"DNF (Leading)\",E17=\"DNF (Tied)\",E17=\"DNF (Trailing)\"),\"Tied\",IF(AND((E17=\"Lost\"),OR(F17=\"DNF (Leading)\",F17=\"DNF (Tied)\",F17=\"DNF (Trailing)\")),\"Lost\",IF(C18=\"Bye\",\"Bye\",\"\")))))))","v":""},{"$f":"IF(C18=\"Bye\",1,IF(LEN(E17&F17&G17)=0,0,COUNTIF(E17:G17,\"Won\")*1+COUNTIF(E17:G17,\"DNF (Leading)\")*0.67+COUNTIF(E17:G17,\"DNF (Tied)\")*0.5+COUNTIF(E17:G17,\"DNF (Trailing)\")*0.33))","v":0},{"$f":"C18","v":0}]
[null,null,null,{"$f":"IF(ISERROR(VLOOKUP(C18,'Team List'!B:D,3,0)),\"\",VLOOKUP(C18,'Team List'!B:D,2,0))","v":""},{"$f":"IF(E17=\"\",\"\",IF(E17=\"Won\",\"Lost\",IF(E17=\"DNF (Leading)\",\"DNF (Trailing)\",IF(E17=\"DNF (Trailing)\",\"DNF (Leading)\",IF(E17=\"Lost\",\"Won\",E17)))))","v":""},{"$f":"IF(F17=\"\",\"\",IF(F17=\"Won\",\"Lost\",IF(F17=\"DNF (Leading)\",\"DNF (Trailing)\",IF(F17=\"DNF (Trailing)\",\"DNF (Leading)\",IF(F17=\"Lost\",\"Won\",F17)))))","v":""},{"$f":"IF(G17=\"\",\"\",IF(G17=\"Won\",\"Lost\",IF(G17=\"DNF (Leading)\",\"DNF (Trailing)\",IF(G17=\"DNF (Trailing)\",\"DNF (Leading)\",IF(G17=\"Lost\",\"Won\",G17)))))","v":""},{"$f":"IF(H17=\"Won\",\"Lost\",IF(H17=\"Lost\",\"Won\",H17))","v":""},{"$f":"IF(C17=\"Bye\",1,IF(LEN(E18&F18&G18)=0,0,COUNTIF(E18:G18,\"Won\")*1+COUNTIF(E18:G18,\"DNF (Leading)\")*0.67+COUNTIF(E18:G18,\"DNF (Tied)\")*0.5+COUNTIF(E18:G18,\"DNF (Trailing)\")*0.33))","v":0},{"$f":"C17","v":0}]
[9,null,null,{"$f":"IF(ISERROR(VLOOKUP(C19,'Team List'!B:D,3,0)),\"\",VLOOKUP(C19,'Team List'!B:D,2,0))","v":""},null,null,null,{"$f":"IF(COUNTIF(E19:G19,\"Won\")=2,\"Won\",IF(COUNTIF(E19:G19,\"Lost\")=2,\"Lost\",IF(AND((E19=\"Won\"),OR(F19=\"DNF (Leading)\",F19=\"DNF (Tied)\",F19=\"DNF (Trailing)\")),\"Won\",IF(AND(COUNTIF(E19:F19,\"Won\")=1,OR(G19=\"DNF (Leading)\",G19=\"DNF (Tied)\",G19=\"DNF (Trailing)\")),\"Tied\",IF(OR(E19=\"DNF (Leading)\",E19=\"DNF (Tied)\",E19=\"DNF (Trailing)\"),\"Tied\",IF(AND((E19=\"Lost\"),OR(F19=\"DNF (Leading)\",F19=\"DNF (Tied)\",F19=\"DNF (Trailing)\")),\"Lost\",IF(C20=\"Bye\",\"Bye\",\"\")))))))","v":""},{"$f":"IF(C20=\"Bye\",1,IF(LEN(E19&F19&G19)=0,0,COUNTIF(E19:G19,\"Won\")*1+COUNTIF(E19:G19,\"DNF (Leading)\")*0.67+COUNTIF(E19:G19,\"DNF (Tied)\")*0.5+COUNTIF(E19:G19,\"DNF (Trailing)\")*0.33))","v":0},{"$f":"C20","v":0}]
[null,null,null,{"$f":"IF(ISERROR(VLOOKUP(C20,'Team List'!B:D,3,0)),\"\",VLOOKUP(C20,'Team List'!B:D,2,0))","v":""},{"$f":"IF(E19=\"\",\"\",IF(E19=\"Won\",\"Lost\",IF(E19=\"DNF (Leading)\",\"DNF (Trailing)\",IF(E19=\"DNF (Trailing)\",\"DNF (Leading)\",IF(E19=\"Lost\",\"Won\",E19)))))","v":""},{"$f":"IF(F19=\"\",\"\",IF(F19=\"Won\",\"Lost\",IF(F19=\"DNF (Leading)\",\"DNF (Trailing)\",IF(F19=\"DNF (Trailing)\",\"DNF (Leading)\",IF(F19=\"Lost\",\"Won\",F19)))))","v":""},{"$f":"IF(G19=\"\",\"\",IF(G19=\"Won\",\"Lost\",IF(G19=\"DNF (Leading)\",\"DNF (Trailing)\",IF(G19=\"DNF (Trailing)\",\"DNF (Leading)\",IF(G19=\"Lost\",\"Won\",G19)))))","v":""},{"$f":"IF(H19=\"Won\",\"Lost\",IF(H19=\"Lost\",\"Won\",H19))","v":""},{"$f":"IF(C19=\"Bye\",1,IF(LEN(E20&F20&G20)=0,0,COUNTIF(E20:G20,\"Won\")*1+COUNTIF(E20:G20,\"DNF (Leading)\")*0.67+COUNTIF(E20:G20,\"DNF (Tied)\")*0.5+COUNTIF(E20:G20,\"DNF (Trailing)\")*0.33))","v":0},{"$f":"C19","v":0}]
[10,null,null,{"$f":"IF(ISERROR(VLOOKUP(C21,'Team List'!B:D,3,0)),\"\",VLOOKUP(C21,'Team List'!B:D,2,0))","v":""},null,null,null,{"$f":"IF(COUNTIF(E21:G21,\"Won\")=2,\"Won\",IF(COUNTIF(E21:G21,\"Lost\")=2,\"Lost\",IF(AND((E21=\"Won\"),OR(F21=\"DNF (Leading)\",F21=\"DNF (Tied)\",F21=\"DNF (Trailing)\")),\"Won\",IF(AND(COUNTIF(E21:F21,\"Won\")=1,OR(G21=\"DNF (Leading)\",G21=\"DNF (Tied)\",G21=\"DNF (Trailing)\")),\"Tied\",IF(OR(E21=\"DNF (Leading)\",E21=\"DNF (Tied)\",E21=\"DNF (Trailing)\"),\"Tied\",IF(AND((E21=\"Lost\"),OR(F21=\"DNF (Leading)\",F21=\"DNF (Tied)\",F21=\"DNF (Trailing)\")),\"Lost\",IF(C22=\"Bye\",\"Bye\",\"\")))))))","v":""},{"$f":"IF(C22=\"Bye\",1,IF(LEN(E21&F21&G21)=0,0,COUNTIF(E21:G21,\"Won\")*1+COUNTIF(E21:G21,\"DNF (Leading)\")*0.67+COUNTIF(E21:G21,\"DNF (Tied)\")*0.5+COUNTIF(E21:G21,\"DNF (Trailing)\")*0.33))","v":0},{"$f":"C22","v":0}]
[null,null,null,{"$f":"IF(ISERROR(VLOOKUP(C22,'Team List'!B:D,3,0)),\"\",VLOOKUP(C22,'Team List'!B:D,2,0))","v":""},{"$f":"IF(E21=\"\",\"\",IF(E21=\"Won\",\"Lost\",IF(E21=\"DNF (Leading)\",\"DNF (Trailing)\",IF(E21=\"DNF (Trailing)\",\"DNF (Leading)\",IF(E21=\"Lost\",\"Won\",E21)))))","v":""},{"$f":"IF(F21=\"\",\"\",IF(F21=\"Won\",\"Lost\",IF(F21=\"DNF (Leading)\",\"DNF (Trailing)\",IF(F21=\"DNF (Trailing)\",\"DNF (Leading)\",IF(F21=\"Lost\",\"Won\",F21)))))","v":""},{"$f":"IF(G21=\"\",\"\",IF(G21=\"Won\",\"Lost\",IF(G21=\"DNF (Leading)\",\"DNF (Trailing)\",IF(G21=\"DNF (Trailing)\",\"DNF (Leading)\",IF(G21=\"Lost\",\"Won\",G21)))))","v":""},{"$f":"IF(H21=\"Won\",\"Lost\",IF(H21=\"Lost\",\"Won\",H21))","v":""},{"$f":"IF(C21=\"Bye\",1,IF(LEN(E22&F22&G22)=0,0,COUNTIF(E22:G22,\"Won\")*1+COUNTIF(E22:G22,\"DNF (Leading)\")*0.67+COUNTIF(E22:G22,\"DNF (Tied)\")*0.5+COUNTIF(E22:G22,\"DNF (Trailing)\")*0.33))","v":0},{"$f":"C21","v":0}]
[11,null,null,{"$f":"IF(ISERROR(VLOOKUP(C23,'Team List'!B:D,3,0)),\"\",VLOOKUP(C23,'Team List'!B:D,2,0))","v":""},null,null,null,{"$f":"IF(COUNTIF(E23:G23,\"Won\")=2,\"Won\",IF(COUNTIF(E23:G23,\"Lost\")=2,\"Lost\",IF(AND((E23=\"Won\"),OR(F23=\"DNF (Leading)\",F23=\"DNF (Tied)\",F23=\"DNF (Trailing)\")),\"Won\",IF(AND(COUNTIF(E23:F23,\"Won\")=1,OR(G23=\"DNF (Leading)\",G23=\"DNF (Tied)\",G23=\"DNF (Trailing)\")),\"Tied\",IF(OR(E23=\"DNF (Leading)\",E23=\"DNF (Tied)\",E23=\"DNF (Trailing)\"),\"Tied\",IF(AND((E23=\"Lost\"),OR(F23=\"DNF (Leading)\",F23=\"DNF (Tied)\",F23=\"DNF (Trailing)\")),\"Lost\",IF(C24=\"Bye\",\"Bye\",\"\")))))))","v":""},{"$f":"IF(C24=\"Bye\",1,IF(LEN(E23&F23&G23)=0,0,COUNTIF(E23:G23,\"Won\")*1+COUNTIF(E23:G23,\"DNF (Leading)\")*0.67+COUNTIF(E23:G23,\"DNF (Tied)\")*0.5+COUNTIF(E23:G23,\"DNF (Trailing)\")*0.33))","v":0},{"$f":"C24","v":0}]
[null,null,null,{"$f":"IF(ISERROR(VLOOKUP(C24,'Team List'!B:D,3,0)),\"\",VLOOKUP(C24,'Team List'!B:D,2,0))","v":""},{"$f":"IF(E23=\"\",\"\",IF(E23=\"Won\",\"Lost\",IF(E23=\"DNF (Leading)\",\"DNF (Trailing)\",IF(E23=\"DNF (Trailing)\",\"DNF (Leading)\",IF(E23=\"Lost\",\"Won\",E23)))))","v":""},{"$f":"IF(F23=\"\",\"\",IF(F23=\"Won\",\"Lost\",IF(F23=\"DNF (Leading)\",\"DNF (Trailing)\",IF(F23=\"DNF (Trailing)\",\"DNF (Leading)\",IF(F23=\"Lost\",\"Won\",F23)))))","v":""},{"$f":"IF(G23=\"\",\"\",IF(G23=\"Won\",\"Lost\",IF(G23=\"DNF (Leading)\",\"DNF (Trailing)\",IF(G23=\"DNF (Trailing)\",\"DNF (Leading)\",IF(G23=\"Lost\",\"Won\",G23)))))","v":""},{"$f":"IF(H23=\"Won\",\"Lost\",IF(H23=\"Lost\",\"Won\",H23))","v":""},{"$f":"IF(C23=\"Bye\",1,IF(LEN(E24&F24&G24)=0,0,COUNTIF(E24:G24,\"Won\")*1+COUNTIF(E24:G24,\"DNF (Leading)\")*0.67+COUNTIF(E24:G24,\"DNF (Tied)\")*0.5+COUNTIF(E24:G24,\"DNF (Trailing)\")*0.33))","v":0},{"$f":"C23","v":0}]
[12,null,null,{"$f":"IF(ISERROR(VLOOKUP(C25,'Team List'!B:D,3,0)),\"\",VLOOKUP(C25,'Team List'!B:D,2,0))","v":""},null,null,null,{"$f":"IF(COUNTIF(E25:G25,\"Won\")=2,\"Won\",IF(COUNTIF(E25:G25,\"Lost\")=2,\"Lost\",IF(AND((E25=\"Won\"),OR(F25=\"DNF (Leading)\",F25=\"DNF (Tied)\",F25=\"DNF (Trailing)\")),\"Won\",IF(AND(COUNTIF(E25:F25,\"Won\")=1,OR(G25=\"DNF (Leading)\",G25=\"DNF (Tied)\",G25=\"DNF (Trailing)\")),\"Tied\",IF(OR(E25=\"DNF (Leading)\",E25=\"DNF (Tied)\",E25=\"DNF (Trailing)\"),\"Tied\",IF(AND((E25=\"Lost\"),OR(F25=\"DNF (Leading)\",F25=\"DNF (Tied)\",F25=\"DNF (Trailing)\")),\"Lost\",IF(C26=\"Bye\",\"Bye\",\"\")))))))","v":""},{"$f":"IF(C26=\"Bye\",1,IF(LEN(E25&F25&G25)=0,0,COUNTIF(E25:G25,\"Won\")*1+COUNTIF(E25:G25,\"DNF (Leading)\")*0.67+COUNTIF(E25:G25,\"DNF (Tied)\")*0.5+COUNTIF(E25:G25,\"DNF (Trailing)\")*0.33))","v":0},{"$f":"C26","v":0}]
[null,null,null,{"$f":"IF(ISERROR(VLOOKUP(C26,'Team List'!B:D,3,0)),\"\",VLOOKUP(C26,'Team List'!B:D,2,0))","v":""},{"$f":"IF(E25=\"\",\"\",IF(E25=\"Won\",\"Lost\",IF(E25=\"DNF (Leading)\",\"DNF (Trailing)\",IF(E25=\"DNF (Trailing)\",\"DNF (Leading)\",IF(E25=\"Lost\",\"Won\",E25)))))","v":""},{"$f":"IF(F25=\"\",\"\",IF(F25=\"Won\",\"Lost\",IF(F25=\"DNF (Leading)\",\"DNF (Trailing)\",IF(F25=\"DNF (Trailing)\",\"DNF (Leading)\",IF(F25=\"Lost\",\"Won\",F25)))))","v":""},{"$f":"IF(G25=\"\",\"\",IF(G25=\"Won\",\"Lost\",IF(G25=\"DNF (Leading)\",\"DNF (Trailing)\",IF(G25=\"DNF (Trailing)\",\"DNF (Leading)\",IF(G25=\"Lost\",\"Won\",G25)))))","v":""},{"$f":"IF(H25=\"Won\",\"Lost\",IF(H25=\"Lost\",\"Won\",H25))","v":""},{"$f":"IF(C25=\"Bye\",1,IF(LEN(E26&F26&G26)=0,0,COUNTIF(E26:G26,\"Won\")*1+COUNTIF(E26:G26,\"DNF (Leading)\")*0.67+COUNTIF(E26:G26,\"DNF (Tied)\")*0.5+COUNTIF(E26:G26,\"DNF (Trailing)\")*0.33))","v":0},{"$f":"C25","v":0}]
[13,null,null,{"$f":"IF(ISERROR(VLOOKUP(C27,'Team List'!B:D,3,0)),\"\",VLOOKUP(C27,'Team List'!B:D,2,0))","v":""},null,null,null,{"$f":"IF(COUNTIF(E27:G27,\"Won\")=2,\"Won\",IF(COUNTIF(E27:G27,\"Lost\")=2,\"Lost\",IF(AND((E27=\"Won\"),OR(F27=\"DNF (Leading)\",F27=\"DNF (Tied)\",F27=\"DNF (Trailing)\")),\"Won\",IF(AND(COUNTIF(E27:F27,\"Won\")=1,OR(G27=\"DNF (Leading)\",G27=\"DNF (Tied)\",G27=\"DNF (Trailing)\")),\"Tied\",IF(OR(E27=\"DNF (Leading)\",E27=\"DNF (Tied)\",E27=\"DNF (Trailing)\"),\"Tied\",IF(AND((E27=\"Lost\"),OR(F27=\"DNF (Leading)\",F27=\"DNF (Tied)\",F27=\"DNF (Trailing)\")),\"Lost\",IF(C28=\"Bye\",\"Bye\",\"\")))))))","v":""},{"$f":"IF(C28=\"Bye\",1,IF(LEN(E27&F27&G27)=0,0,COUNTIF(E27:G27,\"Won\")*1+COUNTIF(E27:G27,\"DNF (Leading)\")*0.67+COUNTIF(E27:G27,\"DNF (Tied)\")*0.5+COUNTIF(E27:G27,\"DNF (Trailing)\")*0.33))","v":0},{"$f":"C28","v":0}]
[null,null,null,{"$f":"IF(ISERROR(VLOOKUP(C28,'Team List'!B:D,3,0)),\"\",VLOOKUP(C28,'Team List'!B:D,2,0))","v":""},{"$f":"IF(E27=\"\",\"\",IF(E27=\"Won\",\"Lost\",IF(E27=\"DNF (Leading)\",\"DNF (Trailing)\",IF(E27=\"DNF (Trailing)\",\"DNF (Leading)\",IF(E27=\"Lost\",\"Won\",E27)))))","v":""},{"$f":"IF(F27=\"\",\"\",IF(F27=\"Won\",\"Lost\",IF(F27=\"DNF (Leading)\",\"DNF (Trailing)\",IF(F27=\"DNF (Trailing)\",\"DNF (Leading)\",IF(F27=\"Lost\",\"Won\",F27)))))","v":""},{"$f":"IF(G27=\"\",\"\",IF(G27=\"Won\",\"Lost\",IF(G27=\"DNF (Leading)\",\"DNF (Trailing)\",IF(G27=\"DNF (Trailing)\",\"DNF (Leading)\",IF(G27=\"Lost\",\"Won\",G27)))))","v":""},{"$f":"IF(H27=\"Won\",\"Lost\",IF(H27=\"Lost\",\"Won\",H27))","v":""},{"$f":"IF(C27=\"Bye\",1,IF(LEN(E28&F28&G28)=0,0,COUNTIF(E28:G28,\"Won\")*1+COUNTIF(E28:G28,\"DNF (Leading)\")*0.67+COUNTIF(E28:G28,\"DNF (Tied)\")*0.5+COUNTIF(E28:G28,\"DNF (Trailing)\")*0.33))","v":0},{"$f":"C27","v":0}]
[14,null,null,{"$f":"IF(ISERROR(VLOOKUP(C29,'Team List'!B:D,3,0)),\"\",VLOOKUP(C29,'Team List'!B:D,2,0))","v":""},null,null,null,{"$f":"IF(COUNTIF(E29:G29,\"Won\")=2,\"Won\",IF(COUNTIF(E29:G29,\"Lost\")=2,\"Lost\",IF(AND((E29=\"Won\"),OR(F29=\"DNF (Leading)\",F29=\"DNF (Tied)\",F29=\"DNF (Trailing)\")),\"Won\",IF(AND(COUNTIF(E29:F29,\"Won\")=1,OR(G29=\"DNF (Leading)\",G29=\"DNF (Tied)\",G29=\"DNF (Trailing)\")),\"Tied\",IF(OR(E29=\"DNF (Leading)\",E29=\"DNF (Tied)\",E29=\"DNF (Trailing)\"),\"Tied\",IF(AND((E29=\"Lost\"),OR(F29=\"DNF (Leading)\",F29=\"DNF (Tied)\",F29=\"DNF (Trailing)\")),\"Lost\",IF(C30=\"Bye\",\"Bye\",\"\")))))))","v":""},{"$f":"IF(C30=\"Bye\",1,IF(LEN(E29&F29&G29)=0,0,COUNTIF(E29:G29,\"Won\")*1+COUNTIF(E29:G29,\"DNF (Leading)\")*0.67+COUNTIF(E29:G29,\"DNF (Tied)\")*0.5+COUNTIF(E29:G29,\"DNF (Trailing)\")*0.33))","v":0},{"$f":"C30","v":0}]
[null,null,null,{"$f":"IF(ISERROR(VLOOKUP(C30,'Team List'!B:D,3,0)),\"\",VLOOKUP(C30,'Team List'!B:D,2,0))","v":""},{"$f":"IF(E29=\"\",\"\",IF(E29=\"Won\",\"Lost\",IF(E29=\"DNF (Leading)\",\"DNF (Trailing)\",IF(E29=\"DNF (Trailing)\",\"DNF (Leading)\",IF(E29=\"Lost\",\"Won\",E29)))))","v":""},{"$f":"IF(F29=\"\",\"\",IF(F29=\"Won\",\"Lost\",IF(F29=\"DNF (Leading)\",\"DNF (Trailing)\",IF(F29=\"DNF (Trailing)\",\"DNF (Leading)\",IF(F29=\"Lost\",\"Won\",F29)))))","v":""},{"$f":"IF(G29=\"\",\"\",IF(G29=\"Won\",\"Lost\",IF(G29=\"DNF (Leading)\",\"DNF (Trailing)\",IF(G29=\"DNF (Trailing)\",\"DNF (Leading)\",IF(G29=\"Lost\",\"Won\",G29)))))","v":""},{"$f":"IF(H29=\"Won\",\"Lost\",IF(H29=\"Lost\",\"Won\",H29))","v":""},{"$f":"IF(C29=\"Bye\",1,IF(LEN(E30&F30&G30)=0,0,COUNTIF(E30:G30,\"Won\")*1+COUNTIF(E30:G30,\"DNF (Leading)\")*0.67+COUNTIF(E30:G30,\"DNF (Tied)\")*0.5+COUNTIF(E30:G30,\"DNF (Trailing)\")*0.33))","v":0},{"$f":"C29","v":0}]
[15,null,null,{"$f":"IF(ISERROR(VLOOKUP(C31,'Team List'!B:D,3,0)),\"\",VLOOKUP(C31,'Team List'!B:D,2,0))","v":""},null,null,null,{"$f":"IF(COUNTIF(E31:G31,\"Won\")=2,\"Won\",IF(COUNTIF(E31:G31,\"Lost\")=2,\"Lost\",IF(AND((E31=\"Won\"),OR(F31=\"DNF (Leading)\",F31=\"DNF (Tied)\",F31=\"DNF (Trailing)\")),\"Won\",IF(AND(COUNTIF(E31:F31,\"Won\")=1,OR(G31=\"DNF (Leading)\",G31=\"DNF (Tied)\",G31=\"DNF (Trailing)\")),\"Tied\",IF(OR(E31=\"DNF (Leading)\",E31=\"DNF (Tied)\",E31=\"DNF (Trailing)\"),\"Tied\",IF(AND((E31=\"Lost\"),OR(F31=\"DNF (Leading)\",F31=\"DNF (Tied)\",F31=\"DNF (Trailing)\")),\"Lost\",IF(C32=\"Bye\",\"Bye\",\"\")))))))","v":""},{"$f":"IF(C32=\"Bye\",1,IF(LEN(E31&F31&G31)=0,0,COUNTIF(E31:G31,\"Won\")*1+COUNTIF(E31:G31,\"DNF (Leading)\")*0.67+COUNTIF(E31:G31,\"DNF (Tied)\")*0.5+COUNTIF(E31:G31,\"DNF (Trailing)\")*0.33))","v":0},{"$f":"C32","v":0}]
[null,null,null,{"$f":"IF(ISERROR(VLOOKUP(C32,'Team List'!B:D,3,0)),\"\",VLOOKUP(C32,'Team List'!B:D,2,0))","v":""},{"$f":"IF(E31=\"\",\"\",IF(E31=\"Won\",\"Lost\",IF(E31=\"DNF (Leading)\",\"DNF (Trailing)\",IF(E31=\"DNF (Trailing)\",\"DNF (Leading)\",IF(E31=\"Lost\",\"Won\",E31)))))","v":""},{"$f":"IF(F31=\"\",\"\",IF(F31=\"Won\",\"Lost\",IF(F31=\"DNF (Leading)\",\"DNF (Trailing)\",IF(F31=\"DNF (Trailing)\",\"DNF (Leading)\",IF(F31=\"Lost\",\"Won\",F31)))))","v":""},{"$f":"IF(G31=\"\",\"\",IF(G31=\"Won\",\"Lost\",IF(G31=\"DNF (Leading)\",\"DNF (Trailing)\",IF(G31=\"DNF (Trailing)\",\"DNF (Leading)\",IF(G31=\"Lost\",\"Won\",G31)))))","v":""},{"$f":"IF(H31=\"Won\",\"Lost\",IF(H31=\"Lost\",\"Won\",H31))","v":""},{"$f":"IF(C31=\"Bye\",1,IF(LEN(E32&F32&G32)=0,0,COUNTIF(E32:G32,\"Won\")*1+COUNTIF(E32:G32,\"DNF (Leading)\")*0.67+COUNTIF(E32:G32,\"DNF (Tied)\")*0.5+COUNTIF(E32:G32,\"DNF (Trailing)\")*0.33))","v":0},{"$f":"C31","v":0}]
[16,null,null,{"$f":"IF(ISERROR(VLOOKUP(C33,'Team List'!B:D,3,0)),\"\",VLOOKUP(C33,'Team List'!B:D,2,0))","v":""},null,null,null,{"$f":"IF(COUNTIF(E33:G33,\"Won\")=2,\"Won\",IF(COUNTIF(E33:G33,\"Lost\")=2,\"Lost\",IF(AND((E33=\"Won\"),OR(F33=\"DNF (Leading)\",F33=\"DNF (Tied)\",F33=\"DNF (Trailing)\")),\"Won\",IF(AND(COUNTIF(E33:F33,\"Won\")=1,OR(G33=\"DNF (Leading)\",G33=\"DNF (Tied)\",G33=\"DNF (Trailing)\")),\"Tied\",IF(OR(E33=\"DNF (Leading)\",E33=\"DNF (Tied)\",E33=\"DNF (Trailing)\"),\"Tied\",IF(AND((E33=\"Lost\"),OR(F33=\"DNF (Leading)\",F33=\"DNF (Tied)\",F33=\"DNF (Trailing)\")),\"Lost\",IF(C34=\"Bye\",\"Bye\",\"\")))))))","v":""},{"$f":"IF(C34=\"Bye\",1,IF(LEN(E33&F33&G33)=0,0,COUNTIF(E33:G33,\"Won\")*1+COUNTIF(E33:G33,\"DNF (Leading)\")*0.67+COUNTIF(E33:G33,\"DNF (Tied)\")*0.5+COUNTIF(E33:G33,\"DNF (Trailing)\")*0.33))","v":0},{"$f":"C34","v":0}]
[null,null,null,{"$f":"IF(ISERROR(VLOOKUP(C34,'Team List'!B:D,3,0)),\"\",VLOOKUP(C34,'Team List'!B:D,2,0))","v":""},{"$f":"IF(E33=\"\",\"\",IF(E33=\"Won\",\"Lost\",IF(E33=\"DNF (Leading)\",\"DNF (Trailing)\",IF(E33=\"DNF (Trailing)\",\"DNF (Leading)\",IF(E33=\"Lost\",\"Won\",E33)))))","v":""},{"$f":"IF(F33=\"\",\"\",IF(F33=\"Won\",\"Lost\",IF(F33=\"DNF (Leading)\",\"DNF (Trailing)\",IF(F33=\"DNF (Trailing)\",\"DNF (Leading)\",IF(F33=\"Lost\",\"Won\",F33)))))","v":""},{"$f":"IF(G33=\"\",\"\",IF(G33=\"Won\",\"Lost\",IF(G33=\"DNF (Leading)\",\"DNF (Trailing)\",IF(G33=\"DNF (Trailing)\",\"DNF (Leading)\",IF(G33=\"Lost\",\"Won\",G33)))))","v":""},{"$f":"IF(H33=\"Won\",\"Lost\",IF(H33=\"Lost\",\"Won\",H33))","v":""},{"$f":"IF(C33=\"Bye\",1,IF(LEN(E34&F34&G34)=0,0,COUNTIF(E34:G34,\"Won\")*1+COUNTIF(E34:G34,\"DNF (Leading)\")*0.67+COUNTIF(E34:G34,\"DNF (Tied)\")*0.5+COUNTIF(E34:G34,\"DNF (Trailing)\")*0.33))","v":0},{"$f":"C33","v":0}]
[17,null,null,{"$f":"IF(ISERROR(VLOOKUP(C35,'Team List'!B:D,3,0)),\"\",VLOOKUP(C35,'Team List'!B:D,2,0))","v":""},null,null,null,{"$f":"IF(COUNTIF(E35:G35,\"Won\")=2,\"Won\",IF(COUNTIF(E35:G35,\"Lost\")=2,\"Lost\",IF(AND((E35=\"Won\"),OR(F35=\"DNF (Leading)\",F35=\"DNF (Tied)\",F35=\"DNF (Trailing)\")),\"Won\",IF(AND(COUNTIF(E35:F35,\"Won\")=1,OR(G35=\"DNF (Leading)\",G35=\"DNF (Tied)\",G35=\"DNF (Trailing)\")),\"Tied\",IF(OR(E35=\"DNF (Leading)\",E35=\"DNF (Tied)\",E35=\"DNF (Trailing)\"),\"Tied\",IF(AND((E35=\"Lost\"),OR(F35=\"DNF (Leading)\",F35=\"DNF (Tied)\",F35=\"DNF (Trailing)\")),\"Lost\",IF(C36=\"Bye\",\"Bye\",\"\")))))))","v":""},{"$f":"IF(C36=\"Bye\",0,IF(LEN(E35&F35&G35)=0,0,COUNTIF(E35:G35,\"Won\")*1+COUNTIF(E35:G35,\"DNF (Leading)\")*0.67+COUNTIF(E35:G35,\"DNF (Tied)\")*0.5+COUNTIF(E35:G35,\"DNF (Trailing)\")*0.33))","v":0},{"$f":"C36","v":0}]
[null,null,null,{"$f":"IF(ISERROR(VLOOKUP(C36,'Team List'!B:D,3,0)),\"\",VLOOKUP(C36,'Team List'!B:D,2,0))","v":""},{"$f":"IF(E35=\"\",\"\",IF(E35=\"Won\",\"Lost\",IF(E35=\"DNF (Leading)\",\"DNF (Trailing)\",IF(E35=\"DNF (Trailing)\",\"DNF (Leading)\",IF(E35=\"Lost\",\"Won\",E35)))))","v":""},{"$f":"IF(F35=\"\",\"\",IF(F35=\"Won\",\"Lost\",IF(F35=\"DNF (Leading)\",\"DNF (Trailing)\",IF(F35=\"DNF (Trailing)\",\"DNF (Leading)\",IF(F35=\"Lost\",\"Won\",F35)))))","v":""},{"$f":"IF(G35=\"\",\"\",IF(G35=\"Won\",\"Lost\",IF(G35=\"DNF (Leading)\",\"DNF (Trailing)\",IF(G35=\"DNF (Trailing)\",\"DNF (Leading)\",IF(G35=\"Lost\",\"Won\",G35)))))","v":""},{"$f":"IF(H35=\"Won\",\"Lost\",IF(H35=\"Lost\",\"Won\",H35))","v":""},{"$f":"IF(C35=\"Bye\",0,IF(LEN(E36&F36&G36)=0,0,COUNTIF(E36:G36,\"Won\")*1+COUNTIF(E36:G36,\"DNF (Leading)\")*0.67+COUNTIF(E36:G36,\"DNF (Tied)\")*0.5+COUNTIF(E36:G36,\"DNF (Trailing)\")*0.33))","v":0},{"$f":"C35","v":0}]
[18,null,null,{"$f":"IF(ISERROR(VLOOKUP(C37,'Team List'!B:D,3,0)),\"\",VLOOKUP(C37,'Team List'!B:D,2,0))","v":""},null,null,null,{"$f":"IF(COUNTIF(E37:G37,\"Won\")=2,\"Won\",IF(COUNTIF(E37:G37,\"Lost\")=2,\"Lost\",IF(AND((E37=\"Won\"),OR(F37=\"DNF (Leading)\",F37=\"DNF (Tied)\",F37=\"DNF (Trailing)\")),\"Won\",IF(AND(COUNTIF(E37:F37,\"Won\")=1,OR(G37=\"DNF (Leading)\",G37=\"DNF (Tied)\",G37=\"DNF (Trailing)\")),\"Tied\",IF(OR(E37=\"DNF (Leading)\",E37=\"DNF (Tied)\",E37=\"DNF (Trailing)\"),\"Tied\",IF(AND((E37=\"Lost\"),OR(F37=\"DNF (Leading)\",F37=\"DNF (Tied)\",F37=\"DNF (Trailing)\")),\"Lost\",IF(C38=\"Bye\",\"Bye\",\"\")))))))","v":""},{"$f":"IF(C38=\"Bye\",0,IF(LEN(E37&F37&G37)=0,0,COUNTIF(E37:G37,\"Won\")*1+COUNTIF(E37:G37,\"DNF (Leading)\")*0.67+COUNTIF(E37:G37,\"DNF (Tied)\")*0.5+COUNTIF(E37:G37,\"DNF (Trailing)\")*0.33))","v":0},{"$f":"C38","v":0}]
[null,null,null,{"$f":"IF(ISERROR(VLOOKUP(C38,'Team List'!B:D,3,0)),\"\",VLOOKUP(C38,'Team List'!B:D,2,0))","v":""},{"$f":"IF(E37=\"\",\"\",IF(E37=\"Won\",\"Lost\",IF(E37=\"DNF (Leading)\",\"DNF (Trailing)\",IF(E37=\"DNF (Trailing)\",\"DNF (Leading)\",IF(E37=\"Lost\",\"Won\",E37)))))","v":""},{"$f":"IF(F37=\"\",\"\",IF(F37=\"Won\",\"Lost\",IF(F37=\"DNF (Leading)\",\"DNF (Trailing)\",IF(F37=\"DNF (Trailing)\",\"DNF (Leading)\",IF(F37=\"Lost\",\"Won\",F37)))))","v":""},{"$f":"IF(G37=\"\",\"\",IF(G37=\"Won\",\"Lost\",IF(G37=\"DNF (Leading)\",\"DNF (Trailing)\",IF(G37=\"DNF (Trailing)\",\"DNF (Leading)\",IF(G37=\"Lost\",\"Won\",G37)))))","v":""},{"$f":"IF(H37=\"Won\",\"Lost\",IF(H37=\"Lost\",\"Won\",H37))","v":""},{"$f":"IF(C37=\"Bye\",0,IF(LEN(E38&F38&G38)=0,0,COUNTIF(E38:G38,\"Won\")*1+COUNTIF(E38:G38,\"DNF (Leading)\")*0.67+COUNTIF(E38:G38,\"DNF (Tied)\")*0.5+COUNTIF(E38:G38,\"DNF (Trailing)\")*0.33))","v":0},{"$f":"C37","v":0}]
[19,null,null,{"$f":"IF(ISERROR(VLOOKUP(C39,'Team List'!B:D,3,0)),\"\",VLOOKUP(C39,'Team List'!B:D,2,0))","v":""},null,null,null,{"$f":"IF(COUNTIF(E39:G39,\"Won\")=2,\"Won\",IF(COUNTIF(E39:G39,\"Lost\")=2,\"Lost\",IF(AND((E39=\"Won\"),OR(F39=\"DNF (Leading)\",F39=\"DNF (Tied)\",F39=\"DNF (Trailing)\")),\"Won\",IF(AND(COUNTIF(E39:F39,\"Won\")=1,OR(G39=\"DNF (Leading)\",G39=\"DNF (Tied)\",G39=\"DNF (Trailing)\")),\"Tied\",IF(OR(E39=\"DNF (Leading)\",E39=\"DNF (Tied)\",E39=\"DNF (Trailing)\"),\"Tied\",IF(AND((E39=\"Lost\"),OR(F39=\"DNF (Leading)\",F39=\"DNF (Tied)\",F39=\"DNF (Trailing)\")),\"Lost\",IF(C40=\"Bye\",\"Bye\",\"\")))))))","v":""},{"$f":"IF(C40=\"Bye\",0,IF(LEN(E39&F39&G39)=0,0,COUNTIF(E39:G39,\"Won\")*1+COUNTIF(E39:G39,\"DNF (Leading)\")*0.67+COUNTIF(E39:G39,\"DNF (Tied)\")*0.5+COUNTIF(E39:G39,\"DNF (Trailing)\")*0.33))","v":0},{"$f":"C40","v":0}]
[null,null,null,{"$f":"IF(ISERROR(VLOOKUP(C40,'Team List'!B:D,3,0)),\"\",VLOOKUP(C40,'Team List'!B:D,2,0))","v":""},{"$f":"IF(E39=\"\",\"\",IF(E39=\"Won\",\"Lost\",IF(E39=\"DNF (Leading)\",\"DNF (Trailing)\",IF(E39=\"DNF (Trailing)\",\"DNF (Leading)\",IF(E39=\"Lost\",\"Won\",E39)))))","v":""},{"$f":"IF(F39=\"\",\"\",IF(F39=\"Won\",\"Lost\",IF(F39=\"DNF (Leading)\",\"DNF (Trailing)\",IF(F39=\"DNF (Trailing)\",\"DNF (Leading)\",IF(F39=\"Lost\",\"Won\",F39)))))","v":""},{"$f":"IF(G39=\"\",\"\",IF(G39=\"Won\",\"Lost\",IF(G39=\"DNF (Leading)\",\"DNF (Trailing)\",IF(G39=\"DNF (Trailing)\",\"DNF (Leading)\",IF(G39=\"Lost\",\"Won\",G39)))))","v":""},{"$f":"IF(H39=\"Won\",\"Lost\",IF(H39=\"Lost\",\"Won\",H39))","v":""},{"$f":"IF(C39=\"Bye\",0,IF(LEN(E40&F40&G40)=0,0,COUNTIF(E40:G40,\"Won\")*1+COUNTIF(E40:G40,\"DNF (Leading)\")*0.67+COUNTIF(E40:G40,\"DNF (Tied)\")*0.5+COUNTIF(E40:G40,\"DNF (Trailing)\")*0.33))","v":0},{"$f":"C39","v":0}]
[20,null,null,{"$f":"IF(ISERROR(VLOOKUP(C41,'Team List'!B:D,3,0)),\"\",VLOOKUP(C41,'Team List'!B:D,2,0))","v":""},null,null,null,{"$f":"IF(COUNTIF(E41:G41,\"Won\")=2,\"Won\",IF(COUNTIF(E41:G41,\"Lost\")=2,\"Lost\",IF(AND((E41=\"Won\"),OR(F41=\"DNF (Leading)\",F41=\"DNF (Tied)\",F41=\"DNF (Trailing)\")),\"Won\",IF(AND(COUNTIF(E41:F41,\"Won\")=1,OR(G41=\"DNF (Leading)\",G41=\"DNF (Tied)\",G41=\"DNF (Trailing)\")),\"Tied\",IF(OR(E41=\"DNF (Leading)\",E41=\"DNF (Tied)\",E41=\"DNF (Trailing)\"),\"Tied\",IF(AND((E41=\"Lost\"),OR(F41=\"DNF (Leading)\",F41=\"DNF (Tied)\",F41=\"DNF (Trailing)\")),\"Lost\",IF(C42=\"Bye\",\"Bye\",\"\")))))))","v":""},{"$f":"IF(C42=\"Bye\",0,IF(LEN(E41&F41&G41)=0,0,COUNTIF(E41:G41,\"Won\")*1+COUNTIF(E41:G41,\"DNF (Leading)\")*0.67+COUNTIF(E41:G41,\"DNF (Tied)\")*0.5+COUNTIF(E41:G41,\"DNF (Trailing)\")*0.33))","v":0},{"$f":"C42","v":0}]
[null,null,null,{"$f":"IF(ISERROR(VLOOKUP(C42,'Team List'!B:D,3,0)),\"\",VLOOKUP(C42,'Team List'!B:D,2,0))","v":""},{"$f":"IF(E41=\"\",\"\",IF(E41=\"Won\",\"Lost\",IF(E41=\"DNF (Leading)\",\"DNF (Trailing)\",IF(E41=\"DNF (Trailing)\",\"DNF (Leading)\",IF(E41=\"Lost\",\"Won\",E41)))))","v":""},{"$f":"IF(F41=\"\",\"\",IF(F41=\"Won\",\"Lost\",IF(F41=\"DNF (Leading)\",\"DNF (Trailing)\",IF(F41=\"DNF (Trailing)\",\"DNF (Leading)\",IF(F41=\"Lost\",\"Won\",F41)))))","v":""},{"$f":"IF(G41=\"\",\"\",IF(G41=\"Won\",\"Lost\",IF(G41=\"DNF (Leading)\",\"DNF (Trailing)\",IF(G41=\"DNF (Trailing)\",\"DNF (Leading)\",IF(G41=\"Lost\",\"Won\",G41)))))","v":""},{"$f":"IF(H41=\"Won\",\"Lost\",IF(H41=\"Lost\",\"Won\",H41))","v":""},{"$f":"IF(C41=\"Bye\",0,IF(LEN(E42&F42&G42)=0,0,COUNTIF(E42:G42,\"Won\")*1+COUNTIF(E42:G42,\"DNF (Leading)\")*0.67+COUNTIF(E42:G42,\"DNF (Tied)\")*0.5+COUNTIF(E42:G42,\"DNF (Trailing)\")*0.33))","v":0},{"$f":"C41","v":0}]
[21,null,null,{"$f":"IF(ISERROR(VLOOKUP(C43,'Team List'!B:D,3,0)),\"\",VLOOKUP(C43,'Team List'!B:D,2,0))","v":""},null,null,null,{"$f":"IF(COUNTIF(E43:G43,\"Won\")=2,\"Won\",IF(COUNTIF(E43:G43,\"Lost\")=2,\"Lost\",IF(AND((E43=\"Won\"),OR(F43=\"DNF (Leading)\",F43=\"DNF (Tied)\",F43=\"DNF (Trailing)\")),\"Won\",IF(AND(COUNTIF(E43:F43,\"Won\")=1,OR(G43=\"DNF (Leading)\",G43=\"DNF (Tied)\",G43=\"DNF (Trailing)\")),\"Tied\",IF(OR(E43=\"DNF (Leading)\",E43=\"DNF (Tied)\",E43=\"DNF (Trailing)\"),\"Tied\",IF(AND((E43=\"Lost\"),OR(F43=\"DNF (Leading)\",F43=\"DNF (Tied)\",F43=\"DNF (Trailing)\")),\"Lost\",IF(C44=\"Bye\",\"Bye\",\"\")))))))","v":""},{"$f":"IF(C44=\"Bye\",0,IF(LEN(E43&F43&G43)=0,0,COUNTIF(E43:G43,\"Won\")*1+COUNTIF(E43:G43,\"DNF (Leading)\")*0.67+COUNTIF(E43:G43,\"DNF (Tied)\")*0.5+COUNTIF(E43:G43,\"DNF (Trailing)\")*0.33))","v":0},{"$f":"C44","v":0}]
[null,null,null,{"$f":"IF(ISERROR(VLOOKUP(C44,'Team List'!B:D,3,0)),\"\",VLOOKUP(C44,'Team List'!B:D,2,0))","v":""},{"$f":"IF(E43=\"\",\"\",IF(E43=\"Won\",\"Lost\",IF(E43=\"DNF (Leading)\",\"DNF (Trailing)\",IF(E43=\"DNF (Trailing)\",\"DNF (Leading)\",IF(E43=\"Lost\",\"Won\",E43)))))","v":""},{"$f":"IF(F43=\"\",\"\",IF(F43=\"Won\",\"Lost\",IF(F43=\"DNF (Leading)\",\"DNF (Trailing)\",IF(F43=\"DNF (Trailing)\",\"DNF (Leading)\",IF(F43=\"Lost\",\"Won\",F43)))))","v":""},{"$f":"IF(G43=\"\",\"\",IF(G43=\"Won\",\"Lost\",IF(G43=\"DNF (Leading)\",\"DNF (Trailing)\",IF(G43=\"DNF (Trailing)\",\"DNF (Leading)\",IF(G43=\"Lost\",\"Won\",G43)))))","v":""},{"$f":"IF(H43=\"Won\",\"Lost\",IF(H43=\"Lost\",\"Won\",H43))","v":""},{"$f":"IF(C43=\"Bye\",0,IF(LEN(E44&F44&G44)=0,0,COUNTIF(E44:G44,\"Won\")*1+COUNTIF(E44:G44,\"DNF (Leading)\")*0.67+COUNTIF(E44:G44,\"DNF (Tied)\")*0.5+COUNTIF(E44:G44,\"DNF (Trailing)\")*0.33))","v":0},{"$f":"C43","v":0}]
[22,null,null,{"$f":"IF(ISERROR(VLOOKUP(C45,'Team List'!B:D,3,0)),\"\",VLOOKUP(C45,'Team List'!B:D,2,0))","v":""},null,null,null,{"$f":"IF(COUNTIF(E45:G45,\"Won\")=2,\"Won\",IF(COUNTIF(E45:G45,\"Lost\")=2,\"Lost\",IF(AND((E45=\"Won\"),OR(F45=\"DNF (Leading)\",F45=\"DNF (Tied)\",F45=\"DNF (Trailing)\")),\"Won\",IF(AND(COUNTIF(E45:F45,\"Won\")=1,OR(G45=\"DNF (Leading)\",G45=\"DNF (Tied)\",G45=\"DNF (Trailing)\")),\"Tied\",IF(OR(E45=\"DNF (Leading)\",E45=\"DNF (Tied)\",E45=\"DNF (Trailing)\"),\"Tied\",IF(AND((E45=\"Lost\"),OR(F45=\"DNF (Leading)\",F45=\"DNF (Tied)\",F45=\"DNF (Trailing)\")),\"Lost\",IF(C46=\"Bye\",\"Bye\",\"\")))))))","v":""},{"$f":"IF(C46=\"Bye\",0,IF(LEN(E45&F45&G45)=0,0,COUNTIF(E45:G45,\"Won\")*1+COUNTIF(E45:G45,\"DNF (Leading)\")*0.67+COUNTIF(E45:G45,\"DNF (Tied)\")*0.5+COUNTIF(E45:G45,\"DNF (Trailing)\")*0.33))","v":0},{"$f":"C46","v":0}]
[null,null,null,{"$f":"IF(ISERROR(VLOOKUP(C46,'Team List'!B:D,3,0)),\"\",VLOOKUP(C46,'Team List'!B:D,2,0))","v":""},{"$f":"IF(E45=\"\",\"\",IF(E45=\"Won\",\"Lost\",IF(E45=\"DNF (Leading)\",\"DNF (Trailing)\",IF(E45=\"DNF (Trailing)\",\"DNF (Leading)\",IF(E45=\"Lost\",\"Won\",E45)))))","v":""},{"$f":"IF(F45=\"\",\"\",IF(F45=\"Won\",\"Lost\",IF(F45=\"DNF (Leading)\",\"DNF (Trailing)\",IF(F45=\"DNF (Trailing)\",\"DNF (Leading)\",IF(F45=\"Lost\",\"Won\",F45)))))","v":""},{"$f":"IF(G45=\"\",\"\",IF(G45=\"Won\",\"Lost\",IF(G45=\"DNF (Leading)\",\"DNF (Trailing)\",IF(G45=\"DNF (Trailing)\",\"DNF (Leading)\",IF(G45=\"Lost\",\"Won\",G45)))))","v":""},{"$f":"IF(H45=\"Won\",\"Lost\",IF(H45=\"Lost\",\"Won\",H45))","v":""},{"$f":"IF(C45=\"Bye\",0,IF(LEN(E46&F46&G46)=0,0,COUNTIF(E46:G46,\"Won\")*1+COUNTIF(E46:G46,\"DNF (Leading)\")*0.67+COUNTIF(E46:G46,\"DNF (Tied)\")*0.5+COUNTIF(E46:G46,\"DNF (Trailing)\")*0.33))","v":0},{"$f":"C45","v":0}]
[23,null,null,{"$f":"IF(ISERROR(VLOOKUP(C47,'Team List'!B:D,3,0)),\"\",VLOOKUP(C47,'Team List'!B:D,2,0))","v":""},null,null,null,{"$f":"IF(COUNTIF(E47:G47,\"Won\")=2,\"Won\",IF(COUNTIF(E47:G47,\"Lost\")=2,\"Lost\",IF(AND((E47=\"Won\"),OR(F47=\"DNF (Leading)\",F47=\"DNF (Tied)\",F47=\"DNF (Trailing)\")),\"Won\",IF(AND(COUNTIF(E47:F47,\"Won\")=1,OR(G47=\"DNF (Leading)\",G47=\"DNF (Tied)\",G47=\"DNF (Trailing)\")),\"Tied\",IF(OR(E47=\"DNF (Leading)\",E47=\"DNF (Tied)\",E47=\"DNF (Trailing)\"),\"Tied\",IF(AND((E47=\"Lost\"),OR(F47=\"DNF (Leading)\",F47=\"DNF (Tied)\",F47=\"DNF (Trailing)\")),\"Lost\",IF(C48=\"Bye\",\"Bye\",\"\")))))))","v":""},{"$f":"IF(C48=\"Bye\",0,IF(LEN(E47&F47&G47)=0,0,COUNTIF(E47:G47,\"Won\")*1+COUNTIF(E47:G47,\"DNF (Leading)\")*0.67+COUNTIF(E47:G47,\"DNF (Tied)\")*0.5+COUNTIF(E47:G47,\"DNF (Trailing)\")*0.33))","v":0},{"$f":"C48","v":0}]
[null,null,null,{"$f":"IF(ISERROR(VLOOKUP(C48,'Team List'!B:D,3,0)),\"\",VLOOKUP(C48,'Team List'!B:D,2,0))","v":""},{"$f":"IF(E47=\"\",\"\",IF(E47=\"Won\",\"Lost\",IF(E47=\"DNF (Leading)\",\"DNF (Trailing)\",IF(E47=\"DNF (Trailing)\",\"DNF (Leading)\",IF(E47=\"Lost\",\"Won\",E47)))))","v":""},{"$f":"IF(F47=\"\",\"\",IF(F47=\"Won\",\"Lost\",IF(F47=\"DNF (Leading)\",\"DNF (Trailing)\",IF(F47=\"DNF (Trailing)\",\"DNF (Leading)\",IF(F47=\"Lost\",\"Won\",F47)))))","v":""},{"$f":"IF(G47=\"\",\"\",IF(G47=\"Won\",\"Lost\",IF(G47=\"DNF (Leading)\",\"DNF (Trailing)\",IF(G47=\"DNF (Trailing)\",\"DNF (Leading)\",IF(G47=\"Lost\",\"Won\",G47)))))","v":""},{"$f":"IF(H47=\"Won\",\"Lost\",IF(H47=\"Lost\",\"Won\",H47))","v":""},{"$f":"IF(C47=\"Bye\",0,IF(LEN(E48&F48&G48)=0,0,COUNTIF(E48:G48,\"Won\")*1+COUNTIF(E48:G48,\"DNF (Leading)\")*0.67+COUNTIF(E48:G48,\"DNF (Tied)\")*0.5+COUNTIF(E48:G48,\"DNF (Trailing)\")*0.33))","v":0},{"$f":"C47","v":0}]
[24,null,null,{"$f":"IF(ISERROR(VLOOKUP(C49,'Team List'!B:D,3,0)),\"\",VLOOKUP(C49,'Team List'!B:D,2,0))","v":""},null,null,null,{"$f":"IF(COUNTIF(E49:G49,\"Won\")=2,\"Won\",IF(COUNTIF(E49:G49,\"Lost\")=2,\"Lost\",IF(AND((E49=\"Won\"),OR(F49=\"DNF (Leading)\",F49=\"DNF (Tied)\",F49=\"DNF (Trailing)\")),\"Won\",IF(AND(COUNTIF(E49:F49,\"Won\")=1,OR(G49=\"DNF (Leading)\",G49=\"DNF (Tied)\",G49=\"DNF (Trailing)\")),\"Tied\",IF(OR(E49=\"DNF (Leading)\",E49=\"DNF (Tied)\",E49=\"DNF (Trailing)\"),\"Tied\",IF(AND((E49=\"Lost\"),OR(F49=\"DNF (Leading)\",F49=\"DNF (Tied)\",F49=\"DNF (Trailing)\")),\"Lost\",IF(C50=\"Bye\",\"Bye\",\"\")))))))","v":""},{"$f":"IF(C50=\"Bye\",0,IF(LEN(E49&F49&G49)=0,0,COUNTIF(E49:G49,\"Won\")*1+COUNTIF(E49:G49,\"DNF (Leading)\")*0.67+COUNTIF(E49:G49,\"DNF (Tied)\")*0.5+COUNTIF(E49:G49,\"DNF (Trailing)\")*0.33))","v":0},{"$f":"C50","v":0}]
[null,null,null,{"$f":"IF(ISERROR(VLOOKUP(C50,'Team List'!B:D,3,0)),\"\",VLOOKUP(C50,'Team List'!B:D,2,0))","v":""},{"$f":"IF(E49=\"\",\"\",IF(E49=\"Won\",\"Lost\",IF(E49=\"DNF (Leading)\",\"DNF (Trailing)\",IF(E49=\"DNF (Trailing)\",\"DNF (Leading)\",IF(E49=\"Lost\",\"Won\",E49)))))","v":""},{"$f":"IF(F49=\"\",\"\",IF(F49=\"Won\",\"Lost\",IF(F49=\"DNF (Leading)\",\"DNF (Trailing)\",IF(F49=\"DNF (Trailing)\",\"DNF (Leading)\",IF(F49=\"Lost\",\"Won\",F49)))))","v":""},{"$f":"IF(G49=\"\",\"\",IF(G49=\"Won\",\"Lost\",IF(G49=\"DNF (Leading)\",\"DNF (Trailing)\",IF(G49=\"DNF (Trailing)\",\"DNF (Leading)\",IF(G49=\"Lost\",\"Won\",G49)))))","v":""},{"$f":"IF(H49=\"Won\",\"Lost\",IF(H49=\"Lost\",\"Won\",H49))","v":""},{"$f":"IF(C49=\"Bye\",0,IF(LEN(E50&F50&G50)=0,0,COUNTIF(E50:G50,\"Won\")*1+COUNTIF(E50:G50,\"DNF (Leading)\")*0.67+COUNTIF(E50:G50,\"DNF (Tied)\")*0.5+COUNTIF(E50:G50,\"DNF (Trailing)\")*0.33))","v":0},{"$f":"C49","v":0}]
[25,null,null,{"$f":"IF(ISERROR(VLOOKUP(C51,'Team List'!B:D,3,0)),\"\",VLOOKUP(C51,'Team List'!B:D,2,0))","v":""},null,null,null,{"$f":"IF(COUNTIF(E51:G51,\"Won\")=2,\"Won\",IF(COUNTIF(E51:G51,\"Lost\")=2,\"Lost\",IF(AND((E51=\"Won\"),OR(F51=\"DNF (Leading)\",F51=\"DNF (Tied)\",F51=\"DNF (Trailing)\")),\"Won\",IF(AND(COUNTIF(E51:F51,\"Won\")=1,OR(G51=\"DNF (Leading)\",G51=\"DNF (Tied)\",G51=\"DNF (Trailing)\")),\"Tied\",IF(OR(E51=\"DNF (Leading)\",E51=\"DNF (Tied)\",E51=\"DNF (Trailing)\"),\"Tied\",IF(AND((E51=\"Lost\"),OR(F51=\"DNF (Leading)\",F51=\"DNF (Tied)\",F51=\"DNF (Trailing)\")),\"Lost\",IF(C52=\"Bye\",\"Bye\",\"\")))))))","v":""},{"$f":"IF(C52=\"Bye\",0,IF(LEN(E51&F51&G51)=0,0,COUNTIF(E51:G51,\"Won\")*1+COUNTIF(E51:G51,\"DNF (Leading)\")*0.67+COUNTIF(E51:G51,\"DNF (Tied)\")*0.5+COUNTIF(E51:G51,\"DNF (Trailing)\")*0.33))","v":0},{"$f":"C52","v":0}]
[null,null,null,{"$f":"IF(ISERROR(VLOOKUP(C52,'Team List'!B:D,3,0)),\"\",VLOOKUP(C52,'Team List'!B:D,2,0))","v":""},{"$f":"IF(E51=\"\",\"\",IF(E51=\"Won\",\"Lost\",IF(E51=\"DNF (Leading)\",\"DNF (Trailing)\",IF(E51=\"DNF (Trailing)\",\"DNF (Leading)\",IF(E51=\"Lost\",\"Won\",E51)))))","v":""},{"$f":"IF(F51=\"\",\"\",IF(F51=\"Won\",\"Lost\",IF(F51=\"DNF (Leading)\",\"DNF (Trailing)\",IF(F51=\"DNF (Trailing)\",\"DNF (Leading)\",IF(F51=\"Lost\",\"Won\",F51)))))","v":""},{"$f":"IF(G51=\"\",\"\",IF(G51=\"Won\",\"Lost\",IF(G51=\"DNF (Leading)\",\"DNF (Trailing)\",IF(G51=\"DNF (Trailing)\",\"DNF (Leading)\",IF(G51=\"Lost\",\"Won\",G51)))))","v":""},{"$f":"IF(H51=\"Won\",\"Lost\",IF(H51=\"Lost\",\"Won\",H51))","v":""},{"$f":"IF(C51=\"Bye\",0,IF(LEN(E52&F52&G52)=0,0,COUNTIF(E52:G52,\"Won\")*1+COUNTIF(E52:G52,\"DNF (Leading)\")*0.67+COUNTIF(E52:G52,\"DNF (Tied)\")*0.5+COUNTIF(E52:G52,\"DNF (Trailing)\")*0.33))","v":0},{"$f":"C51","v":0}]
[26,null,null,{"$f":"IF(ISERROR(VLOOKUP(C53,'Team List'!B:D,3,0)),\"\",VLOOKUP(C53,'Team List'!B:D,2,0))","v":""},null,null,null,{"$f":"IF(COUNTIF(E53:G53,\"Won\")=2,\"Won\",IF(COUNTIF(E53:G53,\"Lost\")=2,\"Lost\",IF(AND((E53=\"Won\"),OR(F53=\"DNF (Leading)\",F53=\"DNF (Tied)\",F53=\"DNF (Trailing)\")),\"Won\",IF(AND(COUNTIF(E53:F53,\"Won\")=1,OR(G53=\"DNF (Leading)\",G53=\"DNF (Tied)\",G53=\"DNF (Trailing)\")),\"Tied\",IF(OR(E53=\"DNF (Leading)\",E53=\"DNF (Tied)\",E53=\"DNF (Trailing)\"),\"Tied\",IF(AND((E53=\"Lost\"),OR(F53=\"DNF (Leading)\",F53=\"DNF (Tied)\",F53=\"DNF (Trailing)\")),\"Lost\",IF(C54=\"Bye\",\"Bye\",\"\")))))))","v":""},{"$f":"IF(C54=\"Bye\",0,IF(LEN(E53&F53&G53)=0,0,COUNTIF(E53:G53,\"Won\")*1+COUNTIF(E53:G53,\"DNF (Leading)\")*0.67+COUNTIF(E53:G53,\"DNF (Tied)\")*0.5+COUNTIF(E53:G53,\"DNF (Trailing)\")*0.33))","v":0},{"$f":"C54","v":0}]
[null,null,null,{"$f":"IF(ISERROR(VLOOKUP(C54,'Team List'!B:D,3,0)),\"\",VLOOKUP(C54,'Team List'!B:D,2,0))","v":""},{"$f":"IF(E53=\"\",\"\",IF(E53=\"Won\",\"Lost\",IF(E53=\"DNF (Leading)\",\"DNF (Trailing)\",IF(E53=\"DNF (Trailing)\",\"DNF (Leading)\",IF(E53=\"Lost\",\"Won\",E53)))))","v":""},{"$f":"IF(F53=\"\",\"\",IF(F53=\"Won\",\"Lost\",IF(F53=\"DNF (Leading)\",\"DNF (Trailing)\",IF(F53=\"DNF (Trailing)\",\"DNF (Leading)\",IF(F53=\"Lost\",\"Won\",F53)))))","v":""},{"$f":"IF(G53=\"\",\"\",IF(G53=\"Won\",\"Lost\",IF(G53=\"DNF (Leading)\",\"DNF (Trailing)\",IF(G53=\"DNF (Trailing)\",\"DNF (Leading)\",IF(G53=\"Lost\",\"Won\",G53)))))","v":""},{"$f":"IF(H53=\"Won\",\"Lost\",IF(H53=\"Lost\",\"Won\",H53))","v":""},{"$f":"IF(C53=\"Bye\",0,IF(LEN(E54&F54&G54)=0,0,COUNTIF(E54:G54,\"Won\")*1+COUNTIF(E54:G54,\"DNF (Leading)\")*0.67+COUNTIF(E54:G54,\"DNF (Tied)\")*0.5+COUNTIF(E54:G54,\"DNF (Trailing)\")*0.33))","v":0},{"$f":"C53","v":0}]
[27,null,null,{"$f":"IF(ISERROR(VLOOKUP(C55,'Team List'!B:D,3,0)),\"\",VLOOKUP(C55,'Team List'!B:D,2,0))","v":""},null,null,null,{"$f":"IF(COUNTIF(E55:G55,\"Won\")=2,\"Won\",IF(COUNTIF(E55:G55,\"Lost\")=2,\"Lost\",IF(AND((E55=\"Won\"),OR(F55=\"DNF (Leading)\",F55=\"DNF (Tied)\",F55=\"DNF (Trailing)\")),\"Won\",IF(AND(COUNTIF(E55:F55,\"Won\")=1,OR(G55=\"DNF (Leading)\",G55=\"DNF (Tied)\",G55=\"DNF (Trailing)\")),\"Tied\",IF(OR(E55=\"DNF (Leading)\",E55=\"DNF (Tied)\",E55=\"DNF (Trailing)\"),\"Tied\",IF(AND((E55=\"Lost\"),OR(F55=\"DNF (Leading)\",F55=\"DNF (Tied)\",F55=\"DNF (Trailing)\")),\"Lost\",IF(C56=\"Bye\",\"Bye\",\"\")))))))","v":""},{"$f":"IF(C56=\"Bye\",0,IF(LEN(E55&F55&G55)=0,0,COUNTIF(E55:G55,\"Won\")*1+COUNTIF(E55:G55,\"DNF (Leading)\")*0.67+COUNTIF(E55:G55,\"DNF (Tied)\")*0.5+COUNTIF(E55:G55,\"DNF (Trailing)\")*0.33))","v":0},{"$f":"C56","v":0}]
[null,null,null,{"$f":"IF(ISERROR(VLOOKUP(C56,'Team List'!B:D,3,0)),\"\",VLOOKUP(C56,'Team List'!B:D,2,0))","v":""},{"$f":"IF(E55=\"\",\"\",IF(E55=\"Won\",\"Lost\",IF(E55=\"DNF (Leading)\",\"DNF (Trailing)\",IF(E55=\"DNF (Trailing)\",\"DNF (Leading)\",IF(E55=\"Lost\",\"Won\",E55)))))","v":""},{"$f":"IF(F55=\"\",\"\",IF(F55=\"Won\",\"Lost\",IF(F55=\"DNF (Leading)\",\"DNF (Trailing)\",IF(F55=\"DNF (Trailing)\",\"DNF (Leading)\",IF(F55=\"Lost\",\"Won\",F55)))))","v":""},{"$f":"IF(G55=\"\",\"\",IF(G55=\"Won\",\"Lost\",IF(G55=\"DNF (Leading)\",\"DNF (Trailing)\",IF(G55=\"DNF (Trailing)\",\"DNF (Leading)\",IF(G55=\"Lost\",\"Won\",G55)))))","v":""},{"$f":"IF(H55=\"Won\",\"Lost\",IF(H55=\"Lost\",\"Won\",H55))","v":""},{"$f":"IF(C55=\"Bye\",0,IF(LEN(E56&F56&G56)=0,0,COUNTIF(E56:G56,\"Won\")*1+COUNTIF(E56:G56,\"DNF (Leading)\")*0.67+COUNTIF(E56:G56,\"DNF (Tied)\")*0.5+COUNTIF(E56:G56,\"DNF (Trailing)\")*0.33))","v":0},{"$f":"C55","v":0}]
[28,null,null,{"$f":"IF(ISERROR(VLOOKUP(C57,'Team List'!B:D,3,0)),\"\",VLOOKUP(C57,'Team List'!B:D,2,0))","v":""},null,null,null,{"$f":"IF(COUNTIF(E57:G57,\"Won\")=2,\"Won\",IF(COUNTIF(E57:G57,\"Lost\")=2,\"Lost\",IF(AND((E57=\"Won\"),OR(F57=\"DNF (Leading)\",F57=\"DNF (Tied)\",F57=\"DNF (Trailing)\")),\"Won\",IF(AND(COUNTIF(E57:F57,\"Won\")=1,OR(G57=\"DNF (Leading)\",G57=\"DNF (Tied)\",G57=\"DNF (Trailing)\")),\"Tied\",IF(OR(E57=\"DNF (Leading)\",E57=\"DNF (Tied)\",E57=\"DNF (Trailing)\"),\"Tied\",IF(AND((E57=\"Lost\"),OR(F57=\"DNF (Leading)\",F57=\"DNF (Tied)\",F57=\"DNF (Trailing)\")),\"Lost\",IF(C58=\"Bye\",\"Bye\",\"\")))))))","v":""},{"$f":"IF(C58=\"Bye\",0,IF(LEN(E57&F57&G57)=0,0,COUNTIF(E57:G57,\"Won\")*1+COUNTIF(E57:G57,\"DNF (Leading)\")*0.67+COUNTIF(E57:G57,\"DNF (Tied)\")*0.5+COUNTIF(E57:G57,\"DNF (Trailing)\")*0.33))","v":0},{"$f":"C58","v":0}]
[null,null,null,{"$f":"IF(ISERROR(VLOOKUP(C58,'Team List'!B:D,3,0)),\"\",VLOOKUP(C58,'Team List'!B:D,2,0))","v":""},{"$f":"IF(E57=\"\",\"\",IF(E57=\"Won\",\"Lost\",IF(E57=\"DNF (Leading)\",\"DNF (Trailing)\",IF(E57=\"DNF (Trailing)\",\"DNF (Leading)\",IF(E57=\"Lost\",\"Won\",E57)))))","v":""},{"$f":"IF(F57=\"\",\"\",IF(F57=\"Won\",\"Lost\",IF(F57=\"DNF (Leading)\",\"DNF (Trailing)\",IF(F57=\"DNF (Trailing)\",\"DNF (Leading)\",IF(F57=\"Lost\",\"Won\",F57)))))","v":""},{"$f":"IF(G57=\"\",\"\",IF(G57=\"Won\",\"Lost\",IF(G57=\"DNF (Leading)\",\"DNF (Trailing)\",IF(G57=\"DNF (Trailing)\",\"DNF (Leading)\",IF(G57=\"Lost\",\"Won\",G57)))))","v":""},{"$f":"IF(H57=\"Won\",\"Lost\",IF(H57=\"Lost\",\"Won\",H57))","v":""},{"$f":"IF(C57=\"Bye\",0,IF(LEN(E58&F58&G58)=0,0,COUNTIF(E58:G58,\"Won\")*1+COUNTIF(E58:G58,\"DNF (Leading)\")*0.67+COUNTIF(E58:G58,\"DNF (Tied)\")*0.5+COUNTIF(E58:G58,\"DNF (Trailing)\")*0.33))","v":0},{"$f":"C57","v":0}]
[29,null,null,{"$f":"IF(ISERROR(VLOOKUP(C59,'Team List'!B:D,3,0)),\"\",VLOOKUP(C59,'Team List'!B:D,2,0))","v":""},null,null,null,{"$f":"IF(COUNTIF(E59:G59,\"Won\")=2,\"Won\",IF(COUNTIF(E59:G59,\"Lost\")=2,\"Lost\",IF(AND((E59=\"Won\"),OR(F59=\"DNF (Leading)\",F59=\"DNF (Tied)\",F59=\"DNF (Trailing)\")),\"Won\",IF(AND(COUNTIF(E59:F59,\"Won\")=1,OR(G59=\"DNF (Leading)\",G59=\"DNF (Tied)\",G59=\"DNF (Trailing)\")),\"Tied\",IF(OR(E59=\"DNF (Leading)\",E59=\"DNF (Tied)\",E59=\"DNF (Trailing)\"),\"Tied\",IF(AND((E59=\"Lost\"),OR(F59=\"DNF (Leading)\",F59=\"DNF (Tied)\",F59=\"DNF (Trailing)\")),\"Lost\",IF(C60=\"Bye\",\"Bye\",\"\")))))))","v":""},{"$f":"IF(C60=\"Bye\",0,IF(LEN(E59&F59&G59)=0,0,COUNTIF(E59:G59,\"Won\")*1+COUNTIF(E59:G59,\"DNF (Leading)\")*0.67+COUNTIF(E59:G59,\"DNF (Tied)\")*0.5+COUNTIF(E59:G59,\"DNF (Trailing)\")*0.33))","v":0},{"$f":"C60","v":0}]
[null,null,null,{"$f":"IF(ISERROR(VLOOKUP(C60,'Team List'!B:D,3,0)),\"\",VLOOKUP(C60,'Team List'!B:D,2,0))","v":""},{"$f":"IF(E59=\"\",\"\",IF(E59=\"Won\",\"Lost\",IF(E59=\"DNF (Leading)\",\"DNF (Trailing)\",IF(E59=\"DNF (Trailing)\",\"DNF (Leading)\",IF(E59=\"Lost\",\"Won\",E59)))))","v":""},{"$f":"IF(F59=\"\",\"\",IF(F59=\"Won\",\"Lost\",IF(F59=\"DNF (Leading)\",\"DNF (Trailing)\",IF(F59=\"DNF (Trailing)\",\"DNF (Leading)\",IF(F59=\"Lost\",\"Won\",F59)))))","v":""},{"$f":"IF(G59=\"\",\"\",IF(G59=\"Won\",\"Lost\",IF(G59=\"DNF (Leading)\",\"DNF (Trailing)\",IF(G59=\"DNF (Trailing)\",\"DNF (Leading)\",IF(G59=\"Lost\",\"Won\",G59)))))","v":""},{"$f":"IF(H59=\"Won\",\"Lost\",IF(H59=\"Lost\",\"Won\",H59))","v":""},{"$f":"IF(C59=\"Bye\",0,IF(LEN(E60&F60&G60)=0,0,COUNTIF(E60:G60,\"Won\")*1+COUNTIF(E60:G60,\"DNF (Leading)\")*0.67+COUNTIF(E60:G60,\"DNF (Tied)\")*0.5+COUNTIF(E60:G60,\"DNF (Trailing)\")*0.33))","v":0},{"$f":"C59","v":0}]
[30,null,null,{"$f":"IF(ISERROR(VLOOKUP(C61,'Team List'!B:D,3,0)),\"\",VLOOKUP(C61,'Team List'!B:D,2,0))","v":""},null,null,null,{"$f":"IF(COUNTIF(E61:G61,\"Won\")=2,\"Won\",IF(COUNTIF(E61:G61,\"Lost\")=2,\"Lost\",IF(AND((E61=\"Won\"),OR(F61=\"DNF (Leading)\",F61=\"DNF (Tied)\",F61=\"DNF (Trailing)\")),\"Won\",IF(AND(COUNTIF(E61:F61,\"Won\")=1,OR(G61=\"DNF (Leading)\",G61=\"DNF (Tied)\",G61=\"DNF (Trailing)\")),\"Tied\",IF(OR(E61=\"DNF (Leading)\",E61=\"DNF (Tied)\",E61=\"DNF (Trailing)\"),\"Tied\",IF(AND((E61=\"Lost\"),OR(F61=\"DNF (Leading)\",F61=\"DNF (Tied)\",F61=\"DNF (Trailing)\")),\"Lost\",IF(C62=\"Bye\",\"Bye\",\"\")))))))","v":""},{"$f":"IF(C62=\"Bye\",0,IF(LEN(E61&F61&G61)=0,0,COUNTIF(E61:G61,\"Won\")*1+COUNTIF(E61:G61,\"DNF (Leading)\")*0.67+COUNTIF(E61:G61,\"DNF (Tied)\")*0.5+COUNTIF(E61:G61,\"DNF (Trailing)\")*0.33))","v":0},{"$f":"C62","v":0}]
[null,null,null,{"$f":"IF(ISERROR(VLOOKUP(C62,'Team List'!B:D,3,0)),\"\",VLOOKUP(C62,'Team List'!B:D,2,0))","v":""},{"$f":"IF(E61=\"\",\"\",IF(E61=\"Won\",\"Lost\",IF(E61=\"DNF (Leading)\",\"DNF (Trailing)\",IF(E61=\"DNF (Trailing)\",\"DNF (Leading)\",IF(E61=\"Lost\",\"Won\",E61)))))","v":""},{"$f":"IF(F61=\"\",\"\",IF(F61=\"Won\",\"Lost\",IF(F61=\"DNF (Leading)\",\"DNF (Trailing)\",IF(F61=\"DNF (Trailing)\",\"DNF (Leading)\",IF(F61=\"Lost\",\"Won\",F61)))))","v":""},{"$f":"IF(G61=\"\",\"\",IF(G61=\"Won\",\"Lost\",IF(G61=\"DNF (Leading)\",\"DNF (Trailing)\",IF(G61=\"DNF (Trailing)\",\"DNF (Leading)\",IF(G61=\"Lost\",\"Won\",G61)))))","v":""},{"$f":"IF(H61=\"Won\",\"Lost\",IF(H61=\"Lost\",\"Won\",H61))","v":""},{"$f":"IF(C61=\"Bye\",0,IF(LEN(E62&F62&G62)=0,0,COUNTIF(E62:G62,\"Won\")*1+COUNTIF(E62:G62,\"DNF (Leading)\")*0.67+COUNTIF(E62:G62,\"DNF (Tied)\")*0.5+COUNTIF(E62:G62,\"DNF (Trailing)\")*0.33))","v":0},{"$f":"C61","v":0}]
[31,null,null,{"$f":"IF(ISERROR(VLOOKUP(C63,'Team List'!B:D,3,0)),\"\",VLOOKUP(C63,'Team List'!B:D,2,0))","v":""},null,null,null,{"$f":"IF(COUNTIF(E63:G63,\"Won\")=2,\"Won\",IF(COUNTIF(E63:G63,\"Lost\")=2,\"Lost\",IF(AND((E63=\"Won\"),OR(F63=\"DNF (Leading)\",F63=\"DNF (Tied)\",F63=\"DNF (Trailing)\")),\"Won\",IF(AND(COUNTIF(E63:F63,\"Won\")=1,OR(G63=\"DNF (Leading)\",G63=\"DNF (Tied)\",G63=\"DNF (Trailing)\")),\"Tied\",IF(OR(E63=\"DNF (Leading)\",E63=\"DNF (Tied)\",E63=\"DNF (Trailing)\"),\"Tied\",IF(AND((E63=\"Lost\"),OR(F63=\"DNF (Leading)\",F63=\"DNF (Tied)\",F63=\"DNF (Trailing)\")),\"Lost\",IF(C64=\"Bye\",\"Bye\",\"\")))))))","v":""},{"$f":"IF(C64=\"Bye\",0,IF(LEN(E63&F63&G63)=0,0,COUNTIF(E63:G63,\"Won\")*1+COUNTIF(E63:G63,\"DNF (Leading)\")*0.67+COUNTIF(E63:G63,\"DNF (Tied)\")*0.5+COUNTIF(E63:G63,\"DNF (Trailing)\")*0.33))","v":0},{"$f":"C64","v":0}]
[null,null,null,{"$f":"IF(ISERROR(VLOOKUP(C64,'Team List'!B:D,3,0)),\"\",VLOOKUP(C64,'Team List'!B:D,2,0))","v":""},{"$f":"IF(E63=\"\",\"\",IF(E63=\"Won\",\"Lost\",IF(E63=\"DNF (Leading)\",\"DNF (Trailing)\",IF(E63=\"DNF (Trailing)\",\"DNF (Leading)\",IF(E63=\"Lost\",\"Won\",E63)))))","v":""},{"$f":"IF(F63=\"\",\"\",IF(F63=\"Won\",\"Lost\",IF(F63=\"DNF (Leading)\",\"DNF (Trailing)\",IF(F63=\"DNF (Trailing)\",\"DNF (Leading)\",IF(F63=\"Lost\",\"Won\",F63)))))","v":""},{"$f":"IF(G63=\"\",\"\",IF(G63=\"Won\",\"Lost\",IF(G63=\"DNF (Leading)\",\"DNF (Trailing)\",IF(G63=\"DNF (Trailing)\",\"DNF (Leading)\",IF(G63=\"Lost\",\"Won\",G63)))))","v":""},{"$f":"IF(H63=\"Won\",\"Lost\",IF(H63=\"Lost\",\"Won\",H63))","v":""},{"$f":"IF(C63=\"Bye\",0,IF(LEN(E64&F64&G64)=0,0,COUNTIF(E64:G64,\"Won\")*1+COUNTIF(E64:G64,\"DNF (Leading)\")*0.67+COUNTIF(E64:G64,\"DNF (Tied)\")*0.5+COUNTIF(E64:G64,\"DNF (Trailing)\")*0.33))","v":0},{"$f":"C63","v":0}]
[32,null,null,{"$f":"IF(ISERROR(VLOOKUP(C65,'Team List'!B:D,3,0)),\"\",VLOOKUP(C65,'Team List'!B:D,2,0))","v":""},null,null,null,{"$f":"IF(COUNTIF(E65:G65,\"Won\")=2,\"Won\",IF(COUNTIF(E65:G65,\"Lost\")=2,\"Lost\",IF(AND((E65=\"Won\"),OR(F65=\"DNF (Leading)\",F65=\"DNF (Tied)\",F65=\"DNF (Trailing)\")),\"Won\",IF(AND(COUNTIF(E65:F65,\"Won\")=1,OR(G65=\"DNF (Leading)\",G65=\"DNF (Tied)\",G65=\"DNF (Trailing)\")),\"Tied\",IF(OR(E65=\"DNF (Leading)\",E65=\"DNF (Tied)\",E65=\"DNF (Trailing)\"),\"Tied\",IF(AND((E65=\"Lost\"),OR(F65=\"DNF (Leading)\",F65=\"DNF (Tied)\",F65=\"DNF (Trailing)\")),\"Lost\",IF(C66=\"Bye\",\"Bye\",\"\")))))))","v":""},{"$f":"IF(C66=\"Bye\",0,IF(LEN(E65&F65&G65)=0,0,COUNTIF(E65:G65,\"Won\")*1+COUNTIF(E65:G65,\"DNF (Leading)\")*0.67+COUNTIF(E65:G65,\"DNF (Tied)\")*0.5+COUNTIF(E65:G65,\"DNF (Trailing)\")*0.33))","v":0},{"$f":"C66","v":0}]
[null,null,null,{"$f":"IF(ISERROR(VLOOKUP(C66,'Team List'!B:D,3,0)),\"\",VLOOKUP(C66,'Team List'!B:D,2,0))","v":""},{"$f":"IF(E65=\"\",\"\",IF(E65=\"Won\",\"Lost\",IF(E65=\"DNF (Leading)\",\"DNF (Trailing)\",IF(E65=\"DNF (Trailing)\",\"DNF (Leading)\",IF(E65=\"Lost\",\"Won\",E65)))))","v":""},{"$f":"IF(F65=\"\",\"\",IF(F65=\"Won\",\"Lost\",IF(F65=\"DNF (Leading)\",\"DNF (Trailing)\",IF(F65=\"DNF (Trailing)\",\"DNF (Leading)\",IF(F65=\"Lost\",\"Won\",F65)))))","v":""},{"$f":"IF(G65=\"\",\"\",IF(G65=\"Won\",\"Lost\",IF(G65=\"DNF (Leading)\",\"DNF (Trailing)\",IF(G65=\"DNF (Trailing)\",\"DNF (Leading)\",IF(G65=\"Lost\",\"Won\",G65)))))","v":""},{"$f":"IF(H65=\"Won\",\"Lost\",IF(H65=\"Lost\",\"Won\",H65))","v":""},{"$f":"IF(C65=\"Bye\",0,IF(LEN(E66&F66&G66)=0,0,COUNTIF(E66:G66,\"Won\")*1+COUNTIF(E66:G66,\"DNF (Leading)\")*0.67+COUNTIF(E66:G66,\"DNF (Tied)\")*0.5+COUNTIF(E66:G66,\"DNF (Trailing)\")*0.33))","v":0},{"$f":"C65","v":0}]

{"sheet":"Round Nine","index":13,"n_rows":66,"n_cols":10,"rows_kept":66,"cut":false,"hidden":false,"merged":[[22,0,23,0],[0,0,0,5],[2,0,3,0],[4,0,5,0],[6,0,7,0],[8,0,9,0],[10,0,11,0],[12,0,13,0],[14,0,15,0],[16,0,17,0],[18,0,19,0],[20,0,21,0],[46,0,47,0],[24,0,25,0],[26,0,27,0],[28,0,29,0],[30,0,31,0],[32,0,33,0],[34,0,35,0],[36,0,37,0],[38,0,39,0],[40,0,41,0],[42,0,43,0],[44,0,45,0],[60,0,61,0],[62,0,63,0],[64,0,65,0],[48,0,49,0],[50,0,51,0],[52,0,53,0],[54,0,55,0],[56,0,57,0],[58,0,59,0]]}
["Round Nine"]
["Pitch #","Rank","Team Number","Team Name","Game One","Game Two","Game Three","Match","Score"]
[1,null,null,{"$f":"IF(ISERROR(VLOOKUP(C3,'Team List'!B:D,3,0)),\"\",VLOOKUP(C3,'Team List'!B:D,2,0))","v":""},null,null,null,{"$f":"IF(COUNTIF(E3:G3,\"Won\")=2,\"Won\",IF(COUNTIF(E3:G3,\"Lost\")=2,\"Lost\",IF(AND((E3=\"Won\"),OR(F3=\"DNF (Leading)\",F3=\"DNF (Tied)\",F3=\"DNF (Trailing)\")),\"Won\",IF(AND(COUNTIF(E3:F3,\"Won\")=1,OR(G3=\"DNF (Leading)\",G3=\"DNF (Tied)\",G3=\"DNF (Trailing)\")),\"Tied\",IF(OR(E3=\"DNF (Leading)\",E3=\"DNF (Tied)\",E3=\"DNF (Trailing)\"),\"Tied\",IF(AND((E3=\"Lost\"),OR(F3=\"DNF (Leading)\",F3=\"DNF (Tied)\",F3=\"DNF (Trailing)\")),\"Lost\",IF(C4=\"Bye\",\"Bye\",\"\")))))))","v":""},{"$f":"IF(C4=\"Bye\",1,IF(LEN(E3&F3&G3)=0,0,COUNTIF(E3:G3,\"Won\")*1+COUNTIF(E3:G3,\"DNF (Leading)\")*0.67+COUNTIF(E3:G3,\"DNF (Tied)\")*0.5+COUNTIF(E3:G3,\"DNF (Trailing)\")*0.33))","v":0},{"$f":"C4","v":0}]
[null,null,null,{"$f":"IF(ISERROR(VLOOKUP(C4,'Team List'!B:D,3,0)),\"\",VLOOKUP(C4,'Team List'!B:D,2,0))","v":""},{"$f":"IF(E3=\"\",\"\",IF(E3=\"Won\",\"Lost\",IF(E3=\"DNF (Leading)\",\"DNF (Trailing)\",IF(E3=\"DNF (Trailing)\",\"DNF (Leading)\",IF(E3=\"Lost\",\"Won\",E3)))))","v":""},{"$f":"IF(F3=\"\",\"\",IF(F3=\"Won\",\"Lost\",IF(F3=\"DNF (Leading)\",\"DNF (Trailing)\",IF(F3=\"DNF (Trailing)\",\"DNF (Leading)\",IF(F3=\"Lost\",\"Won\",F3)))))","v":""},{"$f":"IF(G3=\"\",\"\",IF(G3=\"Won\",\"Lost\",IF(G3=\"DNF (Leading)\",\"DNF (Trailing)\",IF(G3=\"DNF (Trailing)\",\"DNF (Leading)\",IF(G3=\"Lost\",\"Won\",G3)))))","v":""},{"$f":"IF(H3=\"Won\",\"Lost\",IF(H3=\"Lost\",\"Won\",H3))","v":""},{"$f":"IF(C3=\"Bye\",1,IF(LEN(E4&F4&G4)=0,0,COUNTIF(E4:G4,\"Won\")*1+COUNTIF(E4:G4,\"DNF (Leading)\")*0.67+COUNTIF(E4:G4,\"DNF (Tied)\")*0.5+COUNTIF(E4:G4,\"DNF (Trailing)\")*0.33))","v":0},{"$f":"C3","v":0}]
[2,null,null,{"$f":"IF(ISERROR(VLOOKUP(C5,'Team List'!B:D,3,0)),\"\",VLOOKUP(C5,'Team List'!B:D,2,0))","v":""},null,null,null,{"$f":"IF(COUNTIF(E5:G5,\"Won\")=2,\"Won\",IF(COUNTIF(E5:G5,\"Lost\")=2,\"Lost\",IF(AND((E5=\"Won\"),OR(F5=\"DNF (Leading)\",F5=\"DNF (Tied)\",F5=\"DNF (Trailing)\")),\"Won\",IF(AND(COUNTIF(E5:F5,\"Won\")=1,OR(G5=\"DNF (Leading)\",G5=\"DNF (Tied)\",G5=\"DNF (Trailing)\")),\"Tied\",IF(OR(E5=\"DNF (Leading)\",E5=\"DNF (Tied)\",E5=\"DNF (Trailing)\"),\"Tied\",IF(AND((E5=\"Lost\"),OR(F5=\"DNF (Leading)\",F5=\"DNF (Tied)\",F5=\"DNF (Trailing)\")),\"Lost\",IF(C6=\"Bye\",\"Bye\",\"\")))))))","v":""},{"$f":"IF(C6=\"Bye\",1,IF(LEN(E5&F5&G5)=0,0,COUNTIF(E5:G5,\"Won\")*1+COUNTIF(E5:G5,\"DNF (Leading)\")*0.67+COUNTIF(E5:G5,\"DNF (Tied)\")*0.5+COUNTIF(E5:G5,\"DNF (Trailing)\")*0.33))","v":0},{"$f":"C6","v":0}]
[null,null,null,{"$f":"IF(ISERROR(VLOOKUP(C6,'Team List'!B:D,3,0)),\"\",VLOOKUP(C6,'Team List'!B:D,2,0))","v":""},{"$f":"IF(E5=\"\",\"\",IF(E5=\"Won\",\"Lost\",IF(E5=\"DNF (Leading)\",\"DNF (Trailing)\",IF(E5=\"DNF (Trailing)\",\"DNF (Leading)\",IF(E5=\"Lost\",\"Won\",E5)))))","v":""},{"$f":"IF(F5=\"\",\"\",IF(F5=\"Won\",\"Lost\",IF(F5=\"DNF (Leading)\",\"DNF (Trailing)\",IF(F5=\"DNF (Trailing)\",\"DNF (Leading)\",IF(F5=\"Lost\",\"Won\",F5)))))","v":""},{"$f":"IF(G5=\"\",\"\",IF(G5=\"Won\",\"Lost\",IF(G5=\"DNF (Leading)\",\"DNF (Trailing)\",IF(G5=\"DNF (Trailing)\",\"DNF (Leading)\",IF(G5=\"Lost\",\"Won\",G5)))))","v":""},{"$f":"IF(H5=\"Won\",\"Lost\",IF(H5=\"Lost\",\"Won\",H5))","v":""},{"$f":"IF(C5=\"Bye\",1,IF(LEN(E6&F6&G6)=0,0,COUNTIF(E6:G6,\"Won\")*1+COUNTIF(E6:G6,\"DNF (Leading)\")*0.67+COUNTIF(E6:G6,\"DNF (Tied)\")*0.5+COUNTIF(E6:G6,\"DNF (Trailing)\")*0.33))","v":0},{"$f":"C5","v":0}]
[3,null,null,{"$f":"IF(ISERROR(VLOOKUP(C7,'Team List'!B:D,3,0)),\"\",VLOOKUP(C7,'Team List'!B:D,2,0))","v":""},null,null,null,{"$f":"IF(COUNTIF(E7:G7,\"Won\")=2,\"Won\",IF(COUNTIF(E7:G7,\"Lost\")=2,\"Lost\",IF(AND((E7=\"Won\"),OR(F7=\"DNF (Leading)\",F7=\"DNF (Tied)\",F7=\"DNF (Trailing)\")),\"Won\",IF(AND(COUNTIF(E7:F7,\"Won\")=1,OR(G7=\"DNF (Leading)\",G7=\"DNF (Tied)\",G7=\"DNF (Trailing)\")),\"Tied\",IF(OR(E7=\"DNF (Leading)\",E7=\"DNF (Tied)\",E7=\"DNF (Trailing)\"),\"Tied\",IF(AND((E7=\"Lost\"),OR(F7=\"DNF (Leading)\",F7=\"DNF (Tied)\",F7=\"DNF (Trailing)\")),\"Lost\",IF(C8=\"Bye\",\"Bye\",\"\")))))))","v":""},{"$f":"IF(C8=\"Bye\",1,IF(LEN(E7&F7&G7)=0,0,COUNTIF(E7:G7,\"Won\")*1+COUNTIF(E7:G7,\"DNF (Leading)\")*0.67+COUNTIF(E7:G7,\"DNF (Tied)\")*0.5+COUNTIF(E7:G7,\"DNF (Trailing)\")*0.33))","v":0},{"$f":"C8","v":0}]
[null,null,null,{"$f":"IF(ISERROR(VLOOKUP(C8,'Team List'!B:D,3,0)),\"\",VLOOKUP(C8,'Team List'!B:D,2,0))","v":""},{"$f":"IF(E7=\"\",\"\",IF(E7=\"Won\",\"Lost\",IF(E7=\"DNF (Leading)\",\"DNF (Trailing)\",IF(E7=\"DNF (Trailing)\",\"DNF (Leading)\",IF(E7=\"Lost\",\"Won\",E7)))))","v":""},{"$f":"IF(F7=\"\",\"\",IF(F7=\"Won\",\"Lost\",IF(F7=\"DNF (Leading)\",\"DNF (Trailing)\",IF(F7=\"DNF (Trailing)\",\"DNF (Leading)\",IF(F7=\"Lost\",\"Won\",F7)))))","v":""},{"$f":"IF(G7=\"\",\"\",IF(G7=\"Won\",\"Lost\",IF(G7=\"DNF (Leading)\",\"DNF (Trailing)\",IF(G7=\"DNF (Trailing)\",\"DNF (Leading)\",IF(G7=\"Lost\",\"Won\",G7)))))","v":""},{"$f":"IF(H7=\"Won\",\"Lost\",IF(H7=\"Lost\",\"Won\",H7))","v":""},{"$f":"IF(C7=\"Bye\",1,IF(LEN(E8&F8&G8)=0,0,COUNTIF(E8:G8,\"Won\")*1+COUNTIF(E8:G8,\"DNF (Leading)\")*0.67+COUNTIF(E8:G8,\"DNF (Tied)\")*0.5+COUNTIF(E8:G8,\"DNF (Trailing)\")*0.33))","v":0},{"$f":"C7","v":0}]
[4,null,null,{"$f":"IF(ISERROR(VLOOKUP(C9,'Team List'!B:D,3,0)),\"\",VLOOKUP(C9,'Team List'!B:D,2,0))","v":""},null,null,null,{"$f":"IF(COUNTIF(E9:G9,\"Won\")=2,\"Won\",IF(COUNTIF(E9:G9,\"Lost\")=2,\"Lost\",IF(AND((E9=\"Won\"),OR(F9=\"DNF (Leading)\",F9=\"DNF (Tied)\",F9=\"DNF (Trailing)\")),\"Won\",IF(AND(COUNTIF(E9:F9,\"Won\")=1,OR(G9=\"DNF (Leading)\",G9=\"DNF (Tied)\",G9=\"DNF (Trailing)\")),\"Tied\",IF(OR(E9=\"DNF (Leading)\",E9=\"DNF (Tied)\",E9=\"DNF (Trailing)\"),\"Tied\",IF(AND((E9=\"Lost\"),OR(F9=\"DNF (Leading)\",F9=\"DNF (Tied)\",F9=\"DNF (Trailing)\")),\"Lost\",IF(C10=\"Bye\",\"Bye\",\"\")))))))","v":""},{"$f":"IF(C10=\"Bye\",1,IF(LEN(E9&F9&G9)=0,0,COUNTIF(E9:G9,\"Won\")*1+COUNTIF(E9:G9,\"DNF (Leading)\")*0.67+COUNTIF(E9:G9,\"DNF (Tied)\")*0.5+COUNTIF(E9:G9,\"DNF (Trailing)\")*0.33))","v":0},{"$f":"C10","v":0}]
[null,null,null,{"$f":"IF(ISERROR(VLOOKUP(C10,'Team List'!B:D,3,0)),\"\",VLOOKUP(C10,'Team List'!B:D,2,0))","v":""},{"$f":"IF(E9=\"\",\"\",IF(E9=\"Won\",\"Lost\",IF(E9=\"DNF (Leading)\",\"DNF (Trailing)\",IF(E9=\"DNF (Trailing)\",\"DNF (Leading)\",IF(E9=\"Lost\",\"Won\",E9)))))","v":""},{"$f":"IF(F9=\"\",\"\",IF(F9=\"Won\",\"Lost\",IF(F9=\"DNF (Leading)\",\"DNF (Trailing)\",IF(F9=\"DNF (Trailing)\",\"DNF (Leading)\",IF(F9=\"Lost\",\"Won\",F9)))))","v":""},{"$f":"IF(G9=\"\",\"\",IF(G9=\"Won\",\"Lost\",IF(G9=\"DNF (Leading)\",\"DNF (Trailing)\",IF(G9=\"DNF (Trailing)\",\"DNF (Leading)\",IF(G9=\"Lost\",\"Won\",G9)))))","v":""},{"$f":"IF(H9=\"Won\",\"Lost\",IF(H9=\"Lost\",\"Won\",H9))","v":""},{"$f":"IF(C9=\"Bye\",1,IF(LEN(E10&F10&G10)=0,0,COUNTIF(E10:G10,\"Won\")*1+COUNTIF(E10:G10,\"DNF (Leading)\")*0.67+COUNTIF(E10:G10,\"DNF (Tied)\")*0.5+COUNTIF(E10:G10,\"DNF (Trailing)\")*0.33))","v":0},{"$f":"C9","v":0}]
[5,null,null,{"$f":"IF(ISERROR(VLOOKUP(C11,'Team List'!B:D,3,0)),\"\",VLOOKUP(C11,'Team List'!B:D,2,0))","v":""},null,null,null,{"$f":"IF(COUNTIF(E11:G11,\"Won\")=2,\"Won\",IF(COUNTIF(E11:G11,\"Lost\")=2,\"Lost\",IF(AND((E11=\"Won\"),OR(F11=\"DNF (Leading)\",F11=\"DNF (Tied)\",F11=\"DNF (Trailing)\")),\"Won\",IF(AND(COUNTIF(E11:F11,\"Won\")=1,OR(G11=\"DNF (Leading)\",G11=\"DNF (Tied)\",G11=\"DNF (Trailing)\")),\"Tied\",IF(OR(E11=\"DNF (Leading)\",E11=\"DNF (Tied)\",E11=\"DNF (Trailing)\"),\"Tied\",IF(AND((E11=\"Lost\"),OR(F11=\"DNF (Leading)\",F11=\"DNF (Tied)\",F11=\"DNF (Trailing)\")),\"Lost\",IF(C12=\"Bye\",\"Bye\",\"\")))))))","v":""},{"$f":"IF(C12=\"Bye\",1,IF(LEN(E11&F11&G11)=0,0,COUNTIF(E11:G11,\"Won\")*1+COUNTIF(E11:G11,\"DNF (Leading)\")*0.67+COUNTIF(E11:G11,\"DNF (Tied)\")*0.5+COUNTIF(E11:G11,\"DNF (Trailing)\")*0.33))","v":0},{"$f":"C12","v":0}]
[null,null,null,{"$f":"IF(ISERROR(VLOOKUP(C12,'Team List'!B:D,3,0)),\"\",VLOOKUP(C12,'Team List'!B:D,2,0))","v":""},{"$f":"IF(E11=\"\",\"\",IF(E11=\"Won\",\"Lost\",IF(E11=\"DNF (Leading)\",\"DNF (Trailing)\",IF(E11=\"DNF (Trailing)\",\"DNF (Leading)\",IF(E11=\"Lost\",\"Won\",E11)))))","v":""},{"$f":"IF(F11=\"\",\"\",IF(F11=\"Won\",\"Lost\",IF(F11=\"DNF (Leading)\",\"DNF (Trailing)\",IF(F11=\"DNF (Trailing)\",\"DNF (Leading)\",IF(F11=\"Lost\",\"Won\",F11)))))","v":""},{"$f":"IF(G11=\"\",\"\",IF(G11=\"Won\",\"Lost\",IF(G11=\"DNF (Leading)\",\"DNF (Trailing)\",IF(G11=\"DNF (Trailing)\",\"DNF (Leading)\",IF(G11=\"Lost\",\"Won\",G11)))))","v":""},{"$f":"IF(H11=\"Won\",\"Lost\",IF(H11=\"Lost\",\"Won\",H11))","v":""},{"$f":"IF(C11=\"Bye\",1,IF(LEN(E12&F12&G12)=0,0,COUNTIF(E12:G12,\"Won\")*1+COUNTIF(E12:G12,\"DNF (Leading)\")*0.67+COUNTIF(E12:G12,\"DNF (Tied)\")*0.5+COUNTIF(E12:G12,\"DNF (Trailing)\")*0.33))","v":0},{"$f":"C11","v":0}]
[6,null,null,{"$f":"IF(ISERROR(VLOOKUP(C13,'Team List'!B:D,3,0)),\"\",VLOOKUP(C13,'Team List'!B:D,2,0))","v":""},null,null,null,{"$f":"IF(COUNTIF(E13:G13,\"Won\")=2,\"Won\",IF(COUNTIF(E13:G13,\"Lost\")=2,\"Lost\",IF(AND((E13=\"Won\"),OR(F13=\"DNF (Leading)\",F13=\"DNF (Tied)\",F13=\"DNF (Trailing)\")),\"Won\",IF(AND(COUNTIF(E13:F13,\"Won\")=1,OR(G13=\"DNF (Leading)\",G13=\"DNF (Tied)\",G13=\"DNF (Trailing)\")),\"Tied\",IF(OR(E13=\"DNF (Leading)\",E13=\"DNF (Tied)\",E13=\"DNF (Trailing)\"),\"Tied\",IF(AND((E13=\"Lost\"),OR(F13=\"DNF (Leading)\",F13=\"DNF (Tied)\",F13=\"DNF (Trailing)\")),\"Lost\",IF(C14=\"Bye\",\"Bye\",\"\")))))))","v":""},{"$f":"IF(C14=\"Bye\",1,IF(LEN(E13&F13&G13)=0,0,COUNTIF(E13:G13,\"Won\")*1+COUNTIF(E13:G13,\"DNF (Leading)\")*0.67+COUNTIF(E13:G13,\"DNF (Tied)\")*0.5+COUNTIF(E13:G13,\"DNF (Trailing)\")*0.33))","v":0},{"$f":"C14","v":0}]
[null,null,null,{"$f":"IF(ISERROR(VLOOKUP(C14,'Team List'!B:D,3,0)),\"\",VLOOKUP(C14,'Team List'!B:D,2,0))","v":""},{"$f":"IF(E13=\"\",\"\",IF(E13=\"Won\",\"Lost\",IF(E13=\"DNF (Leading)\",\"DNF (Trailing)\",IF(E13=\"DNF (Trailing)\",\"DNF (Leading)\",IF(E13=\"Lost\",\"Won\",E13)))))","v":""},{"$f":"IF(F13=\"\",\"\",IF(F13=\"Won\",\"Lost\",IF(F13=\"DNF (Leading)\",\"DNF (Trailing)\",IF(F13=\"DNF (Trailing)\",\"DNF (Leading)\",IF(F13=\"Lost\",\"Won\",F13)))))","v":""},{"$f":"IF(G13=\"\",\"\",IF(G13=\"Won\",\"Lost\",IF(G13=\"DNF (Leading)\",\"DNF (Trailing)\",IF(G13=\"DNF (Trailing)\",\"DNF (Leading)\",IF(G13=\"Lost\",\"Won\",G13)))))","v":""},{"$f":"IF(H13=\"Won\",\"Lost\",IF(H13=\"Lost\",\"Won\",H13))","v":""},{"$f":"IF(C13=\"Bye\",1,IF(LEN(E14&F14&G14)=0,0,COUNTIF(E14:G14,\"Won\")*1+COUNTIF(E14:G14,\"DNF (Leading)\")*0.67+COUNTIF(E14:G14,\"DNF (Tied)\")*0.5+COUNTIF(E14:G14,\"DNF (Trailing)\")*0.33))","v":0},{"$f":"C13","v":0}]
[7,null,null,{"$f":"IF(ISERROR(VLOOKUP(C15,'Team List'!B:D,3,0)),\"\",VLOOKUP(C15,'Team List'!B:D,2,0))","v":""},null,null,null,{"$f":"IF(COUNTIF(E15:G15,\"Won\")=2,\"Won\",IF(COUNTIF(E15:G15,\"Lost\")=2,\"Lost\",IF(AND((E15=\"Won\"),OR(F15=\"DNF (Leading)\",F15=\"DNF (Tied)\",F15=\"DNF (Trailing)\")),\"Won\",IF(AND(COUNTIF(E15:F15,\"Won\")=1,OR(G15=\"DNF (Leading)\",G15=\"DNF (Tied)\",G15=\"DNF (Trailing)\")),\"Tied\",IF(OR(E15=\"DNF (Leading)\",E15=\"DNF (Tied)\",E15=\"DNF (Trailing)\"),\"Tied\",IF(AND((E15=\"Lost\"),OR(F15=\"DNF (Leading)\",F15=\"DNF (Tied)\",F15=\"DNF (Trailing)\")),\"Lost\",IF(C16=\"Bye\",\"Bye\",\"\")))))))","v":""},{"$f":"IF(C16=\"Bye\",1,IF(LEN(E15&F15&G15)=0,0,COUNTIF(E15:G15,\"Won\")*1+COUNTIF(E15:G15,\"DNF (Leading)\")*0.67+COUNTIF(E15:G15,\"DNF (Tied)\")*0.5+COUNTIF(E15:G15,\"DNF (Trailing)\")*0.33))","v":0},{"$f":"C16","v":0}]
[null,null,null,{"$f":"IF(ISERROR(VLOOKUP(C16,'Team List'!B:D,3,0)),\"\",VLOOKUP(C16,'Team List'!B:D,2,0))","v":""},{"$f":"IF(E15=\"\",\"\",IF(E15=\"Won\",\"Lost\",IF(E15=\"DNF (Leading)\",\"DNF (Trailing)\",IF(E15=\"DNF (Trailing)\",\"DNF (Leading)\",IF(E15=\"Lost\",\"Won\",E15)))))","v":""},{"$f":"IF(F15=\"\",\"\",IF(F15=\"Won\",\"Lost\",IF(F15=\"DNF (Leading)\",\"DNF (Trailing)\",IF(F15=\"DNF (Trailing)\",\"DNF (Leading)\",IF(F15=\"Lost\",\"Won\",F15)))))","v":""},{"$f":"IF(G15=\"\",\"\",IF(G15=\"Won\",\"Lost\",IF(G15=\"DNF (Leading)\",\"DNF (Trailing)\",IF(G15=\"DNF (Trailing)\",\"DNF (Leading)\",IF(G15=\"Lost\",\"Won\",G15)))))","v":""},{"$f":"IF(H15=\"Won\",\"Lost\",IF(H15=\"Lost\",\"Won\",H15))","v":""},{"$f":"IF(C15=\"Bye\",1,IF(LEN(E16&F16&G16)=0,0,COUNTIF(E16:G16,\"Won\")*1+COUNTIF(E16:G16,\"DNF (Leading)\")*0.67+COUNTIF(E16:G16,\"DNF (Tied)\")*0.5+COUNTIF(E16:G16,\"DNF (Trailing)\")*0.33))","v":0},{"$f":"C15","v":0}]
[8,null,null,{"$f":"IF(ISERROR(VLOOKUP(C17,'Team List'!B:D,3,0)),\"\",VLOOKUP(C17,'Team List'!B:D,2,0))","v":""},null,null,null,{"$f":"IF(COUNTIF(E17:G17,\"Won\")=2,\"Won\",IF(COUNTIF(E17:G17,\"Lost\")=2,\"Lost\",IF(AND((E17=\"Won\"),OR(F17=\"DNF (Leading)\",F17=\"DNF (Tied)\",F17=\"DNF (Trailing)\")),\"Won\",IF(AND(COUNTIF(E17:F17,\"Won\")=1,OR(G17=\"DNF (Leading)\",G17=\"DNF (Tied)\",G17=\"DNF (Trailing)\")),\"Tied\",IF(OR(E17=\"DNF (Leading)\",E17=\"DNF (Tied)\",E17=\"DNF (Trailing)\"),\"Tied\",IF(AND((E17=\"Lost\"),OR(F17=\"DNF (Leading)\",F17=\"DNF (Tied)\",F17=\"DNF (Trailing)\")),\"Lost\",IF(C18=\"Bye\",\"Bye\",\"\")))))))","v":""},{"$f":"IF(C18=\"Bye\",1,IF(LEN(E17&F17&G17)=0,0,COUNTIF(E17:G17,\"Won\")*1+COUNTIF(E17:G17,\"DNF (Leading)\")*0.67+COUNTIF(E17:G17,\"DNF (Tied)\")*0.5+COUNTIF(E17:G17,\"DNF (Trailing)\")*0.33))","v":0},{"$f":"C18","v":0}]
[null,null,null,{"$f":"IF(ISERROR(VLOOKUP(C18,'Team List'!B:D,3,0)),\"\",VLOOKUP(C18,'Team List'!B:D,2,0))","v":""},{"$f":"IF(E17=\"\",\"\",IF(E17=\"Won\",\"Lost\",IF(E17=\"DNF (Leading)\",\"DNF (Trailing)\",IF(E17=\"DNF (Trailing)\",\"DNF (Leading)\",IF(E17=\"Lost\",\"Won\",E17)))))","v":""},{"$f":"IF(F17=\"\",\"\",IF(F17=\"Won\",\"Lost\",IF(F17=\"DNF (Leading)\",\"DNF (Trailing)\",IF(F17=\"DNF (Trailing)\",\"DNF (Leading)\",IF(F17=\"Lost\",\"Won\",F17)))))","v":""},{"$f":"IF(G17=\"\",\"\",IF(G17=\"Won\",\"Lost\",IF(G17=\"DNF (Leading)\",\"DNF (Trailing)\",IF(G17=\"DNF (Trailing)\",\"DNF (Leading)\",IF(G17=\"Lost\",\"Won\",G17)))))","v":""},{"$f":"IF(H17=\"Won\",\"Lost\",IF(H17=\"Lost\",\"Won\",H17))","v":""},{"$f":"IF(C17=\"Bye\",1,IF(LEN(E18&F18&G18)=0,0,COUNTIF(E18:G18,\"Won\")*1+COUNTIF(E18:G18,\"DNF (Leading)\")*0.67+COUNTIF(E18:G18,\"DNF (Tied)\")*0.5+COUNTIF(E18:G18,\"DNF (Trailing)\")*0.33))","v":0},{"$f":"C17","v":0}]
[9,null,null,{"$f":"IF(ISERROR(VLOOKUP(C19,'Team List'!B:D,3,0)),\"\",VLOOKUP(C19,'Team List'!B:D,2,0))","v":""},null,null,null,{"$f":"IF(COUNTIF(E19:G19,\"Won\")=2,\"Won\",IF(COUNTIF(E19:G19,\"Lost\")=2,\"Lost\",IF(AND((E19=\"Won\"),OR(F19=\"DNF (Leading)\",F19=\"DNF (Tied)\",F19=\"DNF (Trailing)\")),\"Won\",IF(AND(COUNTIF(E19:F19,\"Won\")=1,OR(G19=\"DNF (Leading)\",G19=\"DNF (Tied)\",G19=\"DNF (Trailing)\")),\"Tied\",IF(OR(E19=\"DNF (Leading)\",E19=\"DNF (Tied)\",E19=\"DNF (Trailing)\"),\"Tied\",IF(AND((E19=\"Lost\"),OR(F19=\"DNF (Leading)\",F19=\"DNF (Tied)\",F19=\"DNF (Trailing)\")),\"Lost\",IF(C20=\"Bye\",\"Bye\",\"\")))))))","v":""},{"$f":"IF(C20=\"Bye\",1,IF(LEN(E19&F19&G19)=0,0,COUNTIF(E19:G19,\"Won\")*1+COUNTIF(E19:G19,\"DNF (Leading)\")*0.67+COUNTIF(E19:G19,\"DNF (Tied)\")*0.5+COUNTIF(E19:G19,\"DNF (Trailing)\")*0.33))","v":0},{"$f":"C20","v":0}]
[null,null,null,{"$f":"IF(ISERROR(VLOOKUP(C20,'Team List'!B:D,3,0)),\"\",VLOOKUP(C20,'Team List'!B:D,2,0))","v":""},{"$f":"IF(E19=\"\",\"\",IF(E19=\"Won\",\"Lost\",IF(E19=\"DNF (Leading)\",\"DNF (Trailing)\",IF(E19=\"DNF (Trailing)\",\"DNF (Leading)\",IF(E19=\"Lost\",\"Won\",E19)))))","v":""},{"$f":"IF(F19=\"\",\"\",IF(F19=\"Won\",\"Lost\",IF(F19=\"DNF (Leading)\",\"DNF (Trailing)\",IF(F19=\"DNF (Trailing)\",\"DNF (Leading)\",IF(F19=\"Lost\",\"Won\",F19)))))","v":""},{"$f":"IF(G19=\"\",\"\",IF(G19=\"Won\",\"Lost\",IF(G19=\"DNF (Leading)\",\"DNF (Trailing)\",IF(G19=\"DNF (Trailing)\",\"DNF (Leading)\",IF(G19=\"Lost\",\"Won\",G19)))))","v":""},{"$f":"IF(H19=\"Won\",\"Lost\",IF(H19=\"Lost\",\"Won\",H19))","v":""},{"$f":"IF(C19=\"Bye\",1,IF(LEN(E20&F20&G20)=0,0,COUNTIF(E20:G20,\"Won\")*1+COUNTIF(E20:G20,\"DNF (Leading)\")*0.67+COUNTIF(E20:G20,\"DNF (Tied)\")*0.5+COUNTIF(E20:G20,\"DNF (Trailing)\")*0.33))","v":0},{"$f":"C19","v":0}]
[10,null,null,{"$f":"IF(ISERROR(VLOOKUP(C21,'Team List'!B:D,3,0)),\"\",VLOOKUP(C21,'Team List'!B:D,2,0))","v":""},null,null,null,{"$f":"IF(COUNTIF(E21:G21,\"Won\")=2,\"Won\",IF(COUNTIF(E21:G21,\"Lost\")=2,\"Lost\",IF(AND((E21=\"Won\"),OR(F21=\"DNF (Leading)\",F21=\"DNF (Tied)\",F21=\"DNF (Trailing)\")),\"Won\",IF(AND(COUNTIF(E21:F21,\"Won\")=1,OR(G21=\"DNF (Leading)\",G21=\"DNF (Tied)\",G21=\"DNF (Trailing)\")),\"Tied\",IF(OR(E21=\"DNF (Leading)\",E21=\"DNF (Tied)\",E21=\"DNF (Trailing)\"),\"Tied\",IF(AND((E21=\"Lost\"),OR(F21=\"DNF (Leading)\",F21=\"DNF (Tied)\",F21=\"DNF (Trailing)\")),\"Lost\",IF(C22=\"Bye\",\"Bye\",\"\")))))))","v":""},{"$f":"IF(C22=\"Bye\",1,IF(LEN(E21&F21&G21)=0,0,COUNTIF(E21:G21,\"Won\")*1+COUNTIF(E21:G21,\"DNF (Leading)\")*0.67+COUNTIF(E21:G21,\"DNF (Tied)\")*0.5+COUNTIF(E21:G21,\"DNF (Trailing)\")*0.33))","v":0},{"$f":"C22","v":0}]
[null,null,null,{"$f":"IF(ISERROR(VLOOKUP(C22,'Team List'!B:D,3,0)),\"\",VLOOKUP(C22,'Team List'!B:D,2,0))","v":""},{"$f":"IF(E21=\"\",\"\",IF(E21=\"Won\",\"Lost\",IF(E21=\"DNF (Leading)\",\"DNF (Trailing)\",IF(E21=\"DNF (Trailing)\",\"DNF (Leading)\",IF(E21=\"Lost\",\"Won\",E21)))))","v":""},{"$f":"IF(F21=\"\",\"\",IF(F21=\"Won\",\"Lost\",IF(F21=\"DNF (Leading)\",\"DNF (Trailing)\",IF(F21=\"DNF (Trailing)\",\"DNF (Leading)\",IF(F21=\"Lost\",\"Won\",F21)))))","v":""},{"$f":"IF(G21=\"\",\"\",IF(G21=\"Won\",\"Lost\",IF(G21=\"DNF (Leading)\",\"DNF (Trailing)\",IF(G21=\"DNF (Trailing)\",\"DNF (Leading)\",IF(G21=\"Lost\",\"Won\",G21)))))","v":""},{"$f":"IF(H21=\"Won\",\"Lost\",IF(H21=\"Lost\",\"Won\",H21))","v":""},{"$f":"IF(C21=\"Bye\",1,IF(LEN(E22&F22&G22)=0,0,COUNTIF(E22:G22,\"Won\")*1+COUNTIF(E22:G22,\"DNF (Leading)\")*0.67+COUNTIF(E22:G22,\"DNF (Tied)\")*0.5+COUNTIF(E22:G22,\"DNF (Trailing)\")*0.33))","v":0},{"$f":"C21","v":0}]
[11,null,null,{"$f":"IF(ISERROR(VLOOKUP(C23,'Team List'!B:D,3,0)),\"\",VLOOKUP(C23,'Team List'!B:D,2,0))","v":""},null,null,null,{"$f":"IF(COUNTIF(E23:G23,\"Won\")=2,\"Won\",IF(COUNTIF(E23:G23,\"Lost\")=2,\"Lost\",IF(AND((E23=\"Won\"),OR(F23=\"DNF (Leading)\",F23=\"DNF (Tied)\",F23=\"DNF (Trailing)\")),\"Won\",IF(AND(COUNTIF(E23:F23,\"Won\")=1,OR(G23=\"DNF (Leading)\",G23=\"DNF (Tied)\",G23=\"DNF (Trailing)\")),\"Tied\",IF(OR(E23=\"DNF (Leading)\",E23=\"DNF (Tied)\",E23=\"DNF (Trailing)\"),\"Tied\",IF(AND((E23=\"Lost\"),OR(F23=\"DNF (Leading)\",F23=\"DNF (Tied)\",F23=\"DNF (Trailing)\")),\"Lost\",IF(C24=\"Bye\",\"Bye\",\"\")))))))","v":""},{"$f":"IF(C24=\"Bye\",1,IF(LEN(E23&F23&G23)=0,0,COUNTIF(E23:G23,\"Won\")*1+COUNTIF(E23:G23,\"DNF (Leading)\")*0.67+COUNTIF(E23:G23,\"DNF (Tied)\")*0.5+COUNTIF(E23:G23,\"DNF (Trailing)\")*0.33))","v":0},{"$f":"C24","v":0}]
[null,null,null,{"$f":"IF(ISERROR(VLOOKUP(C24,'Team List'!B:D,3,0)),\"\",VLOOKUP(C24,'Team List'!B:D,2,0))","v":""},{"$f":"IF(E23=\"\",\"\",IF(E23=\"Won\",\"Lost\",IF(E23=\"DNF (Leading)\",\"DNF (Trailing)\",IF(E23=\"DNF (Trailing)\",\"DNF (Leading)\",IF(E23=\"Lost\",\"Won\",E23)))))","v":""},{"$f":"IF(F23=\"\",\"\",IF(F23=\"Won\",\"Lost\",IF(F23=\"DNF (Leading)\",\"DNF (Trailing)\",IF(F23=\"DNF (Trailing)\",\"DNF (Leading)\",IF(F23=\"Lost\",\"Won\",F23)))))","v":""},{"$f":"IF(G23=\"\",\"\",IF(G23=\"Won\",\"Lost\",IF(G23=\"DNF (Leading)\",\"DNF (Trailing)\",IF(G23=\"DNF (Trailing)\",\"DNF (Leading)\",IF(G23=\"Lost\",\"Won\",G23)))))","v":""},{"$f":"IF(H23=\"Won\",\"Lost\",IF(H23=\"Lost\",\"Won\",H23))","v":""},{"$f":"IF(C23=\"Bye\",1,IF(LEN(E24&F24&G24)=0,0,COUNTIF(E24:G24,\"Won\")*1+COUNTIF(E24:G24,\"DNF (Leading)\")*0.67+COUNTIF(E24:G24,\"DNF (Tied)\")*0.5+COUNTIF(E24:G24,\"DNF (Trailing)\")*0.33))","v":0},{"$f":"C23","v":0}]
[12,null,null,{"$f":"IF(ISERROR(VLOOKUP(C25,'Team List'!B:D,3,0)),\"\",VLOOKUP(C25,'Team List'!B:D,2,0))","v":""},null,null,null,{"$f":"IF(COUNTIF(E25:G25,\"Won\")=2,\"Won\",IF(COUNTIF(E25:G25,\"Lost\")=2,\"Lost\",IF(AND((E25=\"Won\"),OR(F25=\"DNF (Leading)\",F25=\"DNF (Tied)\",F25=\"DNF (Trailing)\")),\"Won\",IF(AND(COUNTIF(E25:F25,\"Won\")=1,OR(G25=\"DNF (Leading)\",G25=\"DNF (Tied)\",G25=\"DNF (Trailing)\")),\"Tied\",IF(OR(E25=\"DNF (Leading)\",E25=\"DNF (Tied)\",E25=\"DNF (Trailing)\"),\"Tied\",IF(AND((E25=\"Lost\"),OR(F25=\"DNF (Leading)\",F25=\"DNF (Tied)\",F25=\"DNF (Trailing)\")),\"Lost\",IF(C26=\"Bye\",\"Bye\",\"\")))))))","v":""},{"$f":"IF(C26=\"Bye\",1,IF(LEN(E25&F25&G25)=0,0,COUNTIF(E25:G25,\"Won\")*1+COUNTIF(E25:G25,\"DNF (Leading)\")*0.67+COUNTIF(E25:G25,\"DNF (Tied)\")*0.5+COUNTIF(E25:G25,\"DNF (Trailing)\")*0.33))","v":0},{"$f":"C26","v":0}]
[null,null,null,{"$f":"IF(ISERROR(VLOOKUP(C26,'Team List'!B:D,3,0)),\"\",VLOOKUP(C26,'Team List'!B:D,2,0))","v":""},{"$f":"IF(E25=\"\",\"\",IF(E25=\"Won\",\"Lost\",IF(E25=\"DNF (Leading)\",\"DNF (Trailing)\",IF(E25=\"DNF (Trailing)\",\"DNF (Leading)\",IF(E25=\"Lost\",\"Won\",E25)))))","v":""},{"$f":"IF(F25=\"\",\"\",IF(F25=\"Won\",\"Lost\",IF(F25=\"DNF (Leading)\",\"DNF (Trailing)\",IF(F25=\"DNF (Trailing)\",\"DNF (Leading)\",IF(F25=\"Lost\",\"Won\",F25)))))","v":""},{"$f":"IF(G25=\"\",\"\",IF(G25=\"Won\",\"Lost\",IF(G25=\"DNF (Leading)\",\"DNF (Trailing)\",IF(G25=\"DNF (Trailing)\",\"DNF (Leading)\",IF(G25=\"Lost\",\"Won\",G25)))))","v":""},{"$f":"IF(H25=\"Won\",\"Lost\",IF(H25=\"Lost\",\"Won\",H25))","v":""},{"$f":"IF(C25=\"Bye\",1,IF(LEN(E26&F26&G26)=0,0,COUNTIF(E26:G26,\"Won\")*1+COUNTIF(E26:G26,\"DNF (Leading)\")*0.67+COUNTIF(E26:G26,\"DNF (Tied)\")*0.5+COUNTIF(E26:G26,\"DNF (Trailing)\")*0.33))","v":0},{"$f":"C25","v":0}]
[13,null,null,{"$f":"IF(ISERROR(VLOOKUP(C27,'Team List'!B:D,3,0)),\"\",VLOOKUP(C27,'Team List'!B:D,2,0))","v":""},null,null,null,{"$f":"IF(COUNTIF(E27:G27,\"Won\")=2,\"Won\",IF(COUNTIF(E27:G27,\"Lost\")=2,\"Lost\",IF(AND((E27=\"Won\"),OR(F27=\"DNF (Leading)\",F27=\"DNF (Tied)\",F27=\"DNF (Trailing)\")),\"Won\",IF(AND(COUNTIF(E27:F27,\"Won\")=1,OR(G27=\"DNF (Leading)\",G27=\"DNF (Tied)\",G27=\"DNF (Trailing)\")),\"Tied\",IF(OR(E27=\"DNF (Leading)\",E27=\"DNF (Tied)\",E27=\"DNF (Trailing)\"),\"Tied\",IF(AND((E27=\"Lost\"),OR(F27=\"DNF (Leading)\",F27=\"DNF (Tied)\",F27=\"DNF (Trailing)\")),\"Lost\",IF(C28=\"Bye\",\"Bye\",\"\")))))))","v":""},{"$f":"IF(C28=\"Bye\",1,IF(LEN(E27&F27&G27)=0,0,COUNTIF(E27:G27,\"Won\")*1+COUNTIF(E27:G27,\"DNF (Leading)\")*0.67+COUNTIF(E27:G27,\"DNF (Tied)\")*0.5+COUNTIF(E27:G27,\"DNF (Trailing)\")*0.33))","v":0},{"$f":"C28","v":0}]
[null,null,null,{"$f":"IF(ISERROR(VLOOKUP(C28,'Team List'!B:D,3,0)),\"\",VLOOKUP(C28,'Team List'!B:D,2,0))","v":""},{"$f":"IF(E27=\"\",\"\",IF(E27=\"Won\",\"Lost\",IF(E27=\"DNF (Leading)\",\"DNF (Trailing)\",IF(E27=\"DNF (Trailing)\",\"DNF (Leading)\",IF(E27=\"Lost\",\"Won\",E27)))))","v":""},{"$f":"IF(F27=\"\",\"\",IF(F27=\"Won\",\"Lost\",IF(F27=\"DNF (Leading)\",\"DNF (Trailing)\",IF(F27=\"DNF (Trailing)\",\"DNF (Leading)\",IF(F27=\"Lost\",\"Won\",F27)))))","v":""},{"$f":"IF(G27=\"\",\"\",IF(G27=\"Won\",\"Lost\",IF(G27=\"DNF (Leading)\",\"DNF (Trailing)\",IF(G27=\"DNF (Trailing)\",\"DNF (Leading)\",IF(G27=\"Lost\",\"Won\",G27)))))","v":""},{"$f":"IF(H27=\"Won\",\"Lost\",IF(H27=\"Lost\",\"Won\",H27))","v":""},{"$f":"IF(C27=\"Bye\",1,IF(LEN(E28&F28&G28)=0,0,COUNTIF(E28:G28,\"Won\")*1+COUNTIF(E28:G28,\"DNF (Leading)\")*0.67+COUNTIF(E28:G28,\"DNF (Tied)\")*0.5+COUNTIF(E28:G28,\"DNF (Trailing)\")*0.33))","v":0},{"$f":"C27","v":0}]
[14,null,null,{"$f":"IF(ISERROR(VLOOKUP(C29,'Team List'!B:D,3,0)),\"\",VLOOKUP(C29,'Team List'!B:D,2,0))","v":""},null,null,null,{"$f":"IF(COUNTIF(E29:G29,\"Won\")=2,\"Won\",IF(COUNTIF(E29:G29,\"Lost\")=2,\"Lost\",IF(AND((E29=\"Won\"),OR(F29=\"DNF (Leading)\",F29=\"DNF (Tied)\",F29=\"DNF (Trailing)\")),\"Won\",IF(AND(COUNTIF(E29:F29,\"Won\")=1,OR(G29=\"DNF (Leading)\",G29=\"DNF (Tied)\",G29=\"DNF (Trailing)\")),\"Tied\",IF(OR(E29=\"DNF (Leading)\",E29=\"DNF (Tied)\",E29=\"DNF (Trailing)\"),\"Tied\",IF(AND((E29=\"Lost\"),OR(F29=\"DNF (Leading)\",F29=\"DNF (Tied)\",F29=\"DNF (Trailing)\")),\"Lost\",IF(C30=\"Bye\",\"Bye\",\"\")))))))","v":""},{"$f":"IF(C30=\"Bye\",1,IF(LEN(E29&F29&G29)=0,0,COUNTIF(E29:G29,\"Won\")*1+COUNTIF(E29:G29,\"DNF (Leading)\")*0.67+COUNTIF(E29:G29,\"DNF (Tied)\")*0.5+COUNTIF(E29:G29,\"DNF (Trailing)\")*0.33))","v":0},{"$f":"C30","v":0}]
[null,null,null,{"$f":"IF(ISERROR(VLOOKUP(C30,'Team List'!B:D,3,0)),\"\",VLOOKUP(C30,'Team List'!B:D,2,0))","v":""},{"$f":"IF(E29=\"\",\"\",IF(E29=\"Won\",\"Lost\",IF(E29=\"DNF (Leading)\",\"DNF (Trailing)\",IF(E29=\"DNF (Trailing)\",\"DNF (Leading)\",IF(E29=\"Lost\",\"Won\",E29)))))","v":""},{"$f":"IF(F29=\"\",\"\",IF(F29=\"Won\",\"Lost\",IF(F29=\"DNF (Leading)\",\"DNF (Trailing)\",IF(F29=\"DNF (Trailing)\",\"DNF (Leading)\",IF(F29=\"Lost\",\"Won\",F29)))))","v":""},{"$f":"IF(G29=\"\",\"\",IF(G29=\"Won\",\"Lost\",IF(G29=\"DNF (Leading)\",\"DNF (Trailing)\",IF(G29=\"DNF (Trailing)\",\"DNF (Leading)\",IF(G29=\"Lost\",\"Won\",G29)))))","v":""},{"$f":"IF(H29=\"Won\",\"Lost\",IF(H29=\"Lost\",\"Won\",H29))","v":""},{"$f":"IF(C29=\"Bye\",1,IF(LEN(E30&F30&G30)=0,0,COUNTIF(E30:G30,\"Won\")*1+COUNTIF(E30:G30,\"DNF (Leading)\")*0.67+COUNTIF(E30:G30,\"DNF (Tied)\")*0.5+COUNTIF(E30:G30,\"DNF (Trailing)\")*0.33))","v":0},{"$f":"C29","v":0}]
[15,null,null,{"$f":"IF(ISERROR(VLOOKUP(C31,'Team List'!B:D,3,0)),\"\",VLOOKUP(C31,'Team List'!B:D,2,0))","v":""},null,null,null,{"$f":"IF(COUNTIF(E31:G31,\"Won\")=2,\"Won\",IF(COUNTIF(E31:G31,\"Lost\")=2,\"Lost\",IF(AND((E31=\"Won\"),OR(F31=\"DNF (Leading)\",F31=\"DNF (Tied)\",F31=\"DNF (Trailing)\")),\"Won\",IF(AND(COUNTIF(E31:F31,\"Won\")=1,OR(G31=\"DNF (Leading)\",G31=\"DNF (Tied)\",G31=\"DNF (Trailing)\")),\"Tied\",IF(OR(E31=\"DNF (Leading)\",E31=\"DNF (Tied)\",E31=\"DNF (Trailing)\"),\"Tied\",IF(AND((E31=\"Lost\"),OR(F31=\"DNF (Leading)\",F31=\"DNF (Tied)\",F31=\"DNF (Trailing)\")),\"Lost\",IF(C32=\"Bye\",\"Bye\",\"\")))))))","v":""},{"$f":"IF(C32=\"Bye\",1,IF(LEN(E31&F31&G31)=0,0,COUNTIF(E31:G31,\"Won\")*1+COUNTIF(E31:G31,\"DNF (Leading)\")*0.67+COUNTIF(E31:G31,\"DNF (Tied)\")*0.5+COUNTIF(E31:G31,\"DNF (Trailing)\")*0.33))","v":0},{"$f":"C32","v":0}]
[null,null,null,{"$f":"IF(ISERROR(VLOOKUP(C32,'Team List'!B:D,3,0)),\"\",VLOOKUP(C32,'Team List'!B:D,2,0))","v":""},{"$f":"IF(E31=\"\",\"\",IF(E31=\"Won\",\"Lost\",IF(E31=\"DNF (Leading)\",\"DNF (Trailing)\",IF(E31=\"DNF (Trailing)\",\"DNF (Leading)\",IF(E31=\"Lost\",\"Won\",E31)))))","v":""},{"$f":"IF(F31=\"\",\"\",IF(F31=\"Won\",\"Lost\",IF(F31=\"DNF (Leading)\",\"DNF (Trailing)\",IF(F31=\"DNF (Trailing)\",\"DNF (Leading)\",IF(F31=\"Lost\",\"Won\",F31)))))","v":""},{"$f":"IF(G31=\"\",\"\",IF(G31=\"Won\",\"Lost\",IF(G31=\"DNF (Leading)\",\"DNF (Trailing)\",IF(G31=\"DNF (Trailing)\",\"DNF (Leading)\",IF(G31=\"Lost\",\"Won\",G31)))))","v":""},{"$f":"IF(H31=\"Won\",\"Lost\",IF(H31=\"Lost\",\"Won\",H31))","v":""},{"$f":"IF(C31=\"Bye\",1,IF(LEN(E32&F32&G32)=0,0,COUNTIF(E32:G32,\"Won\")*1+COUNTIF(E32:G32,\"DNF (Leading)\")*0.67+COUNTIF(E32:G32,\"DNF (Tied)\")*0.5+COUNTIF(E32:G32,\"DNF (Trailing)\")*0.33))","v":0},{"$f":"C31","v":0}]
[16,null,null,{"$f":"IF(ISERROR(VLOOKUP(C33,'Team List'!B:D,3,0)),\"\",VLOOKUP(C33,'Team List'!B:D,2,0))","v":""},null,null,null,{"$f":"IF(COUNTIF(E33:G33,\"Won\")=2,\"Won\",IF(COUNTIF(E33:G33,\"Lost\")=2,\"Lost\",IF(AND((E33=\"Won\"),OR(F33=\"DNF (Leading)\",F33=\"DNF (Tied)\",F33=\"DNF (Trailing)\")),\"Won\",IF(AND(COUNTIF(E33:F33,\"Won\")=1,OR(G33=\"DNF (Leading)\",G33=\"DNF (Tied)\",G33=\"DNF (Trailing)\")),\"Tied\",IF(OR(E33=\"DNF (Leading)\",E33=\"DNF (Tied)\",E33=\"DNF (Trailing)\"),\"Tied\",IF(AND((E33=\"Lost\"),OR(F33=\"DNF (Leading)\",F33=\"DNF (Tied)\",F33=\"DNF (Trailing)\")),\"Lost\",IF(C34=\"Bye\",\"Bye\",\"\")))))))","v":""},{"$f":"IF(C34=\"Bye\",1,IF(LEN(E33&F33&G33)=0,0,COUNTIF(E33:G33,\"Won\")*1+COUNTIF(E33:G33,\"DNF (Leading)\")*0.67+COUNTIF(E33:G33,\"DNF (Tied)\")*0.5+COUNTIF(E33:G33,\"DNF (Trailing)\")*0.33))","v":0},{"$f":"C34","v":0}]
[null,null,null,{"$f":"IF(ISERROR(VLOOKUP(C34,'Team List'!B:D,3,0)),\"\",VLOOKUP(C34,'Team List'!B:D,2,0))","v":""},{"$f":"IF(E33=\"\",\"\",IF(E33=\"Won\",\"Lost\",IF(E33=\"DNF (Leading)\",\"DNF (Trailing)\",IF(E33=\"DNF (Trailing)\",\"DNF (Leading)\",IF(E33=\"Lost\",\"Won\",E33)))))","v":""},{"$f":"IF(F33=\"\",\"\",IF(F33=\"Won\",\"Lost\",IF(F33=\"DNF (Leading)\",\"DNF (Trailing)\",IF(F33=\"DNF (Trailing)\",\"DNF (Leading)\",IF(F33=\"Lost\",\"Won\",F33)))))","v":""},{"$f":"IF(G33=\"\",\"\",IF(G33=\"Won\",\"Lost\",IF(G33=\"DNF (Leading)\",\"DNF (Trailing)\",IF(G33=\"DNF (Trailing)\",\"DNF (Leading)\",IF(G33=\"Lost\",\"Won\",G33)))))","v":""},{"$f":"IF(H33=\"Won\",\"Lost\",IF(H33=\"Lost\",\"Won\",H33))","v":""},{"$f":"IF(C33=\"Bye\",1,IF(LEN(E34&F34&G34)=0,0,COUNTIF(E34:G34,\"Won\")*1+COUNTIF(E34:G34,\"DNF (Leading)\")*0.67+COUNTIF(E34:G34,\"DNF (Tied)\")*0.5+COUNTIF(E34:G34,\"DNF (Trailing)\")*0.33))","v":0},{"$f":"C33","v":0}]
[17,null,null,{"$f":"IF(ISERROR(VLOOKUP(C35,'Team List'!B:D,3,0)),\"\",VLOOKUP(C35,'Team List'!B:D,2,0))","v":""},null,null,null,{"$f":"IF(COUNTIF(E35:G35,\"Won\")=2,\"Won\",IF(COUNTIF(E35:G35,\"Lost\")=2,\"Lost\",IF(AND((E35=\"Won\"),OR(F35=\"DNF (Leading)\",F35=\"DNF (Tied)\",F35=\"DNF (Trailing)\")),\"Won\",IF(AND(COUNTIF(E35:F35,\"Won\")=1,OR(G35=\"DNF (Leading)\",G35=\"DNF (Tied)\",G35=\"DNF (Trailing)\")),\"Tied\",IF(OR(E35=\"DNF (Leading)\",E35=\"DNF (Tied)\",E35=\"DNF (Trailing)\"),\"Tied\",IF(AND((E35=\"Lost\"),OR(F35=\"DNF (Leading)\",F35=\"DNF (Tied)\",F35=\"DNF (Trailing)\")),\"Lost\",IF(C36=\"Bye\",\"Bye\",\"\")))))))","v":""},{"$f":"IF(C36=\"Bye\",0,IF(LEN(E35&F35&G35)=0,0,COUNTIF(E35:G35,\"Won\")*1+COUNTIF(E35:G35,\"DNF (Leading)\")*0.67+COUNTIF(E35:G35,\"DNF (Tied)\")*0.5+COUNTIF(E35:G35,\"DNF (Trailing)\")*0.33))","v":0},{"$f":"C36","v":0}]
[null,null,null,{"$f":"IF(ISERROR(VLOOKUP(C36,'Team List'!B:D,3,0)),\"\",VLOOKUP(C36,'Team List'!B:D,2,0))","v":""},{"$f":"IF(E35=\"\",\"\",IF(E35=\"Won\",\"Lost\",IF(E35=\"DNF (Leading)\",\"DNF (Trailing)\",IF(E35=\"DNF (Trailing)\",\"DNF (Leading)\",IF(E35=\"Lost\",\"Won\",E35)))))","v":""},{"$f":"IF(F35=\"\",\"\",IF(F35=\"Won\",\"Lost\",IF(F35=\"DNF (Leading)\",\"DNF (Trailing)\",IF(F35=\"DNF (Trailing)\",\"DNF (Leading)\",IF(F35=\"Lost\",\"Won\",F35)))))","v":""},{"$f":"IF(G35=\"\",\"\",IF(G35=\"Won\",\"Lost\",IF(G35=\"DNF (Leading)\",\"DNF (Trailing)\",IF(G35=\"DNF (Trailing)\",\"DNF (Leading)\",IF(G35=\"Lost\",\"Won\",G35)))))","v":""},{"$f":"IF(H35=\"Won\",\"Lost\",IF(H35=\"Lost\",\"Won\",H35))","v":""},{"$f":"IF(C35=\"Bye\",0,IF(LEN(E36&F36&G36)=0,0,COUNTIF(E36:G36,\"Won\")*1+COUNTIF(E36:G36,\"DNF (Leading)\")*0.67+COUNTIF(E36:G36,\"DNF (Tied)\")*0.5+COUNTIF(E36:G36,\"DNF (Trailing)\")*0.33))","v":0},{"$f":"C35","v":0}]
[18,null,null,{"$f":"IF(ISERROR(VLOOKUP(C37,'Team List'!B:D,3,0)),\"\",VLOOKUP(C37,'Team List'!B:D,2,0))","v":""},null,null,null,{"$f":"IF(COUNTIF(E37:G37,\"Won\")=2,\"Won\",IF(COUNTIF(E37:G37,\"Lost\")=2,\"Lost\",IF(AND((E37=\"Won\"),OR(F37=\"DNF (Leading)\",F37=\"DNF (Tied)\",F37=\"DNF (Trailing)\")),\"Won\",IF(AND(COUNTIF(E37:F37,\"Won\")=1,OR(G37=\"DNF (Leading)\",G37=\"DNF (Tied)\",G37=\"DNF (Trailing)\")),\"Tied\",IF(OR(E37=\"DNF (Leading)\",E37=\"DNF (Tied)\",E37=\"DNF (Trailing)\"),\"Tied\",IF(AND((E37=\"Lost\"),OR(F37=\"DNF (Leading)\",F37=\"DNF (Tied)\",F37=\"DNF (Trailing)\")),\"Lost\",IF(C38=\"Bye\",\"Bye\",\"\")))))))","v":""},{"$f":"IF(C38=\"Bye\",0,IF(LEN(E37&F37&G37)=0,0,COUNTIF(E37:G37,\"Won\")*1+COUNTIF(E37:G37,\"DNF (Leading)\")*0.67+COUNTIF(E37:G37,\"DNF (Tied)\")*0.5+COUNTIF(E37:G37,\"DNF (Trailing)\")*0.33))","v":0},{"$f":"C38","v":0}]
[null,null,null,{"$f":"IF(ISERROR(VLOOKUP(C38,'Team List'!B:D,3,0)),\"\",VLOOKUP(C38,'Team List'!B:D,2,0))","v":""},{"$f":"IF(E37=\"\",\"\",IF(E37=\"Won\",\"Lost\",IF(E37=\"DNF (Leading)\",\"DNF (Trailing)\",IF(E37=\"DNF (Trailing)\",\"DNF (Leading)\",IF(E37=\"Lost\",\"Won\",E37)))))","v":""},{"$f":"IF(F37=\"\",\"\",IF(F37=\"Won\",\"Lost\",IF(F37=\"DNF (Leading)\",\"DNF (Trailing)\",IF(F37=\"DNF (Trailing)\",\"DNF (Leading)\",IF(F37=\"Lost\",\"Won\",F37)))))","v":""},{"$f":"IF(G37=\"\",\"\",IF(G37=\"Won\",\"Lost\",IF(G37=\"DNF (Leading)\",\"DNF (Trailing)\",IF(G37=\"DNF (Trailing)\",\"DNF (Leading)\",IF(G37=\"Lost\",\"Won\",G37)))))","v":""},{"$f":"IF(H37=\"Won\",\"Lost\",IF(H37=\"Lost\",\"Won\",H37))","v":""},{"$f":"IF(C37=\"Bye\",0,IF(LEN(E38&F38&G38)=0,0,COUNTIF(E38:G38,\"Won\")*1+COUNTIF(E38:G38,\"DNF (Leading)\")*0.67+COUNTIF(E38:G38,\"DNF (Tied)\")*0.5+COUNTIF(E38:G38,\"DNF (Trailing)\")*0.33))","v":0},{"$f":"C37","v":0}]
[19,null,null,{"$f":"IF(ISERROR(VLOOKUP(C39,'Team List'!B:D,3,0)),\"\",VLOOKUP(C39,'Team List'!B:D,2,0))","v":""},null,null,null,{"$f":"IF(COUNTIF(E39:G39,\"Won\")=2,\"Won\",IF(COUNTIF(E39:G39,\"Lost\")=2,\"Lost\",IF(AND((E39=\"Won\"),OR(F39=\"DNF (Leading)\",F39=\"DNF (Tied)\",F39=\"DNF (Trailing)\")),\"Won\",IF(AND(COUNTIF(E39:F39,\"Won\")=1,OR(G39=\"DNF (Leading)\",G39=\"DNF (Tied)\",G39=\"DNF (Trailing)\")),\"Tied\",IF(OR(E39=\"DNF (Leading)\",E39=\"DNF (Tied)\",E39=\"DNF (Trailing)\"),\"Tied\",IF(AND((E39=\"Lost\"),OR(F39=\"DNF (Leading)\",F39=\"DNF (Tied)\",F39=\"DNF (Trailing)\")),\"Lost\",IF(C40=\"Bye\",\"Bye\",\"\")))))))","v":""},{"$f":"IF(C40=\"Bye\",0,IF(LEN(E39&F39&G39)=0,0,COUNTIF(E39:G39,\"Won\")*1+COUNTIF(E39:G39,\"DNF (Leading)\")*0.67+COUNTIF(E39:G39,\"DNF (Tied)\")*0.5+COUNTIF(E39:G39,\"DNF (Trailing)\")*0.33))","v":0},{"$f":"C40","v":0}]
[null,null,null,{"$f":"IF(ISERROR(VLOOKUP(C40,'Team List'!B:D,3,0)),\"\",VLOOKUP(C40,'Team List'!B:D,2,0))","v":""},{"$f":"IF(E39=\"\",\"\",IF(E39=\"Won\",\"Lost\",IF(E39=\"DNF (Leading)\",\"DNF (Trailing)\",IF(E39=\"DNF (Trailing)\",\"DNF (Leading)\",IF(E39=\"Lost\",\"Won\",E39)))))","v":""},{"$f":"IF(F39=\"\",\"\",IF(F39=\"Won\",\"Lost\",IF(F39=\"DNF (Leading)\",\"DNF (Trailing)\",IF(F39=\"DNF (Trailing)\",\"DNF (Leading)\",IF(F39=\"Lost\",\"Won\",F39)))))","v":""},{"$f":"IF(G39=\"\",\"\",IF(G39=\"Won\",\"Lost\",IF(G39=\"DNF (Leading)\",\"DNF (Trailing)\",IF(G39=\"DNF (Trailing)\",\"DNF (Leading)\",IF(G39=\"Lost\",\"Won\",G39)))))","v":""},{"$f":"IF(H39=\"Won\",\"Lost\",IF(H39=\"Lost\",\"Won\",H39))","v":""},{"$f":"IF(C39=\"Bye\",0,IF(LEN(E40&F40&G40)=0,0,COUNTIF(E40:G40,\"Won\")*1+COUNTIF(E40:G40,\"DNF (Leading)\")*0.67+COUNTIF(E40:G40,\"DNF (Tied)\")*0.5+COUNTIF(E40:G40,\"DNF (Trailing)\")*0.33))","v":0},{"$f":"C39","v":0}]
[20,null,null,{"$f":"IF(ISERROR(VLOOKUP(C41,'Team List'!B:D,3,0)),\"\",VLOOKUP(C41,'Team List'!B:D,2,0))","v":""},null,null,null,{"$f":"IF(COUNTIF(E41:G41,\"Won\")=2,\"Won\",IF(COUNTIF(E41:G41,\"Lost\")=2,\"Lost\",IF(AND((E41=\"Won\"),OR(F41=\"DNF (Leading)\",F41=\"DNF (Tied)\",F41=\"DNF (Trailing)\")),\"Won\",IF(AND(COUNTIF(E41:F41,\"Won\")=1,OR(G41=\"DNF (Leading)\",G41=\"DNF (Tied)\",G41=\"DNF (Trailing)\")),\"Tied\",IF(OR(E41=\"DNF (Leading)\",E41=\"DNF (Tied)\",E41=\"DNF (Trailing)\"),\"Tied\",IF(AND((E41=\"Lost\"),OR(F41=\"DNF (Leading)\",F41=\"DNF (Tied)\",F41=\"DNF (Trailing)\")),\"Lost\",IF(C42=\"Bye\",\"Bye\",\"\")))))))","v":""},{"$f":"IF(C42=\"Bye\",0,IF(LEN(E41&F41&G41)=0,0,COUNTIF(E41:G41,\"Won\")*1+COUNTIF(E41:G41,\"DNF (Leading)\")*0.67+COUNTIF(E41:G41,\"DNF (Tied)\")*0.5+COUNTIF(E41:G41,\"DNF (Trailing)\")*0.33))","v":0},{"$f":"C42","v":0}]
[null,null,null,{"$f":"IF(ISERROR(VLOOKUP(C42,'Team List'!B:D,3,0)),\"\",VLOOKUP(C42,'Team List'!B:D,2,0))","v":""},{"$f":"IF(E41=\"\",\"\",IF(E41=\"Won\",\"Lost\",IF(E41=\"DNF (Leading)\",\"DNF (Trailing)\",IF(E41=\"DNF (Trailing)\",\"DNF (Leading)\",IF(E41=\"Lost\",\"Won\",E41)))))","v":""},{"$f":"IF(F41=\"\",\"\",IF(F41=\"Won\",\"Lost\",IF(F41=\"DNF (Leading)\",\"DNF (Trailing)\",IF(F41=\"DNF (Trailing)\",\"DNF (Leading)\",IF(F41=\"Lost\",\"Won\",F41)))))","v":""},{"$f":"IF(G41=\"\",\"\",IF(G41=\"Won\",\"Lost\",IF(G41=\"DNF (Leading)\",\"DNF (Trailing)\",IF(G41=\"DNF (Trailing)\",\"DNF (Leading)\",IF(G41=\"Lost\",\"Won\",G41)))))","v":""},{"$f":"IF(H41=\"Won\",\"Lost\",IF(H41=\"Lost\",\"Won\",H41))","v":""},{"$f":"IF(C41=\"Bye\",0,IF(LEN(E42&F42&G42)=0,0,COUNTIF(E42:G42,\"Won\")*1+COUNTIF(E42:G42,\"DNF (Leading)\")*0.67+COUNTIF(E42:G42,\"DNF (Tied)\")*0.5+COUNTIF(E42:G42,\"DNF (Trailing)\")*0.33))","v":0},{"$f":"C41","v":0}]
[21,null,null,{"$f":"IF(ISERROR(VLOOKUP(C43,'Team List'!B:D,3,0)),\"\",VLOOKUP(C43,'Team List'!B:D,2,0))","v":""},null,null,null,{"$f":"IF(COUNTIF(E43:G43,\"Won\")=2,\"Won\",IF(COUNTIF(E43:G43,\"Lost\")=2,\"Lost\",IF(AND((E43=\"Won\"),OR(F43=\"DNF (Leading)\",F43=\"DNF (Tied)\",F43=\"DNF (Trailing)\")),\"Won\",IF(AND(COUNTIF(E43:F43,\"Won\")=1,OR(G43=\"DNF (Leading)\",G43=\"DNF (Tied)\",G43=\"DNF (Trailing)\")),\"Tied\",IF(OR(E43=\"DNF (Leading)\",E43=\"DNF (Tied)\",E43=\"DNF (Trailing)\"),\"Tied\",IF(AND((E43=\"Lost\"),OR(F43=\"DNF (Leading)\",F43=\"DNF (Tied)\",F43=\"DNF (Trailing)\")),\"Lost\",IF(C44=\"Bye\",\"Bye\",\"\")))))))","v":""},{"$f":"IF(C44=\"Bye\",0,IF(LEN(E43&F43&G43)=0,0,COUNTIF(E43:G43,\"Won\")*1+COUNTIF(E43:G43,\"DNF (Leading)\")*0.67+COUNTIF(E43:G43,\"DNF (Tied)\")*0.5+COUNTIF(E43:G43,\"DNF (Trailing)\")*0.33))","v":0},{"$f":"C44","v":0}]
[null,null,null,{"$f":"IF(ISERROR(VLOOKUP(C44,'Team List'!B:D,3,0)),\"\",VLOOKUP(C44,'Team List'!B:D,2,0))","v":""},{"$f":"IF(E43=\"\",\"\",IF(E43=\"Won\",\"Lost\",IF(E43=\"DNF (Leading)\",\"DNF (Trailing)\",IF(E43=\"DNF (Trailing)\",\"DNF (Leading)\",IF(E43=\"Lost\",\"Won\",E43)))))","v":""},{"$f":"IF(F43=\"\",\"\",IF(F43=\"Won\",\"Lost\",IF(F43=\"DNF (Leading)\",\"DNF (Trailing)\",IF(F43=\"DNF (Trailing)\",\"DNF (Leading)\",IF(F43=\"Lost\",\"Won\",F43)))))","v":""},{"$f":"IF(G43=\"\",\"\",IF(G43=\"Won\",\"Lost\",IF(G43=\"DNF (Leading)\",\"DNF (Trailing)\",IF(G43=\"DNF (Trailing)\",\"DNF (Leading)\",IF(G43=\"Lost\",\"Won\",G43)))))","v":""},{"$f":"IF(H43=\"Won\",\"Lost\",IF(H43=\"Lost\",\"Won\",H43))","v":""},{"$f":"IF(C43=\"Bye\",0,IF(LEN(E44&F44&G44)=0,0,COUNTIF(E44:G44,\"Won\")*1+COUNTIF(E44:G44,\"DNF (Leading)\")*0.67+COUNTIF(E44:G44,\"DNF (Tied)\")*0.5+COUNTIF(E44:G44,\"DNF (Trailing)\")*0.33))","v":0},{"$f":"C43","v":0}]
[22,null,null,{"$f":"IF(ISERROR(VLOOKUP(C45,'Team List'!B:D,3,0)),\"\",VLOOKUP(C45,'Team List'!B:D,2,0))","v":""},null,null,null,{"$f":"IF(COUNTIF(E45:G45,\"Won\")=2,\"Won\",IF(COUNTIF(E45:G45,\"Lost\")=2,\"Lost\",IF(AND((E45=\"Won\"),OR(F45=\"DNF (Leading)\",F45=\"DNF (Tied)\",F45=\"DNF (Trailing)\")),\"Won\",IF(AND(COUNTIF(E45:F45,\"Won\")=1,OR(G45=\"DNF (Leading)\",G45=\"DNF (Tied)\",G45=\"DNF (Trailing)\")),\"Tied\",IF(OR(E45=\"DNF (Leading)\",E45=\"DNF (Tied)\",E45=\"DNF (Trailing)\"),\"Tied\",IF(AND((E45=\"Lost\"),OR(F45=\"DNF (Leading)\",F45=\"DNF (Tied)\",F45=\"DNF (Trailing)\")),\"Lost\",IF(C46=\"Bye\",\"Bye\",\"\")))))))","v":""},{"$f":"IF(C46=\"Bye\",0,IF(LEN(E45&F45&G45)=0,0,COUNTIF(E45:G45,\"Won\")*1+COUNTIF(E45:G45,\"DNF (Leading)\")*0.67+COUNTIF(E45:G45,\"DNF (Tied)\")*0.5+COUNTIF(E45:G45,\"DNF (Trailing)\")*0.33))","v":0},{"$f":"C46","v":0}]
[null,null,null,{"$f":"IF(ISERROR(VLOOKUP(C46,'Team List'!B:D,3,0)),\"\",VLOOKUP(C46,'Team List'!B:D,2,0))","v":""},{"$f":"IF(E45=\"\",\"\",IF(E45=\"Won\",\"Lost\",IF(E45=\"DNF (Leading)\",\"DNF (Trailing)\",IF(E45=\"DNF (Trailing)\",\"DNF (Leading)\",IF(E45=\"Lost\",\"Won\",E45)))))","v":""},{"$f":"IF(F45=\"\",\"\",IF(F45=\"Won\",\"Lost\",IF(F45=\"DNF (Leading)\",\"DNF (Trailing)\",IF(F45=\"DNF (Trailing)\",\"DNF (Leading)\",IF(F45=\"Lost\",\"Won\",F45)))))","v":""},{"$f":"IF(G45=\"\",\"\",IF(G45=\"Won\",\"Lost\",IF(G45=\"DNF (Leading)\",\"DNF (Trailing)\",IF(G45=\"DNF (Trailing)\",\"DNF (Leading)\",IF(G45=\"Lost\",\"Won\",G45)))))","v":""},{"$f":"IF(H45=\"Won\",\"Lost\",IF(H45=\"Lost\",\"Won\",H45))","v":""},{"$f":"IF(C45=\"Bye\",0,IF(LEN(E46&F46&G46)=0,0,COUNTIF(E46:G46,\"Won\")*1+COUNTIF(E46:G46,\"DNF (Leading)\")*0.67+COUNTIF(E46:G46,\"DNF (Tied)\")*0.5+COUNTIF(E46:G46,\"DNF (Trailing)\")*0.33))","v":0},{"$f":"C45","v":0}]
[23,null,null,{"$f":"IF(ISERROR(VLOOKUP(C47,'Team List'!B:D,3,0)),\"\",VLOOKUP(C47,'Team List'!B:D,2,0))","v":""},null,null,null,{"$f":"IF(COUNTIF(E47:G47,\"Won\")=2,\"Won\",IF(COUNTIF(E47:G47,\"Lost\")=2,\"Lost\",IF(AND((E47=\"Won\"),OR(F47=\"DNF (Leading)\",F47=\"DNF (Tied)\",F47=\"DNF (Trailing)\")),\"Won\",IF(AND(COUNTIF(E47:F47,\"Won\")=1,OR(G47=\"DNF (Leading)\",G47=\"DNF (Tied)\",G47=\"DNF (Trailing)\")),\"Tied\",IF(OR(E47=\"DNF (Leading)\",E47=\"DNF (Tied)\",E47=\"DNF (Trailing)\"),\"Tied\",IF(AND((E47=\"Lost\"),OR(F47=\"DNF (Leading)\",F47=\"DNF (Tied)\",F47=\"DNF (Trailing)\")),\"Lost\",IF(C48=\"Bye\",\"Bye\",\"\")))))))","v":""},{"$f":"IF(C48=\"Bye\",0,IF(LEN(E47&F47&G47)=0,0,COUNTIF(E47:G47,\"Won\")*1+COUNTIF(E47:G47,\"DNF (Leading)\")*0.67+COUNTIF(E47:G47,\"DNF (Tied)\")*0.5+COUNTIF(E47:G47,\"DNF (Trailing)\")*0.33))","v":0},{"$f":"C48","v":0}]
[null,null,null,{"$f":"IF(ISERROR(VLOOKUP(C48,'Team List'!B:D,3,0)),\"\",VLOOKUP(C48,'Team List'!B:D,2,0))","v":""},{"$f":"IF(E47=\"\",\"\",IF(E47=\"Won\",\"Lost\",IF(E47=\"DNF (Leading)\",\"DNF (Trailing)\",IF(E47=\"DNF (Trailing)\",\"DNF (Leading)\",IF(E47=\"Lost\",\"Won\",E47)))))","v":""},{"$f":"IF(F47=\"\",\"\",IF(F47=\"Won\",\"Lost\",IF(F47=\"DNF (Leading)\",\"DNF (Trailing)\",IF(F47=\"DNF (Trailing)\",\"DNF (Leading)\",IF(F47=\"Lost\",\"Won\",F47)))))","v":""},{"$f":"IF(G47=\"\",\"\",IF(G47=\"Won\",\"Lost\",IF(G47=\"DNF (Leading)\",\"DNF (Trailing)\",IF(G47=\"DNF (Trailing)\",\"DNF (Leading)\",IF(G47=\"Lost\",\"Won\",G47)))))","v":""},{"$f":"IF(H47=\"Won\",\"Lost\",IF(H47=\"Lost\",\"Won\",H47))","v":""},{"$f":"IF(C47=\"Bye\",0,IF(LEN(E48&F48&G48)=0,0,COUNTIF(E48:G48,\"Won\")*1+COUNTIF(E48:G48,\"DNF (Leading)\")*0.67+COUNTIF(E48:G48,\"DNF (Tied)\")*0.5+COUNTIF(E48:G48,\"DNF (Trailing)\")*0.33))","v":0},{"$f":"C47","v":0}]
[24,null,null,{"$f":"IF(ISERROR(VLOOKUP(C49,'Team List'!B:D,3,0)),\"\",VLOOKUP(C49,'Team List'!B:D,2,0))","v":""},null,null,null,{"$f":"IF(COUNTIF(E49:G49,\"Won\")=2,\"Won\",IF(COUNTIF(E49:G49,\"Lost\")=2,\"Lost\",IF(AND((E49=\"Won\"),OR(F49=\"DNF (Leading)\",F49=\"DNF (Tied)\",F49=\"DNF (Trailing)\")),\"Won\",IF(AND(COUNTIF(E49:F49,\"Won\")=1,OR(G49=\"DNF (Leading)\",G49=\"DNF (Tied)\",G49=\"DNF (Trailing)\")),\"Tied\",IF(OR(E49=\"DNF (Leading)\",E49=\"DNF (Tied)\",E49=\"DNF (Trailing)\"),\"Tied\",IF(AND((E49=\"Lost\"),OR(F49=\"DNF (Leading)\",F49=\"DNF (Tied)\",F49=\"DNF (Trailing)\")),\"Lost\",IF(C50=\"Bye\",\"Bye\",\"\")))))))","v":""},{"$f":"IF(C50=\"Bye\",0,IF(LEN(E49&F49&G49)=0,0,COUNTIF(E49:G49,\"Won\")*1+COUNTIF(E49:G49,\"DNF (Leading)\")*0.67+COUNTIF(E49:G49,\"DNF (Tied)\")*0.5+COUNTIF(E49:G49,\"DNF (Trailing)\")*0.33))","v":0},{"$f":"C50","v":0}]
[null,null,null,{"$f":"IF(ISERROR(VLOOKUP(C50,'Team List'!B:D,3,0)),\"\",VLOOKUP(C50,'Team List'!B:D,2,0))","v":""},{"$f":"IF(E49=\"\",\"\",IF(E49=\"Won\",\"Lost\",IF(E49=\"DNF (Leading)\",\"DNF (Trailing)\",IF(E49=\"DNF (Trailing)\",\"DNF (Leading)\",IF(E49=\"Lost\",\"Won\",E49)))))","v":""},{"$f":"IF(F49=\"\",\"\",IF(F49=\"Won\",\"Lost\",IF(F49=\"DNF (Leading)\",\"DNF (Trailing)\",IF(F49=\"DNF (Trailing)\",\"DNF (Leading)\",IF(F49=\"Lost\",\"Won\",F49)))))","v":""},{"$f":"IF(G49=\"\",\"\",IF(G49=\"Won\",\"Lost\",IF(G49=\"DNF (Leading)\",\"DNF (Trailing)\",IF(G49=\"DNF (Trailing)\",\"DNF (Leading)\",IF(G49=\"Lost\",\"Won\",G49)))))","v":""},{"$f":"IF(H49=\"Won\",\"Lost\",IF(H49=\"Lost\",\"Won\",H49))","v":""},{"$f":"IF(C49=\"Bye\",0,IF(LEN(E50&F50&G50)=0,0,COUNTIF(E50:G50,\"Won\")*1+COUNTIF(E50:G50,\"DNF (Leading)\")*0.67+COUNTIF(E50:G50,\"DNF (Tied)\")*0.5+COUNTIF(E50:G50,\"DNF (Trailing)\")*0.33))","v":0},{"$f":"C49","v":0}]
[25,null,null,{"$f":"IF(ISERROR(VLOOKUP(C51,'Team List'!B:D,3,0)),\"\",VLOOKUP(C51,'Team List'!B:D,2,0))","v":""},null,null,null,{"$f":"IF(COUNTIF(E51:G51,\"Won\")=2,\"Won\",IF(COUNTIF(E51:G51,\"Lost\")=2,\"Lost\",IF(AND((E51=\"Won\"),OR(F51=\"DNF (Leading)\",F51=\"DNF (Tied)\",F51=\"DNF (Trailing)\")),\"Won\",IF(AND(COUNTIF(E51:F51,\"Won\")=1,OR(G51=\"DNF (Leading)\",G51=\"DNF (Tied)\",G51=\"DNF (Trailing)\")),\"Tied\",IF(OR(E51=\"DNF (Leading)\",E51=\"DNF (Tied)\",E51=\"DNF (Trailing)\"),\"Tied\",IF(AND((E51=\"Lost\"),OR(F51=\"DNF (Leading)\",F51=\"DNF (Tied)\",F51=\"DNF (Trailing)\")),\"Lost\",IF(C52=\"Bye\",\"Bye\",\"\")))))))","v":""},{"$f":"IF(C52=\"Bye\",0,IF(LEN(E51&F51&G51)=0,0,COUNTIF(E51:G51,\"Won\")*1+COUNTIF(E51:G51,\"DNF (Leading)\")*0.67+COUNTIF(E51:G51,\"DNF (Tied)\")*0.5+COUNTIF(E51:G51,\"DNF (Trailing)\")*0.33))","v":0},{"$f":"C52","v":0}]
[null,null,null,{"$f":"IF(ISERROR(VLOOKUP(C52,'Team List'!B:D,3,0)),\"\",VLOOKUP(C52,'Team List'!B:D,2,0))","v":""},{"$f":"IF(E51=\"\",\"\",IF(E51=\"Won\",\"Lost\",IF(E51=\"DNF (Leading)\",\"DNF (Trailing)\",IF(E51=\"DNF (Trailing)\",\"DNF (Leading)\",IF(E51=\"Lost\",\"Won\",E51)))))","v":""},{"$f":"IF(F51=\"\",\"\",IF(F51=\"Won\",\"Lost\",IF(F51=\"DNF (Leading)\",\"DNF (Trailing)\",IF(F51=\"DNF (Trailing)\",\"DNF (Leading)\",IF(F51=\"Lost\",\"Won\",F51)))))","v":""},{"$f":"IF(G51=\"\",\"\",IF(G51=\"Won\",\"Lost\",IF(G51=\"DNF (Leading)\",\"DNF (Trailing)\",IF(G51=\"DNF (Trailing)\",\"DNF (Leading)\",IF(G51=\"Lost\",\"Won\",G51)))))","v":""},{"$f":"IF(H51=\"Won\",\"Lost\",IF(H51=\"Lost\",\"Won\",H51))","v":""},{"$f":"IF(C51=\"Bye\",0,IF(LEN(E52&F52&G52)=0,0,COUNTIF(E52:G52,\"Won\")*1+COUNTIF(E52:G52,\"DNF (Leading)\")*0.67+COUNTIF(E52:G52,\"DNF (Tied)\")*0.5+COUNTIF(E52:G52,\"DNF (Trailing)\")*0.33))","v":0},{"$f":"C51","v":0}]
[26,null,null,{"$f":"IF(ISERROR(VLOOKUP(C53,'Team List'!B:D,3,0)),\"\",VLOOKUP(C53,'Team List'!B:D,2,0))","v":""},null,null,null,{"$f":"IF(COUNTIF(E53:G53,\"Won\")=2,\"Won\",IF(COUNTIF(E53:G53,\"Lost\")=2,\"Lost\",IF(AND((E53=\"Won\"),OR(F53=\"DNF (Leading)\",F53=\"DNF (Tied)\",F53=\"DNF (Trailing)\")),\"Won\",IF(AND(COUNTIF(E53:F53,\"Won\")=1,OR(G53=\"DNF (Leading)\",G53=\"DNF (Tied)\",G53=\"DNF (Trailing)\")),\"Tied\",IF(OR(E53=\"DNF (Leading)\",E53=\"DNF (Tied)\",E53=\"DNF (Trailing)\"),\"Tied\",IF(AND((E53=\"Lost\"),OR(F53=\"DNF (Leading)\",F53=\"DNF (Tied)\",F53=\"DNF (Trailing)\")),\"Lost\",IF(C54=\"Bye\",\"Bye\",\"\")))))))","v":""},{"$f":"IF(C54=\"Bye\",0,IF(LEN(E53&F53&G53)=0,0,COUNTIF(E53:G53,\"Won\")*1+COUNTIF(E53:G53,\"DNF (Leading)\")*0.67+COUNTIF(E53:G53,\"DNF (Tied)\")*0.5+COUNTIF(E53:G53,\"DNF (Trailing)\")*0.33))","v":0},{"$f":"C54","v":0}]
[null,null,null,{"$f":"IF(ISERROR(VLOOKUP(C54,'Team List'!B:D,3,0)),\"\",VLOOKUP(C54,'Team List'!B:D,2,0))","v":""},{"$f":"IF(E53=\"\",\"\",IF(E53=\"Won\",\"Lost\",IF(E53=\"DNF (Leading)\",\"DNF (Trailing)\",IF(E53=\"DNF (Trailing)\",\"DNF (Leading)\",IF(E53=\"Lost\",\"Won\",E53)))))","v":""},{"$f":"IF(F53=\"\",\"\",IF(F53=\"Won\",\"Lost\",IF(F53=\"DNF (Leading)\",\"DNF (Trailing)\",IF(F53=\"DNF (Trailing)\",\"DNF (Leading)\",IF(F53=\"Lost\",\"Won\",F53)))))","v":""},{"$f":"IF(G53=\"\",\"\",IF(G53=\"Won\",\"Lost\",IF(G53=\"DNF (Leading)\",\"DNF (Trailing)\",IF(G53=\"DNF (Trailing)\",\"DNF (Leading)\",IF(G53=\"Lost\",\"Won\",G53)))))","v":""},{"$f":"IF(H53=\"Won\",\"Lost\",IF(H53=\"Lost\",\"Won\",H53))","v":""},{"$f":"IF(C53=\"Bye\",0,IF(LEN(E54&F54&G54)=0,0,COUNTIF(E54:G54,\"Won\")*1+COUNTIF(E54:G54,\"DNF (Leading)\")*0.67+COUNTIF(E54:G54,\"DNF (Tied)\")*0.5+COUNTIF(E54:G54,\"DNF (Trailing)\")*0.33))","v":0},{"$f":"C53","v":0}]
[27,null,null,{"$f":"IF(ISERROR(VLOOKUP(C55,'Team List'!B:D,3,0)),\"\",VLOOKUP(C55,'Team List'!B:D,2,0))","v":""},null,null,null,{"$f":"IF(COUNTIF(E55:G55,\"Won\")=2,\"Won\",IF(COUNTIF(E55:G55,\"Lost\")=2,\"Lost\",IF(AND((E55=\"Won\"),OR(F55=\"DNF (Leading)\",F55=\"DNF (Tied)\",F55=\"DNF (Trailing)\")),\"Won\",IF(AND(COUNTIF(E55:F55,\"Won\")=1,OR(G55=\"DNF (Leading)\",G55=\"DNF (Tied)\",G55=\"DNF (Trailing)\")),\"Tied\",IF(OR(E55=\"DNF (Leading)\",E55=\"DNF (Tied)\",E55=\"DNF (Trailing)\"),\"Tied\",IF(AND((E55=\"Lost\"),OR(F55=\"DNF (Leading)\",F55=\"DNF (Tied)\",F55=\"DNF (Trailing)\")),\"Lost\",IF(C56=\"Bye\",\"Bye\",\"\")))))))","v":""},{"$f":"IF(C56=\"Bye\",0,IF(LEN(E55&F55&G55)=0,0,COUNTIF(E55:G55,\"Won\")*1+COUNTIF(E55:G55,\"DNF (Leading)\")*0.67+COUNTIF(E55:G55,\"DNF (Tied)\")*0.5+COUNTIF(E55:G55,\"DNF (Trailing)\")*0.33))","v":0},{"$f":"C56","v":0}]
[null,null,null,{"$f":"IF(ISERROR(VLOOKUP(C56,'Team List'!B:D,3,0)),\"\",VLOOKUP(C56,'Team List'!B:D,2,0))","v":""},{"$f":"IF(E55=\"\",\"\",IF(E55=\"Won\",\"Lost\",IF(E55=\"DNF (Leading)\",\"DNF (Trailing)\",IF(E55=\"DNF (Trailing)\",\"DNF (Leading)\",IF(E55=\"Lost\",\"Won\",E55)))))","v":""},{"$f":"IF(F55=\"\",\"\",IF(F55=\"Won\",\"Lost\",IF(F55=\"DNF (Leading)\",\"DNF (Trailing)\",IF(F55=\"DNF (Trailing)\",\"DNF (Leading)\",IF(F55=\"Lost\",\"Won\",F55)))))","v":""},{"$f":"IF(G55=\"\",\"\",IF(G55=\"Won\",\"Lost\",IF(G55=\"DNF (Leading)\",\"DNF (Trailing)\",IF(G55=\"DNF (Trailing)\",\"DNF (Leading)\",IF(G55=\"Lost\",\"Won\",G55)))))","v":""},{"$f":"IF(H55=\"Won\",\"Lost\",IF(H55=\"Lost\",\"Won\",H55))","v":""},{"$f":"IF(C55=\"Bye\",0,IF(LEN(E56&F56&G56)=0,0,COUNTIF(E56:G56,\"Won\")*1+COUNTIF(E56:G56,\"DNF (Leading)\")*0.67+COUNTIF(E56:G56,\"DNF (Tied)\")*0.5+COUNTIF(E56:G56,\"DNF (Trailing)\")*0.33))","v":0},{"$f":"C55","v":0}]
[28,null,null,{"$f":"IF(ISERROR(VLOOKUP(C57,'Team List'!B:D,3,0)),\"\",VLOOKUP(C57,'Team List'!B:D,2,0))","v":""},null,null,null,{"$f":"IF(COUNTIF(E57:G57,\"Won\")=2,\"Won\",IF(COUNTIF(E57:G57,\"Lost\")=2,\"Lost\",IF(AND((E57=\"Won\"),OR(F57=\"DNF (Leading)\",F57=\"DNF (Tied)\",F57=\"DNF (Trailing)\")),\"Won\",IF(AND(COUNTIF(E57:F57,\"Won\")=1,OR(G57=\"DNF (Leading)\",G57=\"DNF (Tied)\",G57=\"DNF (Trailing)\")),\"Tied\",IF(OR(E57=\"DNF (Leading)\",E57=\"DNF (Tied)\",E57=\"DNF (Trailing)\"),\"Tied\",IF(AND((E57=\"Lost\"),OR(F57=\"DNF (Leading)\",F57=\"DNF (Tied)\",F57=\"DNF (Trailing)\")),\"Lost\",IF(C58=\"Bye\",\"Bye\",\"\")))))))","v":""},{"$f":"IF(C58=\"Bye\",0,IF(LEN(E57&F57&G57)=0,0,COUNTIF(E57:G57,\"Won\")*1+COUNTIF(E57:G57,\"DNF (Leading)\")*0.67+COUNTIF(E57:G57,\"DNF (Tied)\")*0.5+COUNTIF(E57:G57,\"DNF (Trailing)\")*0.33))","v":0},{"$f":"C58","v":0}]
[null,null,null,{"$f":"IF(ISERROR(VLOOKUP(C58,'Team List'!B:D,3,0)),\"\",VLOOKUP(C58,'Team List'!B:D,2,0))","v":""},{"$f":"IF(E57=\"\",\"\",IF(E57=\"Won\",\"Lost\",IF(E57=\"DNF (Leading)\",\"DNF (Trailing)\",IF(E57=\"DNF (Trailing)\",\"DNF (Leading)\",IF(E57=\"Lost\",\"Won\",E57)))))","v":""},{"$f":"IF(F57=\"\",\"\",IF(F57=\"Won\",\"Lost\",IF(F57=\"DNF (Leading)\",\"DNF (Trailing)\",IF(F57=\"DNF (Trailing)\",\"DNF (Leading)\",IF(F57=\"Lost\",\"Won\",F57)))))","v":""},{"$f":"IF(G57=\"\",\"\",IF(G57=\"Won\",\"Lost\",IF(G57=\"DNF (Leading)\",\"DNF (Trailing)\",IF(G57=\"DNF (Trailing)\",\"DNF (Leading)\",IF(G57=\"Lost\",\"Won\",G57)))))","v":""},{"$f":"IF(H57=\"Won\",\"Lost\",IF(H57=\"Lost\",\"Won\",H57))","v":""},{"$f":"IF(C57=\"Bye\",0,IF(LEN(E58&F58&G58)=0,0,COUNTIF(E58:G58,\"Won\")*1+COUNTIF(E58:G58,\"DNF (Leading)\")*0.67+COUNTIF(E58:G58,\"DNF (Tied)\")*0.5+COUNTIF(E58:G58,\"DNF (Trailing)\")*0.33))","v":0},{"$f":"C57","v":0}]
[29,null,null,{"$f":"IF(ISERROR(VLOOKUP(C59,'Team List'!B:D,3,0)),\"\",VLOOKUP(C59,'Team List'!B:D,2,0))","v":""},null,null,null,{"$f":"IF(COUNTIF(E59:G59,\"Won\")=2,\"Won\",IF(COUNTIF(E59:G59,\"Lost\")=2,\"Lost\",IF(AND((E59=\"Won\"),OR(F59=\"DNF (Leading)\",F59=\"DNF (Tied)\",F59=\"DNF (Trailing)\")),\"Won\",IF(AND(COUNTIF(E59:F59,\"Won\")=1,OR(G59=\"DNF (Leading)\",G59=\"DNF (Tied)\",G59=\"DNF (Trailing)\")),\"Tied\",IF(OR(E59=\"DNF (Leading)\",E59=\"DNF (Tied)\",E59=\"DNF (Trailing)\"),\"Tied\",IF(AND((E59=\"Lost\"),OR(F59=\"DNF (Leading)\",F59=\"DNF (Tied)\",F59=\"DNF (Trailing)\")),\"Lost\",IF(C60=\"Bye\",\"Bye\",\"\")))))))","v":""},{"$f":"IF(C60=\"Bye\",0,IF(LEN(E59&F59&G59)=0,0,COUNTIF(E59:G59,\"Won\")*1+COUNTIF(E59:G59,\"DNF (Leading)\")*0.67+COUNTIF(E59:G59,\"DNF (Tied)\")*0.5+COUNTIF(E59:G59,\"DNF (Trailing)\")*0.33))","v":0},{"$f":"C60","v":0}]
[null,null,null,{"$f":"IF(ISERROR(VLOOKUP(C60,'Team List'!B:D,3,0)),\"\",VLOOKUP(C60,'Team List'!B:D,2,0))","v":""},{"$f":"IF(E59=\"\",\"\",IF(E59=\"Won\",\"Lost\",IF(E59=\"DNF (Leading)\",\"DNF (Trailing)\",IF(E59=\"DNF (Trailing)\",\"DNF (Leading)\",IF(E59=\"Lost\",\"Won\",E59)))))","v":""},{"$f":"IF(F59=\"\",\"\",IF(F59=\"Won\",\"Lost\",IF(F59=\"DNF (Leading)\",\"DNF (Trailing)\",IF(F59=\"DNF (Trailing)\",\"DNF (Leading)\",IF(F59=\"Lost\",\"Won\",F59)))))","v":""},{"$f":"IF(G59=\"\",\"\",IF(G59=\"Won\",\"Lost\",IF(G59=\"DNF (Leading)\",\"DNF (Trailing)\",IF(G59=\"DNF (Trailing)\",\"DNF (Leading)\",IF(G59=\"Lost\",\"Won\",G59)))))","v":""},{"$f":"IF(H59=\"Won\",\"Lost\",IF(H59=\"Lost\",\"Won\",H59))","v":""},{"$f":"IF(C59=\"Bye\",0,IF(LEN(E60&F60&G60)=0,0,COUNTIF(E60:G60,\"Won\")*1+COUNTIF(E60:G60,\"DNF (Leading)\")*0.67+COUNTIF(E60:G60,\"DNF (Tied)\")*0.5+COUNTIF(E60:G60,\"DNF (Trailing)\")*0.33))","v":0},{"$f":"C59","v":0}]
[30,null,null,{"$f":"IF(ISERROR(VLOOKUP(C61,'Team List'!B:D,3,0)),\"\",VLOOKUP(C61,'Team List'!B:D,2,0))","v":""},null,null,null,{"$f":"IF(COUNTIF(E61:G61,\"Won\")=2,\"Won\",IF(COUNTIF(E61:G61,\"Lost\")=2,\"Lost\",IF(AND((E61=\"Won\"),OR(F61=\"DNF (Leading)\",F61=\"DNF (Tied)\",F61=\"DNF (Trailing)\")),\"Won\",IF(AND(COUNTIF(E61:F61,\"Won\")=1,OR(G61=\"DNF (Leading)\",G61=\"DNF (Tied)\",G61=\"DNF (Trailing)\")),\"Tied\",IF(OR(E61=\"DNF (Leading)\",E61=\"DNF (Tied)\",E61=\"DNF (Trailing)\"),\"Tied\",IF(AND((E61=\"Lost\"),OR(F61=\"DNF (Leading)\",F61=\"DNF (Tied)\",F61=\"DNF (Trailing)\")),\"Lost\",IF(C62=\"Bye\",\"Bye\",\"\")))))))","v":""},{"$f":"IF(C62=\"Bye\",0,IF(LEN(E61&F61&G61)=0,0,COUNTIF(E61:G61,\"Won\")*1+COUNTIF(E61:G61,\"DNF (Leading)\")*0.67+COUNTIF(E61:G61,\"DNF (Tied)\")*0.5+COUNTIF(E61:G61,\"DNF (Trailing)\")*0.33))","v":0},{"$f":"C62","v":0}]
[null,null,null,{"$f":"IF(ISERROR(VLOOKUP(C62,'Team List'!B:D,3,0)),\"\",VLOOKUP(C62,'Team List'!B:D,2,0))","v":""},{"$f":"IF(E61=\"\",\"\",IF(E61=\"Won\",\"Lost\",IF(E61=\"DNF (Leading)\",\"DNF (Trailing)\",IF(E61=\"DNF (Trailing)\",\"DNF (Leading)\",IF(E61=\"Lost\",\"Won\",E61)))))","v":""},{"$f":"IF(F61=\"\",\"\",IF(F61=\"Won\",\"Lost\",IF(F61=\"DNF (Leading)\",\"DNF (Trailing)\",IF(F61=\"DNF (Trailing)\",\"DNF (Leading)\",IF(F61=\"Lost\",\"Won\",F61)))))","v":""},{"$f":"IF(G61=\"\",\"\",IF(G61=\"Won\",\"Lost\",IF(G61=\"DNF (Leading)\",\"DNF (Trailing)\",IF(G61=\"DNF (Trailing)\",\"DNF (Leading)\",IF(G61=\"Lost\",\"Won\",G61)))))","v":""},{"$f":"IF(H61=\"Won\",\"Lost\",IF(H61=\"Lost\",\"Won\",H61))","v":""},{"$f":"IF(C61=\"Bye\",0,IF(LEN(E62&F62&G62)=0,0,COUNTIF(E62:G62,\"Won\")*1+COUNTIF(E62:G62,\"DNF (Leading)\")*0.67+COUNTIF(E62:G62,\"DNF (Tied)\")*0.5+COUNTIF(E62:G62,\"DNF (Trailing)\")*0.33))","v":0},{"$f":"C61","v":0}]
[31,null,null,{"$f":"IF(ISERROR(VLOOKUP(C63,'Team List'!B:D,3,0)),\"\",VLOOKUP(C63,'Team List'!B:D,2,0))","v":""},null,null,null,{"$f":"IF(COUNTIF(E63:G63,\"Won\")=2,\"Won\",IF(COUNTIF(E63:G63,\"Lost\")=2,\"Lost\",IF(AND((E63=\"Won\"),OR(F63=\"DNF (Leading)\",F63=\"DNF (Tied)\",F63=\"DNF (Trailing)\")),\"Won\",IF(AND(COUNTIF(E63:F63,\"Won\")=1,OR(G63=\"DNF (Leading)\",G63=\"DNF (Tied)\",G63=\"DNF (Trailing)\")),\"Tied\",IF(OR(E63=\"DNF (Leading)\",E63=\"DNF (Tied)\",E63=\"DNF (Trailing)\"),\"Tied\",IF(AND((E63=\"Lost\"),OR(F63=\"DNF (Leading)\",F63=\"DNF (Tied)\",F63=\"DNF (Trailing)\")),\"Lost\",IF(C64=\"Bye\",\"Bye\",\"\")))))))","v":""},{"$f":"IF(C64=\"Bye\",0,IF(LEN(E63&F63&G63)=0,0,COUNTIF(E63:G63,\"Won\")*1+COUNTIF(E63:G63,\"DNF (Leading)\")*0.67+COUNTIF(E63:G63,\"DNF (Tied)\")*0.5+COUNTIF(E63:G63,\"DNF (Trailing)\")*0.33))","v":0},{"$f":"C64","v":0}]
[null,null,null,{"$f":"IF(ISERROR(VLOOKUP(C64,'Team List'!B:D,3,0)),\"\",VLOOKUP(C64,'Team List'!B:D,2,0))","v":""},{"$f":"IF(E63=\"\",\"\",IF(E63=\"Won\",\"Lost\",IF(E63=\"DNF (Leading)\",\"DNF (Trailing)\",IF(E63=\"DNF (Trailing)\",\"DNF (Leading)\",IF(E63=\"Lost\",\"Won\",E63)))))","v":""},{"$f":"IF(F63=\"\",\"\",IF(F63=\"Won\",\"Lost\",IF(F63=\"DNF (Leading)\",\"DNF (Trailing)\",IF(F63=\"DNF (Trailing)\",\"DNF (Leading)\",IF(F63=\"Lost\",\"Won\",F63)))))","v":""},{"$f":"IF(G63=\"\",\"\",IF(G63=\"Won\",\"Lost\",IF(G63=\"DNF (Leading)\",\"DNF (Trailing)\",IF(G63=\"DNF (Trailing)\",\"DNF (Leading)\",IF(G63=\"Lost\",\"Won\",G63)))))","v":""},{"$f":"IF(H63=\"Won\",\"Lost\",IF(H63=\"Lost\",\"Won\",H63))","v":""},{"$f":"IF(C63=\"Bye\",0,IF(LEN(E64&F64&G64)=0,0,COUNTIF(E64:G64,\"Won\")*1+COUNTIF(E64:G64,\"DNF (Leading)\")*0.67+COUNTIF(E64:G64,\"DNF (Tied)\")*0.5+COUNTIF(E64:G64,\"DNF (Trailing)\")*0.33))","v":0},{"$f":"C63","v":0}]
[32,null,null,{"$f":"IF(ISERROR(VLOOKUP(C65,'Team List'!B:D,3,0)),\"\",VLOOKUP(C65,'Team List'!B:D,2,0))","v":""},null,null,null,{"$f":"IF(COUNTIF(E65:G65,\"Won\")=2,\"Won\",IF(COUNTIF(E65:G65,\"Lost\")=2,\"Lost\",IF(AND((E65=\"Won\"),OR(F65=\"DNF (Leading)\",F65=\"DNF (Tied)\",F65=\"DNF (Trailing)\")),\"Won\",IF(AND(COUNTIF(E65:F65,\"Won\")=1,OR(G65=\"DNF (Leading)\",G65=\"DNF (Tied)\",G65=\"DNF (Trailing)\")),\"Tied\",IF(OR(E65=\"DNF (Leading)\",E65=\"DNF (Tied)\",E65=\"DNF (Trailing)\"),\"Tied\",IF(AND((E65=\"Lost\"),OR(F65=\"DNF (Leading)\",F65=\"DNF (Tied)\",F65=\"DNF (Trailing)\")),\"Lost\",IF(C66=\"Bye\",\"Bye\",\"\")))))))","v":""},{"$f":"IF(C66=\"Bye\",0,IF(LEN(E65&F65&G65)=0,0,COUNTIF(E65:G65,\"Won\")*1+COUNTIF(E65:G65,\"DNF (Leading)\")*0.67+COUNTIF(E65:G65,\"DNF (Tied)\")*0.5+COUNTIF(E65:G65,\"DNF (Trailing)\")*0.33))","v":0},{"$f":"C66","v":0}]
[null,null,null,{"$f":"IF(ISERROR(VLOOKUP(C66,'Team List'!B:D,3,0)),\"\",VLOOKUP(C66,'Team List'!B:D,2,0))","v":""},{"$f":"IF(E65=\"\",\"\",IF(E65=\"Won\",\"Lost\",IF(E65=\"DNF (Leading)\",\"DNF (Trailing)\",IF(E65=\"DNF (Trailing)\",\"DNF (Leading)\",IF(E65=\"Lost\",\"Won\",E65)))))","v":""},{"$f":"IF(F65=\"\",\"\",IF(F65=\"Won\",\"Lost\",IF(F65=\"DNF (Leading)\",\"DNF (Trailing)\",IF(F65=\"DNF (Trailing)\",\"DNF (Leading)\",IF(F65=\"Lost\",\"Won\",F65)))))","v":""},{"$f":"IF(G65=\"\",\"\",IF(G65=\"Won\",\"Lost\",IF(G65=\"DNF (Leading)\",\"DNF (Trailing)\",IF(G65=\"DNF (Trailing)\",\"DNF (Leading)\",IF(G65=\"Lost\",\"Won\",G65)))))","v":""},{"$f":"IF(H65=\"Won\",\"Lost\",IF(H65=\"Lost\",\"Won\",H65))","v":""},{"$f":"IF(C65=\"Bye\",0,IF(LEN(E66&F66&G66)=0,0,COUNTIF(E66:G66,\"Won\")*1+COUNTIF(E66:G66,\"DNF (Leading)\")*0.67+COUNTIF(E66:G66,\"DNF (Tied)\")*0.5+COUNTIF(E66:G66,\"DNF (Trailing)\")*0.33))","v":0},{"$f":"C65","v":0}]

{"sheet":"Elim Bracket - 8","index":14,"n_rows":16,"n_cols":26,"rows_kept":16,"cut":false,"hidden":false,"merged":[[0,1,0,7],[2,10,2,16],[6,19,6,25],[12,19,12,25]]}
[null,"Quarter Finals"]
[null,"Seed","Team Number","Team Name","Game 1","Game 2","Game 3","Match"]
[null,1,{"$f":"VLOOKUP(B3,'Team List'!BC:BD,2,0)","v":"T00"},{"$f":"VLOOKUP(C3,'Team List'!B:C,2,0)","v":"Bye"},null,null,null,{"$f":"IF(COUNTIF(E3:G3,\"Won\")=2,\"Won\",IF(COUNTIF(E3:G3,\"Lost\")=2,\"Lost\",IF(AND((E3=\"Won\"),OR(F3=\"Tied (Leading)\",F3=\"Tied\",F3=\"Tied (Trailing)\")),\"Won\",IF(AND(COUNTIF(E3:F3,\"Won\")=1,OR(G3=\"Tied (Leading)\",G3=\"Tied\",G3=\"Tied (Trailing)\")),\"Tied\",\"\"))))","v":""},null,null,"Semi Finals"]
[null,8,{"$f":"VLOOKUP(B4,'Team List'!BC:BD,2,0)","v":"T09"},{"$f":"VLOOKUP(C4,'Team List'!B:C,2,0)","v":0},{"$f":"IF(E3=\"\",\"\",IF(E3=\"Won\",\"Lost\",IF(E3=\"Tied (Leading)\",\"Tied (Trailing)\",IF(E3=\"Tied (Trailing)\",\"Tied (Leading)\",IF(E3=\"Lost\",\"Won\",E3)))))","v":""},{"$f":"IF(F3=\"\",\"\",IF(F3=\"Won\",\"Lost\",IF(F3=\"Tied (Leading)\",\"Tied (Trailing)\",IF(F3=\"Tied (Trailing)\",\"Tied (Leading)\",IF(F3=\"Lost\",\"Won\",F3)))))","v":""},{"$f":"IF(G3=\"\",\"\",IF(G3=\"Won\",\"Lost\",IF(G3=\"Tied (Leading)\",\"Tied (Trailing)\",IF(G3=\"Tied (Trailing)\",\"Tied (Leading)\",IF(G3=\"Lost\",\"Won\",G3)))))","v":""},{"$f":"IF(H3=\"Won\",\"Lost\",IF(H3=\"Lost\",\"Won\",H3))","v":""},null,null,"seed","Team Number","Team Name","Game 1","Game 2","Game 3","Match"]
[null,null,null,null,null,null,null,null,null,null,{"$f":"IF(H3=\"\",\"\",IF(H3=\"Won\",B3,B4))","v":""},{"$f":"IF(K5=\"\",\"\",VLOOKUP(K5,'Team List'!BC:BD,2,0))","v":""},{"$f":"IF(L5=\"\",\"\",VLOOKUP(L5,'Team List'!B:C,2,0))","v":""},null,null,null,{"$f":"IF(COUNTIF(N5:P5,\"Won\")=2,\"Won\",IF(COUNTIF(N5:P5,\"Lost\")=2,\"Lost\",IF(AND((N5=\"Won\"),OR(O5=\"Tied (Leading)\",O5=\"Tied\",O5=\"Tied (Trailing)\")),\"Won\",IF(AND(COUNTIF(N5:O5,\"Won\")=1,OR(P5=\"Tied (Leading)\",P5=\"Tied\",P5=\"Tied (Trailing)\")),\"Tied\",\"\"))))","v":""}]
[null,null,null,null,null,null,null,null,null,null,{"$f":"IF(H7=\"\",\"\",IF(H7=\"Won\",B7,B8))","v":""},{"$f":"IF(K6=\"\",\"\",VLOOKUP(K6,'Team List'!BC:BD,2,0))","v":""},{"$f":"IF(L6=\"\",\"\",VLOOKUP(L6,'Team List'!B:C,2,0))","v":""},{"$f":"IF(N5=\"\",\"\",IF(N5=\"Won\",\"Lost\",IF(N5=\"Tied (Leading)\",\"Tied (Trailing)\",IF(N5=\"Tied (Trailing)\",\"Tied (Leading)\",IF(N5=\"Lost\",\"Won\",N5)))))","v":""},{"$f":"IF(O5=\"\",\"\",IF(O5=\"Won\",\"Lost\",IF(O5=\"Tied (Leading)\",\"Tied (Trailing)\",IF(O5=\"Tied (Trailing)\",\"Tied (Leading)\",IF(O5=\"Lost\",\"Won\",O5)))))","v":""},{"$f":"IF(P5=\"\",\"\",IF(P5=\"Won\",\"Lost\",IF(P5=\"Tied (Leading)\",\"Tied (Trailing)\",IF(P5=\"Tied (Trailing)\",\"Tied (Leading)\",IF(P5=\"Lost\",\"Won\",P5)))))","v":""},{"$f":"IF(Q5=\"Won\",\"Lost\",IF(Q5=\"Lost\",\"Won\",Q5))","v":""}]
[null,4,{"$f":"VLOOKUP(B7,'Team List'!BC:BD,2,0)","v":"T47"},{"$f":"VLOOKUP(C7,'Team List'!B:C,2,0)","v":0},null,null,null,{"$f":"IF(COUNTIF(E7:G7,\"Won\")=2,\"Won\",IF(COUNTIF(E7:G7,\"Lost\")=2,\"Lost\",IF(AND((E7=\"Won\"),OR(F7=\"Tied (Leading)\",F7=\"Tied\",F7=\"Tied (Trailing)\")),\"Won\",IF(AND(COUNTIF(E7:F7,\"Won\")=1,OR(G7=\"Tied (Leading)\",G7=\"Tied\",G7=\"Tied (Trailing)\")),\"Tied\",\"\"))))","v":""},null,null,null,null,null,null,null,null,null,null,null,"The Championship Match"]
[null,5,{"$f":"VLOOKUP(B8,'Team List'!BC:BD,2,0)","v":"T43"},{"$f":"VLOOKUP(C8,'Team List'!B:C,2,0)","v":0},{"$f":"IF(E7=\"\",\"\",IF(E7=\"Won\",\"Lost\",IF(E7=\"Tied (Leading)\",\"Tied (Trailing)\",IF(E7=\"Tied (Trailing)\",\"Tied (Leading)\",IF(E7=\"Lost\",\"Won\",E7)))))","v":""},{"$f":"IF(F7=\"\",\"\",IF(F7=\"Won\",\"Lost\",IF(F7=\"Tied (Leading)\",\"Tied (Trailing)\",IF(F7=\"Tied (Trailing)\",\"Tied (Leading)\",IF(F7=\"Lost\",\"Won\",F7)))))","v":""},{"$f":"IF(G7=\"\",\"\",IF(G7=\"Won\",\"Lost\",IF(G7=\"Tied (Leading)\",\"Tied (Trailing)\",IF(G7=\"Tied (Trailing)\",\"Tied (Leading)\",IF(G7=\"Lost\",\"Won\",G7)))))","v":""},{"$f":"IF(H7=\"Won\",\"Lost\",IF(H7=\"Lost\",\"Won\",H7))","v":""},null,null,null,null,null,null,null,null,null,null,null,"seed","Team Number","Team Name","Game 1","Game 2","Game 3","Finish"]
[null,null,null,null,null,null,null,null,null,null,null,null,null,null,null,null,null,null,null,{"$f":"IF(Q5=\"\",\"\",IF(Q5=\"Won\",K5,K6))","v":""},{"$f":"IF(T9=\"\",\"\",VLOOKUP(T9,'Team List'!BC:BD,2,0))","v":""},{"$f":"IF(U9=\"\",\"\",VLOOKUP(U9,'Team List'!B:C,2,0))","v":""},null,null,null,{"$f":"IF(COUNTIF(W9:Y9,\"Won\")=2,\"Champions!\",IF(COUNTIF(W9:Y9,\"Lost\")=2,\"2nd Place\",IF(AND((W9=\"Won\"),OR(X9=\"Tied (Leading)\",X9=\"Tied\",X9=\"Tied (Trailing)\")),\"Champions!\",IF(AND(COUNTIF(W9:X9,\"Won\")=1,OR(Y9=\"Tied (Leading)\",Y9=\"Tied\",Y9=\"Tied (Trailing)\")),\"Tied\",\"\"))))","v":""}]
[null,null,null,null,null,null,null,null,null,null,null,null,null,null,null,null,null,null,null,{"$f":"IF(Q13=\"\",\"\",IF(Q13=\"Won\",K13,K14))","v":""},{"$f":"IF(T10=\"\",\"\",VLOOKUP(T10,'Team List'!BC:BD,2,0))","v":""},{"$f":"IF(U10=\"\",\"\",VLOOKUP(U10,'Team List'!B:C,2,0))","v":""},{"$f":"IF(W9=\"\",\"\",IF(W9=\"Won\",\"Lost\",IF(W9=\"Tied (Leading)\",\"Tied (Trailing)\",IF(W9=\"Tied (Trailing)\",\"Tied (Leading)\",IF(W9=\"Lost\",\"Won\",W9)))))","v":""},{"$f":"IF(X9=\"\",\"\",IF(X9=\"Won\",\"Lost\",IF(X9=\"Tied (Leading)\",\"Tied (Trailing)\",IF(X9=\"Tied (Trailing)\",\"Tied (Leading)\",IF(X9=\"Lost\",\"Won\",X9)))))","v":""},{"$f":"IF(Y9=\"\",\"\",IF(Y9=\"Won\",\"Lost\",IF(Y9=\"Tied (Leading)\",\"Tied (Trailing)\",IF(Y9=\"Tied (Trailing)\",\"Tied (Leading)\",IF(Y9=\"Lost\",\"Won\",Y9)))))","v":""},{"$f":"IF(Z9=\"Champions!\",\"2nd Place\",IF(Z9=\"2nd Place\",\"Champions!\",Z9))","v":""}]
[null,3,{"$f":"VLOOKUP(B11,'Team List'!BC:BD,2,0)","v":"T11"},{"$f":"VLOOKUP(C11,'Team List'!B:C,2,0)","v":0},null,null,null,{"$f":"IF(COUNTIF(E11:G11,\"Won\")=2,\"Won\",IF(COUNTIF(E11:G11,\"Lost\")=2,\"Lost\",IF(AND((E11=\"Won\"),OR(F11=\"Tied (Leading)\",F11=\"Tied\",F11=\"Tied (Trailing)\")),\"Won\",IF(AND(COUNTIF(E11:F11,\"Won\")=1,OR(G11=\"Tied (Leading)\",G11=\"Tied\",G11=\"Tied (Trailing)\")),\"Tied\",\"\"))))","v":""}]
[null,6,{"$f":"VLOOKUP(B12,'Team List'!BC:BD,2,0)","v":"T38"},{"$f":"VLOOKUP(C12,'Team List'!B:C,2,0)","v":0},{"$f":"IF(E11=\"\",\"\",IF(E11=\"Won\",\"Lost\",IF(E11=\"Tied (Leading)\",\"Tied (Trailing)\",IF(E11=\"Tied (Trailing)\",\"Tied (Leading)\",IF(E11=\"Lost\",\"Won\",E11)))))","v":""},{"$f":"IF(F11=\"\",\"\",IF(F11=\"Won\",\"Lost\",IF(F11=\"Tied (Leading)\",\"Tied (Trailing)\",IF(F11=\"Tied (Trailing)\",\"Tied (Leading)\",IF(F11=\"Lost\",\"Won\",F11)))))","v":""},{"$f":"IF(G11=\"\",\"\",IF(G11=\"Won\",\"Lost\",IF(G11=\"Tied (Leading)\",\"Tied (Trailing)\",IF(G11=\"Tied (Trailing)\",\"Tied (Leading)\",IF(G11=\"Lost\",\"Won\",G11)))))","v":""},{"$f":"IF(H11=\"Won\",\"Lost\",IF(H11=\"Lost\",\"Won\",H11))","v":""}]
[null,null,null,null,null,null,null,null,null,null,{"$f":"IF(H11=\"\",\"\",IF(H11=\"Won\",B11,B12))","v":""},{"$f":"IF(K13=\"\",\"\",VLOOKUP(K13,'Team List'!BC:BD,2,0))","v":""},{"$f":"IF(L13=\"\",\"\",VLOOKUP(L13,'Team List'!B:C,2,0))","v":""},null,null,null,{"$f":"IF(COUNTIF(N13:P13,\"Won\")=2,\"Won\",IF(COUNTIF(N13:P13,\"Lost\")=2,\"Lost\",IF(AND((N13=\"Won\"),OR(O13=\"Tied (Leading)\",O13=\"Tied\",O13=\"Tied (Trailing)\")),\"Won\",IF(AND(COUNTIF(N13:O13,\"Won\")=1,OR(P13=\"Tied (Leading)\",P13=\"Tied\",P13=\"Tied (Trailing)\")),\"Tied\",\"\"))))","v":""},null,null,"The Battle for 3rd Place"]
[null,null,null,null,null,null,null,null,null,null,{"$f":"IF(H15=\"\",\"\",IF(H15=\"Won\",B15,B16))","v":""},{"$f":"IF(K14=\"\",\"\",VLOOKUP(K14,'Team List'!BC:BD,2,0))","v":""},{"$f":"IF(L14=\"\",\"\",VLOOKUP(L14,'Team List'!B:C,2,0))","v":""},{"$f":"IF(N13=\"\",\"\",IF(N13=\"Won\",\"Lost\",IF(N13=\"Tied (Leading)\",\"Tied (Trailing)\",IF(N13=\"Tied (Trailing)\",\"Tied (Leading)\",IF(N13=\"Lost\",\"Won\",N13)))))","v":""},{"$f":"IF(O13=\"\",\"\",IF(O13=\"Won\",\"Lost\",IF(O13=\"Tied (Leading)\",\"Tied (Trailing)\",IF(O13=\"Tied (Trailing)\",\"Tied (Leading)\",IF(O13=\"Lost\",\"Won\",O13)))))","v":""},{"$f":"IF(P13=\"\",\"\",IF(P13=\"Won\",\"Lost\",IF(P13=\"Tied (Leading)\",\"Tied (Trailing)\",IF(P13=\"Tied (Trailing)\",\"Tied (Leading)\",IF(P13=\"Lost\",\"Won\",P13)))))","v":""},{"$f":"IF(Q13=\"Won\",\"Lost\",IF(Q13=\"Lost\",\"Won\",Q13))","v":""},null,null,"seed","Team Number","Team Name","Game 1","Game 2","Game 3","Finish"]
[null,2,{"$f":"VLOOKUP(B15,'Team List'!BC:BD,2,0)","v":"T40"},{"$f":"VLOOKUP(C15,'Team List'!B:C,2,0)","v":0},null,null,null,{"$f":"IF(COUNTIF(E15:G15,\"Won\")=2,\"Won\",IF(COUNTIF(E15:G15,\"Lost\")=2,\"Lost\",IF(AND((E15=\"Won\"),OR(F15=\"Tied (Leading)\",F15=\"Tied\",F15=\"Tied (Trailing)\")),\"Won\",IF(AND(COUNTIF(E15:F15,\"Won\")=1,OR(G15=\"Tied (Leading)\",G15=\"Tied\",G15=\"Tied (Trailing)\")),\"Tied\",\"\"))))","v":""},null,null,null,null,null,null,null,null,null,null,null,{"$f":"IF(Q5=\"\",\"\",IF(Q5=\"Lost\",K5,K6))","v":""},{"$f":"IF(T15=\"\",\"\",VLOOKUP(T15,'Team List'!BC:BD,2,0))","v":""},{"$f":"IF(U15=\"\",\"\",VLOOKUP(U15,'Team List'!B:C,2,0))","v":""},null,null,null,{"$f":"IF(COUNTIF(W15:Y15,\"Won\")=2,\"3rd Place\",IF(COUNTIF(W15:Y15,\"Lost\")=2,\"4th Place\",IF(AND((W15=\"Won\"),OR(X15=\"Tied (Leading)\",X15=\"Tied\",X15=\"Tied (Trailing)\")),\"3rd Place\",IF(AND(COUNTIF(W15:X15,\"Won\")=1,OR(Y15=\"Tied (Leading)\",Y15=\"Tied\",Y15=\"Tied (Trailing)\")),\"Tied\",\"\"))))","v":""}]
[null,7,{"$f":"VLOOKUP(B16,'Team List'!BC:BD,2,0)","v":"T41"},{"$f":"VLOOKUP(C16,'Team List'!B:C,2,0)","v":0},{"$f":"IF(E15=\"\",\"\",IF(E15=\"Won\",\"Lost\",IF(E15=\"Tied (Leading)\",\"Tied (Trailing)\",IF(E15=\"Tied (Trailing)\",\"Tied (Leading)\",IF(E15=\"Lost\",\"Won\",E15)))))","v":""},{"$f":"IF(F15=\"\",\"\",IF(F15=\"Won\",\"Lost\",IF(F15=\"Tied (Leading)\",\"Tied (Trailing)\",IF(F15=\"Tied (Trailing)\",\"Tied (Leading)\",IF(F15=\"Lost\",\"Won\",F15)))))","v":""},{"$f":"IF(G15=\"\",\"\",IF(G15=\"Won\",\"Lost\",IF(G15=\"Tied (Leading)\",\"Tied (Trailing)\",IF(G15=\"Tied (Trailing)\",\"Tied (Leading)\",IF(G15=\"Lost\",\"Won\",G15)))))","v":""},{"$f":"IF(H15=\"Won\",\"Lost\",IF(H15=\"Lost\",\"Won\",H15))","v":""},null,null,null,null,null,null,null,null,null,null,null,{"$f":"IF(Q13=\"\",\"\",IF(Q13=\"Lost\",K13,K14))","v":""},{"$f":"IF(T16=\"\",\"\",VLOOKUP(T16,'Team List'!BC:BD,2,0))","v":""},{"$f":"IF(U16=\"\",\"\",VLOOKUP(U16,'Team List'!B:C,2,0))","v":""},{"$f":"IF(W15=\"\",\"\",IF(W15=\"Won\",\"Lost\",IF(W15=\"Tied (Leading)\",\"Tied (Trailing)\",IF(W15=\"Tied (Trailing)\",\"Tied (Leading)\",IF(W15=\"Lost\",\"Won\",W15)))))","v":""},{"$f":"IF(X15=\"\",\"\",IF(X15=\"Won\",\"Lost\",IF(X15=\"Tied (Leading)\",\"Tied (Trailing)\",IF(X15=\"Tied (Trailing)\",\"Tied (Leading)\",IF(X15=\"Lost\",\"Won\",X15)))))","v":""},{"$f":"IF(Y15=\"\",\"\",IF(Y15=\"Won\",\"Lost\",IF(Y15=\"Tied (Leading)\",\"Tied (Trailing)\",IF(Y15=\"Tied (Trailing)\",\"Tied (Leading)\",IF(Y15=\"Lost\",\"Won\",Y15)))))","v":""},{"$f":"IF(Z15=\"3rd Place\",\"4th Place\",IF(Z15=\"4th Place\",\"3rd Place\",Z15))","v":""}]

{"sheet":"Elim Bracket - 16","index":15,"n_rows":18,"n_cols":34,"rows_kept":18,"cut":false,"hidden":true,"merged":[[15,30,15,32],[16,30,16,32],[14,30,14,32],[0,1,0,7],[1,9,1,15],[3,18,3,24],[7,27,7,33],[13,27,13,33]]}
[null,"Round of 16"]
[null,"Seed","Team Number","Team Name","Game 1","Game 2","Game 3","Match",null,"Quarter Finals"]
[null,1,{"$f":"VLOOKUP(B3,'Team List'!BC:BD,2,0)","v":"T00"},{"$f":"VLOOKUP(C3,'Team List'!$B:$C,2,0)","v":"Bye"},null,null,null,{"$f":"IF(COUNTIF(E3:G3,\"Won\")=2,\"Won\",IF(COUNTIF(E3:G3,\"Lost\")=2,\"Lost\",IF(AND((E3=\"Won\"),OR(F3=\"Tied (Leading)\",F3=\"Tied\",F3=\"Tied (Trailing)\")),\"Won\",IF(AND(COUNTIF(E3:F3,\"Won\")=1,OR(G3=\"Tied (Leading)\",G3=\"Tied\",G3=\"Tied (Trailing)\")),\"Tied\",\"\"))))","v":""},null,"Seed","Team Number","Team Name","Game 1","Game 2","Game 3","Match"]
[null,16,{"$f":"VLOOKUP(B4,'Team List'!BC:BD,2,0)","v":"T53"},{"$f":"VLOOKUP(C4,'Team List'!$B:$C,2,0)","v":0},{"$f":"IF(E3=\"\",\"\",IF(E3=\"Won\",\"Lost\",IF(E3=\"Tied (Leading)\",\"Tied (Trailing)\",IF(E3=\"Tied (Trailing)\",\"Tied (Leading)\",IF(E3=\"Lost\",\"Won\",E3)))))","v":""},{"$f":"IF(F3=\"\",\"\",IF(F3=\"Won\",\"Lost\",IF(F3=\"Tied (Leading)\",\"Tied (Trailing)\",IF(F3=\"Tied (Trailing)\",\"Tied (Leading)\",IF(F3=\"Lost\",\"Won\",F3)))))","v":""},{"$f":"IF(G3=\"\",\"\",IF(G3=\"Won\",\"Lost\",IF(G3=\"Tied (Leading)\",\"Tied (Trailing)\",IF(G3=\"Tied (Trailing)\",\"Tied (Leading)\",IF(G3=\"Lost\",\"Won\",G3)))))","v":""},{"$f":"IF(H3=\"Won\",\"Lost\",IF(H3=\"Lost\",\"Won\",H3))","v":""},null,{"$f":"IF(H3=\"\",\"\",IF(H3=\"Won\",B3,B4))","v":""},{"$f":"IF(J4=\"\",\"\",VLOOKUP(J4,'Team List'!$BC:$BD,2,0))","v":""},{"$f":"IF(K4=\"\",\"\",VLOOKUP(K4,'Team List'!$B:$C,2,0))","v":""},null,null,null,{"$f":"IF(COUNTIF(M4:O4,\"Won\")=2,\"Won\",IF(COUNTIF(M4:O4,\"Lost\")=2,\"Lost\",IF(AND((M4=\"Won\"),OR(N4=\"Tied (Leading)\",N4=\"Tied\",N4=\"Tied (Trailing)\")),\"Won\",IF(AND(COUNTIF(M4:N4,\"Won\")=1,OR(O4=\"Tied (Leading)\",O4=\"Tied\",O4=\"Tied (Trailing)\")),\"Tied\",\"\"))))","v":""},null,null,"Semi Finals"]
[null,8,{"$f":"VLOOKUP(B5,'Team List'!BC:BD,2,0)","v":"T09"},{"$f":"VLOOKUP(C5,'Team List'!$B:$C,2,0)","v":0},null,null,null,{"$f":"IF(COUNTIF(E5:G5,\"Won\")=2,\"Won\",IF(COUNTIF(E5:G5,\"Lost\")=2,\"Lost\",IF(AND((E5=\"Won\"),OR(F5=\"Tied (Leading)\",F5=\"Tied\",F5=\"Tied (Trailing)\")),\"Won\",IF(AND(COUNTIF(E5:F5,\"Won\")=1,OR(G5=\"Tied (Leading)\",G5=\"Tied\",G5=\"Tied (Trailing)\")),\"Tied\",\"\"))))","v":""},null,{"$f":"IF(H5=\"\",\"\",IF(H5=\"Won\",B5,B6))","v":""},{"$f":"IF(J5=\"\",\"\",VLOOKUP(J5,'Team List'!$BC:$BD,2,0))","v":""},{"$f":"IF(K5=\"\",\"\",VLOOKUP(K5,'Team List'!$B:$C,2,0))","v":""},{"$f":"IF(M4=\"\",\"\",IF(M4=\"Won\",\"Lost\",IF(M4=\"Tied (Leading)\",\"Tied (Trailing)\",IF(M4=\"Tied (Trailing)\",\"Tied (Leading)\",IF(M4=\"Lost\",\"Won\",M4)))))","v":""},{"$f":"IF(N4=\"\",\"\",IF(N4=\"Won\",\"Lost\",IF(N4=\"Tied (Leading)\",\"Tied (Trailing)\",IF(N4=\"Tied (Trailing)\",\"Tied (Leading)\",IF(N4=\"Lost\",\"Won\",N4)))))","v":""},{"$f":"IF(O4=\"\",\"\",IF(O4=\"Won\",\"Lost\",IF(O4=\"Tied (Leading)\",\"Tied (Trailing)\",IF(O4=\"Tied (Trailing)\",\"Tied (Leading)\",IF(O4=\"Lost\",\"Won\",O4)))))","v":""},{"$f":"IF(P4=\"Won\",\"Lost\",IF(P4=\"Lost\",\"Won\",P4))","v":""},null,null,"seed","Team Number","Team Name","Game 1","Game 2","Game 3","Match"]
[null,9,{"$f":"VLOOKUP(B6,'Team List'!BC:BD,2,0)","v":"T62"},{"$f":"VLOOKUP(C6,'Team List'!$B:$C,2,0)","v":0},{"$f":"IF(E5=\"\",\"\",IF(E5=\"Won\",\"Lost\",IF(E5=\"Tied (Leading)\",\"Tied (Trailing)\",IF(E5=\"Tied (Trailing)\",\"Tied (Leading)\",IF(E5=\"Lost\",\"Won\",E5)))))","v":""},{"$f":"IF(F5=\"\",\"\",IF(F5=\"Won\",\"Lost\",IF(F5=\"Tied (Leading)\",\"Tied (Trailing)\",IF(F5=\"Tied (Trailing)\",\"Tied (Leading)\",IF(F5=\"Lost\",\"Won\",F5)))))","v":""},{"$f":"IF(G5=\"\",\"\",IF(G5=\"Won\",\"Lost\",IF(G5=\"Tied (Leading)\",\"Tied (Trailing)\",IF(G5=\"Tied (Trailing)\",\"Tied (Leading)\",IF(G5=\"Lost\",\"Won\",G5)))))","v":""},{"$f":"IF(H5=\"Won\",\"Lost\",IF(H5=\"Lost\",\"Won\",H5))","v":""},null,null,null,null,null,null,null,null,null,null,{"$f":"IF(P4=\"\",\"\",IF(P4=\"Won\",J4,J5))","v":""},{"$f":"IF(S6=\"\",\"\",VLOOKUP(S6,'Team List'!$BC:$BD,2,0))","v":""},{"$f":"IF(T6=\"\",\"\",VLOOKUP(T6,'Team List'!$B:$C,2,0))","v":""},null,null,null,{"$f":"IF(COUNTIF(V6:X6,\"Won\")=2,\"Won\",IF(COUNTIF(V6:X6,\"Lost\")=2,\"Lost\",IF(AND((V6=\"Won\"),OR(W6=\"Tied (Leading)\",W6=\"Tied\",W6=\"Tied (Trailing)\")),\"Won\",IF(AND(COUNTIF(V6:W6,\"Won\")=1,OR(X6=\"Tied (Leading)\",X6=\"Tied\",X6=\"Tied (Trailing)\")),\"Tied\",\"\"))))","v":""}]
[null,5,{"$f":"VLOOKUP(B7,'Team List'!BC:BD,2,0)","v":"T43"},{"$f":"VLOOKUP(C7,'Team List'!$B:$C,2,0)","v":0},null,null,null,{"$f":"IF(COUNTIF(E7:G7,\"Won\")=2,\"Won\",IF(COUNTIF(E7:G7,\"Lost\")=2,\"Lost\",IF(AND((E7=\"Won\"),OR(F7=\"Tied (Leading)\",F7=\"Tied\",F7=\"Tied (Trailing)\")),\"Won\",IF(AND(COUNTIF(E7:F7,\"Won\")=1,OR(G7=\"Tied (Leading)\",G7=\"Tied\",G7=\"Tied (Trailing)\")),\"Tied\",\"\"))))","v":""},null,null,null,null,null,null,null,null,null,null,{"$f":"IF(P8=\"\",\"\",IF(P8=\"Won\",J8,J9))","v":""},{"$f":"IF(S7=\"\",\"\",VLOOKUP(S7,'Team List'!$BC:$BD,2,0))","v":""},{"$f":"IF(T7=\"\",\"\",VLOOKUP(T7,'Team List'!$B:$C,2,0))","v":""},{"$f":"IF(V6=\"\",\"\",IF(V6=\"Won\",\"Lost\",IF(V6=\"Tied (Leading)\",\"Tied (Trailing)\",IF(V6=\"Tied (Trailing)\",\"Tied (Leading)\",IF(V6=\"Lost\",\"Won\",V6)))))","v":""},{"$f":"IF(W6=\"\",\"\",IF(W6=\"Won\",\"Lost\",IF(W6=\"Tied (Leading)\",\"Tied (Trailing)\",IF(W6=\"Tied (Trailing)\",\"Tied (Leading)\",IF(W6=\"Lost\",\"Won\",W6)))))","v":""},{"$f":"IF(X6=\"\",\"\",IF(X6=\"Won\",\"Lost\",IF(X6=\"Tied (Leading)\",\"Tied (Trailing)\",IF(X6=\"Tied (Trailing)\",\"Tied (Leading)\",IF(X6=\"Lost\",\"Won\",X6)))))","v":""},{"$f":"IF(Y6=\"Won\",\"Lost\",IF(Y6=\"Lost\",\"Won\",Y6))","v":""}]
[null,12,{"$f":"VLOOKUP(B8,'Team List'!BC:BD,2,0)","v":"T28"},{"$f":"VLOOKUP(C8,'Team List'!$B:$C,2,0)","v":0},{"$f":"IF(E7=\"\",\"\",IF(E7=\"Won\",\"Lost\",IF(E7=\"Tied (Leading)\",\"Tied (Trailing)\",IF(E7=\"Tied (Trailing)\",\"Tied (Leading)\",IF(E7=\"Lost\",\"Won\",E7)))))","v":""},{"$f":"IF(F7=\"\",\"\",IF(F7=\"Won\",\"Lost\",IF(F7=\"Tied (Leading)\",\"Tied (Trailing)\",IF(F7=\"Tied (Trailing)\",\"Tied (Leading)\",IF(F7=\"Lost\",\"Won\",F7)))))","v":""},{"$f":"IF(G7=\"\",\"\",IF(G7=\"Won\",\"Lost\",IF(G7=\"Tied (Leading)\",\"Tied (Trailing)\",IF(G7=\"Tied (Trailing)\",\"Tied (Leading)\",IF(G7=\"Lost\",\"Won\",G7)))))","v":""},{"$f":"IF(H7=\"Won\",\"Lost\",IF(H7=\"Lost\",\"Won\",H7))","v":""},null,{"$f":"IF(H7=\"\",\"\",IF(H7=\"Won\",B7,B8))","v":""},{"$f":"IF(J8=\"\",\"\",VLOOKUP(J8,'Team List'!$BC:$BD,2,0))","v":""},{"$f":"IF(K8=\"\",\"\",VLOOKUP(K8,'Team List'!$B:$C,2,0))","v":""},null,null,null,{"$f":"IF(COUNTIF(M8:O8,\"Won\")=2,\"Won\",IF(COUNTIF(M8:O8,\"Lost\")=2,\"Lost\",IF(AND((M8=\"Won\"),OR(N8=\"Tied (Leading)\",N8=\"Tied\",N8=\"Tied (Trailing)\")),\"Won\",IF(AND(COUNTIF(M8:N8,\"Won\")=1,OR(O8=\"Tied (Leading)\",O8=\"Tied\",O8=\"Tied (Trailing)\")),\"Tied\",\"\"))))","v":""},null,null,null,null,null,null,null,null,null,null,null,"The Championship Match"]
[null,4,{"$f":"VLOOKUP(B9,'Team List'!BC:BD,2,0)","v":"T47"},{"$f":"VLOOKUP(C9,'Team List'!$B:$C,2,0)","v":0},null,null,null,{"$f":"IF(COUNTIF(E9:G9,\"Won\")=2,\"Won\",IF(COUNTIF(E9:G9,\"Lost\")=2,\"Lost\",IF(AND((E9=\"Won\"),OR(F9=\"Tied (Leading)\",F9=\"Tied\",F9=\"Tied (Trailing)\")),\"Won\",IF(AND(COUNTIF(E9:F9,\"Won\")=1,OR(G9=\"Tied (Leading)\",G9=\"Tied\",G9=\"Tied (Trailing)\")),\"Tied\",\"\"))))","v":""},null,{"$f":"IF(H9=\"\",\"\",IF(H9=\"Won\",B9,B10))","v":""},{"$f":"IF(J9=\"\",\"\",VLOOKUP(J9,'Team List'!$BC:$BD,2,0))","v":""},{"$f":"IF(K9=\"\",\"\",VLOOKUP(K9,'Team List'!$B:$C,2,0))","v":""},{"$f":"IF(M8=\"\",\"\",IF(M8=\"Won\",\"Lost\",IF(M8=\"Tied (Leading)\",\"Tied (Trailing)\",IF(M8=\"Tied (Trailing)\",\"Tied (Leading)\",IF(M8=\"Lost\",\"Won\",M8)))))","v":""},{"$f":"IF(N8=\"\",\"\",IF(N8=\"Won\",\"Lost\",IF(N8=\"Tied (Leading)\",\"Tied (Trailing)\",IF(N8=\"Tied (Trailing)\",\"Tied (Leading)\",IF(N8=\"Lost\",\"Won\",N8)))))","v":""},{"$f":"IF(O8=\"\",\"\",IF(O8=\"Won\",\"Lost\",IF(O8=\"Tied (Leading)\",\"Tied (Trailing)\",IF(O8=\"Tied (Trailing)\",\"Tied (Leading)\",IF(O8=\"Lost\",\"Won\",O8)))))","v":""},{"$f":"IF(P8=\"Won\",\"Lost\",IF(P8=\"Lost\",\"Won\",P8))","v":""},null,null,null,null,null,null,null,null,null,null,null,"seed","Team Number","Team Name","Game 1","Game 2","Game 3","Finish"]
[null,13,{"$f":"VLOOKUP(B10,'Team List'!BC:BD,2,0)","v":"T14"},{"$f":"VLOOKUP(C10,'Team List'!$B:$C,2,0)","v":0},{"$f":"IF(E9=\"\",\"\",IF(E9=\"Won\",\"Lost\",IF(E9=\"Tied (Leading)\",\"Tied (Trailing)\",IF(E9=\"Tied (Trailing)\",\"Tied (Leading)\",IF(E9=\"Lost\",\"Won\",E9)))))","v":""},{"$f":"IF(F9=\"\",\"\",IF(F9=\"Won\",\"Lost\",IF(F9=\"Tied (Leading)\",\"Tied (Trailing)\",IF(F9=\"Tied (Trailing)\",\"Tied (Leading)\",IF(F9=\"Lost\",\"Won\",F9)))))","v":""},{"$f":"IF(G9=\"\",\"\",IF(G9=\"Won\",\"Lost\",IF(G9=\"Tied (Leading)\",\"Tied (Trailing)\",IF(G9=\"Tied (Trailing)\",\"Tied (Leading)\",IF(G9=\"Lost\",\"Won\",G9)))))","v":""},{"$f":"IF(H9=\"Won\",\"Lost\",IF(H9=\"Lost\",\"Won\",H9))","v":""},null,null,null,null,null,null,null,null,null,null,null,null,null,null,null,null,null,null,null,{"$f":"IF(Y6=\"\",\"\",IF(Y6=\"Won\",S6,S7))","v":""},{"$f":"IF(AB10=\"\",\"\",VLOOKUP(AB10,'Team List'!BC:BD,2,0))","v":""},{"$f":"IF(AC10=\"\",\"\",VLOOKUP(AC10,'Team List'!B:C,2,0))","v":""},null,null,null,{"$f":"IF(COUNTIF(AE10:AG10,\"Won\")=2,\"Champions!\",IF(COUNTIF(AE10:AG10,\"Lost\")=2,\"2nd Place\",IF(AND((AE10=\"Won\"),OR(AF10=\"Tied (Leading)\",AF10=\"Tied\",AF10=\"Tied (Trailing)\")),\"Champions!\",IF(AND(COUNTIF(AE10:AF10,\"Won\")=1,OR(AG10=\"Tied (Leading)\",AG10=\"Tied\",AG10=\"Tied (Trailing)\")),\"Tied\",\"\"))))","v":""}]
[null,14,{"$f":"VLOOKUP(B11,'Team List'!BC:BD,2,0)","v":"T10"},{"$f":"VLOOKUP(C11,'Team List'!$B:$C,2,0)","v":0},null,null,null,{"$f":"IF(COUNTIF(E11:G11,\"Won\")=2,\"Won\",IF(COUNTIF(E11:G11,\"Lost\")=2,\"Lost\",IF(AND((E11=\"Won\"),OR(F11=\"Tied (Leading)\",F11=\"Tied\",F11=\"Tied (Trailing)\")),\"Won\",IF(AND(COUNTIF(E11:F11,\"Won\")=1,OR(G11=\"Tied (Leading)\",G11=\"Tied\",G11=\"Tied (Trailing)\")),\"Tied\",\"\"))))","v":""},null,null,null,null,null,null,null,null,null,null,null,null,null,null,null,null,null,null,null,{"$f":"IF(Y14=\"\",\"\",IF(Y14=\"Won\",S14,S15))","v":""},{"$f":"IF(AB11=\"\",\"\",VLOOKUP(AB11,'Team List'!BC:BD,2,0))","v":""},{"$f":"IF(AC11=\"\",\"\",VLOOKUP(AC11,'Team List'!B:C,2,0))","v":""},{"$f":"IF(AE10=\"\",\"\",IF(AE10=\"Won\",\"Lost\",IF(AE10=\"Tied (Leading)\",\"Tied (Trailing)\",IF(AE10=\"Tied (Trailing)\",\"Tied (Leading)\",IF(AE10=\"Lost\",\"Won\",AE10)))))","v":""},{"$f":"IF(AF10=\"\",\"\",IF(AF10=\"Won\",\"Lost\",IF(AF10=\"Tied (Leading)\",\"Tied (Trailing)\",IF(AF10=\"Tied (Trailing)\",\"Tied (Leading)\",IF(AF10=\"Lost\",\"Won\",AF10)))))","v":""},{"$f":"IF(AG10=\"\",\"\",IF(AG10=\"Won\",\"Lost\",IF(AG10=\"Tied (Leading)\",\"Tied (Trailing)\",IF(AG10=\"Tied (Trailing)\",\"Tied (Leading)\",IF(AG10=\"Lost\",\"Won\",AG10)))))","v":""},{"$f":"IF(AH10=\"Champions!\",\"2nd Place\",IF(AH10=\"2nd Place\",\"Champions!\",AH10))","v":""}]
[null,3,{"$f":"VLOOKUP(B12,'Team List'!BC:BD,2,0)","v":"T11"},{"$f":"VLOOKUP(C12,'Team List'!$B:$C,2,0)","v":0},{"$f":"IF(E11=\"\",\"\",IF(E11=\"Won\",\"Lost\",IF(E11=\"Tied (Leading)\",\"Tied (Trailing)\",IF(E11=\"Tied (Trailing)\",\"Tied (Leading)\",IF(E11=\"Lost\",\"Won\",E11)))))","v":""},{"$f":"IF(F11=\"\",\"\",IF(F11=\"Won\",\"Lost\",IF(F11=\"Tied (Leading)\",\"Tied (Trailing)\",IF(F11=\"Tied (Trailing)\",\"Tied (Leading)\",IF(F11=\"Lost\",\"Won\",F11)))))","v":""},{"$f":"IF(G11=\"\",\"\",IF(G11=\"Won\",\"Lost\",IF(G11=\"Tied (Leading)\",\"Tied (Trailing)\",IF(G11=\"Tied (Trailing)\",\"Tied (Leading)\",IF(G11=\"Lost\",\"Won\",G11)))))","v":""},{"$f":"IF(H11=\"Won\",\"Lost\",IF(H11=\"Lost\",\"Won\",H11))","v":""},null,{"$f":"IF(H11=\"\",\"\",IF(H11=\"Won\",B11,B12))","v":""},{"$f":"IF(J12=\"\",\"\",VLOOKUP(J12,'Team List'!$BC:$BD,2,0))","v":""},{"$f":"IF(K12=\"\",\"\",VLOOKUP(K12,'Team List'!$B:$C,2,0))","v":""},null,null,null,{"$f":"IF(COUNTIF(M12:O12,\"Won\")=2,\"Won\",IF(COUNTIF(M12:O12,\"Lost\")=2,\"Lost\",IF(AND((M12=\"Won\"),OR(N12=\"Tied (Leading)\",N12=\"Tied\",N12=\"Tied (Trailing)\")),\"Won\",IF(AND(COUNTIF(M12:N12,\"Won\")=1,OR(O12=\"Tied (Leading)\",O12=\"Tied\",O12=\"Tied (Trailing)\")),\"Tied\",\"\"))))","v":""}]
[null,11,{"$f":"VLOOKUP(B13,'Team List'!BC:BD,2,0)","v":"T34"},{"$f":"VLOOKUP(C13,'Team List'!$B:$C,2,0)","v":0},null,null,null,{"$f":"IF(COUNTIF(E13:G13,\"Won\")=2,\"Won\",IF(COUNTIF(E13:G13,\"Lost\")=2,\"Lost\",IF(AND((E13=\"Won\"),OR(F13=\"Tied (Leading)\",F13=\"Tied\",F13=\"Tied (Trailing)\")),\"Won\",IF(AND(COUNTIF(E13:F13,\"Won\")=1,OR(G13=\"Tied (Leading)\",G13=\"Tied\",G13=\"Tied (Trailing)\")),\"Tied\",\"\"))))","v":""},null,{"$f":"IF(H13=\"\",\"\",IF(H13=\"Won\",B13,B14))","v":""},{"$f":"IF(J13=\"\",\"\",VLOOKUP(J13,'Team List'!$BC:$BD,2,0))","v":""},{"$f":"IF(K13=\"\",\"\",VLOOKUP(K13,'Team List'!$B:$C,2,0))","v":""},{"$f":"IF(M12=\"\",\"\",IF(M12=\"Won\",\"Lost\",IF(M12=\"Tied (Leading)\",\"Tied (Trailing)\",IF(M12=\"Tied (Trailing)\",\"Tied (Leading)\",IF(M12=\"Lost\",\"Won\",M12)))))","v":""},{"$f":"IF(N12=\"\",\"\",IF(N12=\"Won\",\"Lost\",IF(N12=\"Tied (Leading)\",\"Tied (Trailing)\",IF(N12=\"Tied (Trailing)\",\"Tied (Leading)\",IF(N12=\"Lost\",\"Won\",N12)))))","v":""},{"$f":"IF(O12=\"\",\"\",IF(O12=\"Won\",\"Lost\",IF(O12=\"Tied (Leading)\",\"Tied (Trailing)\",IF(O12=\"Tied (Trailing)\",\"Tied (Leading)\",IF(O12=\"Lost\",\"Won\",O12)))))","v":""},{"$f":"IF(P12=\"Won\",\"Lost\",IF(P12=\"Lost\",\"Won\",P12))","v":""}]
[null,6,{"$f":"VLOOKUP(B14,'Team List'!BC:BD,2,0)","v":"T38"},{"$f":"VLOOKUP(C14,'Team List'!$B:$C,2,0)","v":0},{"$f":"IF(E13=\"\",\"\",IF(E13=\"Won\",\"Lost\",IF(E13=\"Tied (Leading)\",\"Tied (Trailing)\",IF(E13=\"Tied (Trailing)\",\"Tied (Leading)\",IF(E13=\"Lost\",\"Won\",E13)))))","v":""},{"$f":"IF(F13=\"\",\"\",IF(F13=\"Won\",\"Lost\",IF(F13=\"Tied (Leading)\",\"Tied (Trailing)\",IF(F13=\"Tied (Trailing)\",\"Tied (Leading)\",IF(F13=\"Lost\",\"Won\",F13)))))","v":""},{"$f":"IF(G13=\"\",\"\",IF(G13=\"Won\",\"Lost\",IF(G13=\"Tied (Leading)\",\"Tied (Trailing)\",IF(G13=\"Tied (Trailing)\",\"Tied (Leading)\",IF(G13=\"Lost\",\"Won\",G13)))))","v":""},{"$f":"IF(H13=\"Won\",\"Lost\",IF(H13=\"Lost\",\"Won\",H13))","v":""},null,null,null,null,null,null,null,null,null,null,{"$f":"IF(P12=\"\",\"\",IF(P12=\"Won\",J12,J13))","v":""},{"$f":"IF(S14=\"\",\"\",VLOOKUP(S14,'Team List'!BC:BD,2,0))","v":""},{"$f":"IF(T14=\"\",\"\",VLOOKUP(T14,'Team List'!B:C,2,0))","v":""},null,null,null,{"$f":"IF(COUNTIF(V14:X14,\"Won\")=2,\"Won\",IF(COUNTIF(V14:X14,\"Lost\")=2,\"Lost\",IF(AND((V14=\"Won\"),OR(W14=\"Tied (Leading)\",W14=\"Tied\",W14=\"Tied (Trailing)\")),\"Won\",IF(AND(COUNTIF(V14:W14,\"Won\")=1,OR(X14=\"Tied (Leading)\",X14=\"Tied\",X14=\"Tied (Trailing)\")),\"Tied\",\"\"))))","v":""},null,null,"The Battle for 3rd Place"]
[null,10,{"$f":"VLOOKUP(B15,'Team List'!BC:BD,2,0)","v":"T27"},{"$f":"VLOOKUP(C15,'Team List'!$B:$C,2,0)","v":0},null,null,null,{"$f":"IF(COUNTIF(E15:G15,\"Won\")=2,\"Won\",IF(COUNTIF(E15:G15,\"Lost\")=2,\"Lost\",IF(AND((E15=\"Won\"),OR(F15=\"Tied (Leading)\",F15=\"Tied\",F15=\"Tied (Trailing)\")),\"Won\",IF(AND(COUNTIF(E15:F15,\"Won\")=1,OR(G15=\"Tied (Leading)\",G15=\"Tied\",G15=\"Tied (Trailing)\")),\"Tied\",\"\"))))","v":""},null,null,null,null,null,null,null,null,null,null,{"$f":"IF(P16=\"\",\"\",IF(P16=\"Won\",J16,J17))","v":""},{"$f":"IF(S15=\"\",\"\",VLOOKUP(S15,'Team List'!BC:BD,2,0))","v":""},{"$f":"IF(T15=\"\",\"\",VLOOKUP(T15,'Team List'!B:C,2,0))","v":""},{"$f":"IF(V14=\"\",\"\",IF(V14=\"Won\",\"Lost\",IF(V14=\"Tied (Leading)\",\"Tied (Trailing)\",IF(V14=\"Tied (Trailing)\",\"Tied (Leading)\",IF(V14=\"Lost\",\"Won\",V14)))))","v":""},{"$f":"IF(W14=\"\",\"\",IF(W14=\"Won\",\"Lost\",IF(W14=\"Tied (Leading)\",\"Tied (Trailing)\",IF(W14=\"Tied (Trailing)\",\"Tied (Leading)\",IF(W14=\"Lost\",\"Won\",W14)))))","v":""},{"$f":"IF(X14=\"\",\"\",IF(X14=\"Won\",\"Lost\",IF(X14=\"Tied (Leading)\",\"Tied (Trailing)\",IF(X14=\"Tied (Trailing)\",\"Tied (Leading)\",IF(X14=\"Lost\",\"Won\",X14)))))","v":""},{"$f":"IF(Y14=\"Won\",\"Lost\",IF(Y14=\"Lost\",\"Won\",Y14))","v":""},null,null,"seed","Team Number","Team Name","Game 1",null,null,"Finish"]
[null,7,{"$f":"VLOOKUP(B16,'Team List'!BC:BD,2,0)","v":"T41"},{"$f":"VLOOKUP(C16,'Team List'!$B:$C,2,0)","v":0},{"$f":"IF(E15=\"\",\"\",IF(E15=\"Won\",\"Lost\",IF(E15=\"Tied (Leading)\",\"Tied (Trailing)\",IF(E15=\"Tied (Trailing)\",\"Tied (Leading)\",IF(E15=\"Lost\",\"Won\",E15)))))","v":""},{"$f":"IF(F15=\"\",\"\",IF(F15=\"Won\",\"Lost\",IF(F15=\"Tied (Leading)\",\"Tied (Trailing)\",IF(F15=\"Tied (Trailing)\",\"Tied (Leading)\",IF(F15=\"Lost\",\"Won\",F15)))))","v":""},{"$f":"IF(G15=\"\",\"\",IF(G15=\"Won\",\"Lost\",IF(G15=\"Tied (Leading)\",\"Tied (Trailing)\",IF(G15=\"Tied (Trailing)\",\"Tied (Leading)\",IF(G15=\"Lost\",\"Won\",G15)))))","v":""},{"$f":"IF(H15=\"Won\",\"Lost\",IF(H15=\"Lost\",\"Won\",H15))","v":""},null,{"$f":"IF(H15=\"\",\"\",IF(H15=\"Won\",B15,B16))","v":""},{"$f":"IF(J16=\"\",\"\",VLOOKUP(J16,'Team List'!$BC:$BD,2,0))","v":""},{"$f":"IF(K16=\"\",\"\",VLOOKUP(K16,'Team List'!$B:$C,2,0))","v":""},null,null,null,{"$f":"IF(COUNTIF(M16:O16,\"Won\")=2,\"Won\",IF(COUNTIF(M16:O16,\"Lost\")=2,\"Lost\",IF(AND((M16=\"Won\"),OR(N16=\"Tied (Leading)\",N16=\"Tied\",N16=\"Tied (Trailing)\")),\"Won\",IF(AND(COUNTIF(M16:N16,\"Won\")=1,OR(O16=\"Tied (Leading)\",O16=\"Tied\",O16=\"Tied (Trailing)\")),\"Tied\",\"\"))))","v":""},null,null,null,null,null,null,null,null,null,null,null,{"$f":"IF(Y6=\"\",\"\",IF(Y6=\"Lost\",S6,S7))","v":""},{"$f":"IF(AB16=\"\",\"\",VLOOKUP(AB16,'Team List'!BC:BD,2,0))","v":""},{"$f":"IF(AC16=\"\",\"\",VLOOKUP(AC16,'Team List'!B:C,2,0))","v":""},null,null,null,{"$f":"IF(COUNTIF(AE16:AG16,\"Won\")=1,\"3rd Place\",IF(COUNTIF(AE16:AG16,\"Lost\")=1,\"4th Place\",\"\"))","v":""}]
[null,15,{"$f":"VLOOKUP(B17,'Team List'!BC:BD,2,0)","v":"T13"},{"$f":"VLOOKUP(C17,'Team List'!$B:$C,2,0)","v":0},null,null,null,{"$f":"IF(COUNTIF(E17:G17,\"Won\")=2,\"Won\",IF(COUNTIF(E17:G17,\"Lost\")=2,\"Lost\",IF(AND((E17=\"Won\"),OR(F17=\"Tied (Leading)\",F17=\"Tied\",F17=\"Tied (Trailing)\")),\"Won\",IF(AND(COUNTIF(E17:F17,\"Won\")=1,OR(G17=\"Tied (Leading)\",G17=\"Tied\",G17=\"Tied (Trailing)\")),\"Tied\",\"\"))))","v":""},null,{"$f":"IF(H17=\"\",\"\",IF(H17=\"Won\",B17,B18))","v":""},{"$f":"IF(J17=\"\",\"\",VLOOKUP(J17,'Team List'!$BC:$BD,2,0))","v":""},{"$f":"IF(K17=\"\",\"\",VLOOKUP(K17,'Team List'!$B:$C,2,0))","v":""},{"$f":"IF(M16=\"\",\"\",IF(M16=\"Won\",\"Lost\",IF(M16=\"Tied (Leading)\",\"Tied (Trailing)\",IF(M16=\"Tied (Trailing)\",\"Tied (Leading)\",IF(M16=\"Lost\",\"Won\",M16)))))","v":""},{"$f":"IF(N16=\"\",\"\",IF(N16=\"Won\",\"Lost\",IF(N16=\"Tied (Leading)\",\"Tied (Trailing)\",IF(N16=\"Tied (Trailing)\",\"Tied (Leading)\",IF(N16=\"Lost\",\"Won\",N16)))))","v":""},{"$f":"IF(O16=\"\",\"\",IF(O16=\"Won\",\"Lost\",IF(O16=\"Tied (Leading)\",\"Tied (Trailing)\",IF(O16=\"Tied (Trailing)\",\"Tied (Leading)\",IF(O16=\"Lost\",\"Won\",O16)))))","v":""},{"$f":"IF(P16=\"Won\",\"Lost\",IF(P16=\"Lost\",\"Won\",P16))","v":""},null,null,null,null,null,null,null,null,null,null,null,{"$f":"IF(Y14=\"\",\"\",IF(Y14=\"Lost\",S14,S15))","v":""},{"$f":"IF(AB17=\"\",\"\",VLOOKUP(AB17,'Team List'!BC:BD,2,0))","v":""},{"$f":"IF(AC17=\"\",\"\",VLOOKUP(AC17,'Team List'!B:C,2,0))","v":""},{"$f":"IF(AE16=\"\",\"\",IF(AE16=\"Won\",\"Lost\",IF(AE16=\"Tied (Leading)\",\"Tied (Trailing)\",IF(AE16=\"Tied (Trailing)\",\"Tied (Leading)\",IF(AE16=\"Lost\",\"Won\",AE16)))))","v":""},null,null,{"$f":"IF(AH16=\"3rd Place\",\"4th Place\",IF(AH16=\"4th Place\",\"3rd Place\",AH16))","v":""}]
[null,2,{"$f":"VLOOKUP(B18,'Team List'!BC:BD,2,0)","v":"T40"},{"$f":"VLOOKUP(C18,'Team List'!$B:$C,2,0)","v":0},{"$f":"IF(E17=\"\",\"\",IF(E17=\"Won\",\"Lost\",IF(E17=\"Tied (Leading)\",\"Tied (Trailing)\",IF(E17=\"Tied (Trailing)\",\"Tied (Leading)\",IF(E17=\"Lost\",\"Won\",E17)))))","v":""},{"$f":"IF(F17=\"\",\"\",IF(F17=\"Won\",\"Lost\",IF(F17=\"Tied (Leading)\",\"Tied (Trailing)\",IF(F17=\"Tied (Trailing)\",\"Tied (Leading)\",IF(F17=\"Lost\",\"Won\",F17)))))","v":""},{"$f":"IF(G17=\"\",\"\",IF(G17=\"Won\",\"Lost\",IF(G17=\"Tied (Leading)\",\"Tied (Trailing)\",IF(G17=\"Tied (Trailing)\",\"Tied (Leading)\",IF(G17=\"Lost\",\"Won\",G17)))))","v":""},{"$f":"IF(H17=\"Won\",\"Lost\",IF(H17=\"Lost\",\"Won\",H17))","v":""}]

{"sheet":"Consolation 9-24","index":16,"n_rows":18,"n_cols":31,"rows_kept":18,"cut":false,"hidden":false,"merged":[[1,6,1,12],[3,15,3,21],[7,24,7,30],[13,24,13,30],[0,1,0,4]]}
[null,"Consolation Round of 16"]
[null,"Seed","Team Number","Team Name","Game 1",null,"Consolation Quarter Finals"]
[null,9,{"$f":"VLOOKUP(B3,'Team List'!BC:BD,2,0)","v":"T62"},{"$f":"IF(C3=\"\",\"\",VLOOKUP(C3,'Team List'!$B:$C,2,0))","v":0},null,null,"Seed","Team Number","Team Name","Game 1","Game 2","Game 3","Match"]
[null,24,{"$f":"VLOOKUP(B4,'Team List'!BC:BD,2,0)","v":"T20"},{"$f":"IF(C4=\"\",\"\",VLOOKUP(C4,'Team List'!$B:$C,2,0))","v":0},{"$f":"IF(E3=\"\",\"\",IF(E3=\"Won\",\"Lost\",IF(E3=\"Tied (Leading)\",\"Tied (Trailing)\",IF(E3=\"Tied (Trailing)\",\"Tied (Leading)\",IF(E3=\"Lost\",\"Won\",E3)))))","v":""},null,{"$f":"IF(E3=\"\",\"\",IF(E3=\"Won\",C3,C4))","v":""},{"$f":"IF(E3=\"\",\"\",IF(E3=\"Won\",C3,C4))","v":""},{"$f":"IF(H4=\"\",\"\",VLOOKUP(H4,'Team List'!$B:$C,2,0))","v":""},null,null,null,{"$f":"IF(COUNTIF(J4:L4,\"Won\")=1,\"Won\",IF(COUNTIF(J4:L4,\"Lost\")=1,\"Lost\",\"\"))","v":""},null,null,"Consolation Semi Finals"]
[null,16,{"$f":"VLOOKUP(B5,'Team List'!BC:BD,2,0)","v":"T53"},{"$f":"IF(C5=\"\",\"\",VLOOKUP(C5,'Team List'!$B:$C,2,0))","v":0},null,null,{"$f":"IF(E5=\"\",\"\",IF(E5=\"Won\",C5,C6))","v":""},{"$f":"IF(E5=\"\",\"\",IF(E5=\"Won\",C5,C6))","v":""},{"$f":"IF(H5=\"\",\"\",VLOOKUP(H5,'Team List'!$B:$C,2,0))","v":""},{"$f":"IF(J4=\"\",\"\",IF(J4=\"Won\",\"Lost\",IF(J4=\"Tied (Leading)\",\"Tied (Trailing)\",IF(J4=\"Tied (Trailing)\",\"Tied (Leading)\",IF(J4=\"Lost\",\"Won\",J4)))))","v":""},{"$f":"IF(K4=\"\",\"\",IF(K4=\"Won\",\"Lost\",IF(K4=\"Tied (Leading)\",\"Tied (Trailing)\",IF(K4=\"Tied (Trailing)\",\"Tied (Leading)\",IF(K4=\"Lost\",\"Won\",K4)))))","v":""},{"$f":"IF(L4=\"\",\"\",IF(L4=\"Won\",\"Lost\",IF(L4=\"Tied (Leading)\",\"Tied (Trailing)\",IF(L4=\"Tied (Trailing)\",\"Tied (Leading)\",IF(L4=\"Lost\",\"Won\",L4)))))","v":""},{"$f":"IF(M4=\"Won\",\"Lost\",IF(M4=\"Lost\",\"Won\",M4))","v":""},null,null,"seed","Team Number","Team Name","Game 1","Game 2","Game 3","Match"]
[null,17,{"$f":"VLOOKUP(B6,'Team List'!BC:BD,2,0)","v":"T39"},{"$f":"IF(C6=\"\",\"\",VLOOKUP(C6,'Team List'!$B:$C,2,0))","v":0},{"$f":"IF(E5=\"\",\"\",IF(E5=\"Won\",\"Lost\",IF(E5=\"Tied (Leading)\",\"Tied (Trailing)\",IF(E5=\"Tied (Trailing)\",\"Tied (Leading)\",IF(E5=\"Lost\",\"Won\",E5)))))","v":""},null,null,null,null,null,null,null,null,null,null,{"$f":"IF(M4=\"\",\"\",IF(M4=\"Won\",G4,G5))","v":""},{"$f":"IF(M4=\"\",\"\",IF(M4=\"Won\",G4,G5))","v":""},{"$f":"IF(Q6=\"\",\"\",VLOOKUP(Q6,'Team List'!$B:$C,2,0))","v":""},null,null,null,{"$f":"IF(COUNTIF(S6:U6,\"Won\")=1,\"Won\",IF(COUNTIF(S6:U6,\"Lost\")=1,\"Lost\",\"\"))","v":""}]
[null,13,{"$f":"VLOOKUP(B7,'Team List'!BC:BD,2,0)","v":"T14"},{"$f":"IF(C7=\"\",\"\",VLOOKUP(C7,'Team List'!$B:$C,2,0))","v":0},null,null,null,null,null,null,null,null,null,null,null,{"$f":"IF(M8=\"\",\"\",IF(M8=\"Won\",G8,G9))","v":""},{"$f":"IF(M8=\"\",\"\",IF(M8=\"Won\",G8,G9))","v":""},{"$f":"IF(Q7=\"\",\"\",VLOOKUP(Q7,'Team List'!$B:$C,2,0))","v":""},{"$f":"IF(S6=\"\",\"\",IF(S6=\"Won\",\"Lost\",IF(S6=\"Tied (Leading)\",\"Tied (Trailing)\",IF(S6=\"Tied (Trailing)\",\"Tied (Leading)\",IF(S6=\"Lost\",\"Won\",S6)))))","v":""},{"$f":"IF(T6=\"\",\"\",IF(T6=\"Won\",\"Lost\",IF(T6=\"Tied (Leading)\",\"Tied (Trailing)\",IF(T6=\"Tied (Trailing)\",\"Tied (Leading)\",IF(T6=\"Lost\",\"Won\",T6)))))","v":""},{"$f":"IF(U6=\"\",\"\",IF(U6=\"Won\",\"Lost\",IF(U6=\"Tied (Leading)\",\"Tied (Trailing)\",IF(U6=\"Tied (Trailing)\",\"Tied (Leading)\",IF(U6=\"Lost\",\"Won\",U6)))))","v":""},{"$f":"IF(V6=\"Won\",\"Lost\",IF(V6=\"Lost\",\"Won\",V6))","v":""}]
[null,20,{"$f":"VLOOKUP(B8,'Team List'!BC:BD,2,0)","v":"T17"},{"$f":"IF(C8=\"\",\"\",VLOOKUP(C8,'Team List'!$B:$C,2,0))","v":0},{"$f":"IF(E7=\"\",\"\",IF(E7=\"Won\",\"Lost\",IF(E7=\"Tied (Leading)\",\"Tied (Trailing)\",IF(E7=\"Tied (Trailing)\",\"Tied (Leading)\",IF(E7=\"Lost\",\"Won\",E7)))))","v":""},null,{"$f":"IF(E7=\"\",\"\",IF(E7=\"Won\",C7,C8))","v":""},{"$f":"IF(E7=\"\",\"\",IF(E7=\"Won\",C7,C8))","v":""},{"$f":"IF(H8=\"\",\"\",VLOOKUP(H8,'Team List'!$B:$C,2,0))","v":""},null,null,null,{"$f":"IF(COUNTIF(J8:L8,\"Won\")=1,\"Won\",IF(COUNTIF(J8:L8,\"Lost\")=1,\"Lost\",\"\"))","v":""},null,null,null,null,null,null,null,null,null,null,null,"Consolation Championship"]
[null,12,{"$f":"VLOOKUP(B9,'Team List'!BC:BD,2,0)","v":"T28"},{"$f":"IF(C9=\"\",\"\",VLOOKUP(C9,'Team List'!$B:$C,2,0))","v":0},null,null,{"$f":"IF(E9=\"\",\"\",IF(E9=\"Won\",C9,C10))","v":""},{"$f":"IF(E9=\"\",\"\",IF(E9=\"Won\",C9,C10))","v":""},{"$f":"IF(H9=\"\",\"\",VLOOKUP(H9,'Team List'!$B:$C,2,0))","v":""},{"$f":"IF(J8=\"\",\"\",IF(J8=\"Won\",\"Lost\",IF(J8=\"Tied (Leading)\",\"Tied (Trailing)\",IF(J8=\"Tied (Trailing)\",\"Tied (Leading)\",IF(J8=\"Lost\",\"Won\",J8)))))","v":""},{"$f":"IF(K8=\"\",\"\",IF(K8=\"Won\",\"Lost\",IF(K8=\"Tied (Leading)\",\"Tied (Trailing)\",IF(K8=\"Tied (Trailing)\",\"Tied (Leading)\",IF(K8=\"Lost\",\"Won\",K8)))))","v":""},{"$f":"IF(L8=\"\",\"\",IF(L8=\"Won\",\"Lost\",IF(L8=\"Tied (Leading)\",\"Tied (Trailing)\",IF(L8=\"Tied (Trailing)\",\"Tied (Leading)\",IF(L8=\"Lost\",\"Won\",L8)))))","v":""},{"$f":"IF(M8=\"Won\",\"Lost\",IF(M8=\"Lost\",\"Won\",M8))","v":""},null,null,null,null,null,null,null,null,null,null,null,"seed","Team Number","Team Name","Game 1","Game 2","Game 3","Finish"]
[null,21,{"$f":"VLOOKUP(B10,'Team List'!BC:BD,2,0)","v":"T31"},{"$f":"IF(C10=\"\",\"\",VLOOKUP(C10,'Team List'!$B:$C,2,0))","v":0},{"$f":"IF(E9=\"\",\"\",IF(E9=\"Won\",\"Lost\",IF(E9=\"Tied (Leading)\",\"Tied (Trailing)\",IF(E9=\"Tied (Trailing)\",\"Tied (Leading)\",IF(E9=\"Lost\",\"Won\",E9)))))","v":""},null,null,null,null,null,null,null,null,null,null,null,null,null,null,null,null,null,null,null,{"$f":"IF(V6=\"\",\"\",IF(V6=\"Won\",P6,P7))","v":""},{"$f":"IF(V6=\"\",\"\",IF(V6=\"Won\",P6,P7))","v":""},{"$f":"IF(Z10=\"\",\"\",VLOOKUP(Z10,'Team List'!B:C,2,0))","v":""},null,null,null,{"$f":"IF(COUNTIF(AB10:AD10,\"Won\")=1,\"Champions!\",IF(COUNTIF(AB10:AD10,\"Lost\")=1,\"2nd Place\",\"\"))","v":""}]
[null,22,{"$f":"VLOOKUP(B11,'Team List'!BC:BD,2,0)","v":"T15"},{"$f":"IF(C11=\"\",\"\",VLOOKUP(C11,'Team List'!$B:$C,2,0))","v":0},null,null,null,null,null,null,null,null,null,null,null,null,null,null,null,null,null,null,null,null,{"$f":"IF(V14=\"\",\"\",IF(V14=\"Won\",P14,P15))","v":""},{"$f":"IF(V14=\"\",\"\",IF(V14=\"Won\",P14,P15))","v":""},{"$f":"IF(Z11=\"\",\"\",VLOOKUP(Z11,'Team List'!B:C,2,0))","v":""},{"$f":"IF(AB10=\"\",\"\",IF(AB10=\"Won\",\"Lost\",IF(AB10=\"Tied (Leading)\",\"Tied (Trailing)\",IF(AB10=\"Tied (Trailing)\",\"Tied (Leading)\",IF(AB10=\"Lost\",\"Won\",AB10)))))","v":""},{"$f":"IF(AC10=\"\",\"\",IF(AC10=\"Won\",\"Lost\",IF(AC10=\"Tied (Leading)\",\"Tied (Trailing)\",IF(AC10=\"Tied (Trailing)\",\"Tied (Leading)\",IF(AC10=\"Lost\",\"Won\",AC10)))))","v":""},{"$f":"IF(AD10=\"\",\"\",IF(AD10=\"Won\",\"Lost\",IF(AD10=\"Tied (Leading)\",\"Tied (Trailing)\",IF(AD10=\"Tied (Trailing)\",\"Tied (Leading)\",IF(AD10=\"Lost\",\"Won\",AD10)))))","v":""},{"$f":"IF(AE10=\"Champions!\",\"2nd Place\",IF(AE10=\"2nd Place\",\"Champions!\",AE10))","v":""}]
[null,11,{"$f":"VLOOKUP(B12,'Team List'!BC:BD,2,0)","v":"T34"},{"$f":"IF(C12=\"\",\"\",VLOOKUP(C12,'Team List'!$B:$C,2,0))","v":0},{"$f":"IF(E11=\"\",\"\",IF(E11=\"Won\",\"Lost\",IF(E11=\"Tied (Leading)\",\"Tied (Trailing)\",IF(E11=\"Tied (Trailing)\",\"Tied (Leading)\",IF(E11=\"Lost\",\"Won\",E11)))))","v":""},null,{"$f":"IF(E11=\"\",\"\",IF(E11=\"Won\",C11,C12))","v":""},{"$f":"IF(E11=\"\",\"\",IF(E11=\"Won\",C11,C12))","v":""},{"$f":"IF(H12=\"\",\"\",VLOOKUP(H12,'Team List'!$B:$C,2,0))","v":""},null,null,null,{"$f":"IF(COUNTIF(J12:L12,\"Won\")=1,\"Won\",IF(COUNTIF(J12:L12,\"Lost\")=1,\"Lost\",\"\"))","v":""}]
[null,19,{"$f":"VLOOKUP(B13,'Team List'!BC:BD,2,0)","v":"T06"},{"$f":"IF(C13=\"\",\"\",VLOOKUP(C13,'Team List'!$B:$C,2,0))","v":0},null,null,{"$f":"IF(E13=\"\",\"\",IF(E13=\"Won\",C13,C14))","v":""},{"$f":"IF(E13=\"\",\"\",IF(E13=\"Won\",C13,C14))","v":""},{"$f":"IF(H13=\"\",\"\",VLOOKUP(H13,'Team List'!$B:$C,2,0))","v":""},{"$f":"IF(J12=\"\",\"\",IF(J12=\"Won\",\"Lost\",IF(J12=\"Tied (Leading)\",\"Tied (Trailing)\",IF(J12=\"Tied (Trailing)\",\"Tied (Leading)\",IF(J12=\"Lost\",\"Won\",J12)))))","v":""},{"$f":"IF(K12=\"\",\"\",IF(K12=\"Won\",\"Lost\",IF(K12=\"Tied (Leading)\",\"Tied (Trailing)\",IF(K12=\"Tied (Trailing)\",\"Tied (Leading)\",IF(K12=\"Lost\",\"Won\",K12)))))","v":""},{"$f":"IF(L12=\"\",\"\",IF(L12=\"Won\",\"Lost\",IF(L12=\"Tied (Leading)\",\"Tied (Trailing)\",IF(L12=\"Tied (Trailing)\",\"Tied (Leading)\",IF(L12=\"Lost\",\"Won\",L12)))))","v":""},{"$f":"IF(M12=\"Won\",\"Lost\",IF(M12=\"Lost\",\"Won\",M12))","v":""}]
[null,14,{"$f":"VLOOKUP(B14,'Team List'!BC:BD,2,0)","v":"T10"},{"$f":"IF(C14=\"\",\"\",VLOOKUP(C14,'Team List'!$B:$C,2,0))","v":0},{"$f":"IF(E13=\"\",\"\",IF(E13=\"Won\",\"Lost\",IF(E13=\"Tied (Leading)\",\"Tied (Trailing)\",IF(E13=\"Tied (Trailing)\",\"Tied (Leading)\",IF(E13=\"Lost\",\"Won\",E13)))))","v":""},null,null,null,null,null,null,null,null,null,null,{"$f":"IF(M12=\"\",\"\",IF(M12=\"Won\",G12,G13))","v":""},{"$f":"IF(M12=\"\",\"\",IF(M12=\"Won\",G12,G13))","v":""},{"$f":"IF(Q14=\"\",\"\",VLOOKUP(Q14,'Team List'!B:C,2,0))","v":""},null,null,null,{"$f":"IF(COUNTIF(S14:U14,\"Won\")=1,\"Won\",IF(COUNTIF(S14:U14,\"Lost\")=1,\"Lost\",\"\"))","v":""},null,null,"Consolation 3rd Place"]
[null,18,{"$f":"VLOOKUP(B15,'Team List'!BC:BD,2,0)","v":"T16"},{"$f":"IF(C15=\"\",\"\",VLOOKUP(C15,'Team List'!$B:$C,2,0))","v":0},null,null,null,null,null,null,null,null,null,null,null,{"$f":"IF(M16=\"\",\"\",IF(M16=\"Won\",G16,G17))","v":""},{"$f":"IF(M16=\"\",\"\",IF(M16=\"Won\",G16,G17))","v":""},{"$f":"IF(Q15=\"\",\"\",VLOOKUP(Q15,'Team List'!B:C,2,0))","v":""},{"$f":"IF(S14=\"\",\"\",IF(S14=\"Won\",\"Lost\",IF(S14=\"Tied (Leading)\",\"Tied (Trailing)\",IF(S14=\"Tied (Trailing)\",\"Tied (Leading)\",IF(S14=\"Lost\",\"Won\",S14)))))","v":""},{"$f":"IF(T14=\"\",\"\",IF(T14=\"Won\",\"Lost\",IF(T14=\"Tied (Leading)\",\"Tied (Trailing)\",IF(T14=\"Tied (Trailing)\",\"Tied (Leading)\",IF(T14=\"Lost\",\"Won\",T14)))))","v":""},{"$f":"IF(U14=\"\",\"\",IF(U14=\"Won\",\"Lost\",IF(U14=\"Tied (Leading)\",\"Tied (Trailing)\",IF(U14=\"Tied (Trailing)\",\"Tied (Leading)\",IF(U14=\"Lost\",\"Won\",U14)))))","v":""},{"$f":"IF(V14=\"Won\",\"Lost\",IF(V14=\"Lost\",\"Won\",V14))","v":""},null,null,"seed","Team Number","Team Name","Game 1","Game 2","Game 3","Finish"]
[null,15,{"$f":"VLOOKUP(B16,'Team List'!BC:BD,2,0)","v":"T13"},{"$f":"IF(C16=\"\",\"\",VLOOKUP(C16,'Team List'!$B:$C,2,0))","v":0},{"$f":"IF(E15=\"\",\"\",IF(E15=\"Won\",\"Lost\",IF(E15=\"Tied (Leading)\",\"Tied (Trailing)\",IF(E15=\"Tied (Trailing)\",\"Tied (Leading)\",IF(E15=\"Lost\",\"Won\",E15)))))","v":""},null,{"$f":"IF(E15=\"\",\"\",IF(E15=\"Won\",C15,C16))","v":""},{"$f":"IF(E15=\"\",\"\",IF(E15=\"Won\",C15,C16))","v":""},{"$f":"IF(H16=\"\",\"\",VLOOKUP(H16,'Team List'!$B:$C,2,0))","v":""},null,null,null,{"$f":"IF(COUNTIF(J16:L16,\"Won\")=1,\"Won\",IF(COUNTIF(J16:L16,\"Lost\")=1,\"Lost\",\"\"))","v":""},null,null,null,null,null,null,null,null,null,null,null,{"$f":"IF(V6=\"\",\"\",IF(V6=\"Lost\",P6,P7))","v":""},{"$f":"IF(V6=\"\",\"\",IF(V6=\"Lost\",P6,P7))","v":""},{"$f":"IF(Z16=\"\",\"\",VLOOKUP(Z16,'Team List'!B:C,2,0))","v":""},null,null,null,{"$f":"IF(COUNTIF(AB16:AD16,\"Won\")=1,\"3rd Place\",IF(COUNTIF(AB16:AD16,\"Lost\")=1,\"4th Place\",\"\"))","v":""}]
[null,23,{"$f":"VLOOKUP(B17,'Team List'!BC:BD,2,0)","v":"T29"},{"$f":"IF(C17=\"\",\"\",VLOOKUP(C17,'Team List'!$B:$C,2,0))","v":0},null,null,{"$f":"IF(E17=\"\",\"\",IF(E17=\"Won\",C17,C18))","v":""},{"$f":"IF(E17=\"\",\"\",IF(E17=\"Won\",C17,C18))","v":""},{"$f":"IF(H17=\"\",\"\",VLOOKUP(H17,'Team List'!$B:$C,2,0))","v":""},{"$f":"IF(J16=\"\",\"\",IF(J16=\"Won\",\"Lost\",IF(J16=\"Tied (Leading)\",\"Tied (Trailing)\",IF(J16=\"Tied (Trailing)\",\"Tied (Leading)\",IF(J16=\"Lost\",\"Won\",J16)))))","v":""},{"$f":"IF(K16=\"\",\"\",IF(K16=\"Won\",\"Lost\",IF(K16=\"Tied (Leading)\",\"Tied (Trailing)\",IF(K16=\"Tied (Trailing)\",\"Tied (Leading)\",IF(K16=\"Lost\",\"Won\",K16)))))","v":""},{"$f":"IF(L16=\"\",\"\",IF(L16=\"Won\",\"Lost\",IF(L16=\"Tied (Leading)\",\"Tied (Trailing)\",IF(L16=\"Tied (Trailing)\",\"Tied (Leading)\",IF(L16=\"Lost\",\"Won\",L16)))))","v":""},{"$f":"IF(M16=\"Won\",\"Lost\",IF(M16=\"Lost\",\"Won\",M16))","v":""},null,null,null,null,null,null,null,null,null,null,null,{"$f":"IF(V14=\"\",\"\",IF(V14=\"Lost\",P14,P15))","v":""},{"$f":"IF(V14=\"\",\"\",IF(V14=\"Lost\",P14,P15))","v":""},{"$f":"IF(Z17=\"\",\"\",VLOOKUP(Z17,'Team List'!B:C,2,0))","v":""},{"$f":"IF(AB16=\"\",\"\",IF(AB16=\"Won\",\"Lost\",IF(AB16=\"Tied (Leading)\",\"Tied (Trailing)\",IF(AB16=\"Tied (Trailing)\",\"Tied (Leading)\",IF(AB16=\"Lost\",\"Won\",AB16)))))","v":""},{"$f":"IF(AC16=\"\",\"\",IF(AC16=\"Won\",\"Lost\",IF(AC16=\"Tied (Leading)\",\"Tied (Trailing)\",IF(AC16=\"Tied (Trailing)\",\"Tied (Leading)\",IF(AC16=\"Lost\",\"Won\",AC16)))))","v":""},{"$f":"IF(AD16=\"\",\"\",IF(AD16=\"Won\",\"Lost\",IF(AD16=\"Tied (Leading)\",\"Tied (Trailing)\",IF(AD16=\"Tied (Trailing)\",\"Tied (Leading)\",IF(AD16=\"Lost\",\"Won\",AD16)))))","v":""},{"$f":"IF(AE16=\"3rd Place\",\"4th Place\",IF(AE16=\"4th Place\",\"3rd Place\",AE16))","v":""}]
[null,10,{"$f":"VLOOKUP(B18,'Team List'!BC:BD,2,0)","v":"T27"},{"$f":"IF(C18=\"\",\"\",VLOOKUP(C18,'Team List'!$B:$C,2,0))","v":0},{"$f":"IF(E17=\"\",\"\",IF(E17=\"Won\",\"Lost\",IF(E17=\"Tied (Leading)\",\"Tied (Trailing)\",IF(E17=\"Tied (Trailing)\",\"Tied (Leading)\",IF(E17=\"Lost\",\"Won\",E17)))))","v":""}]

{"sheet":"Consolation A","index":17,"n_rows":17,"n_cols":26,"rows_kept":17,"cut":false,"hidden":true,"merged":[[1,1,1,7],[3,10,3,16],[7,19,7,25],[13,19,13,25]]}
[]
[null,"Consolation A Quarter Finals"]
[null,"Seed","Team Number","Team Name","Game 1","Game 2","Game 3","Match"]
[null,{"$f":"IF('Elim Bracket - 16'!H3=\"\",\"\",IF('Elim Bracket - 16'!H3=\"Won\",'Elim Bracket - 16'!C4,'Elim Bracket - 16'!C3))","v":""},{"$f":"IF('Elim Bracket - 16'!H3=\"\",\"\",IF('Elim Bracket - 16'!H3=\"Won\",'Elim Bracket - 16'!C4,'Elim Bracket - 16'!C3))","v":""},{"$f":"IF(C4=\"\",\"\",VLOOKUP(C4,'Team List'!$B:$C,2,0))","v":""},null,null,null,{"$f":"IF(COUNTIF(E4:G4,\"Won\")=1,\"Won\",IF(COUNTIF(E4:G4,\"Lost\")=1,\"Lost\",\"\"))","v":""},null,null,"Consolation A Semi Finals"]
[null,{"$f":"IF('Elim Bracket - 16'!H5=\"\",\"\",IF('Elim Bracket - 16'!H5=\"Won\",'Elim Bracket - 16'!C6,'Elim Bracket - 16'!C5))","v":""},{"$f":"IF('Elim Bracket - 16'!H5=\"\",\"\",IF('Elim Bracket - 16'!H5=\"Won\",'Elim Bracket - 16'!C6,'Elim Bracket - 16'!C5))","v":""},{"$f":"IF(C5=\"\",\"\",VLOOKUP(C5,'Team List'!$B:$C,2,0))","v":""},{"$f":"IF(E4=\"\",\"\",IF(E4=\"Won\",\"Lost\",IF(E4=\"Tied (Leading)\",\"Tied (Trailing)\",IF(E4=\"Tied (Trailing)\",\"Tied (Leading)\",IF(E4=\"Lost\",\"Won\",E4)))))","v":""},{"$f":"IF(F4=\"\",\"\",IF(F4=\"Won\",\"Lost\",IF(F4=\"Tied (Leading)\",\"Tied (Trailing)\",IF(F4=\"Tied (Trailing)\",\"Tied (Leading)\",IF(F4=\"Lost\",\"Won\",F4)))))","v":""},{"$f":"IF(G4=\"\",\"\",IF(G4=\"Won\",\"Lost\",IF(G4=\"Tied (Leading)\",\"Tied (Trailing)\",IF(G4=\"Tied (Trailing)\",\"Tied (Leading)\",IF(G4=\"Lost\",\"Won\",G4)))))","v":""},{"$f":"IF(H4=\"Won\",\"Lost\",IF(H4=\"Lost\",\"Won\",H4))","v":""},null,null,"seed","Team Number","Team Name","Game 1","Game 2","Game 3","Match"]
[null,null,null,null,null,null,null,null,null,null,{"$f":"IF(H4=\"\",\"\",IF(H4=\"Won\",B4,B5))","v":""},{"$f":"IF(H4=\"\",\"\",IF(H4=\"Won\",B4,B5))","v":""},{"$f":"IF(L6=\"\",\"\",VLOOKUP(L6,'Team List'!$B:$C,2,0))","v":""},null,null,null,{"$f":"IF(COUNTIF(N6:P6,\"Won\")=1,\"Won\",IF(COUNTIF(N6:P6,\"Lost\")=1,\"Lost\",\"\"))","v":""}]
[null,null,null,null,null,null,null,null,null,null,{"$f":"IF(H8=\"\",\"\",IF(H8=\"Won\",B8,B9))","v":""},{"$f":"IF(H8=\"\",\"\",IF(H8=\"Won\",B8,B9))","v":""},{"$f":"IF(L7=\"\",\"\",VLOOKUP(L7,'Team List'!$B:$C,2,0))","v":""},{"$f":"IF(N6=\"\",\"\",IF(N6=\"Won\",\"Lost\",IF(N6=\"Tied (Leading)\",\"Tied (Trailing)\",IF(N6=\"Tied (Trailing)\",\"Tied (Leading)\",IF(N6=\"Lost\",\"Won\",N6)))))","v":""},{"$f":"IF(O6=\"\",\"\",IF(O6=\"Won\",\"Lost\",IF(O6=\"Tied (Leading)\",\"Tied (Trailing)\",IF(O6=\"Tied (Trailing)\",\"Tied (Leading)\",IF(O6=\"Lost\",\"Won\",O6)))))","v":""},{"$f":"IF(P6=\"\",\"\",IF(P6=\"Won\",\"Lost\",IF(P6=\"Tied (Leading)\",\"Tied (Trailing)\",IF(P6=\"Tied (Trailing)\",\"Tied (Leading)\",IF(P6=\"Lost\",\"Won\",P6)))))","v":""},{"$f":"IF(Q6=\"Won\",\"Lost\",IF(Q6=\"Lost\",\"Won\",Q6))","v":""}]
[null,{"$f":"IF('Elim Bracket - 16'!H7=\"\",\"\",IF('Elim Bracket - 16'!H7=\"Won\",'Elim Bracket - 16'!C8,'Elim Bracket - 16'!C7))","v":""},{"$f":"IF('Elim Bracket - 16'!H7=\"\",\"\",IF('Elim Bracket - 16'!H7=\"Won\",'Elim Bracket - 16'!C8,'Elim Bracket - 16'!C7))","v":""},{"$f":"IF(C8=\"\",\"\",VLOOKUP(C8,'Team List'!$B:$C,2,0))","v":""},null,null,null,{"$f":"IF(COUNTIF(E8:G8,\"Won\")=1,\"Won\",IF(COUNTIF(E8:G8,\"Lost\")=1,\"Lost\",\"\"))","v":""},null,null,null,null,null,null,null,null,null,null,null,"Consolation A Championship"]
[null,{"$f":"IF('Elim Bracket - 16'!H9=\"\",\"\",IF('Elim Bracket - 16'!H9=\"Won\",'Elim Bracket - 16'!C10,'Elim Bracket - 16'!C9))","v":""},{"$f":"IF('Elim Bracket - 16'!H9=\"\",\"\",IF('Elim Bracket - 16'!H9=\"Won\",'Elim Bracket - 16'!C10,'Elim Bracket - 16'!C9))","v":""},{"$f":"IF(C9=\"\",\"\",VLOOKUP(C9,'Team List'!$B:$C,2,0))","v":""},{"$f":"IF(E8=\"\",\"\",IF(E8=\"Won\",\"Lost\",IF(E8=\"Tied (Leading)\",\"Tied (Trailing)\",IF(E8=\"Tied (Trailing)\",\"Tied (Leading)\",IF(E8=\"Lost\",\"Won\",E8)))))","v":""},{"$f":"IF(F8=\"\",\"\",IF(F8=\"Won\",\"Lost\",IF(F8=\"Tied (Leading)\",\"Tied (Trailing)\",IF(F8=\"Tied (Trailing)\",\"Tied (Leading)\",IF(F8=\"Lost\",\"Won\",F8)))))","v":""},{"$f":"IF(G8=\"\",\"\",IF(G8=\"Won\",\"Lost\",IF(G8=\"Tied (Leading)\",\"Tied (Trailing)\",IF(G8=\"Tied (Trailing)\",\"Tied (Leading)\",IF(G8=\"Lost\",\"Won\",G8)))))","v":""},{"$f":"IF(H8=\"Won\",\"Lost\",IF(H8=\"Lost\",\"Won\",H8))","v":""},null,null,null,null,null,null,null,null,null,null,null,"seed","Team Number","Team Name","Game 1","Game 2","Game 3","Finish"]
[null,null,null,null,null,null,null,null,null,null,null,null,null,null,null,null,null,null,null,{"$f":"IF(Q6=\"\",\"\",IF(Q6=\"Won\",K6,K7))","v":""},{"$f":"IF(Q6=\"\",\"\",IF(Q6=\"Won\",K6,K7))","v":""},{"$f":"IF(U10=\"\",\"\",VLOOKUP(U10,'Team List'!B:C,2,0))","v":""},null,null,null,{"$f":"IF(COUNTIF(W10:Y10,\"Won\")=1,\"Champions!\",IF(COUNTIF(W10:Y10,\"Lost\")=1,\"2nd Place\",\"\"))","v":""}]
[null,null,null,null,null,null,null,null,null,null,null,null,null,null,null,null,null,null,null,{"$f":"IF(Q14=\"\",\"\",IF(Q14=\"Won\",K14,K15))","v":""},{"$f":"IF(Q14=\"\",\"\",IF(Q14=\"Won\",K14,K15))","v":""},{"$f":"IF(U11=\"\",\"\",VLOOKUP(U11,'Team List'!B:C,2,0))","v":""},{"$f":"IF(W10=\"\",\"\",IF(W10=\"Won\",\"Lost\",IF(W10=\"Tied (Leading)\",\"Tied (Trailing)\",IF(W10=\"Tied (Trailing)\",\"Tied (Leading)\",IF(W10=\"Lost\",\"Won\",W10)))))","v":""},{"$f":"IF(X10=\"\",\"\",IF(X10=\"Won\",\"Lost\",IF(X10=\"Tied (Leading)\",\"Tied (Trailing)\",IF(X10=\"Tied (Trailing)\",\"Tied (Leading)\",IF(X10=\"Lost\",\"Won\",X10)))))","v":""},{"$f":"IF(Y10=\"\",\"\",IF(Y10=\"Won\",\"Lost\",IF(Y10=\"Tied (Leading)\",\"Tied (Trailing)\",IF(Y10=\"Tied (Trailing)\",\"Tied (Leading)\",IF(Y10=\"Lost\",\"Won\",Y10)))))","v":""},{"$f":"IF(Z10=\"Champions!\",\"2nd Place\",IF(Z10=\"2nd Place\",\"Champions!\",Z10))","v":""}]
[null,{"$f":"IF('Elim Bracket - 16'!H11=\"\",\"\",IF('Elim Bracket - 16'!H11=\"Won\",'Elim Bracket - 16'!C12,'Elim Bracket - 16'!C11))","v":""},{"$f":"IF('Elim Bracket - 16'!H11=\"\",\"\",IF('Elim Bracket - 16'!H11=\"Won\",'Elim Bracket - 16'!C12,'Elim Bracket - 16'!C11))","v":""},{"$f":"IF(C12=\"\",\"\",VLOOKUP(C12,'Team List'!$B:$C,2,0))","v":""},null,null,null,{"$f":"IF(COUNTIF(E12:G12,\"Won\")=1,\"Won\",IF(COUNTIF(E12:G12,\"Lost\")=1,\"Lost\",\"\"))","v":""}]
[null,{"$f":"IF('Elim Bracket - 16'!H13=\"\",\"\",IF('Elim Bracket - 16'!H13=\"Won\",'Elim Bracket - 16'!C14,'Elim Bracket - 16'!C13))","v":""},{"$f":"IF('Elim Bracket - 16'!H13=\"\",\"\",IF('Elim Bracket - 16'!H13=\"Won\",'Elim Bracket - 16'!C14,'Elim Bracket - 16'!C13))","v":""},{"$f":"IF(C13=\"\",\"\",VLOOKUP(C13,'Team List'!$B:$C,2,0))","v":""},{"$f":"IF(E12=\"\",\"\",IF(E12=\"Won\",\"Lost\",IF(E12=\"Tied (Leading)\",\"Tied (Trailing)\",IF(E12=\"Tied (Trailing)\",\"Tied (Leading)\",IF(E12=\"Lost\",\"Won\",E12)))))","v":""},{"$f":"IF(F12=\"\",\"\",IF(F12=\"Won\",\"Lost\",IF(F12=\"Tied (Leading)\",\"Tied (Trailing)\",IF(F12=\"Tied (Trailing)\",\"Tied (Leading)\",IF(F12=\"Lost\",\"Won\",F12)))))","v":""},{"$f":"IF(G12=\"\",\"\",IF(G12=\"Won\",\"Lost\",IF(G12=\"Tied (Leading)\",\"Tied (Trailing)\",IF(G12=\"Tied (Trailing)\",\"Tied (Leading)\",IF(G12=\"Lost\",\"Won\",G12)))))","v":""},{"$f":"IF(H12=\"Won\",\"Lost\",IF(H12=\"Lost\",\"Won\",H12))","v":""}]
[null,null,null,null,null,null,null,null,null,null,{"$f":"IF(H12=\"\",\"\",IF(H12=\"Won\",B12,B13))","v":""},{"$f":"IF(H12=\"\",\"\",IF(H12=\"Won\",B12,B13))","v":""},{"$f":"IF(L14=\"\",\"\",VLOOKUP(L14,'Team List'!B:C,2,0))","v":""},null,null,null,{"$f":"IF(COUNTIF(N14:P14,\"Won\")=1,\"Won\",IF(COUNTIF(N14:P14,\"Lost\")=1,\"Lost\",\"\"))","v":""},null,null,"Consolation A 3rd Place"]
[null,null,null,null,null,null,null,null,null,null,{"$f":"IF(H16=\"\",\"\",IF(H16=\"Won\",B16,B17))","v":""},{"$f":"IF(H16=\"\",\"\",IF(H16=\"Won\",B16,B17))","v":""},{"$f":"IF(L15=\"\",\"\",VLOOKUP(L15,'Team List'!B:C,2,0))","v":""},{"$f":"IF(N14=\"\",\"\",IF(N14=\"Won\",\"Lost\",IF(N14=\"Tied (Leading)\",\"Tied (Trailing)\",IF(N14=\"Tied (Trailing)\",\"Tied (Leading)\",IF(N14=\"Lost\",\"Won\",N14)))))","v":""},{"$f":"IF(O14=\"\",\"\",IF(O14=\"Won\",\"Lost\",IF(O14=\"Tied (Leading)\",\"Tied (Trailing)\",IF(O14=\"Tied (Trailing)\",\"Tied (Leading)\",IF(O14=\"Lost\",\"Won\",O14)))))","v":""},{"$f":"IF(P14=\"\",\"\",IF(P14=\"Won\",\"Lost\",IF(P14=\"Tied (Leading)\",\"Tied (Trailing)\",IF(P14=\"Tied (Trailing)\",\"Tied (Leading)\",IF(P14=\"Lost\",\"Won\",P14)))))","v":""},{"$f":"IF(Q14=\"Won\",\"Lost\",IF(Q14=\"Lost\",\"Won\",Q14))","v":""},null,null,"seed","Team Number","Team Name","Game 1","Game 2","Game 3","Finish"]
[null,{"$f":"IF('Elim Bracket - 16'!H15=\"\",\"\",IF('Elim Bracket - 16'!H15=\"Won\",'Elim Bracket - 16'!C16,'Elim Bracket - 16'!C15))","v":""},{"$f":"IF('Elim Bracket - 16'!H15=\"\",\"\",IF('Elim Bracket - 16'!H15=\"Won\",'Elim Bracket - 16'!C16,'Elim Bracket - 16'!C15))","v":""},{"$f":"IF(C16=\"\",\"\",VLOOKUP(C16,'Team List'!$B:$C,2,0))","v":""},null,null,null,{"$f":"IF(COUNTIF(E16:G16,\"Won\")=1,\"Won\",IF(COUNTIF(E16:G16,\"Lost\")=1,\"Lost\",\"\"))","v":""},null,null,null,null,null,null,null,null,null,null,null,{"$f":"IF(Q6=\"\",\"\",IF(Q6=\"Lost\",K6,K7))","v":""},{"$f":"IF(Q6=\"\",\"\",IF(Q6=\"Lost\",K6,K7))","v":""},{"$f":"IF(U16=\"\",\"\",VLOOKUP(U16,'Team List'!B:C,2,0))","v":""},null,null,null,{"$f":"IF(COUNTIF(W16:Y16,\"Won\")=1,\"3rd Place\",IF(COUNTIF(W16:Y16,\"Lost\")=1,\"4th Place\",\"\"))","v":""}]
[null,{"$f":"IF('Elim Bracket - 16'!H17=\"\",\"\",IF('Elim Bracket - 16'!H17=\"Won\",'Elim Bracket - 16'!C18,'Elim Bracket - 16'!C17))","v":""},{"$f":"IF('Elim Bracket - 16'!H17=\"\",\"\",IF('Elim Bracket - 16'!H17=\"Won\",'Elim Bracket - 16'!C18,'Elim Bracket - 16'!C17))","v":""},{"$f":"IF(C17=\"\",\"\",VLOOKUP(C17,'Team List'!$B:$C,2,0))","v":""},{"$f":"IF(E16=\"\",\"\",IF(E16=\"Won\",\"Lost\",IF(E16=\"Tied (Leading)\",\"Tied (Trailing)\",IF(E16=\"Tied (Trailing)\",\"Tied (Leading)\",IF(E16=\"Lost\",\"Won\",E16)))))","v":""},{"$f":"IF(F16=\"\",\"\",IF(F16=\"Won\",\"Lost\",IF(F16=\"Tied (Leading)\",\"Tied (Trailing)\",IF(F16=\"Tied (Trailing)\",\"Tied (Leading)\",IF(F16=\"Lost\",\"Won\",F16)))))","v":""},{"$f":"IF(G16=\"\",\"\",IF(G16=\"Won\",\"Lost\",IF(G16=\"Tied (Leading)\",\"Tied (Trailing)\",IF(G16=\"Tied (Trailing)\",\"Tied (Leading)\",IF(G16=\"Lost\",\"Won\",G16)))))","v":""},{"$f":"IF(H16=\"Won\",\"Lost\",IF(H16=\"Lost\",\"Won\",H16))","v":""},null,null,null,null,null,null,null,null,null,null,null,{"$f":"IF(Q14=\"\",\"\",IF(Q14=\"Lost\",K14,K15))","v":""},{"$f":"IF(Q14=\"\",\"\",IF(Q14=\"Lost\",K14,K15))","v":""},{"$f":"IF(U17=\"\",\"\",VLOOKUP(U17,'Team List'!B:C,2,0))","v":""},{"$f":"IF(W16=\"\",\"\",IF(W16=\"Won\",\"Lost\",IF(W16=\"Tied (Leading)\",\"Tied (Trailing)\",IF(W16=\"Tied (Trailing)\",\"Tied (Leading)\",IF(W16=\"Lost\",\"Won\",W16)))))","v":""},{"$f":"IF(X16=\"\",\"\",IF(X16=\"Won\",\"Lost\",IF(X16=\"Tied (Leading)\",\"Tied (Trailing)\",IF(X16=\"Tied (Trailing)\",\"Tied (Leading)\",IF(X16=\"Lost\",\"Won\",X16)))))","v":""},{"$f":"IF(Y16=\"\",\"\",IF(Y16=\"Won\",\"Lost\",IF(Y16=\"Tied (Leading)\",\"Tied (Trailing)\",IF(Y16=\"Tied (Trailing)\",\"Tied (Leading)\",IF(Y16=\"Lost\",\"Won\",Y16)))))","v":""},{"$f":"IF(Z16=\"3rd Place\",\"4th Place\",IF(Z16=\"4th Place\",\"3rd Place\",Z16))","v":""}]

{"sheet":"Consolation 17-32","index":18,"n_rows":18,"n_cols":31,"rows_kept":18,"cut":false,"hidden":true,"merged":[[0,1,0,4],[1,6,1,12],[3,15,3,21],[7,24,7,30],[13,24,13,30]]}
[null,"Consolation Round of 16"]
[null,"Seed","Team Number","Team Name","Game 1",null,"Consolation Quarter Finals"]
[null,17,{"$f":"VLOOKUP(B3,'Team List'!BC:BD,2,0)","v":"T39"},{"$f":"IF(C3=\"\",\"\",VLOOKUP(C3,'Team List'!$B:$C,2,0))","v":0},null,null,"Seed","Team Number","Team Name","Game 1","Game 2","Game 3","Match"]
[null,32,{"$f":"VLOOKUP(B4,'Team List'!BC:BD,2,0)","v":"T49"},{"$f":"IF(C4=\"\",\"\",VLOOKUP(C4,'Team List'!$B:$C,2,0))","v":0},{"$f":"IF(E3=\"\",\"\",IF(E3=\"Won\",\"Lost\",IF(E3=\"Tied (Leading)\",\"Tied (Trailing)\",IF(E3=\"Tied (Trailing)\",\"Tied (Leading)\",IF(E3=\"Lost\",\"Won\",E3)))))","v":""},null,{"$f":"IF(E3=\"\",\"\",IF(E3=\"Won\",C3,C4))","v":""},{"$f":"IF(E3=\"\",\"\",IF(E3=\"Won\",C3,C4))","v":""},{"$f":"IF(H4=\"\",\"\",VLOOKUP(H4,'Team List'!$B:$C,2,0))","v":""},null,null,null,{"$f":"IF(COUNTIF(J4:L4,\"Won\")=1,\"Won\",IF(COUNTIF(J4:L4,\"Lost\")=1,\"Lost\",\"\"))","v":""},null,null,"Consolation Semi Finals"]
[null,24,{"$f":"VLOOKUP(B5,'Team List'!BC:BD,2,0)","v":"T20"},{"$f":"IF(C5=\"\",\"\",VLOOKUP(C5,'Team List'!$B:$C,2,0))","v":0},null,null,{"$f":"IF(E5=\"\",\"\",IF(E5=\"Won\",C5,C6))","v":""},{"$f":"IF(E5=\"\",\"\",IF(E5=\"Won\",C5,C6))","v":""},{"$f":"IF(H5=\"\",\"\",VLOOKUP(H5,'Team List'!$B:$C,2,0))","v":""},{"$f":"IF(J4=\"\",\"\",IF(J4=\"Won\",\"Lost\",IF(J4=\"Tied (Leading)\",\"Tied (Trailing)\",IF(J4=\"Tied (Trailing)\",\"Tied (Leading)\",IF(J4=\"Lost\",\"Won\",J4)))))","v":""},{"$f":"IF(K4=\"\",\"\",IF(K4=\"Won\",\"Lost\",IF(K4=\"Tied (Leading)\",\"Tied (Trailing)\",IF(K4=\"Tied (Trailing)\",\"Tied (Leading)\",IF(K4=\"Lost\",\"Won\",K4)))))","v":""},{"$f":"IF(L4=\"\",\"\",IF(L4=\"Won\",\"Lost\",IF(L4=\"Tied (Leading)\",\"Tied (Trailing)\",IF(L4=\"Tied (Trailing)\",\"Tied (Leading)\",IF(L4=\"Lost\",\"Won\",L4)))))","v":""},{"$f":"IF(M4=\"Won\",\"Lost\",IF(M4=\"Lost\",\"Won\",M4))","v":""},null,null,"seed","Team Number","Team Name","Game 1","Game 2","Game 3","Match"]
[null,25,{"$f":"VLOOKUP(B6,'Team List'!BC:BD,2,0)","v":"T12"},{"$f":"IF(C6=\"\",\"\",VLOOKUP(C6,'Team List'!$B:$C,2,0))","v":0},{"$f":"IF(E5=\"\",\"\",IF(E5=\"Won\",\"Lost\",IF(E5=\"Tied (Leading)\",\"Tied (Trailing)\",IF(E5=\"Tied (Trailing)\",\"Tied (Leading)\",IF(E5=\"Lost\",\"Won\",E5)))))","v":""},null,null,null,null,null,null,null,null,null,null,{"$f":"IF(M4=\"\",\"\",IF(M4=\"Won\",G4,G5))","v":""},{"$f":"IF(M4=\"\",\"\",IF(M4=\"Won\",G4,G5))","v":""},{"$f":"IF(Q6=\"\",\"\",VLOOKUP(Q6,'Team List'!$B:$C,2,0))","v":""},null,null,null,{"$f":"IF(COUNTIF(S6:U6,\"Won\")=1,\"Won\",IF(COUNTIF(S6:U6,\"Lost\")=1,\"Lost\",\"\"))","v":""}]
[null,21,{"$f":"VLOOKUP(B7,'Team List'!BC:BD,2,0)","v":"T31"},{"$f":"IF(C7=\"\",\"\",VLOOKUP(C7,'Team List'!$B:$C,2,0))","v":0},null,null,null,null,null,null,null,null,null,null,null,{"$f":"IF(M8=\"\",\"\",IF(M8=\"Won\",G8,G9))","v":""},{"$f":"IF(M8=\"\",\"\",IF(M8=\"Won\",G8,G9))","v":""},{"$f":"IF(Q7=\"\",\"\",VLOOKUP(Q7,'Team List'!$B:$C,2,0))","v":""},{"$f":"IF(S6=\"\",\"\",IF(S6=\"Won\",\"Lost\",IF(S6=\"Tied (Leading)\",\"Tied (Trailing)\",IF(S6=\"Tied (Trailing)\",\"Tied (Leading)\",IF(S6=\"Lost\",\"Won\",S6)))))","v":""},{"$f":"IF(T6=\"\",\"\",IF(T6=\"Won\",\"Lost\",IF(T6=\"Tied (Leading)\",\"Tied (Trailing)\",IF(T6=\"Tied (Trailing)\",\"Tied (Leading)\",IF(T6=\"Lost\",\"Won\",T6)))))","v":""},{"$f":"IF(U6=\"\",\"\",IF(U6=\"Won\",\"Lost\",IF(U6=\"Tied (Leading)\",\"Tied (Trailing)\",IF(U6=\"Tied (Trailing)\",\"Tied (Leading)\",IF(U6=\"Lost\",\"Won\",U6)))))","v":""},{"$f":"IF(V6=\"Won\",\"Lost\",IF(V6=\"Lost\",\"Won\",V6))","v":""}]
[null,28,{"$f":"VLOOKUP(B8,'Team List'!BC:BD,2,0)","v":"T26"},{"$f":"IF(C8=\"\",\"\",VLOOKUP(C8,'Team List'!$B:$C,2,0))","v":0},{"$f":"IF(E7=\"\",\"\",IF(E7=\"Won\",\"Lost\",IF(E7=\"Tied (Leading)\",\"Tied (Trailing)\",IF(E7=\"Tied (Trailing)\",\"Tied (Leading)\",IF(E7=\"Lost\",\"Won\",E7)))))","v":""},null,{"$f":"IF(E7=\"\",\"\",IF(E7=\"Won\",C7,C8))","v":""},{"$f":"IF(E7=\"\",\"\",IF(E7=\"Won\",C7,C8))","v":""},{"$f":"IF(H8=\"\",\"\",VLOOKUP(H8,'Team List'!$B:$C,2,0))","v":""},null,null,null,{"$f":"IF(COUNTIF(J8:L8,\"Won\")=1,\"Won\",IF(COUNTIF(J8:L8,\"Lost\")=1,\"Lost\",\"\"))","v":""},null,null,null,null,null,null,null,null,null,null,null,"Consolation Championship"]
[null,20,{"$f":"VLOOKUP(B9,'Team List'!BC:BD,2,0)","v":"T17"},{"$f":"IF(C9=\"\",\"\",VLOOKUP(C9,'Team List'!$B:$C,2,0))","v":0},null,null,{"$f":"IF(E9=\"\",\"\",IF(E9=\"Won\",C9,C10))","v":""},{"$f":"IF(E9=\"\",\"\",IF(E9=\"Won\",C9,C10))","v":""},{"$f":"IF(H9=\"\",\"\",VLOOKUP(H9,'Team List'!$B:$C,2,0))","v":""},{"$f":"IF(J8=\"\",\"\",IF(J8=\"Won\",\"Lost\",IF(J8=\"Tied (Leading)\",\"Tied (Trailing)\",IF(J8=\"Tied (Trailing)\",\"Tied (Leading)\",IF(J8=\"Lost\",\"Won\",J8)))))","v":""},{"$f":"IF(K8=\"\",\"\",IF(K8=\"Won\",\"Lost\",IF(K8=\"Tied (Leading)\",\"Tied (Trailing)\",IF(K8=\"Tied (Trailing)\",\"Tied (Leading)\",IF(K8=\"Lost\",\"Won\",K8)))))","v":""},{"$f":"IF(L8=\"\",\"\",IF(L8=\"Won\",\"Lost\",IF(L8=\"Tied (Leading)\",\"Tied (Trailing)\",IF(L8=\"Tied (Trailing)\",\"Tied (Leading)\",IF(L8=\"Lost\",\"Won\",L8)))))","v":""},{"$f":"IF(M8=\"Won\",\"Lost\",IF(M8=\"Lost\",\"Won\",M8))","v":""},null,null,null,null,null,null,null,null,null,null,null,"seed","Team Number","Team Name","Game 1","Game 2","Game 3","Finish"]
[null,29,{"$f":"VLOOKUP(B10,'Team List'!BC:BD,2,0)","v":"T30"},{"$f":"IF(C10=\"\",\"\",VLOOKUP(C10,'Team List'!$B:$C,2,0))","v":0},{"$f":"IF(E9=\"\",\"\",IF(E9=\"Won\",\"Lost\",IF(E9=\"Tied (Leading)\",\"Tied (Trailing)\",IF(E9=\"Tied (Trailing)\",\"Tied (Leading)\",IF(E9=\"Lost\",\"Won\",E9)))))","v":""},null,null,null,null,null,null,null,null,null,null,null,null,null,null,null,null,null,null,null,{"$f":"IF(V6=\"\",\"\",IF(V6=\"Won\",P6,P7))","v":""},{"$f":"IF(V6=\"\",\"\",IF(V6=\"Won\",P6,P7))","v":""},{"$f":"IF(Z10=\"\",\"\",VLOOKUP(Z10,'Team List'!B:C,2,0))","v":""},null,null,null,{"$f":"IF(COUNTIF(AB10:AD10,\"Won\")=1,\"Champions!\",IF(COUNTIF(AB10:AD10,\"Lost\")=1,\"2nd Place\",\"\"))","v":""}]
[null,30,{"$f":"VLOOKUP(B11,'Team List'!BC:BD,2,0)","v":"T23"},{"$f":"IF(C11=\"\",\"\",VLOOKUP(C11,'Team List'!$B:$C,2,0))","v":0},null,null,null,null,null,null,null,null,null,null,null,null,null,null,null,null,null,null,null,null,{"$f":"IF(V14=\"\",\"\",IF(V14=\"Won\",P14,P15))","v":""},{"$f":"IF(V14=\"\",\"\",IF(V14=\"Won\",P14,P15))","v":""},{"$f":"IF(Z11=\"\",\"\",VLOOKUP(Z11,'Team List'!B:C,2,0))","v":""},{"$f":"IF(AB10=\"\",\"\",IF(AB10=\"Won\",\"Lost\",IF(AB10=\"Tied (Leading)\",\"Tied (Trailing)\",IF(AB10=\"Tied (Trailing)\",\"Tied (Leading)\",IF(AB10=\"Lost\",\"Won\",AB10)))))","v":""},{"$f":"IF(AC10=\"\",\"\",IF(AC10=\"Won\",\"Lost\",IF(AC10=\"Tied (Leading)\",\"Tied (Trailing)\",IF(AC10=\"Tied (Trailing)\",\"Tied (Leading)\",IF(AC10=\"Lost\",\"Won\",AC10)))))","v":""},{"$f":"IF(AD10=\"\",\"\",IF(AD10=\"Won\",\"Lost\",IF(AD10=\"Tied (Leading)\",\"Tied (Trailing)\",IF(AD10=\"Tied (Trailing)\",\"Tied (Leading)\",IF(AD10=\"Lost\",\"Won\",AD10)))))","v":""},{"$f":"IF(AE10=\"Champions!\",\"2nd Place\",IF(AE10=\"2nd Place\",\"Champions!\",AE10))","v":""}]
[null,19,{"$f":"VLOOKUP(B12,'Team List'!BC:BD,2,0)","v":"T06"},{"$f":"IF(C12=\"\",\"\",VLOOKUP(C12,'Team List'!$B:$C,2,0))","v":0},{"$f":"IF(E11=\"\",\"\",IF(E11=\"Won\",\"Lost\",IF(E11=\"Tied (Leading)\",\"Tied (Trailing)\",IF(E11=\"Tied (Trailing)\",\"Tied (Leading)\",IF(E11=\"Lost\",\"Won\",E11)))))","v":""},null,{"$f":"IF(E11=\"\",\"\",IF(E11=\"Won\",C11,C12))","v":""},{"$f":"IF(E11=\"\",\"\",IF(E11=\"Won\",C11,C12))","v":""},{"$f":"IF(H12=\"\",\"\",VLOOKUP(H12,'Team List'!$B:$C,2,0))","v":""},null,null,null,{"$f":"IF(COUNTIF(J12:L12,\"Won\")=1,\"Won\",IF(COUNTIF(J12:L12,\"Lost\")=1,\"Lost\",\"\"))","v":""}]
[null,27,{"$f":"VLOOKUP(B13,'Team List'!BC:BD,2,0)","v":"T04"},{"$f":"IF(C13=\"\",\"\",VLOOKUP(C13,'Team List'!$B:$C,2,0))","v":0},null,null,{"$f":"IF(E13=\"\",\"\",IF(E13=\"Won\",C13,C14))","v":""},{"$f":"IF(E13=\"\",\"\",IF(E13=\"Won\",C13,C14))","v":""},{"$f":"IF(H13=\"\",\"\",VLOOKUP(H13,'Team List'!$B:$C,2,0))","v":""},{"$f":"IF(J12=\"\",\"\",IF(J12=\"Won\",\"Lost\",IF(J12=\"Tied (Leading)\",\"Tied (Trailing)\",IF(J12=\"Tied (Trailing)\",\"Tied (Leading)\",IF(J12=\"Lost\",\"Won\",J12)))))","v":""},{"$f":"IF(K12=\"\",\"\",IF(K12=\"Won\",\"Lost\",IF(K12=\"Tied (Leading)\",\"Tied (Trailing)\",IF(K12=\"Tied (Trailing)\",\"Tied (Leading)\",IF(K12=\"Lost\",\"Won\",K12)))))","v":""},{"$f":"IF(L12=\"\",\"\",IF(L12=\"Won\",\"Lost\",IF(L12=\"Tied (Leading)\",\"Tied (Trailing)\",IF(L12=\"Tied (Trailing)\",\"Tied (Leading)\",IF(L12=\"Lost\",\"Won\",L12)))))","v":""},{"$f":"IF(M12=\"Won\",\"Lost\",IF(M12=\"Lost\",\"Won\",M12))","v":""}]
[null,22,{"$f":"VLOOKUP(B14,'Team List'!BC:BD,2,0)","v":"T15"},{"$f":"IF(C14=\"\",\"\",VLOOKUP(C14,'Team List'!$B:$C,2,0))","v":0},{"$f":"IF(E13=\"\",\"\",IF(E13=\"Won\",\"Lost\",IF(E13=\"Tied (Leading)\",\"Tied (Trailing)\",IF(E13=\"Tied (Trailing)\",\"Tied (Leading)\",IF(E13=\"Lost\",\"Won\",E13)))))","v":""},null,null,null,null,null,null,null,null,null,null,{"$f":"IF(M12=\"\",\"\",IF(M12=\"Won\",G12,G13))","v":""},{"$f":"IF(M12=\"\",\"\",IF(M12=\"Won\",G12,G13))","v":""},{"$f":"IF(Q14=\"\",\"\",VLOOKUP(Q14,'Team List'!B:C,2,0))","v":""},null,null,null,{"$f":"IF(COUNTIF(S14:U14,\"Won\")=1,\"Won\",IF(COUNTIF(S14:U14,\"Lost\")=1,\"Lost\",\"\"))","v":""},null,null,"Consolation 3rd Place"]
[null,26,{"$f":"VLOOKUP(B15,'Team List'!BC:BD,2,0)","v":"T18"},{"$f":"IF(C15=\"\",\"\",VLOOKUP(C15,'Team List'!$B:$C,2,0))","v":0},null,null,null,null,null,null,null,null,null,null,null,{"$f":"IF(M16=\"\",\"\",IF(M16=\"Won\",G16,G17))","v":""},{"$f":"IF(M16=\"\",\"\",IF(M16=\"Won\",G16,G17))","v":""},{"$f":"IF(Q15=\"\",\"\",VLOOKUP(Q15,'Team List'!B:C,2,0))","v":""},{"$f":"IF(S14=\"\",\"\",IF(S14=\"Won\",\"Lost\",IF(S14=\"Tied (Leading)\",\"Tied (Trailing)\",IF(S14=\"Tied (Trailing)\",\"Tied (Leading)\",IF(S14=\"Lost\",\"Won\",S14)))))","v":""},{"$f":"IF(T14=\"\",\"\",IF(T14=\"Won\",\"Lost\",IF(T14=\"Tied (Leading)\",\"Tied (Trailing)\",IF(T14=\"Tied (Trailing)\",\"Tied (Leading)\",IF(T14=\"Lost\",\"Won\",T14)))))","v":""},{"$f":"IF(U14=\"\",\"\",IF(U14=\"Won\",\"Lost\",IF(U14=\"Tied (Leading)\",\"Tied (Trailing)\",IF(U14=\"Tied (Trailing)\",\"Tied (Leading)\",IF(U14=\"Lost\",\"Won\",U14)))))","v":""},{"$f":"IF(V14=\"Won\",\"Lost\",IF(V14=\"Lost\",\"Won\",V14))","v":""},null,null,"seed","Team Number","Team Name","Game 1","Game 2","Game 3","Finish"]
[null,23,{"$f":"VLOOKUP(B16,'Team List'!BC:BD,2,0)","v":"T29"},{"$f":"IF(C16=\"\",\"\",VLOOKUP(C16,'Team List'!$B:$C,2,0))","v":0},{"$f":"IF(E15=\"\",\"\",IF(E15=\"Won\",\"Lost\",IF(E15=\"Tied (Leading)\",\"Tied (Trailing)\",IF(E15=\"Tied (Trailing)\",\"Tied (Leading)\",IF(E15=\"Lost\",\"Won\",E15)))))","v":""},null,{"$f":"IF(E15=\"\",\"\",IF(E15=\"Won\",C15,C16))","v":""},{"$f":"IF(E15=\"\",\"\",IF(E15=\"Won\",C15,C16))","v":""},{"$f":"IF(H16=\"\",\"\",VLOOKUP(H16,'Team List'!$B:$C,2,0))","v":""},null,null,null,{"$f":"IF(COUNTIF(J16:L16,\"Won\")=1,\"Won\",IF(COUNTIF(J16:L16,\"Lost\")=1,\"Lost\",\"\"))","v":""},null,null,null,null,null,null,null,null,null,null,null,{"$f":"IF(V6=\"\",\"\",IF(V6=\"Lost\",P6,P7))","v":""},{"$f":"IF(V6=\"\",\"\",IF(V6=\"Lost\",P6,P7))","v":""},{"$f":"IF(Z16=\"\",\"\",VLOOKUP(Z16,'Team List'!B:C,2,0))","v":""},null,null,null,{"$f":"IF(COUNTIF(AB16:AD16,\"Won\")=1,\"3rd Place\",IF(COUNTIF(AB16:AD16,\"Lost\")=1,\"4th Place\",\"\"))","v":""}]
[null,31,{"$f":"VLOOKUP(B17,'Team List'!BC:BD,2,0)","v":"T01"},{"$f":"IF(C17=\"\",\"\",VLOOKUP(C17,'Team List'!$B:$C,2,0))","v":0},null,null,{"$f":"IF(E17=\"\",\"\",IF(E17=\"Won\",C17,C18))","v":""},{"$f":"IF(E17=\"\",\"\",IF(E17=\"Won\",C17,C18))","v":""},{"$f":"IF(H17=\"\",\"\",VLOOKUP(H17,'Team List'!$B:$C,2,0))","v":""},{"$f":"IF(J16=\"\",\"\",IF(J16=\"Won\",\"Lost\",IF(J16=\"Tied (Leading)\",\"Tied (Trailing)\",IF(J16=\"Tied (Trailing)\",\"Tied (Leading)\",IF(J16=\"Lost\",\"Won\",J16)))))","v":""},{"$f":"IF(K16=\"\",\"\",IF(K16=\"Won\",\"Lost\",IF(K16=\"Tied (Leading)\",\"Tied (Trailing)\",IF(K16=\"Tied (Trailing)\",\"Tied (Leading)\",IF(K16=\"Lost\",\"Won\",K16)))))","v":""},{"$f":"IF(L16=\"\",\"\",IF(L16=\"Won\",\"Lost\",IF(L16=\"Tied (Leading)\",\"Tied (Trailing)\",IF(L16=\"Tied (Trailing)\",\"Tied (Leading)\",IF(L16=\"Lost\",\"Won\",L16)))))","v":""},{"$f":"IF(M16=\"Won\",\"Lost\",IF(M16=\"Lost\",\"Won\",M16))","v":""},null,null,null,null,null,null,null,null,null,null,null,{"$f":"IF(V14=\"\",\"\",IF(V14=\"Lost\",P14,P15))","v":""},{"$f":"IF(V14=\"\",\"\",IF(V14=\"Lost\",P14,P15))","v":""},{"$f":"IF(Z17=\"\",\"\",VLOOKUP(Z17,'Team List'!B:C,2,0))","v":""},{"$f":"IF(AB16=\"\",\"\",IF(AB16=\"Won\",\"Lost\",IF(AB16=\"Tied (Leading)\",\"Tied (Trailing)\",IF(AB16=\"Tied (Trailing)\",\"Tied (Leading)\",IF(AB16=\"Lost\",\"Won\",AB16)))))","v":""},{"$f":"IF(AC16=\"\",\"\",IF(AC16=\"Won\",\"Lost\",IF(AC16=\"Tied (Leading)\",\"Tied (Trailing)\",IF(AC16=\"Tied (Trailing)\",\"Tied (Leading)\",IF(AC16=\"Lost\",\"Won\",AC16)))))","v":""},{"$f":"IF(AD16=\"\",\"\",IF(AD16=\"Won\",\"Lost\",IF(AD16=\"Tied (Leading)\",\"Tied (Trailing)\",IF(AD16=\"Tied (Trailing)\",\"Tied (Leading)\",IF(AD16=\"Lost\",\"Won\",AD16)))))","v":""},{"$f":"IF(AE16=\"3rd Place\",\"4th Place\",IF(AE16=\"4th Place\",\"3rd Place\",AE16))","v":""}]
[null,18,{"$f":"VLOOKUP(B18,'Team List'!BC:BD,2,0)","v":"T16"},{"$f":"IF(C18=\"\",\"\",VLOOKUP(C18,'Team List'!$B:$C,2,0))","v":0},{"$f":"IF(E17=\"\",\"\",IF(E17=\"Won\",\"Lost\",IF(E17=\"Tied (Leading)\",\"Tied (Trailing)\",IF(E17=\"Tied (Trailing)\",\"Tied (Leading)\",IF(E17=\"Lost\",\"Won\",E17)))))","v":""}]

{"sheet":"Leaderboard","index":19,"n_rows":67,"n_cols":7,"rows_kept":67,"cut":false,"hidden":false,"merged":[[0,1,0,6]]}
[null,"Current Standings:"]
[null,null,"Place","Team","Match Score","Game Score","Opp. Score"]
[1,{"$f":"IF(A3>Pairing!$B$1,\"\",VLOOKUP(VLOOKUP(RANK(A3,'Team List'!$BC$4:$BC$68,1),'Team List'!$BC:$BD,2,0),'Team List'!_xlnm.Print_Area,57,0))","v":""},{"$f":"IF(B3<>\"\",B3&IF(OR(MOD(B3,100)={11,12,13}),\"th\",CHOOSE(MIN(5,RIGHT(B3)+1),\"th\",\"st\",\"nd\",\"rd\",\"th\")),\"\")","v":""},{"$f":"IF(C3=\"\",\"\",VLOOKUP(VLOOKUP(RANK(A3,'Team List'!$BC$4:$BC$68,1),'Team List'!$BC:$BD,2,0),'Team List'!_xlnm.Print_Area,2,0))","v":""},{"$f":"IF(B3=\"\",\"\",VLOOKUP(VLOOKUP(RANK(A3,'Team List'!$BC$4:$BC$68,1),'Team List'!$BC:$BD,2,0),'Team List'!_xlnm.Print_Area,35,0))","v":""},{"$f":"IF(B3=\"\",\"\",VLOOKUP(VLOOKUP(RANK(A3,'Team List'!BC$4:BC$68,1),'Team List'!$BC:$BD,2,0),'Team List'!_xlnm.Print_Area,51,0))","v":""},{"$f":"IF(B3=\"\",\"\",VLOOKUP(VLOOKUP(RANK(A3,'Team List'!BC$4:BC$68,1),'Team List'!BC:BD,2,0),'Team List'!_xlnm.Print_Area,52,0))","v":""}]
[2,{"$f":"IF(A4>Pairing!$B$1,\"\",VLOOKUP(VLOOKUP(RANK(A4,'Team List'!$BC$4:$BC$68,1),'Team List'!$BC:$BD,2,0),'Team List'!_xlnm.Print_Area,57,0))","v":""},{"$f":"IF(B4<>\"\",B4&IF(OR(MOD(B4,100)={11,12,13}),\"th\",CHOOSE(MIN(5,RIGHT(B4)+1),\"th\",\"st\",\"nd\",\"rd\",\"th\")),\"\")","v":""},{"$f":"IF(C4=\"\",\"\",VLOOKUP(VLOOKUP(RANK(A4,'Team List'!$BC$4:$BC$68,1),'Team List'!$BC:$BD,2,0),'Team List'!_xlnm.Print_Area,2,0))","v":""},{"$f":"IF(B4=\"\",\"\",VLOOKUP(VLOOKUP(RANK(A4,'Team List'!$BC$4:$BC$68,1),'Team List'!$BC:$BD,2,0),'Team List'!_xlnm.Print_Area,35,0))","v":""},{"$f":"IF(B4=\"\",\"\",VLOOKUP(VLOOKUP(RANK(A4,'Team List'!BC$4:BC$68,1),'Team List'!$BC:$BD,2,0),'Team List'!_xlnm.Print_Area,51,0))","v":""},{"$f":"IF(B4=\"\",\"\",VLOOKUP(VLOOKUP(RANK(A4,'Team List'!BC$4:BC$68,1),'Team List'!BC:BD,2,0),'Team List'!_xlnm.Print_Area,52,0))","v":""}]
[3,{"$f":"IF(A5>Pairing!$B$1,\"\",VLOOKUP(VLOOKUP(RANK(A5,'Team List'!$BC$4:$BC$68,1),'Team List'!$BC:$BD,2,0),'Team List'!_xlnm.Print_Area,57,0))","v":""},{"$f":"IF(B5<>\"\",B5&IF(OR(MOD(B5,100)={11,12,13}),\"th\",CHOOSE(MIN(5,RIGHT(B5)+1),\"th\",\"st\",\"nd\",\"rd\",\"th\")),\"\")","v":""},{"$f":"IF(C5=\"\",\"\",VLOOKUP(VLOOKUP(RANK(A5,'Team List'!$BC$4:$BC$68,1),'Team List'!$BC:$BD,2,0),'Team List'!_xlnm.Print_Area,2,0))","v":""},{"$f":"IF(B5=\"\",\"\",VLOOKUP(VLOOKUP(RANK(A5,'Team List'!$BC$4:$BC$68,1),'Team List'!$BC:$BD,2,0),'Team List'!_xlnm.Print_Area,35,0))","v":""},{"$f":"IF(B5=\"\",\"\",VLOOKUP(VLOOKUP(RANK(A5,'Team List'!BC$4:BC$68,1),'Team List'!$BC:$BD,2,0),'Team List'!_xlnm.Print_Area,51,0))","v":""},{"$f":"IF(B5=\"\",\"\",VLOOKUP(VLOOKUP(RANK(A5,'Team List'!BC$4:BC$68,1),'Team List'!BC:BD,2,0),'Team List'!_xlnm.Print_Area,52,0))","v":""}]
[4,{"$f":"IF(A6>Pairing!$B$1,\"\",VLOOKUP(VLOOKUP(RANK(A6,'Team List'!$BC$4:$BC$68,1),'Team List'!$BC:$BD,2,0),'Team List'!_xlnm.Print_Area,57,0))","v":""},{"$f":"IF(B6<>\"\",B6&IF(OR(MOD(B6,100)={11,12,13}),\"th\",CHOOSE(MIN(5,RIGHT(B6)+1),\"th\",\"st\",\"nd\",\"rd\",\"th\")),\"\")","v":""},{"$f":"IF(C6=\"\",\"\",VLOOKUP(VLOOKUP(RANK(A6,'Team List'!$BC$4:$BC$68,1),'Team List'!$BC:$BD,2,0),'Team List'!_xlnm.Print_Area,2,0))","v":""},{"$f":"IF(B6=\"\",\"\",VLOOKUP(VLOOKUP(RANK(A6,'Team List'!$BC$4:$BC$68,1),'Team List'!$BC:$BD,2,0),'Team List'!_xlnm.Print_Area,35,0))","v":""},{"$f":"IF(B6=\"\",\"\",VLOOKUP(VLOOKUP(RANK(A6,'Team List'!BC$4:BC$68,1),'Team List'!$BC:$BD,2,0),'Team List'!_xlnm.Print_Area,51,0))","v":""},{"$f":"IF(B6=\"\",\"\",VLOOKUP(VLOOKUP(RANK(A6,'Team List'!BC$4:BC$68,1),'Team List'!BC:BD,2,0),'Team List'!_xlnm.Print_Area,52,0))","v":""}]
[5,{"$f":"IF(A7>Pairing!$B$1,\"\",VLOOKUP(VLOOKUP(RANK(A7,'Team List'!$BC$4:$BC$68,1),'Team List'!$BC:$BD,2,0),'Team List'!_xlnm.Print_Area,57,0))","v":""},{"$f":"IF(B7<>\"\",B7&IF(OR(MOD(B7,100)={11,12,13}),\"th\",CHOOSE(MIN(5,RIGHT(B7)+1),\"th\",\"st\",\"nd\",\"rd\",\"th\")),\"\")","v":""},{"$f":"IF(C7=\"\",\"\",VLOOKUP(VLOOKUP(RANK(A7,'Team List'!$BC$4:$BC$68,1),'Team List'!$BC:$BD,2,0),'Team List'!_xlnm.Print_Area,2,0))","v":""},{"$f":"IF(B7=\"\",\"\",VLOOKUP(VLOOKUP(RANK(A7,'Team List'!$BC$4:$BC$68,1),'Team List'!$BC:$BD,2,0),'Team List'!_xlnm.Print_Area,35,0))","v":""},{"$f":"IF(B7=\"\",\"\",VLOOKUP(VLOOKUP(RANK(A7,'Team List'!BC$4:BC$68,1),'Team List'!$BC:$BD,2,0),'Team List'!_xlnm.Print_Area,51,0))","v":""},{"$f":"IF(B7=\"\",\"\",VLOOKUP(VLOOKUP(RANK(A7,'Team List'!BC$4:BC$68,1),'Team List'!BC:BD,2,0),'Team List'!_xlnm.Print_Area,52,0))","v":""}]
[6,{"$f":"IF(A8>Pairing!$B$1,\"\",VLOOKUP(VLOOKUP(RANK(A8,'Team List'!$BC$4:$BC$68,1),'Team List'!$BC:$BD,2,0),'Team List'!_xlnm.Print_Area,57,0))","v":""},{"$f":"IF(B8<>\"\",B8&IF(OR(MOD(B8,100)={11,12,13}),\"th\",CHOOSE(MIN(5,RIGHT(B8)+1),\"th\",\"st\",\"nd\",\"rd\",\"th\")),\"\")","v":""},{"$f":"IF(C8=\"\",\"\",VLOOKUP(VLOOKUP(RANK(A8,'Team List'!$BC$4:$BC$68,1),'Team List'!$BC:$BD,2,0),'Team List'!_xlnm.Print_Area,2,0))","v":""},{"$f":"IF(B8=\"\",\"\",VLOOKUP(VLOOKUP(RANK(A8,'Team List'!$BC$4:$BC$68,1),'Team List'!$BC:$BD,2,0),'Team List'!_xlnm.Print_Area,35,0))","v":""},{"$f":"IF(B8=\"\",\"\",VLOOKUP(VLOOKUP(RANK(A8,'Team List'!BC$4:BC$68,1),'Team List'!$BC:$BD,2,0),'Team List'!_xlnm.Print_Area,51,0))","v":""},{"$f":"IF(B8=\"\",\"\",VLOOKUP(VLOOKUP(RANK(A8,'Team List'!BC$4:BC$68,1),'Team List'!BC:BD,2,0),'Team List'!_xlnm.Print_Area,52,0))","v":""}]
[7,{"$f":"IF(A9>Pairing!$B$1,\"\",VLOOKUP(VLOOKUP(RANK(A9,'Team List'!$BC$4:$BC$68,1),'Team List'!$BC:$BD,2,0),'Team List'!_xlnm.Print_Area,57,0))","v":""},{"$f":"IF(B9<>\"\",B9&IF(OR(MOD(B9,100)={11,12,13}),\"th\",CHOOSE(MIN(5,RIGHT(B9)+1),\"th\",\"st\",\"nd\",\"rd\",\"th\")),\"\")","v":""},{"$f":"IF(C9=\"\",\"\",VLOOKUP(VLOOKUP(RANK(A9,'Team List'!$BC$4:$BC$68,1),'Team List'!$BC:$BD,2,0),'Team List'!_xlnm.Print_Area,2,0))","v":""},{"$f":"IF(B9=\"\",\"\",VLOOKUP(VLOOKUP(RANK(A9,'Team List'!$BC$4:$BC$68,1),'Team List'!$BC:$BD,2,0),'Team List'!_xlnm.Print_Area,35,0))","v":""},{"$f":"IF(B9=\"\",\"\",VLOOKUP(VLOOKUP(RANK(A9,'Team List'!BC$4:BC$68,1),'Team List'!$BC:$BD,2,0),'Team List'!_xlnm.Print_Area,51,0))","v":""},{"$f":"IF(B9=\"\",\"\",VLOOKUP(VLOOKUP(RANK(A9,'Team List'!BC$4:BC$68,1),'Team List'!BC:BD,2,0),'Team List'!_xlnm.Print_Area,52,0))","v":""}]
[8,{"$f":"IF(A10>Pairing!$B$1,\"\",VLOOKUP(VLOOKUP(RANK(A10,'Team List'!$BC$4:$BC$68,1),'Team List'!$BC:$BD,2,0),'Team List'!_xlnm.Print_Area,57,0))","v":""},{"$f":"IF(B10<>\"\",B10&IF(OR(MOD(B10,100)={11,12,13}),\"th\",CHOOSE(MIN(5,RIGHT(B10)+1),\"th\",\"st\",\"nd\",\"rd\",\"th\")),\"\")","v":""},{"$f":"IF(C10=\"\",\"\",VLOOKUP(VLOOKUP(RANK(A10,'Team List'!$BC$4:$BC$68,1),'Team List'!$BC:$BD,2,0),'Team List'!_xlnm.Print_Area,2,0))","v":""},{"$f":"IF(B10=\"\",\"\",VLOOKUP(VLOOKUP(RANK(A10,'Team List'!$BC$4:$BC$68,1),'Team List'!$BC:$BD,2,0),'Team List'!_xlnm.Print_Area,35,0))","v":""},{"$f":"IF(B10=\"\",\"\",VLOOKUP(VLOOKUP(RANK(A10,'Team List'!BC$4:BC$68,1),'Team List'!$BC:$BD,2,0),'Team List'!_xlnm.Print_Area,51,0))","v":""},{"$f":"IF(B10=\"\",\"\",VLOOKUP(VLOOKUP(RANK(A10,'Team List'!BC$4:BC$68,1),'Team List'!BC:BD,2,0),'Team List'!_xlnm.Print_Area,52,0))","v":""}]
[9,{"$f":"IF(A11>Pairing!$B$1,\"\",VLOOKUP(VLOOKUP(RANK(A11,'Team List'!$BC$4:$BC$68,1),'Team List'!$BC:$BD,2,0),'Team List'!_xlnm.Print_Area,57,0))","v":""},{"$f":"IF(B11<>\"\",B11&IF(OR(MOD(B11,100)={11,12,13}),\"th\",CHOOSE(MIN(5,RIGHT(B11)+1),\"th\",\"st\",\"nd\",\"rd\",\"th\")),\"\")","v":""},{"$f":"IF(C11=\"\",\"\",VLOOKUP(VLOOKUP(RANK(A11,'Team List'!$BC$4:$BC$68,1),'Team List'!$BC:$BD,2,0),'Team List'!_xlnm.Print_Area,2,0))","v":""},{"$f":"IF(B11=\"\",\"\",VLOOKUP(VLOOKUP(RANK(A11,'Team List'!$BC$4:$BC$68,1),'Team List'!$BC:$BD,2,0),'Team List'!_xlnm.Print_Area,35,0))","v":""},{"$f":"IF(B11=\"\",\"\",VLOOKUP(VLOOKUP(RANK(A11,'Team List'!BC$4:BC$68,1),'Team List'!$BC:$BD,2,0),'Team List'!_xlnm.Print_Area,51,0))","v":""},{"$f":"IF(B11=\"\",\"\",VLOOKUP(VLOOKUP(RANK(A11,'Team List'!BC$4:BC$68,1),'Team List'!BC:BD,2,0),'Team List'!_xlnm.Print_Area,52,0))","v":""}]
[10,{"$f":"IF(A12>Pairing!$B$1,\"\",VLOOKUP(VLOOKUP(RANK(A12,'Team List'!$BC$4:$BC$68,1),'Team List'!$BC:$BD,2,0),'Team List'!_xlnm.Print_Area,57,0))","v":""},{"$f":"IF(B12<>\"\",B12&IF(OR(MOD(B12,100)={11,12,13}),\"th\",CHOOSE(MIN(5,RIGHT(B12)+1),\"th\",\"st\",\"nd\",\"rd\",\"th\")),\"\")","v":""},{"$f":"IF(C12=\"\",\"\",VLOOKUP(VLOOKUP(RANK(A12,'Team List'!$BC$4:$BC$68,1),'Team List'!$BC:$BD,2,0),'Team List'!_xlnm.Print_Area,2,0))","v":""},{"$f":"IF(B12=\"\",\"\",VLOOKUP(VLOOKUP(RANK(A12,'Team List'!$BC$4:$BC$68,1),'Team List'!$BC:$BD,2,0),'Team List'!_xlnm.Print_Area,35,0))","v":""},{"$f":"IF(B12=\"\",\"\",VLOOKUP(VLOOKUP(RANK(A12,'Team List'!BC$4:BC$68,1),'Team List'!$BC:$BD,2,0),'Team List'!_xlnm.Print_Area,51,0))","v":""},{"$f":"IF(B12=\"\",\"\",VLOOKUP(VLOOKUP(RANK(A12,'Team List'!BC$4:BC$68,1),'Team List'!BC:BD,2,0),'Team List'!_xlnm.Print_Area,52,0))","v":""}]
[11,{"$f":"IF(A13>Pairing!$B$1,\"\",VLOOKUP(VLOOKUP(RANK(A13,'Team List'!$BC$4:$BC$68,1),'Team List'!$BC:$BD,2,0),'Team List'!_xlnm.Print_Area,57,0))","v":""},{"$f":"IF(B13<>\"\",B13&IF(OR(MOD(B13,100)={11,12,13}),\"th\",CHOOSE(MIN(5,RIGHT(B13)+1),\"th\",\"st\",\"nd\",\"rd\",\"th\")),\"\")","v":""},{"$f":"IF(C13=\"\",\"\",VLOOKUP(VLOOKUP(RANK(A13,'Team List'!$BC$4:$BC$68,1),'Team List'!$BC:$BD,2,0),'Team List'!_xlnm.Print_Area,2,0))","v":""},{"$f":"IF(B13=\"\",\"\",VLOOKUP(VLOOKUP(RANK(A13,'Team List'!$BC$4:$BC$68,1),'Team List'!$BC:$BD,2,0),'Team List'!_xlnm.Print_Area,35,0))","v":""},{"$f":"IF(B13=\"\",\"\",VLOOKUP(VLOOKUP(RANK(A13,'Team List'!BC$4:BC$68,1),'Team List'!$BC:$BD,2,0),'Team List'!_xlnm.Print_Area,51,0))","v":""},{"$f":"IF(B13=\"\",\"\",VLOOKUP(VLOOKUP(RANK(A13,'Team List'!BC$4:BC$68,1),'Team List'!BC:BD,2,0),'Team List'!_xlnm.Print_Area,52,0))","v":""}]
[12,{"$f":"IF(A14>Pairing!$B$1,\"\",VLOOKUP(VLOOKUP(RANK(A14,'Team List'!$BC$4:$BC$68,1),'Team List'!$BC:$BD,2,0),'Team List'!_xlnm.Print_Area,57,0))","v":""},{"$f":"IF(B14<>\"\",B14&IF(OR(MOD(B14,100)={11,12,13}),\"th\",CHOOSE(MIN(5,RIGHT(B14)+1),\"th\",\"st\",\"nd\",\"rd\",\"th\")),\"\")","v":""},{"$f":"IF(C14=\"\",\"\",VLOOKUP(VLOOKUP(RANK(A14,'Team List'!$BC$4:$BC$68,1),'Team List'!$BC:$BD,2,0),'Team List'!_xlnm.Print_Area,2,0))","v":""},{"$f":"IF(B14=\"\",\"\",VLOOKUP(VLOOKUP(RANK(A14,'Team List'!$BC$4:$BC$68,1),'Team List'!$BC:$BD,2,0),'Team List'!_xlnm.Print_Area,35,0))","v":""},{"$f":"IF(B14=\"\",\"\",VLOOKUP(VLOOKUP(RANK(A14,'Team List'!BC$4:BC$68,1),'Team List'!$BC:$BD,2,0),'Team List'!_xlnm.Print_Area,51,0))","v":""},{"$f":"IF(B14=\"\",\"\",VLOOKUP(VLOOKUP(RANK(A14,'Team List'!BC$4:BC$68,1),'Team List'!BC:BD,2,0),'Team List'!_xlnm.Print_Area,52,0))","v":""}]
[13,{"$f":"IF(A15>Pairing!$B$1,\"\",VLOOKUP(VLOOKUP(RANK(A15,'Team List'!$BC$4:$BC$68,1),'Team List'!$BC:$BD,2,0),'Team List'!_xlnm.Print_Area,57,0))","v":""},{"$f":"IF(B15<>\"\",B15&IF(OR(MOD(B15,100)={11,12,13}),\"th\",CHOOSE(MIN(5,RIGHT(B15)+1),\"th\",\"st\",\"nd\",\"rd\",\"th\")),\"\")","v":""},{"$f":"IF(C15=\"\",\"\",VLOOKUP(VLOOKUP(RANK(A15,'Team List'!$BC$4:$BC$68,1),'Team List'!$BC:$BD,2,0),'Team List'!_xlnm.Print_Area,2,0))","v":""},{"$f":"IF(B15=\"\",\"\",VLOOKUP(VLOOKUP(RANK(A15,'Team List'!$BC$4:$BC$68,1),'Team List'!$BC:$BD,2,0),'Team List'!_xlnm.Print_Area,35,0))","v":""},{"$f":"IF(B15=\"\",\"\",VLOOKUP(VLOOKUP(RANK(A15,'Team List'!BC$4:BC$68,1),'Team List'!$BC:$BD,2,0),'Team List'!_xlnm.Print_Area,51,0))","v":""},{"$f":"IF(B15=\"\",\"\",VLOOKUP(VLOOKUP(RANK(A15,'Team List'!BC$4:BC$68,1),'Team List'!BC:BD,2,0),'Team List'!_xlnm.Print_Area,52,0))","v":""}]
[14,{"$f":"IF(A16>Pairing!$B$1,\"\",VLOOKUP(VLOOKUP(RANK(A16,'Team List'!$BC$4:$BC$68,1),'Team List'!$BC:$BD,2,0),'Team List'!_xlnm.Print_Area,57,0))","v":""},{"$f":"IF(B16<>\"\",B16&IF(OR(MOD(B16,100)={11,12,13}),\"th\",CHOOSE(MIN(5,RIGHT(B16)+1),\"th\",\"st\",\"nd\",\"rd\",\"th\")),\"\")","v":""},{"$f":"IF(C16=\"\",\"\",VLOOKUP(VLOOKUP(RANK(A16,'Team List'!$BC$4:$BC$68,1),'Team List'!$BC:$BD,2,0),'Team List'!_xlnm.Print_Area,2,0))","v":""},{"$f":"IF(B16=\"\",\"\",VLOOKUP(VLOOKUP(RANK(A16,'Team List'!$BC$4:$BC$68,1),'Team List'!$BC:$BD,2,0),'Team List'!_xlnm.Print_Area,35,0))","v":""},{"$f":"IF(B16=\"\",\"\",VLOOKUP(VLOOKUP(RANK(A16,'Team List'!BC$4:BC$68,1),'Team List'!$BC:$BD,2,0),'Team List'!_xlnm.Print_Area,51,0))","v":""},{"$f":"IF(B16=\"\",\"\",VLOOKUP(VLOOKUP(RANK(A16,'Team List'!BC$4:BC$68,1),'Team List'!BC:BD,2,0),'Team List'!_xlnm.Print_Area,52,0))","v":""}]
[15,{"$f":"IF(A17>Pairing!$B$1,\"\",VLOOKUP(VLOOKUP(RANK(A17,'Team List'!$BC$4:$BC$68,1),'Team List'!$BC:$BD,2,0),'Team List'!_xlnm.Print_Area,57,0))","v":""},{"$f":"IF(B17<>\"\",B17&IF(OR(MOD(B17,100)={11,12,13}),\"th\",CHOOSE(MIN(5,RIGHT(B17)+1),\"th\",\"st\",\"nd\",\"rd\",\"th\")),\"\")","v":""},{"$f":"IF(C17=\"\",\"\",VLOOKUP(VLOOKUP(RANK(A17,'Team List'!$BC$4:$BC$68,1),'Team List'!$BC:$BD,2,0),'Team List'!_xlnm.Print_Area,2,0))","v":""},{"$f":"IF(B17=\"\",\"\",VLOOKUP(VLOOKUP(RANK(A17,'Team List'!$BC$4:$BC$68,1),'Team List'!$BC:$BD,2,0),'Team List'!_xlnm.Print_Area,35,0))","v":""},{"$f":"IF(B17=\"\",\"\",VLOOKUP(VLOOKUP(RANK(A17,'Team List'!BC$4:BC$68,1),'Team List'!$BC:$BD,2,0),'Team List'!_xlnm.Print_Area,51,0))","v":""},{"$f":"IF(B17=\"\",\"\",VLOOKUP(VLOOKUP(RANK(A17,'Team List'!BC$4:BC$68,1),'Team List'!BC:BD,2,0),'Team List'!_xlnm.Print_Area,52,0))","v":""}]
[16,{"$f":"IF(A18>Pairing!$B$1,\"\",VLOOKUP(VLOOKUP(RANK(A18,'Team List'!$BC$4:$BC$68,1),'Team List'!$BC:$BD,2,0),'Team List'!_xlnm.Print_Area,57,0))","v":""},{"$f":"IF(B18<>\"\",B18&IF(OR(MOD(B18,100)={11,12,13}),\"th\",CHOOSE(MIN(5,RIGHT(B18)+1),\"th\",\"st\",\"nd\",\"rd\",\"th\")),\"\")","v":""},{"$f":"IF(C18=\"\",\"\",VLOOKUP(VLOOKUP(RANK(A18,'Team List'!$BC$4:$BC$68,1),'Team List'!$BC:$BD,2,0),'Team List'!_xlnm.Print_Area,2,0))","v":""},{"$f":"IF(B18=\"\",\"\",VLOOKUP(VLOOKUP(RANK(A18,'Team List'!$BC$4:$BC$68,1),'Team List'!$BC:$BD,2,0),'Team List'!_xlnm.Print_Area,35,0))","v":""},{"$f":"IF(B18=\"\",\"\",VLOOKUP(VLOOKUP(RANK(A18,'Team List'!BC$4:BC$68,1),'Team List'!$BC:$BD,2,0),'Team List'!_xlnm.Print_Area,51,0))","v":""},{"$f":"IF(B18=\"\",\"\",VLOOKUP(VLOOKUP(RANK(A18,'Team List'!BC$4:BC$68,1),'Team List'!BC:BD,2,0),'Team List'!_xlnm.Print_Area,52,0))","v":""}]
[17,{"$f":"IF(A19>Pairing!$B$1,\"\",VLOOKUP(VLOOKUP(RANK(A19,'Team List'!$BC$4:$BC$68,1),'Team List'!$BC:$BD,2,0),'Team List'!_xlnm.Print_Area,57,0))","v":""},{"$f":"IF(B19<>\"\",B19&IF(OR(MOD(B19,100)={11,12,13}),\"th\",CHOOSE(MIN(5,RIGHT(B19)+1),\"th\",\"st\",\"nd\",\"rd\",\"th\")),\"\")","v":""},{"$f":"IF(C19=\"\",\"\",VLOOKUP(VLOOKUP(RANK(A19,'Team List'!$BC$4:$BC$68,1),'Team List'!$BC:$BD,2,0),'Team List'!_xlnm.Print_Area,2,0))","v":""},{"$f":"IF(B19=\"\",\"\",VLOOKUP(VLOOKUP(RANK(A19,'Team List'!$BC$4:$BC$68,1),'Team List'!$BC:$BD,2,0),'Team List'!_xlnm.Print_Area,35,0))","v":""},{"$f":"IF(B19=\"\",\"\",VLOOKUP(VLOOKUP(RANK(A19,'Team List'!BC$4:BC$68,1),'Team List'!$BC:$BD,2,0),'Team List'!_xlnm.Print_Area,51,0))","v":""},{"$f":"IF(B19=\"\",\"\",VLOOKUP(VLOOKUP(RANK(A19,'Team List'!BC$4:BC$68,1),'Team List'!BC:BD,2,0),'Team List'!_xlnm.Print_Area,52,0))","v":""}]
[18,{"$f":"IF(A20>Pairing!$B$1,\"\",VLOOKUP(VLOOKUP(RANK(A20,'Team List'!$BC$4:$BC$68,1),'Team List'!$BC:$BD,2,0),'Team List'!_xlnm.Print_Area,57,0))","v":""},{"$f":"IF(B20<>\"\",B20&IF(OR(MOD(B20,100)={11,12,13}),\"th\",CHOOSE(MIN(5,RIGHT(B20)+1),\"th\",\"st\",\"nd\",\"rd\",\"th\")),\"\")","v":""},{"$f":"IF(C20=\"\",\"\",VLOOKUP(VLOOKUP(RANK(A20,'Team List'!$BC$4:$BC$68,1),'Team List'!$BC:$BD,2,0),'Team List'!_xlnm.Print_Area,2,0))","v":""},{"$f":"IF(B20=\"\",\"\",VLOOKUP(VLOOKUP(RANK(A20,'Team List'!$BC$4:$BC$68,1),'Team List'!$BC:$BD,2,0),'Team List'!_xlnm.Print_Area,35,0))","v":""},{"$f":"IF(B20=\"\",\"\",VLOOKUP(VLOOKUP(RANK(A20,'Team List'!BC$4:BC$68,1),'Team List'!$BC:$BD,2,0),'Team List'!_xlnm.Print_Area,51,0))","v":""},{"$f":"IF(B20=\"\",\"\",VLOOKUP(VLOOKUP(RANK(A20,'Team List'!BC$4:BC$68,1),'Team List'!BC:BD,2,0),'Team List'!_xlnm.Print_Area,52,0))","v":""}]
[19,{"$f":"IF(A21>Pairing!$B$1,\"\",VLOOKUP(VLOOKUP(RANK(A21,'Team List'!$BC$4:$BC$68,1),'Team List'!$BC:$BD,2,0),'Team List'!_xlnm.Print_Area,57,0))","v":""},{"$f":"IF(B21<>\"\",B21&IF(OR(MOD(B21,100)={11,12,13}),\"th\",CHOOSE(MIN(5,RIGHT(B21)+1),\"th\",\"st\",\"nd\",\"rd\",\"th\")),\"\")","v":""},{"$f":"IF(C21=\"\",\"\",VLOOKUP(VLOOKUP(RANK(A21,'Team List'!$BC$4:$BC$68,1),'Team List'!$BC:$BD,2,0),'Team List'!_xlnm.Print_Area,2,0))","v":""},{"$f":"IF(B21=\"\",\"\",VLOOKUP(VLOOKUP(RANK(A21,'Team List'!$BC$4:$BC$68,1),'Team List'!$BC:$BD,2,0),'Team List'!_xlnm.Print_Area,35,0))","v":""},{"$f":"IF(B21=\"\",\"\",VLOOKUP(VLOOKUP(RANK(A21,'Team List'!BC$4:BC$68,1),'Team List'!$BC:$BD,2,0),'Team List'!_xlnm.Print_Area,51,0))","v":""},{"$f":"IF(B21=\"\",\"\",VLOOKUP(VLOOKUP(RANK(A21,'Team List'!BC$4:BC$68,1),'Team List'!BC:BD,2,0),'Team List'!_xlnm.Print_Area,52,0))","v":""}]
[20,{"$f":"IF(A22>Pairing!$B$1,\"\",VLOOKUP(VLOOKUP(RANK(A22,'Team List'!$BC$4:$BC$68,1),'Team List'!$BC:$BD,2,0),'Team List'!_xlnm.Print_Area,57,0))","v":""},{"$f":"IF(B22<>\"\",B22&IF(OR(MOD(B22,100)={11,12,13}),\"th\",CHOOSE(MIN(5,RIGHT(B22)+1),\"th\",\"st\",\"nd\",\"rd\",\"th\")),\"\")","v":""},{"$f":"IF(C22=\"\",\"\",VLOOKUP(VLOOKUP(RANK(A22,'Team List'!$BC$4:$BC$68,1),'Team List'!$BC:$BD,2,0),'Team List'!_xlnm.Print_Area,2,0))","v":""},{"$f":"IF(B22=\"\",\"\",VLOOKUP(VLOOKUP(RANK(A22,'Team List'!$BC$4:$BC$68,1),'Team List'!$BC:$BD,2,0),'Team List'!_xlnm.Print_Area,35,0))","v":""},{"$f":"IF(B22=\"\",\"\",VLOOKUP(VLOOKUP(RANK(A22,'Team List'!BC$4:BC$68,1),'Team List'!$BC:$BD,2,0),'Team List'!_xlnm.Print_Area,51,0))","v":""},{"$f":"IF(B22=\"\",\"\",VLOOKUP(VLOOKUP(RANK(A22,'Team List'!BC$4:BC$68,1),'Team List'!BC:BD,2,0),'Team List'!_xlnm.Print_Area,52,0))","v":""}]
[21,{"$f":"IF(A23>Pairing!$B$1,\"\",VLOOKUP(VLOOKUP(RANK(A23,'Team List'!$BC$4:$BC$68,1),'Team List'!$BC:$BD,2,0),'Team List'!_xlnm.Print_Area,57,0))","v":""},{"$f":"IF(B23<>\"\",B23&IF(OR(MOD(B23,100)={11,12,13}),\"th\",CHOOSE(MIN(5,RIGHT(B23)+1),\"th\",\"st\",\"nd\",\"rd\",\"th\")),\"\")","v":""},{"$f":"IF(C23=\"\",\"\",VLOOKUP(VLOOKUP(RANK(A23,'Team List'!$BC$4:$BC$68,1),'Team List'!$BC:$BD,2,0),'Team List'!_xlnm.Print_Area,2,0))","v":""},{"$f":"IF(B23=\"\",\"\",VLOOKUP(VLOOKUP(RANK(A23,'Team List'!$BC$4:$BC$68,1),'Team List'!$BC:$BD,2,0),'Team List'!_xlnm.Print_Area,35,0))","v":""},{"$f":"IF(B23=\"\",\"\",VLOOKUP(VLOOKUP(RANK(A23,'Team List'!BC$4:BC$68,1),'Team List'!$BC:$BD,2,0),'Team List'!_xlnm.Print_Area,51,0))","v":""},{"$f":"IF(B23=\"\",\"\",VLOOKUP(VLOOKUP(RANK(A23,'Team List'!BC$4:BC$68,1),'Team List'!BC:BD,2,0),'Team List'!_xlnm.Print_Area,52,0))","v":""}]
[22,{"$f":"IF(A24>Pairing!$B$1,\"\",VLOOKUP(VLOOKUP(RANK(A24,'Team List'!$BC$4:$BC$68,1),'Team List'!$BC:$BD,2,0),'Team List'!_xlnm.Print_Area,57,0))","v":""},{"$f":"IF(B24<>\"\",B24&IF(OR(MOD(B24,100)={11,12,13}),\"th\",CHOOSE(MIN(5,RIGHT(B24)+1),\"th\",\"st\",\"nd\",\"rd\",\"th\")),\"\")","v":""},{"$f":"IF(C24=\"\",\"\",VLOOKUP(VLOOKUP(RANK(A24,'Team List'!$BC$4:$BC$68,1),'Team List'!$BC:$BD,2,0),'Team List'!_xlnm.Print_Area,2,0))","v":""},{"$f":"IF(B24=\"\",\"\",VLOOKUP(VLOOKUP(RANK(A24,'Team List'!$BC$4:$BC$68,1),'Team List'!$BC:$BD,2,0),'Team List'!_xlnm.Print_Area,35,0))","v":""},{"$f":"IF(B24=\"\",\"\",VLOOKUP(VLOOKUP(RANK(A24,'Team List'!BC$4:BC$68,1),'Team List'!$BC:$BD,2,0),'Team List'!_xlnm.Print_Area,51,0))","v":""},{"$f":"IF(B24=\"\",\"\",VLOOKUP(VLOOKUP(RANK(A24,'Team List'!BC$4:BC$68,1),'Team List'!BC:BD,2,0),'Team List'!_xlnm.Print_Area,52,0))","v":""}]
[23,{"$f":"IF(A25>Pairing!$B$1,\"\",VLOOKUP(VLOOKUP(RANK(A25,'Team List'!$BC$4:$BC$68,1),'Team List'!$BC:$BD,2,0),'Team List'!_xlnm.Print_Area,57,0))","v":""},{"$f":"IF(B25<>\"\",B25&IF(OR(MOD(B25,100)={11,12,13}),\"th\",CHOOSE(MIN(5,RIGHT(B25)+1),\"th\",\"st\",\"nd\",\"rd\",\"th\")),\"\")","v":""},{"$f":"IF(C25=\"\",\"\",VLOOKUP(VLOOKUP(RANK(A25,'Team List'!$BC$4:$BC$68,1),'Team List'!$BC:$BD,2,0),'Team List'!_xlnm.Print_Area,2,0))","v":""},{"$f":"IF(B25=\"\",\"\",VLOOKUP(VLOOKUP(RANK(A25,'Team List'!$BC$4:$BC$68,1),'Team List'!$BC:$BD,2,0),'Team List'!_xlnm.Print_Area,35,0))","v":""},{"$f":"IF(B25=\"\",\"\",VLOOKUP(VLOOKUP(RANK(A25,'Team List'!BC$4:BC$68,1),'Team List'!$BC:$BD,2,0),'Team List'!_xlnm.Print_Area,51,0))","v":""},{"$f":"IF(B25=\"\",\"\",VLOOKUP(VLOOKUP(RANK(A25,'Team List'!BC$4:BC$68,1),'Team List'!BC:BD,2,0),'Team List'!_xlnm.Print_Area,52,0))","v":""}]
[24,{"$f":"IF(A26>Pairing!$B$1,\"\",VLOOKUP(VLOOKUP(RANK(A26,'Team List'!$BC$4:$BC$68,1),'Team List'!$BC:$BD,2,0),'Team List'!_xlnm.Print_Area,57,0))","v":""},{"$f":"IF(B26<>\"\",B26&IF(OR(MOD(B26,100)={11,12,13}),\"th\",CHOOSE(MIN(5,RIGHT(B26)+1),\"th\",\"st\",\"nd\",\"rd\",\"th\")),\"\")","v":""},{"$f":"IF(C26=\"\",\"\",VLOOKUP(VLOOKUP(RANK(A26,'Team List'!$BC$4:$BC$68,1),'Team List'!$BC:$BD,2,0),'Team List'!_xlnm.Print_Area,2,0))","v":""},{"$f":"IF(B26=\"\",\"\",VLOOKUP(VLOOKUP(RANK(A26,'Team List'!$BC$4:$BC$68,1),'Team List'!$BC:$BD,2,0),'Team List'!_xlnm.Print_Area,35,0))","v":""},{"$f":"IF(B26=\"\",\"\",VLOOKUP(VLOOKUP(RANK(A26,'Team List'!BC$4:BC$68,1),'Team List'!$BC:$BD,2,0),'Team List'!_xlnm.Print_Area,51,0))","v":""},{"$f":"IF(B26=\"\",\"\",VLOOKUP(VLOOKUP(RANK(A26,'Team List'!BC$4:BC$68,1),'Team List'!BC:BD,2,0),'Team List'!_xlnm.Print_Area,52,0))","v":""}]
[25,{"$f":"IF(A27>Pairing!$B$1,\"\",VLOOKUP(VLOOKUP(RANK(A27,'Team List'!$BC$4:$BC$68,1),'Team List'!$BC:$BD,2,0),'Team List'!_xlnm.Print_Area,57,0))","v":""},{"$f":"IF(B27<>\"\",B27&IF(OR(MOD(B27,100)={11,12,13}),\"th\",CHOOSE(MIN(5,RIGHT(B27)+1),\"th\",\"st\",\"nd\",\"rd\",\"th\")),\"\")","v":""},{"$f":"IF(C27=\"\",\"\",VLOOKUP(VLOOKUP(RANK(A27,'Team List'!$BC$4:$BC$68,1),'Team List'!$BC:$BD,2,0),'Team List'!_xlnm.Print_Area,2,0))","v":""},{"$f":"IF(B27=\"\",\"\",VLOOKUP(VLOOKUP(RANK(A27,'Team List'!$BC$4:$BC$68,1),'Team List'!$BC:$BD,2,0),'Team List'!_xlnm.Print_Area,35,0))","v":""},{"$f":"IF(B27=\"\",\"\",VLOOKUP(VLOOKUP(RANK(A27,'Team List'!BC$4:BC$68,1),'Team List'!$BC:$BD,2,0),'Team List'!_xlnm.Print_Area,51,0))","v":""},{"$f":"IF(B27=\"\",\"\",VLOOKUP(VLOOKUP(RANK(A27,'Team List'!BC$4:BC$68,1),'Team List'!BC:BD,2,0),'Team List'!_xlnm.Print_Area,52,0))","v":""}]
[26,{"$f":"IF(A28>Pairing!$B$1,\"\",VLOOKUP(VLOOKUP(RANK(A28,'Team List'!$BC$4:$BC$68,1),'Team List'!$BC:$BD,2,0),'Team List'!_xlnm.Print_Area,57,0))","v":""},{"$f":"IF(B28<>\"\",B28&IF(OR(MOD(B28,100)={11,12,13}),\"th\",CHOOSE(MIN(5,RIGHT(B28)+1),\"th\",\"st\",\"nd\",\"rd\",\"th\")),\"\")","v":""},{"$f":"IF(C28=\"\",\"\",VLOOKUP(VLOOKUP(RANK(A28,'Team List'!$BC$4:$BC$68,1),'Team List'!$BC:$BD,2,0),'Team List'!_xlnm.Print_Area,2,0))","v":""},{"$f":"IF(B28=\"\",\"\",VLOOKUP(VLOOKUP(RANK(A28,'Team List'!$BC$4:$BC$68,1),'Team List'!$BC:$BD,2,0),'Team List'!_xlnm.Print_Area,35,0))","v":""},{"$f":"IF(B28=\"\",\"\",VLOOKUP(VLOOKUP(RANK(A28,'Team List'!BC$4:BC$68,1),'Team List'!$BC:$BD,2,0),'Team List'!_xlnm.Print_Area,51,0))","v":""},{"$f":"IF(B28=\"\",\"\",VLOOKUP(VLOOKUP(RANK(A28,'Team List'!BC$4:BC$68,1),'Team List'!BC:BD,2,0),'Team List'!_xlnm.Print_Area,52,0))","v":""}]
[27,{"$f":"IF(A29>Pairing!$B$1,\"\",VLOOKUP(VLOOKUP(RANK(A29,'Team List'!$BC$4:$BC$68,1),'Team List'!$BC:$BD,2,0),'Team List'!_xlnm.Print_Area,57,0))","v":""},{"$f":"IF(B29<>\"\",B29&IF(OR(MOD(B29,100)={11,12,13}),\"th\",CHOOSE(MIN(5,RIGHT(B29)+1),\"th\",\"st\",\"nd\",\"rd\",\"th\")),\"\")","v":""},{"$f":"IF(C29=\"\",\"\",VLOOKUP(VLOOKUP(RANK(A29,'Team List'!$BC$4:$BC$68,1),'Team List'!$BC:$BD,2,0),'Team List'!_xlnm.Print_Area,2,0))","v":""},{"$f":"IF(B29=\"\",\"\",VLOOKUP(VLOOKUP(RANK(A29,'Team List'!$BC$4:$BC$68,1),'Team List'!$BC:$BD,2,0),'Team List'!_xlnm.Print_Area,35,0))","v":""},{"$f":"IF(B29=\"\",\"\",VLOOKUP(VLOOKUP(RANK(A29,'Team List'!BC$4:BC$68,1),'Team List'!$BC:$BD,2,0),'Team List'!_xlnm.Print_Area,51,0))","v":""},{"$f":"IF(B29=\"\",\"\",VLOOKUP(VLOOKUP(RANK(A29,'Team List'!BC$4:BC$68,1),'Team List'!BC:BD,2,0),'Team List'!_xlnm.Print_Area,52,0))","v":""}]
[28,{"$f":"IF(A30>Pairing!$B$1,\"\",VLOOKUP(VLOOKUP(RANK(A30,'Team List'!$BC$4:$BC$68,1),'Team List'!$BC:$BD,2,0),'Team List'!_xlnm.Print_Area,57,0))","v":""},{"$f":"IF(B30<>\"\",B30&IF(OR(MOD(B30,100)={11,12,13}),\"th\",CHOOSE(MIN(5,RIGHT(B30)+1),\"th\",\"st\",\"nd\",\"rd\",\"th\")),\"\")","v":""},{"$f":"IF(C30=\"\",\"\",VLOOKUP(VLOOKUP(RANK(A30,'Team List'!$BC$4:$BC$68,1),'Team List'!$BC:$BD,2,0),'Team List'!_xlnm.Print_Area,2,0))","v":""},{"$f":"IF(B30=\"\",\"\",VLOOKUP(VLOOKUP(RANK(A30,'Team List'!$BC$4:$BC$68,1),'Team List'!$BC:$BD,2,0),'Team List'!_xlnm.Print_Area,35,0))","v":""},{"$f":"IF(B30=\"\",\"\",VLOOKUP(VLOOKUP(RANK(A30,'Team List'!BC$4:BC$68,1),'Team List'!$BC:$BD,2,0),'Team List'!_xlnm.Print_Area,51,0))","v":""},{"$f":"IF(B30=\"\",\"\",VLOOKUP(VLOOKUP(RANK(A30,'Team List'!BC$4:BC$68,1),'Team List'!BC:BD,2,0),'Team List'!_xlnm.Print_Area,52,0))","v":""}]
[29,{"$f":"IF(A31>Pairing!$B$1,\"\",VLOOKUP(VLOOKUP(RANK(A31,'Team List'!$BC$4:$BC$68,1),'Team List'!$BC:$BD,2,0),'Team List'!_xlnm.Print_Area,57,0))","v":""},{"$f":"IF(B31<>\"\",B31&IF(OR(MOD(B31,100)={11,12,13}),\"th\",CHOOSE(MIN(5,RIGHT(B31)+1),\"th\",\"st\",\"nd\",\"rd\",\"th\")),\"\")","v":""},{"$f":"IF(C31=\"\",\"\",VLOOKUP(VLOOKUP(RANK(A31,'Team List'!$BC$4:$BC$68,1),'Team List'!$BC:$BD,2,0),'Team List'!_xlnm.Print_Area,2,0))","v":""},{"$f":"IF(B31=\"\",\"\",VLOOKUP(VLOOKUP(RANK(A31,'Team List'!$BC$4:$BC$68,1),'Team List'!$BC:$BD,2,0),'Team List'!_xlnm.Print_Area,35,0))","v":""},{"$f":"IF(B31=\"\",\"\",VLOOKUP(VLOOKUP(RANK(A31,'Team List'!BC$4:BC$68,1),'Team List'!$BC:$BD,2,0),'Team List'!_xlnm.Print_Area,51,0))","v":""},{"$f":"IF(B31=\"\",\"\",VLOOKUP(VLOOKUP(RANK(A31,'Team List'!BC$4:BC$68,1),'Team List'!BC:BD,2,0),'Team List'!_xlnm.Print_Area,52,0))","v":""}]
[30,{"$f":"IF(A32>Pairing!$B$1,\"\",VLOOKUP(VLOOKUP(RANK(A32,'Team List'!$BC$4:$BC$68,1),'Team List'!$BC:$BD,2,0),'Team List'!_xlnm.Print_Area,57,0))","v":""},{"$f":"IF(B32<>\"\",B32&IF(OR(MOD(B32,100)={11,12,13}),\"th\",CHOOSE(MIN(5,RIGHT(B32)+1),\"th\",\"st\",\"nd\",\"rd\",\"th\")),\"\")","v":""},{"$f":"IF(C32=\"\",\"\",VLOOKUP(VLOOKUP(RANK(A32,'Team List'!$BC$4:$BC$68,1),'Team List'!$BC:$BD,2,0),'Team List'!_xlnm.Print_Area,2,0))","v":""},{"$f":"IF(B32=\"\",\"\",VLOOKUP(VLOOKUP(RANK(A32,'Team List'!$BC$4:$BC$68,1),'Team List'!$BC:$BD,2,0),'Team List'!_xlnm.Print_Area,35,0))","v":""},{"$f":"IF(B32=\"\",\"\",VLOOKUP(VLOOKUP(RANK(A32,'Team List'!BC$4:BC$68,1),'Team List'!$BC:$BD,2,0),'Team List'!_xlnm.Print_Area,51,0))","v":""},{"$f":"IF(B32=\"\",\"\",VLOOKUP(VLOOKUP(RANK(A32,'Team List'!BC$4:BC$68,1),'Team List'!BC:BD,2,0),'Team List'!_xlnm.Print_Area,52,0))","v":""}]
[31,{"$f":"IF(A33>Pairing!$B$1,\"\",VLOOKUP(VLOOKUP(RANK(A33,'Team List'!$BC$4:$BC$68,1),'Team List'!$BC:$BD,2,0),'Team List'!_xlnm.Print_Area,57,0))","v":""},{"$f":"IF(B33<>\"\",B33&IF(OR(MOD(B33,100)={11,12,13}),\"th\",CHOOSE(MIN(5,RIGHT(B33)+1),\"th\",\"st\",\"nd\",\"rd\",\"th\")),\"\")","v":""},{"$f":"IF(C33=\"\",\"\",VLOOKUP(VLOOKUP(RANK(A33,'Team List'!$BC$4:$BC$68,1),'Team List'!$BC:$BD,2,0),'Team List'!_xlnm.Print_Area,2,0))","v":""},{"$f":"IF(B33=\"\",\"\",VLOOKUP(VLOOKUP(RANK(A33,'Team List'!$BC$4:$BC$68,1),'Team List'!$BC:$BD,2,0),'Team List'!_xlnm.Print_Area,35,0))","v":""},{"$f":"IF(B33=\"\",\"\",VLOOKUP(VLOOKUP(RANK(A33,'Team List'!BC$4:BC$68,1),'Team List'!$BC:$BD,2,0),'Team List'!_xlnm.Print_Area,51,0))","v":""},{"$f":"IF(B33=\"\",\"\",VLOOKUP(VLOOKUP(RANK(A33,'Team List'!BC$4:BC$68,1),'Team List'!BC:BD,2,0),'Team List'!_xlnm.Print_Area,52,0))","v":""}]
[32,{"$f":"IF(A34>Pairing!$B$1,\"\",VLOOKUP(VLOOKUP(RANK(A34,'Team List'!$BC$4:$BC$68,1),'Team List'!$BC:$BD,2,0),'Team List'!_xlnm.Print_Area,57,0))","v":""},{"$f":"IF(B34<>\"\",B34&IF(OR(MOD(B34,100)={11,12,13}),\"th\",CHOOSE(MIN(5,RIGHT(B34)+1),\"th\",\"st\",\"nd\",\"rd\",\"th\")),\"\")","v":""},{"$f":"IF(C34=\"\",\"\",VLOOKUP(VLOOKUP(RANK(A34,'Team List'!$BC$4:$BC$68,1),'Team List'!$BC:$BD,2,0),'Team List'!_xlnm.Print_Area,2,0))","v":""},{"$f":"IF(B34=\"\",\"\",VLOOKUP(VLOOKUP(RANK(A34,'Team List'!$BC$4:$BC$68,1),'Team List'!$BC:$BD,2,0),'Team List'!_xlnm.Print_Area,35,0))","v":""},{"$f":"IF(B34=\"\",\"\",VLOOKUP(VLOOKUP(RANK(A34,'Team List'!BC$4:BC$68,1),'Team List'!$BC:$BD,2,0),'Team List'!_xlnm.Print_Area,51,0))","v":""},{"$f":"IF(B34=\"\",\"\",VLOOKUP(VLOOKUP(RANK(A34,'Team List'!BC$4:BC$68,1),'Team List'!BC:BD,2,0),'Team List'!_xlnm.Print_Area,52,0))","v":""}]
[33,{"$f":"IF(A35>Pairing!$B$1,\"\",VLOOKUP(VLOOKUP(RANK(A35,'Team List'!$BC$4:$BC$68,1),'Team List'!$BC:$BD,2,0),'Team List'!_xlnm.Print_Area,57,0))","v":""},{"$f":"IF(B35<>\"\",B35&IF(OR(MOD(B35,100)={11,12,13}),\"th\",CHOOSE(MIN(5,RIGHT(B35)+1),\"th\",\"st\",\"nd\",\"rd\",\"th\")),\"\")","v":""},{"$f":"IF(C35=\"\",\"\",VLOOKUP(VLOOKUP(RANK(A35,'Team List'!$BC$4:$BC$68,1),'Team List'!$BC:$BD,2,0),'Team List'!_xlnm.Print_Area,2,0))","v":""},{"$f":"IF(B35=\"\",\"\",VLOOKUP(VLOOKUP(RANK(A35,'Team List'!$BC$4:$BC$68,1),'Team List'!$BC:$BD,2,0),'Team List'!_xlnm.Print_Area,35,0))","v":""},{"$f":"IF(B35=\"\",\"\",VLOOKUP(VLOOKUP(RANK(A35,'Team List'!BC$4:BC$68,1),'Team List'!$BC:$BD,2,0),'Team List'!_xlnm.Print_Area,51,0))","v":""},{"$f":"IF(B35=\"\",\"\",VLOOKUP(VLOOKUP(RANK(A35,'Team List'!BC$4:BC$68,1),'Team List'!BC:BD,2,0),'Team List'!_xlnm.Print_Area,52,0))","v":""}]
[34,{"$f":"IF(A36>Pairing!$B$1,\"\",VLOOKUP(VLOOKUP(RANK(A36,'Team List'!$BC$4:$BC$68,1),'Team List'!$BC:$BD,2,0),'Team List'!_xlnm.Print_Area,57,0))","v":""},{"$f":"IF(B36<>\"\",B36&IF(OR(MOD(B36,100)={11,12,13}),\"th\",CHOOSE(MIN(5,RIGHT(B36)+1),\"th\",\"st\",\"nd\",\"rd\",\"th\")),\"\")","v":""},{"$f":"IF(C36=\"\",\"\",VLOOKUP(VLOOKUP(RANK(A36,'Team List'!$BC$4:$BC$68,1),'Team List'!$BC:$BD,2,0),'Team List'!_xlnm.Print_Area,2,0))","v":""},{"$f":"IF(B36=\"\",\"\",VLOOKUP(VLOOKUP(RANK(A36,'Team List'!$BC$4:$BC$68,1),'Team List'!$BC:$BD,2,0),'Team List'!_xlnm.Print_Area,35,0))","v":""},{"$f":"IF(B36=\"\",\"\",VLOOKUP(VLOOKUP(RANK(A36,'Team List'!BC$4:BC$68,1),'Team List'!$BC:$BD,2,0),'Team List'!_xlnm.Print_Area,51,0))","v":""},{"$f":"IF(B36=\"\",\"\",VLOOKUP(VLOOKUP(RANK(A36,'Team List'!BC$4:BC$68,1),'Team List'!BC:BD,2,0),'Team List'!_xlnm.Print_Area,52,0))","v":""}]
[35,{"$f":"IF(A37>Pairing!$B$1,\"\",VLOOKUP(VLOOKUP(RANK(A37,'Team List'!$BC$4:$BC$68,1),'Team List'!$BC:$BD,2,0),'Team List'!_xlnm.Print_Area,57,0))","v":""},{"$f":"IF(B37<>\"\",B37&IF(OR(MOD(B37,100)={11,12,13}),\"th\",CHOOSE(MIN(5,RIGHT(B37)+1),\"th\",\"st\",\"nd\",\"rd\",\"th\")),\"\")","v":""},{"$f":"IF(C37=\"\",\"\",VLOOKUP(VLOOKUP(RANK(A37,'Team List'!$BC$4:$BC$68,1),'Team List'!$BC:$BD,2,0),'Team List'!_xlnm.Print_Area,2,0))","v":""},{"$f":"IF(B37=\"\",\"\",VLOOKUP(VLOOKUP(RANK(A37,'Team List'!$BC$4:$BC$68,1),'Team List'!$BC:$BD,2,0),'Team List'!_xlnm.Print_Area,35,0))","v":""},{"$f":"IF(B37=\"\",\"\",VLOOKUP(VLOOKUP(RANK(A37,'Team List'!BC$4:BC$68,1),'Team List'!$BC:$BD,2,0),'Team List'!_xlnm.Print_Area,51,0))","v":""},{"$f":"IF(B37=\"\",\"\",VLOOKUP(VLOOKUP(RANK(A37,'Team List'!BC$4:BC$68,1),'Team List'!BC:BD,2,0),'Team List'!_xlnm.Print_Area,52,0))","v":""}]
[36,{"$f":"IF(A38>Pairing!$B$1,\"\",VLOOKUP(VLOOKUP(RANK(A38,'Team List'!$BC$4:$BC$68,1),'Team List'!$BC:$BD,2,0),'Team List'!_xlnm.Print_Area,57,0))","v":""},{"$f":"IF(B38<>\"\",B38&IF(OR(MOD(B38,100)={11,12,13}),\"th\",CHOOSE(MIN(5,RIGHT(B38)+1),\"th\",\"st\",\"nd\",\"rd\",\"th\")),\"\")","v":""},{"$f":"IF(C38=\"\",\"\",VLOOKUP(VLOOKUP(RANK(A38,'Team List'!$BC$4:$BC$68,1),'Team List'!$BC:$BD,2,0),'Team List'!_xlnm.Print_Area,2,0))","v":""},{"$f":"IF(B38=\"\",\"\",VLOOKUP(VLOOKUP(RANK(A38,'Team List'!$BC$4:$BC$68,1),'Team List'!$BC:$BD,2,0),'Team List'!_xlnm.Print_Area,35,0))","v":""},{"$f":"IF(B38=\"\",\"\",VLOOKUP(VLOOKUP(RANK(A38,'Team List'!BC$4:BC$68,1),'Team List'!$BC:$BD,2,0),'Team List'!_xlnm.Print_Area,51,0))","v":""},{"$f":"IF(B38=\"\",\"\",VLOOKUP(VLOOKUP(RANK(A38,'Team List'!BC$4:BC$68,1),'Team List'!BC:BD,2,0),'Team List'!_xlnm.Print_Area,52,0))","v":""}]
[37,{"$f":"IF(A39>Pairing!$B$1,\"\",VLOOKUP(VLOOKUP(RANK(A39,'Team List'!$BC$4:$BC$68,1),'Team List'!$BC:$BD,2,0),'Team List'!_xlnm.Print_Area,57,0))","v":""},{"$f":"IF(B39<>\"\",B39&IF(OR(MOD(B39,100)={11,12,13}),\"th\",CHOOSE(MIN(5,RIGHT(B39)+1),\"th\",\"st\",\"nd\",\"rd\",\"th\")),\"\")","v":""},{"$f":"IF(C39=\"\",\"\",VLOOKUP(VLOOKUP(RANK(A39,'Team List'!$BC$4:$BC$68,1),'Team List'!$BC:$BD,2,0),'Team List'!_xlnm.Print_Area,2,0))","v":""},{"$f":"IF(B39=\"\",\"\",VLOOKUP(VLOOKUP(RANK(A39,'Team List'!$BC$4:$BC$68,1),'Team List'!$BC:$BD,2,0),'Team List'!_xlnm.Print_Area,35,0))","v":""},{"$f":"IF(B39=\"\",\"\",VLOOKUP(VLOOKUP(RANK(A39,'Team List'!BC$4:BC$68,1),'Team List'!$BC:$BD,2,0),'Team List'!_xlnm.Print_Area,51,0))","v":""},{"$f":"IF(B39=\"\",\"\",VLOOKUP(VLOOKUP(RANK(A39,'Team List'!BC$4:BC$68,1),'Team List'!BC:BD,2,0),'Team List'!_xlnm.Print_Area,52,0))","v":""}]
[38,{"$f":"IF(A40>Pairing!$B$1,\"\",VLOOKUP(VLOOKUP(RANK(A40,'Team List'!$BC$4:$BC$68,1),'Team List'!$BC:$BD,2,0),'Team List'!_xlnm.Print_Area,57,0))","v":""},{"$f":"IF(B40<>\"\",B40&IF(OR(MOD(B40,100)={11,12,13}),\"th\",CHOOSE(MIN(5,RIGHT(B40)+1),\"th\",\"st\",\"nd\",\"rd\",\"th\")),\"\")","v":""},{"$f":"IF(C40=\"\",\"\",VLOOKUP(VLOOKUP(RANK(A40,'Team List'!$BC$4:$BC$68,1),'Team List'!$BC:$BD,2,0),'Team List'!_xlnm.Print_Area,2,0))","v":""},{"$f":"IF(B40=\"\",\"\",VLOOKUP(VLOOKUP(RANK(A40,'Team List'!$BC$4:$BC$68,1),'Team List'!$BC:$BD,2,0),'Team List'!_xlnm.Print_Area,35,0))","v":""},{"$f":"IF(B40=\"\",\"\",VLOOKUP(VLOOKUP(RANK(A40,'Team List'!BC$4:BC$68,1),'Team List'!$BC:$BD,2,0),'Team List'!_xlnm.Print_Area,51,0))","v":""},{"$f":"IF(B40=\"\",\"\",VLOOKUP(VLOOKUP(RANK(A40,'Team List'!BC$4:BC$68,1),'Team List'!BC:BD,2,0),'Team List'!_xlnm.Print_Area,52,0))","v":""}]
[39,{"$f":"IF(A41>Pairing!$B$1,\"\",VLOOKUP(VLOOKUP(RANK(A41,'Team List'!$BC$4:$BC$68,1),'Team List'!$BC:$BD,2,0),'Team List'!_xlnm.Print_Area,57,0))","v":""},{"$f":"IF(B41<>\"\",B41&IF(OR(MOD(B41,100)={11,12,13}),\"th\",CHOOSE(MIN(5,RIGHT(B41)+1),\"th\",\"st\",\"nd\",\"rd\",\"th\")),\"\")","v":""},{"$f":"IF(C41=\"\",\"\",VLOOKUP(VLOOKUP(RANK(A41,'Team List'!$BC$4:$BC$68,1),'Team List'!$BC:$BD,2,0),'Team List'!_xlnm.Print_Area,2,0))","v":""},{"$f":"IF(B41=\"\",\"\",VLOOKUP(VLOOKUP(RANK(A41,'Team List'!$BC$4:$BC$68,1),'Team List'!$BC:$BD,2,0),'Team List'!_xlnm.Print_Area,35,0))","v":""},{"$f":"IF(B41=\"\",\"\",VLOOKUP(VLOOKUP(RANK(A41,'Team List'!BC$4:BC$68,1),'Team List'!$BC:$BD,2,0),'Team List'!_xlnm.Print_Area,51,0))","v":""},{"$f":"IF(B41=\"\",\"\",VLOOKUP(VLOOKUP(RANK(A41,'Team List'!BC$4:BC$68,1),'Team List'!BC:BD,2,0),'Team List'!_xlnm.Print_Area,52,0))","v":""}]
[40,{"$f":"IF(A42>Pairing!$B$1,\"\",VLOOKUP(VLOOKUP(RANK(A42,'Team List'!$BC$4:$BC$68,1),'Team List'!$BC:$BD,2,0),'Team List'!_xlnm.Print_Area,57,0))","v":""},{"$f":"IF(B42<>\"\",B42&IF(OR(MOD(B42,100)={11,12,13}),\"th\",CHOOSE(MIN(5,RIGHT(B42)+1),\"th\",\"st\",\"nd\",\"rd\",\"th\")),\"\")","v":""},{"$f":"IF(C42=\"\",\"\",VLOOKUP(VLOOKUP(RANK(A42,'Team List'!$BC$4:$BC$68,1),'Team List'!$BC:$BD,2,0),'Team List'!_xlnm.Print_Area,2,0))","v":""},{"$f":"IF(B42=\"\",\"\",VLOOKUP(VLOOKUP(RANK(A42,'Team List'!$BC$4:$BC$68,1),'Team List'!$BC:$BD,2,0),'Team List'!_xlnm.Print_Area,35,0))","v":""},{"$f":"IF(B42=\"\",\"\",VLOOKUP(VLOOKUP(RANK(A42,'Team List'!BC$4:BC$68,1),'Team List'!$BC:$BD,2,0),'Team List'!_xlnm.Print_Area,51,0))","v":""},{"$f":"IF(B42=\"\",\"\",VLOOKUP(VLOOKUP(RANK(A42,'Team List'!BC$4:BC$68,1),'Team List'!BC:BD,2,0),'Team List'!_xlnm.Print_Area,52,0))","v":""}]
[41,{"$f":"IF(A43>Pairing!$B$1,\"\",VLOOKUP(VLOOKUP(RANK(A43,'Team List'!$BC$4:$BC$68,1),'Team List'!$BC:$BD,2,0),'Team List'!_xlnm.Print_Area,57,0))","v":""},{"$f":"IF(B43<>\"\",B43&IF(OR(MOD(B43,100)={11,12,13}),\"th\",CHOOSE(MIN(5,RIGHT(B43)+1),\"th\",\"st\",\"nd\",\"rd\",\"th\")),\"\")","v":""},{"$f":"IF(C43=\"\",\"\",VLOOKUP(VLOOKUP(RANK(A43,'Team List'!$BC$4:$BC$68,1),'Team List'!$BC:$BD,2,0),'Team List'!_xlnm.Print_Area,2,0))","v":""},{"$f":"IF(B43=\"\",\"\",VLOOKUP(VLOOKUP(RANK(A43,'Team List'!$BC$4:$BC$68,1),'Team List'!$BC:$BD,2,0),'Team List'!_xlnm.Print_Area,35,0))","v":""},{"$f":"IF(B43=\"\",\"\",VLOOKUP(VLOOKUP(RANK(A43,'Team List'!BC$4:BC$68,1),'Team List'!$BC:$BD,2,0),'Team List'!_xlnm.Print_Area,51,0))","v":""},{"$f":"IF(B43=\"\",\"\",VLOOKUP(VLOOKUP(RANK(A43,'Team List'!BC$4:BC$68,1),'Team List'!BC:BD,2,0),'Team List'!_xlnm.Print_Area,52,0))","v":""}]
[42,{"$f":"IF(A44>Pairing!$B$1,\"\",VLOOKUP(VLOOKUP(RANK(A44,'Team List'!$BC$4:$BC$68,1),'Team List'!$BC:$BD,2,0),'Team List'!_xlnm.Print_Area,57,0))","v":""},{"$f":"IF(B44<>\"\",B44&IF(OR(MOD(B44,100)={11,12,13}),\"th\",CHOOSE(MIN(5,RIGHT(B44)+1),\"th\",\"st\",\"nd\",\"rd\",\"th\")),\"\")","v":""},{"$f":"IF(C44=\"\",\"\",VLOOKUP(VLOOKUP(RANK(A44,'Team List'!$BC$4:$BC$68,1),'Team List'!$BC:$BD,2,0),'Team List'!_xlnm.Print_Area,2,0))","v":""},{"$f":"IF(B44=\"\",\"\",VLOOKUP(VLOOKUP(RANK(A44,'Team List'!$BC$4:$BC$68,1),'Team List'!$BC:$BD,2,0),'Team List'!_xlnm.Print_Area,35,0))","v":""},{"$f":"IF(B44=\"\",\"\",VLOOKUP(VLOOKUP(RANK(A44,'Team List'!BC$4:BC$68,1),'Team List'!$BC:$BD,2,0),'Team List'!_xlnm.Print_Area,51,0))","v":""},{"$f":"IF(B44=\"\",\"\",VLOOKUP(VLOOKUP(RANK(A44,'Team List'!BC$4:BC$68,1),'Team List'!BC:BD,2,0),'Team List'!_xlnm.Print_Area,52,0))","v":""}]
[43,{"$f":"IF(A45>Pairing!$B$1,\"\",VLOOKUP(VLOOKUP(RANK(A45,'Team List'!$BC$4:$BC$68,1),'Team List'!$BC:$BD,2,0),'Team List'!_xlnm.Print_Area,57,0))","v":""},{"$f":"IF(B45<>\"\",B45&IF(OR(MOD(B45,100)={11,12,13}),\"th\",CHOOSE(MIN(5,RIGHT(B45)+1),\"th\",\"st\",\"nd\",\"rd\",\"th\")),\"\")","v":""},{"$f":"IF(C45=\"\",\"\",VLOOKUP(VLOOKUP(RANK(A45,'Team List'!$BC$4:$BC$68,1),'Team List'!$BC:$BD,2,0),'Team List'!_xlnm.Print_Area,2,0))","v":""},{"$f":"IF(B45=\"\",\"\",VLOOKUP(VLOOKUP(RANK(A45,'Team List'!$BC$4:$BC$68,1),'Team List'!$BC:$BD,2,0),'Team List'!_xlnm.Print_Area,35,0))","v":""},{"$f":"IF(B45=\"\",\"\",VLOOKUP(VLOOKUP(RANK(A45,'Team List'!BC$4:BC$68,1),'Team List'!$BC:$BD,2,0),'Team List'!_xlnm.Print_Area,51,0))","v":""},{"$f":"IF(B45=\"\",\"\",VLOOKUP(VLOOKUP(RANK(A45,'Team List'!BC$4:BC$68,1),'Team List'!BC:BD,2,0),'Team List'!_xlnm.Print_Area,52,0))","v":""}]
[44,{"$f":"IF(A46>Pairing!$B$1,\"\",VLOOKUP(VLOOKUP(RANK(A46,'Team List'!$BC$4:$BC$68,1),'Team List'!$BC:$BD,2,0),'Team List'!_xlnm.Print_Area,57,0))","v":""},{"$f":"IF(B46<>\"\",B46&IF(OR(MOD(B46,100)={11,12,13}),\"th\",CHOOSE(MIN(5,RIGHT(B46)+1),\"th\",\"st\",\"nd\",\"rd\",\"th\")),\"\")","v":""},{"$f":"IF(C46=\"\",\"\",VLOOKUP(VLOOKUP(RANK(A46,'Team List'!$BC$4:$BC$68,1),'Team List'!$BC:$BD,2,0),'Team List'!_xlnm.Print_Area,2,0))","v":""},{"$f":"IF(B46=\"\",\"\",VLOOKUP(VLOOKUP(RANK(A46,'Team List'!$BC$4:$BC$68,1),'Team List'!$BC:$BD,2,0),'Team List'!_xlnm.Print_Area,35,0))","v":""},{"$f":"IF(B46=\"\",\"\",VLOOKUP(VLOOKUP(RANK(A46,'Team List'!BC$4:BC$68,1),'Team List'!$BC:$BD,2,0),'Team List'!_xlnm.Print_Area,51,0))","v":""},{"$f":"IF(B46=\"\",\"\",VLOOKUP(VLOOKUP(RANK(A46,'Team List'!BC$4:BC$68,1),'Team List'!BC:BD,2,0),'Team List'!_xlnm.Print_Area,52,0))","v":""}]
[45,{"$f":"IF(A47>Pairing!$B$1,\"\",VLOOKUP(VLOOKUP(RANK(A47,'Team List'!$BC$4:$BC$68,1),'Team List'!$BC:$BD,2,0),'Team List'!_xlnm.Print_Area,57,0))","v":""},{"$f":"IF(B47<>\"\",B47&IF(OR(MOD(B47,100)={11,12,13}),\"th\",CHOOSE(MIN(5,RIGHT(B47)+1),\"th\",\"st\",\"nd\",\"rd\",\"th\")),\"\")","v":""},{"$f":"IF(C47=\"\",\"\",VLOOKUP(VLOOKUP(RANK(A47,'Team List'!$BC$4:$BC$68,1),'Team List'!$BC:$BD,2,0),'Team List'!_xlnm.Print_Area,2,0))","v":""},{"$f":"IF(B47=\"\",\"\",VLOOKUP(VLOOKUP(RANK(A47,'Team List'!$BC$4:$BC$68,1),'Team List'!$BC:$BD,2,0),'Team List'!_xlnm.Print_Area,35,0))","v":""},{"$f":"IF(B47=\"\",\"\",VLOOKUP(VLOOKUP(RANK(A47,'Team List'!BC$4:BC$68,1),'Team List'!$BC:$BD,2,0),'Team List'!_xlnm.Print_Area,51,0))","v":""},{"$f":"IF(B47=\"\",\"\",VLOOKUP(VLOOKUP(RANK(A47,'Team List'!BC$4:BC$68,1),'Team List'!BC:BD,2,0),'Team List'!_xlnm.Print_Area,52,0))","v":""}]
[46,{"$f":"IF(A48>Pairing!$B$1,\"\",VLOOKUP(VLOOKUP(RANK(A48,'Team List'!$BC$4:$BC$68,1),'Team List'!$BC:$BD,2,0),'Team List'!_xlnm.Print_Area,57,0))","v":""},{"$f":"IF(B48<>\"\",B48&IF(OR(MOD(B48,100)={11,12,13}),\"th\",CHOOSE(MIN(5,RIGHT(B48)+1),\"th\",\"st\",\"nd\",\"rd\",\"th\")),\"\")","v":""},{"$f":"IF(C48=\"\",\"\",VLOOKUP(VLOOKUP(RANK(A48,'Team List'!$BC$4:$BC$68,1),'Team List'!$BC:$BD,2,0),'Team List'!_xlnm.Print_Area,2,0))","v":""},{"$f":"IF(B48=\"\",\"\",VLOOKUP(VLOOKUP(RANK(A48,'Team List'!$BC$4:$BC$68,1),'Team List'!$BC:$BD,2,0),'Team List'!_xlnm.Print_Area,35,0))","v":""},{"$f":"IF(B48=\"\",\"\",VLOOKUP(VLOOKUP(RANK(A48,'Team List'!BC$4:BC$68,1),'Team List'!$BC:$BD,2,0),'Team List'!_xlnm.Print_Area,51,0))","v":""},{"$f":"IF(B48=\"\",\"\",VLOOKUP(VLOOKUP(RANK(A48,'Team List'!BC$4:BC$68,1),'Team List'!BC:BD,2,0),'Team List'!_xlnm.Print_Area,52,0))","v":""}]
[47,{"$f":"IF(A49>Pairing!$B$1,\"\",VLOOKUP(VLOOKUP(RANK(A49,'Team List'!$BC$4:$BC$68,1),'Team List'!$BC:$BD,2,0),'Team List'!_xlnm.Print_Area,57,0))","v":""},{"$f":"IF(B49<>\"\",B49&IF(OR(MOD(B49,100)={11,12,13}),\"th\",CHOOSE(MIN(5,RIGHT(B49)+1),\"th\",\"st\",\"nd\",\"rd\",\"th\")),\"\")","v":""},{"$f":"IF(C49=\"\",\"\",VLOOKUP(VLOOKUP(RANK(A49,'Team List'!$BC$4:$BC$68,1),'Team List'!$BC:$BD,2,0),'Team List'!_xlnm.Print_Area,2,0))","v":""},{"$f":"IF(B49=\"\",\"\",VLOOKUP(VLOOKUP(RANK(A49,'Team List'!$BC$4:$BC$68,1),'Team List'!$BC:$BD,2,0),'Team List'!_xlnm.Print_Area,35,0))","v":""},{"$f":"IF(B49=\"\",\"\",VLOOKUP(VLOOKUP(RANK(A49,'Team List'!BC$4:BC$68,1),'Team List'!$BC:$BD,2,0),'Team List'!_xlnm.Print_Area,51,0))","v":""},{"$f":"IF(B49=\"\",\"\",VLOOKUP(VLOOKUP(RANK(A49,'Team List'!BC$4:BC$68,1),'Team List'!BC:BD,2,0),'Team List'!_xlnm.Print_Area,52,0))","v":""}]
[48,{"$f":"IF(A50>Pairing!$B$1,\"\",VLOOKUP(VLOOKUP(RANK(A50,'Team List'!$BC$4:$BC$68,1),'Team List'!$BC:$BD,2,0),'Team List'!_xlnm.Print_Area,57,0))","v":""},{"$f":"IF(B50<>\"\",B50&IF(OR(MOD(B50,100)={11,12,13}),\"th\",CHOOSE(MIN(5,RIGHT(B50)+1),\"th\",\"st\",\"nd\",\"rd\",\"th\")),\"\")","v":""},{"$f":"IF(C50=\"\",\"\",VLOOKUP(VLOOKUP(RANK(A50,'Team List'!$BC$4:$BC$68,1),'Team List'!$BC:$BD,2,0),'Team List'!_xlnm.Print_Area,2,0))","v":""},{"$f":"IF(B50=\"\",\"\",VLOOKUP(VLOOKUP(RANK(A50,'Team List'!$BC$4:$BC$68,1),'Team List'!$BC:$BD,2,0),'Team List'!_xlnm.Print_Area,35,0))","v":""},{"$f":"IF(B50=\"\",\"\",VLOOKUP(VLOOKUP(RANK(A50,'Team List'!BC$4:BC$68,1),'Team List'!$BC:$BD,2,0),'Team List'!_xlnm.Print_Area,51,0))","v":""},{"$f":"IF(B50=\"\",\"\",VLOOKUP(VLOOKUP(RANK(A50,'Team List'!BC$4:BC$68,1),'Team List'!BC:BD,2,0),'Team List'!_xlnm.Print_Area,52,0))","v":""}]
[49,{"$f":"IF(A51>Pairing!$B$1,\"\",VLOOKUP(VLOOKUP(RANK(A51,'Team List'!$BC$4:$BC$68,1),'Team List'!$BC:$BD,2,0),'Team List'!_xlnm.Print_Area,57,0))","v":""},{"$f":"IF(B51<>\"\",B51&IF(OR(MOD(B51,100)={11,12,13}),\"th\",CHOOSE(MIN(5,RIGHT(B51)+1),\"th\",\"st\",\"nd\",\"rd\",\"th\")),\"\")","v":""},{"$f":"IF(C51=\"\",\"\",VLOOKUP(VLOOKUP(RANK(A51,'Team List'!$BC$4:$BC$68,1),'Team List'!$BC:$BD,2,0),'Team List'!_xlnm.Print_Area,2,0))","v":""},{"$f":"IF(B51=\"\",\"\",VLOOKUP(VLOOKUP(RANK(A51,'Team List'!$BC$4:$BC$68,1),'Team List'!$BC:$BD,2,0),'Team List'!_xlnm.Print_Area,35,0))","v":""},{"$f":"IF(B51=\"\",\"\",VLOOKUP(VLOOKUP(RANK(A51,'Team List'!BC$4:BC$68,1),'Team List'!$BC:$BD,2,0),'Team List'!_xlnm.Print_Area,51,0))","v":""},{"$f":"IF(B51=\"\",\"\",VLOOKUP(VLOOKUP(RANK(A51,'Team List'!BC$4:BC$68,1),'Team List'!BC:BD,2,0),'Team List'!_xlnm.Print_Area,52,0))","v":""}]
[50,{"$f":"IF(A52>Pairing!$B$1,\"\",VLOOKUP(VLOOKUP(RANK(A52,'Team List'!$BC$4:$BC$68,1),'Team List'!$BC:$BD,2,0),'Team List'!_xlnm.Print_Area,57,0))","v":""},{"$f":"IF(B52<>\"\",B52&IF(OR(MOD(B52,100)={11,12,13}),\"th\",CHOOSE(MIN(5,RIGHT(B52)+1),\"th\",\"st\",\"nd\",\"rd\",\"th\")),\"\")","v":""},{"$f":"IF(C52=\"\",\"\",VLOOKUP(VLOOKUP(RANK(A52,'Team List'!$BC$4:$BC$68,1),'Team List'!$BC:$BD,2,0),'Team List'!_xlnm.Print_Area,2,0))","v":""},{"$f":"IF(B52=\"\",\"\",VLOOKUP(VLOOKUP(RANK(A52,'Team List'!$BC$4:$BC$68,1),'Team List'!$BC:$BD,2,0),'Team List'!_xlnm.Print_Area,35,0))","v":""},{"$f":"IF(B52=\"\",\"\",VLOOKUP(VLOOKUP(RANK(A52,'Team List'!BC$4:BC$68,1),'Team List'!$BC:$BD,2,0),'Team List'!_xlnm.Print_Area,51,0))","v":""},{"$f":"IF(B52=\"\",\"\",VLOOKUP(VLOOKUP(RANK(A52,'Team List'!BC$4:BC$68,1),'Team List'!BC:BD,2,0),'Team List'!_xlnm.Print_Area,52,0))","v":""}]
[51,{"$f":"IF(A53>Pairing!$B$1,\"\",VLOOKUP(VLOOKUP(RANK(A53,'Team List'!$BC$4:$BC$68,1),'Team List'!$BC:$BD,2,0),'Team List'!_xlnm.Print_Area,57,0))","v":""},{"$f":"IF(B53<>\"\",B53&IF(OR(MOD(B53,100)={11,12,13}),\"th\",CHOOSE(MIN(5,RIGHT(B53)+1),\"th\",\"st\",\"nd\",\"rd\",\"th\")),\"\")","v":""},{"$f":"IF(C53=\"\",\"\",VLOOKUP(VLOOKUP(RANK(A53,'Team List'!$BC$4:$BC$68,1),'Team List'!$BC:$BD,2,0),'Team List'!_xlnm.Print_Area,2,0))","v":""},{"$f":"IF(B53=\"\",\"\",VLOOKUP(VLOOKUP(RANK(A53,'Team List'!$BC$4:$BC$68,1),'Team List'!$BC:$BD,2,0),'Team List'!_xlnm.Print_Area,35,0))","v":""},{"$f":"IF(B53=\"\",\"\",VLOOKUP(VLOOKUP(RANK(A53,'Team List'!BC$4:BC$68,1),'Team List'!$BC:$BD,2,0),'Team List'!_xlnm.Print_Area,51,0))","v":""},{"$f":"IF(B53=\"\",\"\",VLOOKUP(VLOOKUP(RANK(A53,'Team List'!BC$4:BC$68,1),'Team List'!BC:BD,2,0),'Team List'!_xlnm.Print_Area,52,0))","v":""}]
[52,{"$f":"IF(A54>Pairing!$B$1,\"\",VLOOKUP(VLOOKUP(RANK(A54,'Team List'!$BC$4:$BC$68,1),'Team List'!$BC:$BD,2,0),'Team List'!_xlnm.Print_Area,57,0))","v":""},{"$f":"IF(B54<>\"\",B54&IF(OR(MOD(B54,100)={11,12,13}),\"th\",CHOOSE(MIN(5,RIGHT(B54)+1),\"th\",\"st\",\"nd\",\"rd\",\"th\")),\"\")","v":""},{"$f":"IF(C54=\"\",\"\",VLOOKUP(VLOOKUP(RANK(A54,'Team List'!$BC$4:$BC$68,1),'Team List'!$BC:$BD,2,0),'Team List'!_xlnm.Print_Area,2,0))","v":""},{"$f":"IF(B54=\"\",\"\",VLOOKUP(VLOOKUP(RANK(A54,'Team List'!$BC$4:$BC$68,1),'Team List'!$BC:$BD,2,0),'Team List'!_xlnm.Print_Area,35,0))","v":""},{"$f":"IF(B54=\"\",\"\",VLOOKUP(VLOOKUP(RANK(A54,'Team List'!BC$4:BC$68,1),'Team List'!$BC:$BD,2,0),'Team List'!_xlnm.Print_Area,51,0))","v":""},{"$f":"IF(B54=\"\",\"\",VLOOKUP(VLOOKUP(RANK(A54,'Team List'!BC$4:BC$68,1),'Team List'!BC:BD,2,0),'Team List'!_xlnm.Print_Area,52,0))","v":""}]
[53,{"$f":"IF(A55>Pairing!$B$1,\"\",VLOOKUP(VLOOKUP(RANK(A55,'Team List'!$BC$4:$BC$68,1),'Team List'!$BC:$BD,2,0),'Team List'!_xlnm.Print_Area,57,0))","v":""},{"$f":"IF(B55<>\"\",B55&IF(OR(MOD(B55,100)={11,12,13}),\"th\",CHOOSE(MIN(5,RIGHT(B55)+1),\"th\",\"st\",\"nd\",\"rd\",\"th\")),\"\")","v":""},{"$f":"IF(C55=\"\",\"\",VLOOKUP(VLOOKUP(RANK(A55,'Team List'!$BC$4:$BC$68,1),'Team List'!$BC:$BD,2,0),'Team List'!_xlnm.Print_Area,2,0))","v":""},{"$f":"IF(B55=\"\",\"\",VLOOKUP(VLOOKUP(RANK(A55,'Team List'!$BC$4:$BC$68,1),'Team List'!$BC:$BD,2,0),'Team List'!_xlnm.Print_Area,35,0))","v":""},{"$f":"IF(B55=\"\",\"\",VLOOKUP(VLOOKUP(RANK(A55,'Team List'!BC$4:BC$68,1),'Team List'!$BC:$BD,2,0),'Team List'!_xlnm.Print_Area,51,0))","v":""},{"$f":"IF(B55=\"\",\"\",VLOOKUP(VLOOKUP(RANK(A55,'Team List'!BC$4:BC$68,1),'Team List'!BC:BD,2,0),'Team List'!_xlnm.Print_Area,52,0))","v":""}]
[54,{"$f":"IF(A56>Pairing!$B$1,\"\",VLOOKUP(VLOOKUP(RANK(A56,'Team List'!$BC$4:$BC$68,1),'Team List'!$BC:$BD,2,0),'Team List'!_xlnm.Print_Area,57,0))","v":""},{"$f":"IF(B56<>\"\",B56&IF(OR(MOD(B56,100)={11,12,13}),\"th\",CHOOSE(MIN(5,RIGHT(B56)+1),\"th\",\"st\",\"nd\",\"rd\",\"th\")),\"\")","v":""},{"$f":"IF(C56=\"\",\"\",VLOOKUP(VLOOKUP(RANK(A56,'Team List'!$BC$4:$BC$68,1),'Team List'!$BC:$BD,2,0),'Team List'!_xlnm.Print_Area,2,0))","v":""},{"$f":"IF(B56=\"\",\"\",VLOOKUP(VLOOKUP(RANK(A56,'Team List'!$BC$4:$BC$68,1),'Team List'!$BC:$BD,2,0),'Team List'!_xlnm.Print_Area,35,0))","v":""},{"$f":"IF(B56=\"\",\"\",VLOOKUP(VLOOKUP(RANK(A56,'Team List'!BC$4:BC$68,1),'Team List'!$BC:$BD,2,0),'Team List'!_xlnm.Print_Area,51,0))","v":""},{"$f":"IF(B56=\"\",\"\",VLOOKUP(VLOOKUP(RANK(A56,'Team List'!BC$4:BC$68,1),'Team List'!BC:BD,2,0),'Team List'!_xlnm.Print_Area,52,0))","v":""}]
[55,{"$f":"IF(A57>Pairing!$B$1,\"\",VLOOKUP(VLOOKUP(RANK(A57,'Team List'!$BC$4:$BC$68,1),'Team List'!$BC:$BD,2,0),'Team List'!_xlnm.Print_Area,57,0))","v":""},{"$f":"IF(B57<>\"\",B57&IF(OR(MOD(B57,100)={11,12,13}),\"th\",CHOOSE(MIN(5,RIGHT(B57)+1),\"th\",\"st\",\"nd\",\"rd\",\"th\")),\"\")","v":""},{"$f":"IF(C57=\"\",\"\",VLOOKUP(VLOOKUP(RANK(A57,'Team List'!$BC$4:$BC$68,1),'Team List'!$BC:$BD,2,0),'Team List'!_xlnm.Print_Area,2,0))","v":""},{"$f":"IF(B57=\"\",\"\",VLOOKUP(VLOOKUP(RANK(A57,'Team List'!$BC$4:$BC$68,1),'Team List'!$BC:$BD,2,0),'Team List'!_xlnm.Print_Area,35,0))","v":""},{"$f":"IF(B57=\"\",\"\",VLOOKUP(VLOOKUP(RANK(A57,'Team List'!BC$4:BC$68,1),'Team List'!$BC:$BD,2,0),'Team List'!_xlnm.Print_Area,51,0))","v":""},{"$f":"IF(B57=\"\",\"\",VLOOKUP(VLOOKUP(RANK(A57,'Team List'!BC$4:BC$68,1),'Team List'!BC:BD,2,0),'Team List'!_xlnm.Print_Area,52,0))","v":""}]
[56,{"$f":"IF(A58>Pairing!$B$1,\"\",VLOOKUP(VLOOKUP(RANK(A58,'Team List'!$BC$4:$BC$68,1),'Team List'!$BC:$BD,2,0),'Team List'!_xlnm.Print_Area,57,0))","v":""},{"$f":"IF(B58<>\"\",B58&IF(OR(MOD(B58,100)={11,12,13}),\"th\",CHOOSE(MIN(5,RIGHT(B58)+1),\"th\",\"st\",\"nd\",\"rd\",\"th\")),\"\")","v":""},{"$f":"IF(C58=\"\",\"\",VLOOKUP(VLOOKUP(RANK(A58,'Team List'!$BC$4:$BC$68,1),'Team List'!$BC:$BD,2,0),'Team List'!_xlnm.Print_Area,2,0))","v":""},{"$f":"IF(B58=\"\",\"\",VLOOKUP(VLOOKUP(RANK(A58,'Team List'!$BC$4:$BC$68,1),'Team List'!$BC:$BD,2,0),'Team List'!_xlnm.Print_Area,35,0))","v":""},{"$f":"IF(B58=\"\",\"\",VLOOKUP(VLOOKUP(RANK(A58,'Team List'!BC$4:BC$68,1),'Team List'!$BC:$BD,2,0),'Team List'!_xlnm.Print_Area,51,0))","v":""},{"$f":"IF(B58=\"\",\"\",VLOOKUP(VLOOKUP(RANK(A58,'Team List'!BC$4:BC$68,1),'Team List'!BC:BD,2,0),'Team List'!_xlnm.Print_Area,52,0))","v":""}]
[57,{"$f":"IF(A59>Pairing!$B$1,\"\",VLOOKUP(VLOOKUP(RANK(A59,'Team List'!$BC$4:$BC$68,1),'Team List'!$BC:$BD,2,0),'Team List'!_xlnm.Print_Area,57,0))","v":""},{"$f":"IF(B59<>\"\",B59&IF(OR(MOD(B59,100)={11,12,13}),\"th\",CHOOSE(MIN(5,RIGHT(B59)+1),\"th\",\"st\",\"nd\",\"rd\",\"th\")),\"\")","v":""},{"$f":"IF(C59=\"\",\"\",VLOOKUP(VLOOKUP(RANK(A59,'Team List'!$BC$4:$BC$68,1),'Team List'!$BC:$BD,2,0),'Team List'!_xlnm.Print_Area,2,0))","v":""},{"$f":"IF(B59=\"\",\"\",VLOOKUP(VLOOKUP(RANK(A59,'Team List'!$BC$4:$BC$68,1),'Team List'!$BC:$BD,2,0),'Team List'!_xlnm.Print_Area,35,0))","v":""},{"$f":"IF(B59=\"\",\"\",VLOOKUP(VLOOKUP(RANK(A59,'Team List'!BC$4:BC$68,1),'Team List'!$BC:$BD,2,0),'Team List'!_xlnm.Print_Area,51,0))","v":""},{"$f":"IF(B59=\"\",\"\",VLOOKUP(VLOOKUP(RANK(A59,'Team List'!BC$4:BC$68,1),'Team List'!BC:BD,2,0),'Team List'!_xlnm.Print_Area,52,0))","v":""}]
[58,{"$f":"IF(A60>Pairing!$B$1,\"\",VLOOKUP(VLOOKUP(RANK(A60,'Team List'!$BC$4:$BC$68,1),'Team List'!$BC:$BD,2,0),'Team List'!_xlnm.Print_Area,57,0))","v":""},{"$f":"IF(B60<>\"\",B60&IF(OR(MOD(B60,100)={11,12,13}),\"th\",CHOOSE(MIN(5,RIGHT(B60)+1),\"th\",\"st\",\"nd\",\"rd\",\"th\")),\"\")","v":""},{"$f":"IF(C60=\"\",\"\",VLOOKUP(VLOOKUP(RANK(A60,'Team List'!$BC$4:$BC$68,1),'Team List'!$BC:$BD,2,0),'Team List'!_xlnm.Print_Area,2,0))","v":""},{"$f":"IF(B60=\"\",\"\",VLOOKUP(VLOOKUP(RANK(A60,'Team List'!$BC$4:$BC$68,1),'Team List'!$BC:$BD,2,0),'Team List'!_xlnm.Print_Area,35,0))","v":""},{"$f":"IF(B60=\"\",\"\",VLOOKUP(VLOOKUP(RANK(A60,'Team List'!BC$4:BC$68,1),'Team List'!$BC:$BD,2,0),'Team List'!_xlnm.Print_Area,51,0))","v":""},{"$f":"IF(B60=\"\",\"\",VLOOKUP(VLOOKUP(RANK(A60,'Team List'!BC$4:BC$68,1),'Team List'!BC:BD,2,0),'Team List'!_xlnm.Print_Area,52,0))","v":""}]
[59,{"$f":"IF(A61>Pairing!$B$1,\"\",VLOOKUP(VLOOKUP(RANK(A61,'Team List'!$BC$4:$BC$68,1),'Team List'!$BC:$BD,2,0),'Team List'!_xlnm.Print_Area,57,0))","v":""},{"$f":"IF(B61<>\"\",B61&IF(OR(MOD(B61,100)={11,12,13}),\"th\",CHOOSE(MIN(5,RIGHT(B61)+1),\"th\",\"st\",\"nd\",\"rd\",\"th\")),\"\")","v":""},{"$f":"IF(C61=\"\",\"\",VLOOKUP(VLOOKUP(RANK(A61,'Team List'!$BC$4:$BC$68,1),'Team List'!$BC:$BD,2,0),'Team List'!_xlnm.Print_Area,2,0))","v":""},{"$f":"IF(B61=\"\",\"\",VLOOKUP(VLOOKUP(RANK(A61,'Team List'!$BC$4:$BC$68,1),'Team List'!$BC:$BD,2,0),'Team List'!_xlnm.Print_Area,35,0))","v":""},{"$f":"IF(B61=\"\",\"\",VLOOKUP(VLOOKUP(RANK(A61,'Team List'!BC$4:BC$68,1),'Team List'!$BC:$BD,2,0),'Team List'!_xlnm.Print_Area,51,0))","v":""},{"$f":"IF(B61=\"\",\"\",VLOOKUP(VLOOKUP(RANK(A61,'Team List'!BC$4:BC$68,1),'Team List'!BC:BD,2,0),'Team List'!_xlnm.Print_Area,52,0))","v":""}]
[60,{"$f":"IF(A62>Pairing!$B$1,\"\",VLOOKUP(VLOOKUP(RANK(A62,'Team List'!$BC$4:$BC$68,1),'Team List'!$BC:$BD,2,0),'Team List'!_xlnm.Print_Area,57,0))","v":""},{"$f":"IF(B62<>\"\",B62&IF(OR(MOD(B62,100)={11,12,13}),\"th\",CHOOSE(MIN(5,RIGHT(B62)+1),\"th\",\"st\",\"nd\",\"rd\",\"th\")),\"\")","v":""},{"$f":"IF(C62=\"\",\"\",VLOOKUP(VLOOKUP(RANK(A62,'Team List'!$BC$4:$BC$68,1),'Team List'!$BC:$BD,2,0),'Team List'!_xlnm.Print_Area,2,0))","v":""},{"$f":"IF(B62=\"\",\"\",VLOOKUP(VLOOKUP(RANK(A62,'Team List'!$BC$4:$BC$68,1),'Team List'!$BC:$BD,2,0),'Team List'!_xlnm.Print_Area,35,0))","v":""},{"$f":"IF(B62=\"\",\"\",VLOOKUP(VLOOKUP(RANK(A62,'Team List'!BC$4:BC$68,1),'Team List'!$BC:$BD,2,0),'Team List'!_xlnm.Print_Area,51,0))","v":""},{"$f":"IF(B62=\"\",\"\",VLOOKUP(VLOOKUP(RANK(A62,'Team List'!BC$4:BC$68,1),'Team List'!BC:BD,2,0),'Team List'!_xlnm.Print_Area,52,0))","v":""}]
[61,{"$f":"IF(A63>Pairing!$B$1,\"\",VLOOKUP(VLOOKUP(RANK(A63,'Team List'!$BC$4:$BC$68,1),'Team List'!$BC:$BD,2,0),'Team List'!_xlnm.Print_Area,57,0))","v":""},{"$f":"IF(B63<>\"\",B63&IF(OR(MOD(B63,100)={11,12,13}),\"th\",CHOOSE(MIN(5,RIGHT(B63)+1),\"th\",\"st\",\"nd\",\"rd\",\"th\")),\"\")","v":""},{"$f":"IF(C63=\"\",\"\",VLOOKUP(VLOOKUP(RANK(A63,'Team List'!$BC$4:$BC$68,1),'Team List'!$BC:$BD,2,0),'Team List'!_xlnm.Print_Area,2,0))","v":""},{"$f":"IF(B63=\"\",\"\",VLOOKUP(VLOOKUP(RANK(A63,'Team List'!$BC$4:$BC$68,1),'Team List'!$BC:$BD,2,0),'Team List'!_xlnm.Print_Area,35,0))","v":""},{"$f":"IF(B63=\"\",\"\",VLOOKUP(VLOOKUP(RANK(A63,'Team List'!BC$4:BC$68,1),'Team List'!$BC:$BD,2,0),'Team List'!_xlnm.Print_Area,51,0))","v":""},{"$f":"IF(B63=\"\",\"\",VLOOKUP(VLOOKUP(RANK(A63,'Team List'!BC$4:BC$68,1),'Team List'!BC:BD,2,0),'Team List'!_xlnm.Print_Area,52,0))","v":""}]
[62,{"$f":"IF(A64>Pairing!$B$1,\"\",VLOOKUP(VLOOKUP(RANK(A64,'Team List'!$BC$4:$BC$68,1),'Team List'!$BC:$BD,2,0),'Team List'!_xlnm.Print_Area,57,0))","v":""},{"$f":"IF(B64<>\"\",B64&IF(OR(MOD(B64,100)={11,12,13}),\"th\",CHOOSE(MIN(5,RIGHT(B64)+1),\"th\",\"st\",\"nd\",\"rd\",\"th\")),\"\")","v":""},{"$f":"IF(C64=\"\",\"\",VLOOKUP(VLOOKUP(RANK(A64,'Team List'!$BC$4:$BC$68,1),'Team List'!$BC:$BD,2,0),'Team List'!_xlnm.Print_Area,2,0))","v":""},{"$f":"IF(B64=\"\",\"\",VLOOKUP(VLOOKUP(RANK(A64,'Team List'!$BC$4:$BC$68,1),'Team List'!$BC:$BD,2,0),'Team List'!_xlnm.Print_Area,35,0))","v":""},{"$f":"IF(B64=\"\",\"\",VLOOKUP(VLOOKUP(RANK(A64,'Team List'!BC$4:BC$68,1),'Team List'!$BC:$BD,2,0),'Team List'!_xlnm.Print_Area,51,0))","v":""},{"$f":"IF(B64=\"\",\"\",VLOOKUP(VLOOKUP(RANK(A64,'Team List'!BC$4:BC$68,1),'Team List'!BC:BD,2,0),'Team List'!_xlnm.Print_Area,52,0))","v":""}]
[63,{"$f":"IF(A65>Pairing!$B$1,\"\",VLOOKUP(VLOOKUP(RANK(A65,'Team List'!$BC$4:$BC$68,1),'Team List'!$BC:$BD,2,0),'Team List'!_xlnm.Print_Area,57,0))","v":""},{"$f":"IF(B65<>\"\",B65&IF(OR(MOD(B65,100)={11,12,13}),\"th\",CHOOSE(MIN(5,RIGHT(B65)+1),\"th\",\"st\",\"nd\",\"rd\",\"th\")),\"\")","v":""},{"$f":"IF(C65=\"\",\"\",VLOOKUP(VLOOKUP(RANK(A65,'Team List'!$BC$4:$BC$68,1),'Team List'!$BC:$BD,2,0),'Team List'!_xlnm.Print_Area,2,0))","v":""},{"$f":"IF(B65=\"\",\"\",VLOOKUP(VLOOKUP(RANK(A65,'Team List'!$BC$4:$BC$68,1),'Team List'!$BC:$BD,2,0),'Team List'!_xlnm.Print_Area,35,0))","v":""},{"$f":"IF(B65=\"\",\"\",VLOOKUP(VLOOKUP(RANK(A65,'Team List'!BC$4:BC$68,1),'Team List'!$BC:$BD,2,0),'Team List'!_xlnm.Print_Area,51,0))","v":""},{"$f":"IF(B65=\"\",\"\",VLOOKUP(VLOOKUP(RANK(A65,'Team List'!BC$4:BC$68,1),'Team List'!BC:BD,2,0),'Team List'!_xlnm.Print_Area,52,0))","v":""}]
[64,{"$f":"IF(A66>Pairing!$B$1,\"\",VLOOKUP(VLOOKUP(RANK(A66,'Team List'!$BC$4:$BC$68,1),'Team List'!$BC:$BD,2,0),'Team List'!_xlnm.Print_Area,57,0))","v":""},{"$f":"IF(B66<>\"\",B66&IF(OR(MOD(B66,100)={11,12,13}),\"th\",CHOOSE(MIN(5,RIGHT(B66)+1),\"th\",\"st\",\"nd\",\"rd\",\"th\")),\"\")","v":""},{"$f":"IF(C66=\"\",\"\",VLOOKUP(VLOOKUP(RANK(A66,'Team List'!$BC$4:$BC$68,1),'Team List'!$BC:$BD,2,0),'Team List'!_xlnm.Print_Area,2,0))","v":""},{"$f":"IF(B66=\"\",\"\",VLOOKUP(VLOOKUP(RANK(A66,'Team List'!$BC$4:$BC$68,1),'Team List'!$BC:$BD,2,0),'Team List'!_xlnm.Print_Area,35,0))","v":""},{"$f":"IF(B66=\"\",\"\",VLOOKUP(VLOOKUP(RANK(A66,'Team List'!BC$4:BC$68,1),'Team List'!$BC:$BD,2,0),'Team List'!_xlnm.Print_Area,51,0))","v":""},{"$f":"IF(B66=\"\",\"\",VLOOKUP(VLOOKUP(RANK(A66,'Team List'!BC$4:BC$68,1),'Team List'!BC:BD,2,0),'Team List'!_xlnm.Print_Area,52,0))","v":""}]
[65,{"$f":"IF(A67>Pairing!$B$1,\"\",VLOOKUP(VLOOKUP(RANK(A67,'Team List'!$BC$4:$BC$68,1),'Team List'!$BC:$BD,2,0),'Team List'!_xlnm.Print_Area,57,0))","v":""},{"$f":"IF(B67<>\"\",B67&IF(OR(MOD(B67,100)={11,12,13}),\"th\",CHOOSE(MIN(5,RIGHT(B67)+1),\"th\",\"st\",\"nd\",\"rd\",\"th\")),\"\")","v":""},{"$f":"IF(C67=\"\",\"\",VLOOKUP(VLOOKUP(RANK(A67,'Team List'!$BC$4:$BC$68,1),'Team List'!$BC:$BD,2,0),'Team List'!_xlnm.Print_Area,2,0))","v":""},{"$f":"IF(B67=\"\",\"\",VLOOKUP(VLOOKUP(RANK(A67,'Team List'!$BC$4:$BC$68,1),'Team List'!$BC:$BD,2,0),'Team List'!_xlnm.Print_Area,35,0))","v":""},{"$f":"IF(B67=\"\",\"\",VLOOKUP(VLOOKUP(RANK(A67,'Team List'!BC$4:BC$68,1),'Team List'!$BC:$BD,2,0),'Team List'!_xlnm.Print_Area,51,0))","v":""},{"$f":"IF(B67=\"\",\"\",VLOOKUP(VLOOKUP(RANK(A67,'Team List'!BC$4:BC$68,1),'Team List'!BC:BD,2,0),'Team List'!_xlnm.Print_Area,52,0))","v":""}]